{"text_format":"1","workbook":"xlsx","n_sheets":21,"sheets":["Overview","Instructions","PROJECTS","PLOTS","PLOT_UTM","PLOT_LATLONG","PLOT_LEGAL","PLOT_DIMENSIONS","SURVEYS","VEGSAMPLINGTASKS","SampleSPECIESGrid","SampleSPECIESRows","SampleSTRUCTUREGrid","SampleSTRUCTURERows","PlotSPECIESGrid","PlotSPECIESRows","PlotSTRUCTUREGrid","PlotSTRUCTURERows","GrasslandHealth","CODES1","CODES2"],"not_rendered":{"charts":0,"images":3,"macros":1,"external_links":0,"defined_names":99,"comments":0,"pivot_tables":0},"unopened":[],"bounds":{"document_bytes":16777216,"sheet_cells":100000,"rows_first":2000,"rows_last":500,"rows_between":2000,"halvings":0,"cell_chars":16384,"cell_head_chars":4096},"cells_cut":0,"cells_raw":0,"read":"whole","date_system":"1900"}

{"sheet":"Overview","index":0,"n_rows":321,"n_cols":1,"rows_kept":321,"cut":false,"hidden":false,"merged":[[0,0,8,0]]}
[]
[]
[]
[]
[]
[]
[]
[]
[]
["Vegetation Information System Saskatchewan"]
["Spreadsheet-based Data Loading Template"]
["Version 1.2"]
[]
["TEMPLATE OVERVIEW"]
[]
["Table of Contents"]
["Introduction"]
["Excel Workbook Contents"]
["Colour-Coded Forms"]
["The Tabs"]
["     Overview Tab"]
["     Instuctions Tab"]
["     PROJECTS Tab"]
["     PLOTS Tab"]
["     PLOT_UTM Tab"]
["     PLOT_LATLONG Tab"]
["     PLOT_LEGAL Tab"]
["     PLOT_DIMENSIONS Tab"]
["     SURVEYS Tab"]
["     VEGSAMPLINGTASKS Tab"]
["     SampleSPECIESGrid Tab"]
["     SampleSPECIESRows Tab"]
["     SampleSTRUCTUREGrid Tab"]
["     SampleSTRUCTURERows Tab"]
["     PlotSPECISGrid Tab"]
["     PlotSPECISRows Tab"]
["     PlotSTRUCTUREGrid Tab"]
["     PlotSTRUCTURERows Tab"]
["     GrasslandHealth"]
["     CODES1"]
["     CODES2"]
[]
[]
["Introduction"]
["The Vegetation Information System Saskatchewan (VegISS) is a database application used to collect vegetation survey data within the province of Saskatchewan. The VegISS project was initiated in 2009 to create a common platform for storing data from rangeland and riparian health surveys. In 2011 it was expanded to include data from forest surveys, and can now be regarded as a general platform for most types of vegetation data collected in the province. The project was led by a steering committee consisting of representatives from Saskatchewan Watershed Authority, Saskatchewan Ministry of Environment, Saskatchewan Ministry of Agriculture, Saskatchewan Ministry of Tourism, Parks, Culture and Sport, Saskatchewan Research Council, Agriculture and Agri-Food Canada, Environment Canada, Nature Conservancy of Canada, and Ducks Unlimited Canada."]
[]
["The core of the database is a series of tables which store basic vegetation survey data in a hierarchical fashion.  The hierarchy for species composition data is as follows:"]
["    PLOTS"]
["     → SURVEYS"]
["             → VEGETATION SAMPLING TASKS (VSTs)"]
["                       → SAMPLES"]
["                                 → SPECIES WITH ABUNDANCE VALUES"]
[]
["The PLOTS table stores data on the permanent attributes of vegetation plots, such as identifiers, land use, and soil and landscape properties. Related to PLOTS are tables for location data, plot dimension measurements, and soil profile descriptions. "]
[]
["The usual concept of a vegetation plot is a two-dimensional area of some specific size and shape (e.g. a 20 m by 20 m square).  In VegISS the concept is broadened to include transects (i.e. one-dimensional plots), variable-radius plots (as in the prism method of estimating tree basal area), and irregular polygons (as in riparian health assessments).  The unifying feature is that a plot is a stand-alone entity intended to represent a broader area of land."]
[]
["VegISS distinguishes between information collected over the whole plot (plot-level data), and information collected in samples within the plot (sample-level data).  These samples could be smaller subplots (also referred to as quadrats, frames, etc.), or they could be placements of a point-frame (as in the point sampling method) or placements of a line (as in the line intercept method).  The defining feature is that a sample is intended to be averaged with other samples to give an estimate for the plot."]
[]
["Go to Top"]
[]
["Excel Workbook Contents"]
["This Excel workbook has been configured as a template for the bulk loading of data into the VegISS data format.  The workbook contains a number of tabs/sheets of input forms that can be used to prepare data for loading into VegISS.  These tabs are defined in a progressive order and correspond to the basic structure of the VegISS data model.  In some cases, tabs have been designed to simplify the bulk input process (where the VegISS user interface is required).  These tabs (designated with the work \"Grid\") aid the user when bulk loading of information is required.  The design of VegISS supports data collection in the field and is slow for bulk loading of pre-collected data.  These templates are to speed up the bulk loading process."]
[]
["VegISS has a comprehensive data model.  Not all of the VegISS data model is supported in this spreadsheet template.  The following components of VegISS are included with this template release:"]
["- Project Definitions (used to organize plots)"]
["- Plot Definitions (details about the plot)"]
["     - Descriptions"]
["     - Location"]
["     - Dimensions"]
["- Survey Definitions (details about the survey)"]
["     - Date"]
["     - Observer"]
["     - Purpose, etc."]
["- Vegetation Sampling Tasks (vegetation measurements within a survey)"]
["     - Plot or Sample Level"]
["     - Species Composition"]
["    -  Structure"]
["- Grassland Health Assessments (The Grassland Health Assessment survey form is based on the Saskatchewan “Field Worksheet: Grassland Range Health Assessment”.  It consists of a questionnaire that includes 5 main questions (two questions have 2 parts) along with other descriptive data.) "]
["- Full VegISS code definitions"]
[]
["Go to Top"]
[]
["Colour-Coded Forms"]
["A colour coding scheme is used to help the data input process.  Each of the tabs contain specific zones where data can be entered, fomulas calculated or reference information is provided.  All coded input fields feature dropdown lists to ensure data is validated."]
[]
["The colour coding used in the forms includes:"]
["  - Mandatory Input fields (this field must be filled in for the given row; column headings in red)"]
["  - Optional Input fields (field not considered mandatory)"]
["  - Auto calculated fields (a formula is in place and the user should not manually change this field)"]
["  - Auto calculated, user changeable fields (a formula is in place to automate the input but a user-defined value can be used)"]
["  - Locked fields (found in the Grid forms where a species or vegetation layer must be defined before input is permitted)"]
[]
["Go to Top"]
[]
["The Tabs"]
["There are 20 tabs defined in the VegISS input template.  The tab names listed below have been color-coded to indicate their importance:"]
["  - Information"]
["  - Mandatory input"]
["  - Suggested Input"]
["  - Optional Input"]
[]
["Go to Top"]
[]
[]
["Overview Tab:"]
["Background information on what is contained in the VegISS template.  The tab you are on now."]
[]
["Go to Top"]
[]
["Instructions Tab:"]
["Instructions on how to use the VegISS template."]
[]
["Go to Top"]
[]
["PROJECTS: (Suggested use)"]
["A user-defined project name to help group plots and drive a pick list when defining the plots.  A plot does not have to be part of a project but it does help to organize many plots under a single main project or activity.\nNOTE:  Project names must be unique"]
[]
["PREREQUISITE TABS - NONE"]
[]
["Go to Top"]
[]
["PLOTS Tab: (Mandatory use)"]
["The PLOTS tab  is used to define a plot.  The Plot is the primary unit and is required before any forms or tasks can be added into VegISS.  Plots can be given unique names, and organized and displayed in the VegISS Navigator tree view by feature attributes.  A plot should be a stand-alone entity intended to represent an area of land; entities such as sample quadrats that are intended for averaging with other quadrats should not be referred to as plots, but rather as samples within a plot.  "]
[]
["Also note that a plot should usually be on a single ecosite and a single broad vegetation type.  For example, grasslands and forests should usually be in separate plots.  However, there may be exceptions, such as the complex of herbaceous and woody types included in a single riparian assessment polygon."]
[]
["While a plot label is normally optional in VegISS, a label MUST be defined when using this Excel template."]
[]
["PREREQUISITE TABS - PROJECTS or NONE"]
[]
["Go to Top"]
[]
["PLOT_UTM Tab: (Suggested use)"]
["A plot must include at least one type of locational information.  The PLOT_UTM tab collects Universal Transverse Mercator (UTM) coordinate pair data (zone/easting/northing) that describes the location of the plot.  More than one coordinate pair can be used to define the location of the plot.  For example, the plot could be considered a transect and two coordinate pairs describe the end points of that line.  A single coordinate pair would be used when providing a center point location."]
[]
["Alternately, if UTM locations are not available, a plot can be described using lat/long or legal land descriptions.  Locational data must be provided in at least one of the 3 formats outlined above.  You can provide coordinate data in more that one format."]
[]
["Please note:  The primary location data provided is defined by the Location Source field defined on the PLOTS tab.  If location data is only provided in one format, it must align with Location Source."]
[]
["PREREQUISITE TABS - PLOTS must be defined before this tab can be used"]
[]
["Go to Top"]
[]
["PLOT_LATLONG Tab: (Optional use)"]
["A plot must include at least one type of locational information.  The PLOT_LATLONG tab collects Latitude and Longitude coordinate pair data (decimal degrees; note that Longitude must be a negative number) that describes the location of the plot.  More than one coordinate pair can be used to define the location of the plot.  For example, the plot could be considered a transect and two coordinate pairs describe the end points of that line.  A single coordinate pair would be used when providing a center point location."]
[]
["Alternately, if Lat/Long locations are not available, a plot can be described using UTM or legal land descriptions.  Locational data must be provided in at least one of the 3 formats outlined above.  You can provide coordinate data in more that one format.  "]
[]
["Please note:  The primary location data provided is defined by the Location Source field defined on the PLOTS tab.  If location data is only provided in one format, it must align with Location Source."]
[]
["PREREQUISITE TABS - PLOTS must be defined before this tab can be used"]
[]
["Go to Top"]
[]
["PLOT_LEGAL Tab: (Optional use)"]
["A plot must include at least one type of locational information.  The PLOT_LEGAL tab collects legal land description data (Quarter/Section/Township/Range/Meridan) that describes the location of the plot.  More than one legal description can be used to define the location of the plot.  For example, the plot could cover multiple quarter sections.  A single legal description could be used to generalize a location as well."]
[]
["Alternately, if legal land descriptions are not available, a plot can be described using UTM or Lat/Long.  Locational data must be provided in at least one of the 3 formats outlined above.  You can provide locational data in more that one format.  "]
[]
["Please note:  The primary location data provided is defined by the Location Source field defined on the PLOTS tab.  If location data is only provided in one format, it must align with Location Source."]
[]
["PREREQUISITE TABS - PLOTS must be defined before this tab can be used"]
[]
["Go to Top"]
[]
["PLOT_Dimensions Tab: (Optional use)"]
["The PLOT_DIMENSIONS tab collects plot dimensional information (e.g. 100 m by 100 m plot).  Multiple dimension lengths (meters) can be defined for a single plot.  "]
[]
["PREREQUISITE TABS - PLOTS must be defined before this tab can be used"]
[]
["Go to Top"]
[]
["SURVEYS Tab: (Mandatory Use)"]
["The SURVEYS tab is used to define a survey; for example, if a particular plot was remeasured every five years, each remeasurement would constitute a survey.  A single survey can only have one Health Assessment associated with it but can have multiple Vegetation Sampling Tasks (VSTs) associated with it."]
[]
["Surveys link the plot to the health assessment or vegetation sampling tasks, and must be defined before data can be entered.  A Survey label is generated automatically by combining the plot label, date of survey, and health assessment method.  This label acts like bread crumbs to provided needed information when entering the Vegetation Sampling task  data on a subsequent tab."]
[]
["The Assessment Method defined on the SURVEYS tab defines the type of health assessment being performed.  "]
[]
["PREREQUISITE TABS - PLOTS must be defined before this tab can be used"]
[]
["Go to Top"]
[]
["VEGSAMPLINGTASK (Mandatory Use for species/structure %cover surveys)"]
["The VEGSAMPLINGTASK tab defines vegetation sampling tasks (VSTs) within a survey (e.g. one task might be quadrat sampling for percent biomass of herbs, another task might be line-intercept sampling for shrub cover).  Tasks should be separated if different sampling methods were used, different numbers or sizes of quadrats were used, or different vegetation layers were targeted."]
[]
["One or more VSTs can be defined for a single survey.  Tasks are either plot-based (survey the plot as a whole) or sample-based (eg. multiple quadrats within the plot).  Sample-level tasks must include the number of samples to be used for the task.  "]
[]
["Vegetation Sampling Tasks link the survey to the vegetation data, and must be defined before the data can be entered.  A Task label is generated automatically by combining the plot label, date of survey, health assessment method and task-specific information.  This label acts like bread crumbs to provided needed information when entering the task-specific data (species composition or structure) on a subsequent tab."]
[]
["NOTE:  Samples cannot be defined for plot-level VSTs, but plot-level summary information can be included with sample-level VSTs.  Typically, sample-level tasks only include sample-level data.  VegISS can generate plot-level summary data based on sample-level data, but it an also be entered using this template."]
[]
["PREREQUISITE TABS - SURVEYS must be defined before this tab can be used"]
[]
["Go to Top"]
[]
["SampleSPECIESGrid Tab: (Suggested use)"]
["In VegISS, species composition data are stored in what is called a normalized format.  Each record stores one species and its percentage value, per sample per task.  When entering data in the field, this works well.  However, for bulk entry of data, defining the species-name over and over when the only thing that needs to be entered is the percentage slows down data entry. The SampleSPECIESGrid tab is provided as a simpler way of entering species composition data.  The user defines a species once, and that opens a new column in which to enter percentages. The rows correspond to the samples in which the percentages were collected."]
[]
["There is a drawback to the Grid version of Sample Species data, in that only attribute can be entered per species/sample, and that is the percentage value (note that the type of percentage, such as percent foliar cover, percent canopy cover, or percent biomass, is defined by the Percent Type variable in the VEGETATIONSAMPLINGTASKS tab).  If you wish to enter Cover Class, Biomass Weight, Basal Area, Density or Density Distribution Class data, you must use the SampleSPECIESRows tab instead."]
[]
["Species entries link back to the VST by the Task Label, and this maintains connectivity with the task the species entries are associated with."]
[]
["NOTE:  For a given VST, use either the SampleSPECIESGrid tab or the SampleSPECIESRows tab for entry of species composition data.  Never use both.  Also only use this tab if the VST is defined as Sample-Level and not when it is defined as Plot-Level."]
[]
["PREREQUISITE TABS - VEGETATIONSAMPLINGTASKS must be defined before this tab can be used, and the Data Level must be set to Sample."]
[]
["Go to Top"]
[]
["SampleSPECIESRows Tab: (Optional use)"]
["In VegISS, species composition data for a sample-level tasks are stored in what is called a normalized format.  The SampleSPECIESRows tab simulates this normalized structure. It requires that the species code be entered for each row in the tab.  The SampleSPECIESGrid tab is provided as a simpler way of entering species composition data, but is limited to entering a single attribute (a percentage value)."]
[]
["In the SampleSPECIESRows tab, the percentage value (as defined by the Percent Type variable in the VEGETATIONSAMPLINGTASKS tab) can be entered for each species, along with Cover Class, Biomass Weight, Basal Area, Density or Density Distribution Class data.  If these extra attributes are not required, it is suggested that the SampleSPECIESGrid tab be used instead."]
[]
["Species entries link back to the VST by the Task Label, and this maintains connectivity with the task the species entries are associated with."]
[]
["NOTE:  For a given VST, use either the SampleSPECIESGrid tab or the SampleSPECIESRows tab for entry of species composition data.  Never use both.  Also only use this tab if the VST is defined as Sample-Level and not when it is defined as Plot-Level."]
[]
["PREREQUISITE TABS - VEGETATIONSAMPLINGTASKS must be defined before this tab can be used, and the Data Level must be set to Sample."]
[]
["Go to Top"]
[]
["SampleSTRUCTUREGrid Tab: (Suggested use)"]
["In VegISS, vegetation structure data for a sample-level task are stored in what is called a normalized format.  Each record stores one vegetation layer and its % cover value, per sample per task.  When entering this information in the field, this works well.  However, for bulk entry of data, entering the layer-names over and over when the only thing that needs to be entered is the % cover value slows down data entry. The SampleSTRUCTUREGrid tab is provided as a simpler way of entering structure data.  The user defines a layer once, and that opens a new column in which to enter % cover values."]
[]
["There is a drawback to the Grid version of Sample Structure data, in that only one attribute can be entered per layer/sample, and that is the % cover value. If you wish to enter Lower/Upper Height, Weight, or Cover Class data, you must use the SampleSTRUCTURERows tab instead."]
[]
["Vegetation layer entries link back to the VST by the Task Label, and this maintains connectivity with the task the structure entries are associated with."]
[]
["NOTE:  For a given VST, use either the SampleSTRUCTUREGrid tab or the SampleSTRUCTURERows tab for entry of vegetation structure data.  Never use both.  Also only use this tab if the VST is defined as Sample-Level and not when it is defined as Plot-Level."]
[]
["PREREQUISITE TABS - VEGETATIONSAMPLINGTASKS must be defined before this tab can be used, and the Data Level must be set to Sample."]
[]
["Go to Top"]
[]
["SampleSTRUCTURERows Tab: (Optional use)"]
["In VegISS, vegetation structure data for a sample-level tasks are stored in what is called a normalized format.  The SampleSTRUCTURERows tab simulates this normalized structure. It requires that the name of the vegetation layer be entered for each row in the tab.  The SampleSTRUCTUREGrid tab is provided as a simpler way of entering vegetation structure data but is limited to entry of % cover data."]
[]
["The % cover value can be entered for each layer along with Lower/Upper Height, Weight, or Cover Class data.  If these extra attributes are not required, it is suggested that the SampleSTRUCTUREGrid tab be used instead."]
[]
["Species entries link back to the VST by the Task Label, and this maintains connectivity with the task the structure entries are associated with."]
[]
["NOTE:  For a given VST, use either the SampleSTRUCTUREGrid tab or the SampleSTRUCTURERows tab for entry of vegetation structure data.  Never use both.  Also only use this tab if the VST is defined as Sample-Level and not when it is defined as Plot-Level."]
[]
["PREREQUISITE TABS - VEGETATIONSAMPLINGTASKS must be defined before this tab can be used, and the Data Level must be set to Sample."]
[]
["Go to Top"]
[]
["PlotSPECIESGrid Tab: (Suggested use)"]
["In VegISS, species composition data for a plot-level tasks are stored in what is called a normalized format.  Each record stores one species and its percentage value, per task.  When entering this information in the field, this works well.  However, for bulk entry of data, entering the species-name over and over when the only thing that needs to be entered is the percentage value slows down data entry. The PlotSPECIESGrid tab is provided as a simpler way of entering species composition data.  The user defines a species once, and that opens a new column in which to enter percentage data."]
[]
["There is a drawback to the Grid version of Plot Species data, in that only one attribute can be entered per species/plot and that is the percentage value (as defined by the Percent Type variable in the VEGETATIONSAMPLINGTASKS tab).  If you wish to enter Cover Class, Biomass Weight, Basal Area, Density or Density Distribution Class data, you must use the PlotSPECIESRows tab instead."]
[]
["Species entries link back to the VST by the Task Label, and this maintains connectivity with the task the species entries are associated with."]
[]
["NOTE:  For a given VST, use either the PlotSPECIESGrid tab or the PlotSPECIESRows tab for entry of species composition data.  Never use both."]
[]
["PREREQUISITE TABS - VEGETATIONSAMPLINGTASKS must be defined before this tab can be used; Data Level can be set to either Plot or Species."]
[]
["Go to Top"]
[]
["PlotSPECIESRows Tab: (Optional use)"]
["In VegISS, species composition data for a plot-level tasks are stored in what is called a normalized format.  The PlotSPECIESRows tab simulates this normalized structure by requiring that the species code be entered for each row in the tab.  The PlotSPECIESGrid tab is provided as a simpler way of entering species composition data, but is limited to entry of percentage values."]
[]
["The percentage value (as defined by the Percent Type variable in the VEGETATIONSAMPLINGTASKS tab) can be entered for each species, along with Cover Class, Biomass Weight, Basal Area, Density or Density Distribution Class data.  If these extra attributes are not required, it is suggested that the PlotSPECIESGrid tab be used instead."]
[]
["Species entries link back to the VST by the Task Label, and this maintains connectivity with the task the species entries are associated with."]
[]
["NOTE:  For a given VST, use either the PlotSPECIESGrid tab or the PlotSPECIESRows tab for entry of species composition data.  Never use both."]
[]
["PREREQUISITE TABS - VEGETATIONSAMPLINGTASKS must be defined before this tab can be used; Data Level can be set to either Plot or Sample."]
[]
["Go to Top"]
[]
["PlotSTRUCTUREGrid Tab: (Suggested use)"]
["Vegetation structure data for a Plot-level tasks are stored in, what is called, a normalized format.  Each record stores one vegetation layer and % cover information per task.  When entering this information in the field, this works well.  However, entering the layer-names over and over when the only thing that needs to be entered is the % cover value slows down data entry. The PlotSTRUCTUREGrid tab is provided as a simpler way of entering vegetation layer (structure) data.  The user defines a layer once and that opens a new column in which to enter percent cover data."]
[]
["There is a drawback to the Grid version of Plot Structure data, in that only one attribute can be entered per layer/sample and that is the percent cover value. If you wish to enter Lower/Upper Height, Weight or Cover Class data, you must use the PlotSTRUCTURERows tab instead."]
[]
["Vegetation layer entries link back to the VST by the Task Label and maintains connectivity with the task the structure entries are associated with."]
[]
["NOTE:  For a given VST, use either the PlotSTRUCTUREGrid tab or the PlotSTRUCTURERows tab for entry of vegetation structure data.  Never use both."]
[]
["PREREQUISITE TABS - VEGETATIONSAMPLINGTASKS must be defined before this tab can be used; Data Level can be set to either Plot or Sample."]
[]
["Go to Top"]
[]
["PLOTSTRUCTURERows Tab: (Optional use)"]
["In VegISS, vegetation structure data for a plot-level tasks are stored in what is called a normalized format.  The PlotSTRUCTURERows tab simulates this normalized structure, by requiring that the layer be entered for each row in the tab.  The PlotSTRUCTUREGrid tab is provided as a simpler way of entering vegetation structure data, but is limited to entry of % cover data."]
[]
["The % cover value can be entered for each layer, along with Lower/Upper Height, Weightor Cover Class data.  If these extra attributes are not required, it is suggested that the PlotSTRUCTUREGrid tab be used instead."]
[]
["Vegetation layer entries link back to the VST by the Task Label, and this maintains connectivity with the task the structure entries are associated with."]
[]
["NOTE:  For a given VST, use either the PlotSTRUCTUREGrid tab or the PlotSTRUCTURERows tab for entry of vegetation structure data.  Never use both."]
[]
["PREREQUISITE TABS - VEGETATIONSAMPLINGTASKS must be defined before this tab can be used; Data Level can be set to either Plot or Sample."]
[]
["Go to Top"]
[]
["GrasslandHealth Tab (Suggested use)"]
["The Grassland Health Assessment form is based on the Saskatchewan “Field Worksheet: Grassland Range Health Assessment”.  It consists of a questionnaire that includes five main questions (two questions have two parts) along with other descriptive data. "]
[]
["There are seven Health Assessments defined within the VegISS data model.  However the Grassland Health Assessment has been included in this template as a demonstration of how a health assessment may appear in a VegISS template.  The first version of the VegISS Excel template focuses on Plots and Vegetation Sampling Tasks."]
[]
["While this template is fully functional, supplemental question comments are not yet supported."]
[]
["PREREQUISITE TABS - SURVEYS must be defined before this tab can be used, and the Assessment Method should be set to Saskatchewan Grassland"]
[]
["Go to Top"]
[]
["CODES1 Tab"]
["The Codes1 tab contains all definitions of all codes used in VegISS.  51 code definitions can be found in this tab. The only code table definition not included on this tab is the species list (as there are over 3,000 codes defined).  Species codes can be found in the CODES2 tab.  This tab can be used to search for appropriate code usage and is configured with a filter to help find codes faster."]
[]
["Go to Top"]
[]
["CODES2 Tab"]
["The Codes2 tab contains definitions of species codes used in VegISS. There are over 3,000 species codes defined.  All other VegISS codes can be found in the CODES1 tab.  This tab can be used to search for appropriate code usage."]
[]
["Go to Top"]

{"sheet":"Instructions","index":1,"n_rows":371,"n_cols":2,"rows_kept":371,"cut":false,"hidden":false,"merged":[[0,1,8,1]]}
[]
[]
[]
[]
[]
[]
[]
[]
[]
[null,"Vegetation Information System Saskatchewan"]
[null,"Spreadsheet-based Data Loading Template"]
[null,"Version 1.2"]
[]
[null,"INSTRUCTIONS"]
[]
[null,"Table of Contents"]
[null,"1. Template Use Flow Chart"]
[null,"     1a. General Overview (Plots/Surveys)"]
[null,"     1b. Vegetation Sampling Tasks"]
[null,"2.  Creating Projects"]
[null,"3.  Creating Plots"]
[null,"     3a. Creating Plot UTM Data"]
[null,"     3b. Creating Plot LatLong Data"]
[null,"     3c. Creating Plot Legal Description Data"]
[null,"     3d. Creating Plot Dimension Data"]
[null,"4. Creating Survey Data"]
[null,"5. Creating VST Data"]
[null,"     5a. Creating VST Sample Species Data (Grid Format)"]
[null,"     5b. Creating VST Sample Species Data (Row Format)"]
[null,"     5c. Creating VST Sample Structure Data (Grid Format)"]
[null,"     5d. Creating VST Sample Structure Data (Row Format)"]
[null,"     5e. Creating VST Plot Species Data (Grid Format)"]
[null,"     5f. Creating VST Plot Species Data (Row Format)"]
[null,"     5g. Creating VST Plot Structure Data (Grid Format)"]
[null,"     5h. Creating VST Plot Structure Data (Row Format)"]
[null,"6. Creating Grassland Health Assessment Data"]
[]
[null,"Reference"]
[]
[1,"Template Use Flowchart"]
[null,"Due to the flexibility of the VegISS data model, collecting data outside the user inteface can seem rather complex.  The following flow charts help walk the user through filling out this template."]
[null,"Back to Top"]
[]
["1a","General Overview (Plots/Surveys)"]
[]
[]
[]
[]
[]
[]
[]
[]
[]
[]
[]
[]
[]
[]
[]
[]
[]
[]
[]
[]
[]
[]
[]
[]
[]
[]
[]
[]
[]
[]
[]
[]
[]
[]
[]
[]
[]
[]
[]
[]
[]
[]
[]
[]
[]
[]
[]
[]
[]
[]
[null,"Back to Top"]
[]
["1b","Vegetation Sampling Tasks"]
[]
[]
[]
[]
[]
[]
[]
[]
[]
[]
[]
[]
[]
[]
[]
[]
[]
[]
[]
[]
[]
[]
[]
[]
[]
[]
[]
[]
[]
[]
[]
[]
[]
[]
[]
[]
[]
[]
[]
[]
[]
[]
[]
[]
[]
[]
[]
[]
[]
[null,"Back to Top"]
[2,"Creating Projects"]
[null,"Projects are used to organize plots.  Projects are defined using the PROJECTS tab.  Projects are optional but users are strongly encouraged to group their plots into projects.  Creating a project is like adding a code to a pick list so that duplicate project definitions are eliminated."]
[]
["-","Open the PROJECTS tab"]
["-","Find the first open row in the template and move to the Project Name field"]
["-","Enter a unique Project name.  Optionally, you can provide a more descriptive definition of the Project name but only the Project name field will be used to generate the dropdown in the PLOTS tab."]
["-","When a new record is added, an active flag will be set to \"T\".  You do not need to make any other entries"]
["-","Repeat for as many projects as are required. "]
[null,"Back to Top"]
[]
[3,"Creating Plots"]
[null,"Plots are the basic units for any data in VegISS.  A plot can be a point, a circle, a rectangle, a transect or any other defined area for which one or more surveys/assessments will be performed.  Plot definition includes basic descriptions of the site, ownership, location, landform, soil, and other important information."]
[]
["-","Open the PLOTS tab"]
["-","Find the first open row in the template and move the Plot Label field"]
["-","Enter a unique label name for the plot.  This can be something as simple as P1, P2, etc.  Please note that the name must be unique and cannot be repeated in the PLOTS tab.  Validation will confirm this.  Also, the length of the label is limited to 50 characters"]
["-","Optionally, select a Project Name with which to logically group plots.  This is very useful when organizing data for use with VegISS.  Select a project name from the dropdown list.  If there are no projects in the dropdown, then you must create one first.  Please see Creating Projects above.  Once created, go back to the PLOTS tab and select the appropriate project to attach to the plot."]
["-","Ensure that you provide the agency name with which the plots are associated. The template will automatically copy the agency in subsequent rows so you only need to provide the first row (in green).  Agency is an important data organization attribute of the plot and must be defined."]
["-","Fill in the remaining attributes that are applicable to your plot.  Most of the fields have dropdown values from which to select.  All fields will provide a basic tooltip describing what the field is for.  Please make sure to fill out all fields that are tagged as mandatory.  Mandatory fields are green in the templates."]
["-","At the end of each row are a number of columns defined as Create By, Created On, etc.  These are system attributes that are automatically generated.  However, you must provide a name of the person loading the data into the template.  This could be a short name, initials or other descriptive text (that does not exceed the maximum length listed in the column heading).  Once the first value is entered, the value is automatically copied for all subsequent rows.  If necessary, a different name can be defined and the built in formulas will copy from that point onward with the new name."]
["-","To add UTM location data for the plot, please see Creating Plot UTM Data.  Note, at least one entry for either UTM, LATLONG or Legal description must be provided for each plot."]
["-","To add Latitude/Longitude-based location data for the plot, please see Creating Plot LatLong Data.  Note, at least one entry for either UTM, LATLONG or Legal description must be provided for each plot."]
["-","To add Legal Location data for the plot, please see Creating Plot Legal Description Data.  If a plot is located within 1 or more legal locations (such as multiple sections) they each should be listed in a new row (you cannot bundle multiple legal descriptions into a single entry).  Note, at least one entry for either UTM, LATLONG or Legal description must be provided for each plot."]
["-","To define dimensional information for the plot, please see Creating Plot Dimension Data.  This is optional"]
["-","Repeat for as many plots are required."]
[]
[null,"TIP:  Work in one tab at a time rather than hopping from one tab to the other.  Jumping from tab to tab between plots will slow down your data entry"]
[null,"Back to Top"]
[]
["3a","Creating Plot UTM Data"]
[null,"Universal Transverse Mercator (UTM) coordinates can be attached to plots.  One or more coordinate pairs (easting and northing) can be added to describe plot location."]
[]
["-","Make sure the plot for which the coordinates are to be entered has already been created in the PLOTS tab."]
["-","Open the PLOT_UTM tab"]
["-","Find the first open row in the template and move the Plot Label field.  Select a plot from the dropdown list.  If the desired plot does not exist, check the PLOTS tab and confirm the plot label defined on that tab.  If the plot does not yet exist, it must first be created (see Creating Plots).  Selecting the Plot Label will link the entry in the PLOT_UTM tab with the information in the PLOTS tab.  Additional ID codes will also be automatically generated for each new entry."]
["-","Define the coordinate Location Type from the dropdown.  You can enter many coordinate pairs for a single plot or a single set of coordinates.  Location Type describes the kind of coordinates being listed."]
["-","Provide Datum, Zone, Easting and Northing values.  All fields are required.  Please note that coordinate values are in whole numbers in VegISS (no decimal places)"]
["-","Repeat for additional coordinates to describe the plot"]
["-","Repeat for as many plots are required"]
[null,"Back to Top"]
[]
["3b","Creating Plot LatLong Data"]
[null,"Geographic coordinates can be attached to plots.  One or more coordinate pairs (longitude and latitude) can be added to describe plot location.  Please note that longitude values are negative \"-\" numbers.  You cannot enter degree-minute-second coordinates.  They must be converted to decimal-degree format."]
[]
["-","Make sure the plot for which the coordinates are to be entered has already been created in the PLOTS tab."]
["-","Open the PLOT_LATLONG tab"]
["-","Find the first open row in the template and move the Plot Label field.  Select a plot from the dropdown list.  If the desired plot does not exist, check the PLOTS tab and confirm the plot label defined on that tab.  If the plot doesn't yet exist, it must first be created (see Creating Plots).  Selecting the Plot Label will link the entry in the PLOT_LATLONG tab with the information in the PLOTS tab.  Additional ID codes will also be automatically generated for each new entry."]
["-","Define the coordinate Location Type from the dropdown.  You can enter many coordinate pairs for a single plot or a single set of coordinates.  Location Type describes the kind of coordinates being listed."]
["-","Provide Datum, Longitude (negative number) and Latitude values.  All fields are required.  Please note that coordinate values are in decimal degrees."]
["-","Repeat for additional coordinates to describe the plot"]
["-","Repeat for as many plots are required"]
[null,"Back to Top"]
[]
["3c","Creating Plot Legal Description Data"]
[null,"Legal land descriptions can be attached to plots.  One or more entries of LSD/Qsection/Section/Township/Range/Meridian can be added to describe plot location.  If locations are generic, fields like LSD and Qsection can be omitted.  If a plot covers multiple legal land descriptions, multiple entries can be used to describe it."]
[]
["-","Make sure the plot for which the legal land descriptions are to be entered has already been created in the PLOTS tab."]
["-","Open the PLOT_LEGAL tab"]
["-","Find the first open row in the template and move the Plot Label field.  Select a plot from the dropdown list.  If the desired plot does not exist, check the PLOTS tab and confirm the plot label defined on that tab.  If the plot doesn't yet exist, it must first be created (see Creating Plots).  Selecting the Plot Label will link the entry in the PLOT_LEGAL tab with the information in the PLOTS tab.  Additional ID codes will also be automatically generated for each new entry."]
["-","You can enter one or many descriptions for a single plot.  You cannot include a range of sections/quarter sections unless they are listed, one per row in the tab for the plot."]
["-","Legal Sub-division (LSD), Quarter Section (Qsection) and Section values are optional (but recommended).  Range, Township and Meridian values are required fields."]
["-","Repeat for additional legal descriptions needed to describe the plot"]
["-","Repeat for as many plots are required"]
[null,"Back to Top"]
[]
["3d","Creating Plot Dimension Data"]
[null,"A plot can also store dimensional measurements (eg. 100 x100m plot).  The PLOT_DIMENSIONS tab collects plot dimensional information.  Multiple dimension lengths (meters) can be defined for a single plot.  Input of plot dimensions is optional, but useful if this data was collected."]
[]
["-","Make sure the plot for which the dimension are to be entered has already been created in the PLOTS tab."]
["-","Open the PLOT_DIMENSIONS tab"]
["-","Find the first open row in the template and move the Plot Label field.  Select a plot from the dropdown list.  If the desired plot does not exist, check the PLOTS tab and confirm the plot label defined on that tab.  If the plot doesn't yet exist, it must first be created (see Creating Plots).  Selecting the Plot Label will link the entry in the PLOT_DIMENSIONS tab with the information in the PLOTS tab.  Additional ID codes will also be automatically generated for each new entry."]
["-","Define the Dimension Type from the dropdown.  You can enter many dimension values for a single plot or a single dimension value.  Dimension Type provides context to the dimension value being entered."]
["-","Provide the dimension distance in meters"]
["-","Repeat for additional dimension values used to describe the plot"]
["-","Repeat for as many plots as required"]
[null,"Back to Top"]
[]
[]
[4,"Creating Survey Data"]
[null,"One ore more surveys can be associated with a plot; for example, if a particular plot was remeasured every five years, each remeasurement would constitute a survey.  A single survey can only have one Health Assessment associated with it but can have multiple Vegetation Sampling Tasks (VSTs) associated with it."]
[]
["-","Make sure the plot for which the survey is being entered has already been created in the PLOTS tab."]
["-","Open the SURVEYS tab"]
["-","Find the first open row in the template and move the Plot Label field.  Select a plot from the dropdown list.  If the desired plot does not exist, check the PLOTS tab and confirm the plot label defined on that tab.  If the plot doesn't yet exist, it must first be created (see Creating Plots).  Selecting the Plot Label will link the entry in the SURVEYS tab with the information in the PLOTS tab.  Additional ID codes will also be automatically generated for each new entry."]
["-","Define the Health Assessment Method from the dropdown.  This indicates the type of health assessement being defined.  Please note that only one health assessment may be associated with a survey.  Upon selection of a health assessment method, the Assessment Year will be displayed automatically.  If no health assessments are part of the survey (only Vegetation Sampling Tasks) then set the Health Assessment Method to NONE (assessment year is blank when set to None)."]
["-","Provide the date that the survey was created.  Only a calendar date is allowed (not just a year).  If the actual date is not known, enter January 1st of the year it was surveyed."]
["-","Once the plot label, assessment method and survey date are entered, a Survey Label will automatically be generated.  This field is a concatenation of all the manadatory fields (separated by dashes) and acts like bread crumbs between tabs.  While this field is automatically defined, you can enter your own custom label (e.g. S1, S2, etc.) into this cell.  Just remember that when entering the vegetation survey tasks or health assessments, you will need to select the Survey Label to link the associated rows in the respective tabs."]
["-","Fill out the remaining fields as required.  Make sure that all mandatory fields (in green) are filled out."]
["-","At the end of each row are a number of columns defined as Create By, Created On, etc.  These are system attributes that are automatically generated.  However, you must provide a name of the person loading the data into the template.  This could be a short name, initials or other descriptive text (that does not exceed the maximum length listed in the column heading).  Once the first value is entered, the value is automatically copied for all subsequent rows.  If necessary, a different name can be defined and the built in formulas will copy from that point onward with the new name."]
["-","To create Vegetation Sampling Tasks (VSTs), please refer to Creating VST Data."]
["-","To create Health Assessments, please refer to Creating Health Assessment Data.  Please note that only the Grassland Health Assessment is defined in this template at this time."]
["-","Repeat for as many surveys as required"]
[null,"Back to Top"]
[]
[5,"Creating VST Data"]
[null,"A Vegetation Sampling Task (VST) is a sub-component of a Survey (e.g. one task might be quadrat sampling for percent biomass of herbs, another task might be line-intercept sampling for shrub cover).  Tasks should be separated if different sampling methods were used, different numbers or sizes of quadrats were used, or different vegetation layers were targeted."]
[]
["-","Make sure the  plot/survey has already been defined in the PLOTS/SURVEYS tabs respectively before creating the VST."]
["-","Open the VEGSAMPLINGTASKS tab"]
["-","Find the first open row in the template and move the Survey Label field.  Select a survey from the dropdown list.  If the desired survey does not exist, check the SURVEYS tab and confirm the survey label defined on that tab (or the PLOTS tab if the plot has not yet been created).  If the survey doesn't yet exist, it must first be created (see Creating Survey Data).  Selecting the Survey Label will link the entry in the VEGSAMPLINGTASKS tab with the information in the SURVEYS tab.  Additional ID codes will also be automatically generated for each new entry."]
["-","Define the applicable vegetation layers targeted by the task (e.g. tree layer, shrub layer, herbaceous layer, all layers).  "]
["-","The next field is very important.  Make sure to specify the Data Level for the VST.  This indicates whether the task is Sample-Level or Plot Level.  With Sample-Level VSTs, you will need to specify the number of samples.  Plot-Level tasks collect data over the entire plot, while Sample-Level tasks collect data in a number of individual samples within the plot.  \n\nPlease note that you can provide both Sample-Level and Plot-Level data (e.g. summary values based on the sample data) for Sample-Level VSTs but you cannot provide Sample-Level data for Plot-Level VSTs."]
["-","If the VST will be collecting species composition data as percentages, then make sure to define the Percent Type field.  Percentage values for species composition can be everything from foliar cover to basal cover or even frequency.  Select the appropriate code from the dropdown."]
["-","Once the Survey Label, Data Level and Percent Type are entered, a Task Label will automatically be generated.  This field is a concatenation of all the manadatory fields (separated by dashes) and acts like bread crumbs between tabs.  While this field is automatically defined, you can enter your own custom label (e.g. T1, T2, etc.) into this cell.  Just remember that when entering the  VST details, you will need to select the Task Label to link the associated rows in the respective tabs."]
["-","Fill out the remaining fields as required.  Make sure that all mandatory fields (in green) are filled out."]
["-","To add Sample-Level Species Composition data, please see Creating VST Sample Species Data."]
["-","To add Sample-Level Structure data, please see Creating VST Sample Structure Data."]
["-","To add Plot-Level Species Composition data, please see Creating VST Plot Species Data."]
["-","To add Plot-Level Structure data, please see Creating VST Plot Structure Data."]
["-","Repeat for as many VSTs as required"]
[null,"Back to Top"]
[]
["5a","Creating VST Sample Species Data (Grid Format)"]
[null,"Species composition data for a sample-level tasks are stored in what is called a normalized format.  Each record stores one species and the abundance value(s) for that species, per sample per task.  The tab SampleSPECIESRows is set up in this structure.  When entering data in the field, this works well.  However, for bulk entry of data, entering the species-name over and over when the only thing that needs to be entered is the percentage slows down data entry. The SampleSPECIESGrid tab is provided as a simpler way of entering species composition data.  The user defines a species once and that opens a new column in which to enter percentage data.\n\nDetermine which format you wish to use for entering species composition data.  If you only have species/percent values to enter, use the SampleSPECIESGrid tab.  If you are going to enter things like cover class, weight, density, or other information, use SampleSPECIESRows tab instead.  These instructions are for the use of the Grid format."]
[]
["-","Make sure the  plot/survey/task has already been defined in the PLOTS/SURVEYS/VEGSAMPLINGTASKS tabs respectively before entering species data."]
["-","Open the SampleSPECIESGrid tab."]
["-","Find the first open row in the template and move to the Task Label field.  Select a task from the dropdown list.  If the desired task does not exist, check the VEGSAMPLINGTASKS tab and confirm that the task is defined on that tab (or the SURVEYS/PLOTS tabs if the prerequisite data has not yet been created).  If the task doesn't yet exist, it must first be created (see Creating VST Data).  Selecting the Task Label will link the entry in the SampleSPECIESGrid tab with the information in the VEGSAMPLINGTASK tab.  Additional ID codes will also be automatically generated for each new entry."]
["-","Define the Sample Number.  This number should not exceed the number of samples identified in the VST.  Each row of this tab is for one sample for one VST."]
["-","For reference, the Percent Type selected in the VEGSAMPLINGTASKS tab will be displayed. "]
["-","There are a series of Species columns with the entry fields grayed out.  Near the top of each column are green boxes where a species can be defined.  For each different species you encounter, access a new column and select the species acronym (i.e. species code) from the dropdown list.  Note that only the listed acronyms can be entered (for reference these are listed in the CODES2 tab); if your data use synonyms, common names, or other types of species names, you must convert them to the standard VegISS acronyms before you start entering data. The common name will automatically display when you select a new species and the grayed boxes will turn green.  30 of these columns have been pre-created but you can make more by copying the format of an existing column to create new ones."]
["-","Enter the corresponding percentage values corresponding the the appropriate species for the given sample."]
["-","Fill out the remaining fields as required.  Make sure that all mandatory fields (in green) are filled out."]
["-","Repeat for as many samples/tasks as required"]
[null,"Back to Top"]
[]
["5b","Creating VST Sample Species Data (Row Format)"]
[null,"Species composition data for a sample-level tasks are stored in what is called a normalized format.  Each record stores one species and the abundance value(s) for that species, per sample per task.  The tab SampleSPECIESRows is set up in this structure.  When entering data in the field, this works well.  However, for bulk entry of data, entering the species-name over and over when the only thing that needs to be entered is the percentage slows down data entry. The SampleSPECIESGrid tab is provided as a simpler way of entering species composition data.  The user defines a species once and that opens a new column in which to enter percentage data.\n\nDetermine which format you wish to use for entering species composition data.  If you only have species/percent values to enter, use the SampleSPECIESGrid tab.  If you are going to enter things like cover class, weight, density, or other information, use SampleSPECIESRows tab instead.  These instructions are for the use of the Row format."]
[]
["-","Make sure the  plot/survey/task has already been defined in the PLOTS/SURVEYS/VEGSAMPLINGTASKS tabs respectively before entering species data."]
["-","Open the SampleSPECIESRows tab."]
["-","Find the first open row in the template and move to the Task Label field.  Select a task from the dropdown list.  If the desired task does not exist, check the VEGSAMPLINGTASKS tab and confirm the task is defined on that tab (or the SURVEYS/PLOTS tabs if the prerequisite data has not yet been created).  If the task doesn't yet exist, it must first be created (see Creating VST Data).  Selecting the Task Label will link the entry in the SampleSPECIESRows tab with the information in the VEGSAMPLINGTASK tab.  Additional ID codes will also be automatically generated for each new entry."]
["-","Define the Sample Number.  This number should not exceed the number of samples identified in the VST.  Each row of this tab is for one species per sample for one VST."]
["-","For reference, the Percent Type selected in the VEGSAMPLINGTASKS tab will be displayed. "]
["-","Each row requires that the species be defined.  Choose a Species Acronym from the dropdown list."]
["-","Enter the corresponding percentage value for the species defined in the sample."]
["-","Optionally fill out the other information in the row (Cover class, Biomass weight, etc.)"]
["-","Repeat for as many species/samples/tasks as required"]
[null,"Back to Top"]
[]
["5c","Creating VST Sample Structure Data (Grid Format)"]
[null,"Vegetation structure data for a sample-level tasks are stored in what is called a normalized format.  Each record stores one vegetation layer and a % cover value for that layer, per sample per task.  When entering this information in the field, this works well.  However, for bulk entry of data, entering the layer names over and over when the only thing that needs to be entered is the percent cover slows down data entry. The SampleSTRUCTUREGrid tab is provided as a simpler way of entering vegetation structure data.  The user defines a layer once and that opens a new column in which to enter percent cover data.\n\nDetermine which format you wish to use for entering sample structure data.  If you only have layer/percent values to enter, use the SampleSTRUCTUREGrid tab.  If you are going to enter things like cover class, weight and other information use SampleSTRUCTURERows tab instead.  These instructions are for the use of the Grid format."]
[]
["-","Make sure the  plot/survey/task has already been defined in the PLOTS/SURVEYS/VEGSAMPLINGTASKS tabs respectively before entering structure/layer data."]
["-","Open the SampleSTRUCTUREGrid tab."]
["-","Find the first open row in the template and move to the Task Label field.  Select a task from the dropdown list.  If the desired task does not exist, check the VEGSAMPLINGTASKS tab and confirm the task is defined on that tab (or the SURVEYS/PLOTS tabs if the prerequisite data has not yet been created).  If the task doesn't yet exist, it must first be created (see Creating VST Data).  Selecting the Task Label will link the entry in the SampleSTRUCTUREGrid tab with the information in the VEGSAMPLINGTASK tab.  Additional ID codes will also be automatically generated for each new entry."]
["-","Define the Sample Number.  This number should not exceed the number of samples identified in the VST.  Each row of this tab is for one sample for one VST."]
["-","There are a series of Layer columns with the entry fields grayed out.  Near the top of each column are green boxes where a vegetation layer can be defined.  For each different layer you encounter, access a new column and select the Layer from the dropdown list.  The descriptive name will automatically display when you select a new layer and the grayed boxes will turn green.  30 of these columns have been pre-created but you can make more by copying the format of an existing column to create new ones."]
["-","Enter the % cover value corresponding to the layer for the given sample."]
["-","Fill out the remaining fields as required."]
["-","Repeat for as many samples/tasks as required"]
[null,"Back to Top"]
[]
["5d","Creating VST Sample Structure Data (Row Format)"]
[null,"Vegetation structure data for a sample-level tasks are stored in what is called a normalized format.  Each record stores one vegetation layer and a % cover value for that layer, per sample per task.  When entering this information in the field, this works well.  However, for bulk entry of data, entering the layer names over and over when the only thing that needs to be entered is the percent cover slows down data entry. The SampleSTRUCTUREGrid tab is provided as a simpler way of entering vegetation structure data.  The user defines a layer once and that opens a new column in which to enter percent cover data.\n\nDetermine which format you wish to use for entering sample structure data.  If you only have layer/percent values to enter, use the SampleSTRUCTUREGrid tab.  If you are going to enter things like cover class, weight and other information use SampleSTRUCTURERows tab instead.  These instructions are for the use of the Row format."]
[]
["-","Make sure the  plot/survey/task has already been defined in the PLOTS/SURVEYS/VEGSAMPLINGTASKS tabs respectively before entering structure/layer data."]
["-","Open the SampleSTRUCTURERows tab."]
["-","Find the first open row in the template and move to the Task Label field.  Select a task from the dropdown list.  If the desired task does not exist, check the VEGSAMPLINGTASKS tab and confirm the task is defined on that tab (or the SURVEYS/PLOTS tabs if the prerequisite data has not yet been created).  If the task doesn't yet exist, it must first be created (see Creating VST Data).  Selecting the Task Label will link the entry in the SampleSTRUCTURERows tab with the information in the VEGSAMPLINGTASK tab.  Additional ID codes will also be automatically generated for each new entry."]
["-","Define the Sample Number.  This number should not exceed the number of samples identified in the VST.  Each row of this tab is for one species per sample for one VST."]
["-","Each row requires that the layer be defined.  Choose a Layer from the dropdown list."]
["-","Enter the % cover value corresponding to the layer for the given sample."]
["-","Optionally fill out the other information in the row (cover class,  weight, etc.)"]
["-","Repeat for as many layers/samples/tasks as required"]
[null,"Back to Top"]
[]
["5e","Creating VST Plot Species Data (Grid Format)"]
[null,"Species composition data for a plot-level tasks are stored in what is called a normalized format.  Each record stores one species and abundance value(s) for that species, per plot per task.  The tab PlotSPECIESRows is set up in this structure.  When entering data in the field, this works well.  However, for bulk entry of data, entering the species over and over when the only thing that needs to be entered is the percentage slows down data entry. The PlotSPECIESGrid tab is provided as a simpler way of entering species composition data.  The user defines a species once and that opens a new column in which to enter percentage data.\n\nDetermine which format you wish to use for entering species composition data.  If you only have species/percent values to enter, use the PlotSPECIESGrid tab.  If you are going to enter things like cover class, weight and other information, use PlotSPECIESRows tab instead.  These instructions are for the use of the Grid format."]
[]
["-","Make sure the  plot/survey/task has already been defined in the PLOTS/SURVEYS/VEGSAMPLINGTASKS tabs respectively before entering species data."]
["-","Open the PlotSPECIESGrid tab."]
["-","Find the first open row in the template and move to the Task Label field.  Select a task from the dropdown list.  If the desired task does not exist, check the VEGSAMPLINGTASKS tab and confirm the task is defined on that tab (or the SURVEYS/PLOTS tabs if the prerequisite data has not yet been created).  If the task doesn't yet exist, it must first be created (see Creating VST Data).  Selecting the Task Label will link the entry in the PlotSPECIESGrid tab with the information in the VEGSAMPLINGTASK tab.  Additional ID codes will also be automatically generated for each new entry."]
["-","For reference, the Sample Type selected in the VEGSAMPLINGTASKS tab will be displayed. "]
["-","There are a series of Species columns with the entry fields grayed out.  Near the top of each column are green boxes where a species can be defined.  For each different species you encounter, access a new column and select the species acronym (i.e. species code) from the dropdown list.  Note that only the listed acronyms can be entered (for reference these are listed in the CODES2 tab); if your data use synonyms, common names, or other types of species names, you must convert them to the standard VegISS acronyms before you start entering data. The common name will automatically display when you select a new species and the grayed boxes will turn green.  30 of these columns have been pre-created but you can make more by copying the format of an existing column to create new ones."]
["-","Enter the percentage value for the species."]
["-","Fill out the remaining fields as required.  Make sure that all mandatory fields (in green) are filled out."]
["-","Repeat for as many tasks as required"]
[null,"Back to Top"]
[]
["5f","Creating VST Plot Species Data (Row Format)"]
[null,"Species composition data for a plot-level tasks are stored in what is called a normalized format.  Each record stores one species and abundance value(s) for that species, per plot per task.  The tab PlotSPECIESRows is set up in this structure.  When entering data in the field, this works well.  However, for bulk entry of data, entering the species over and over when the only thing that needs to be entered is the percentage slows down data entry. The PlotSPECIESGrid tab is provided as a simpler way of entering species composition data.  The user defines a species once and that opens a new column in which to enter percentage data.\n\nDetermine which format you wish to use for entering species composition data.  If you only have species/percent values to enter, use the PlotSPECIESGrid tab.  If you are going to enter things like cover class, weight and other information, use PlotSPECIESRows tab instead.  These instructions are for the use of the Row format."]
[]
["-","Make sure the  plot/survey/task has already been defined in the PLOTS/SURVEYS/VEGSAMPLINGTASKS tabs respectively before entering species data."]
["-","Open the PlotSPECIESRows tab."]
["-","Find the first open row in the template and move to the Task Label field.  Select a task from the dropdown list.  If the desired task does not exist, check the VEGSAMPLINGTASKS tab and confirm the task is defined on that tab (or the SURVEYS/PLOTS tabs if the prerequisite data has not yet been created).  If the task doesn't yet exist, it must first be created (see Creating VST Data).  Selecting the Task Label will link the entry in the PlotSPECIESRows tab with the information in the VEGSAMPLINGTASK tab.  Additional ID codes will also be automatically generated for each new entry."]
["-","For reference, the Sample Type selected in the VEGSAMPLINGTASKS tab will be displayed. "]
["-","Each row requires that the species be defined.  Choose a Species Acronym from the dropdown list."]
["-","Enter the percentage value for the species."]
["-","Optionally fill out the other information in the row (Cover class, Biomass weight, etc.)"]
["-","Repeat for as many species/tasks as required"]
[null,"Back to Top"]
[]
["5g","Creating VST Plot Structure Data (Grid Format)"]
[null,"Vegetation structure data for a plot-level task are stored in what is called a normalized format.  Each record stores one vegetation layer and the % cover of that layer, per task.  When entering data in the field, this works well.  However, for bulk entry of data, entering the layer names over and over when the only thing that needs to be entered is the percent cover slows down data entry. The PlotSTRUCTUREGrid tab is provided as a simpler way of entering vegetation layer (structure) data.  The user defines a layer once and that opens a new column in which to enter percent cover data.\n\nDetermine which format you wish to use for entering sample structure data.  If you only have layer/percent values to enter, use the PlotSTRUCTUREGrid tab.  If you are going to enter things like cover class, weight and other information, use PlotSTRUCTURERows tab instead.  These instructions are for the use of the Grid format."]
[]
["-","Make sure the  plot/survey/task has already been defined in the PLOTS/SURVEYS/VEGSAMPLINGTASKS tabs respectively before entering structure/layer data."]
["-","Open the PlotSTRUCTUREGrid tab."]
["-","Find the first open row in the template and move to the Task Label field.  Select a task from the dropdown list.  If the desired task does not exist, check the VEGSAMPLINGTASKS tab and confirm that the task is defined on that tab (or the SURVEYS/PLOTS tabs if the prerequisite data has not yet been created).  If the task doesn't yet exist, it must first be created (see Creating VST Data).  Selecting the Task Label will link the entry in the PlotSTRUCTUREGrid tab with the information in the VEGSAMPLINGTASK tab.  Additional ID codes will also be automatically generated for each new entry."]
["-","There are a series of Layer columns with the entry fields grayed out.  Near the top of each column are green boxes where a vegetation layer can be defined.  For each different layer you encounter, access a new column and define the layer.  The descriptive name will automatically display when you select a new layer and the grayed boxes will turn green.  30 of these columns have been pre-created but you can make more by copying the format of an existing column to create new ones."]
["-","Enter the percent cover value for the layer."]
["-","Fill out the remaining fields as required."]
["-","Repeat for as many tasks as required"]
[null,"Back to Top"]
[]
["5h","Creating VST Plot Structure Data (Row Format)"]
[null,"Vegetation structure data for a plot-level task are stored in what is called a normalized format.  Each record stores one vegetation layer and the % cover of that layer, per task.  When entering data in the field, this works well.  However, for bulk entry of data, entering the layer names over and over when the only thing that needs to be entered is the percent cover slows down data entry. The PlotSTRUCTUREGrid tab is provided as a simpler way of entering vegetation layer (structure) data.  The user defines a layer once and that opens a new column in which to enter percent cover data.\n\nDetermine which format you wish to use for entering sample structure data.  If you only have layer/percent values to enter, use the PlotSTRUCTUREGrid tab.  If you are going to enter things like cover class, weight and other information, use PlotSTRUCTURERows tab instead.  These instructions are for the use of the Row format."]
[]
["-","Make sure the  plot/survey/task has already been defined in the PLOTS/SURVEYS/VEGSAMPLINGTASKS tabs respectively before entering structure/layer data."]
["-","Open the PlotSTRUCTURERows tab."]
["-","Find the first open row in the template and move to the Task Label field.  Select a task from the dropdown list.  If the desired task does not exist, check the VEGSAMPLINGTASKS tab and confirm the task is defined on that tab (or the SURVEYS/PLOTS tabs if the prerequisite data has not yet been created).  If the task doesn't yet exist, it must first be created (see Creating VST Data).  Selecting the Task Label will link the entry in the PlotSTRUCTURERows tab with the information in the VEGSAMPLINGTASK tab.  Additional ID codes will also be automatically generated for each new entry."]
["-","Each row requires that the layer be defined.  Choose a Layer from the dropdown list."]
["-","Enter the percent cover value for the layer."]
["-","Optionally fill out the other information in the row (Cover class,  weight, etc.)"]
["-","Repeat for as many layers/tasks as required"]
[null,"Back to Top"]
[]
[6,"Creating Grassland Health Data"]
[null,"The Grassland Health Assessment survey form is based on the Saskatchewan “Field Worksheet: Grassland Range Health Assessment”.  It consists of a questionnaire that includes 5 main questions (two questions have 2 parts) along with other descriptive data. "]
[]
["-","Open the GrasslandHealth tab."]
["-","Find the first open row in the template and move the Survey Label field.  Select a survey from the dropdown list.  If the desired survey does not exist, check the SURVEYS tab and confirm that the survey label defined on that tab (or the PLOTS tab if the plot has not yet been created).  If the survey doesn't yet exist, it must first be created (see Creating Survey Data).  Selecting the Survey Label will link the entry in the GrasslandHealth tab with the information in the SURVEYS tab.  Additional ID codes will also be automatically generated for each new entry."]
["-","Fill in the question responses.  All questions need to be answered"]
["-","Repeat for as many surveys as required"]
[null,"Back to Top"]

{"sheet":"PROJECTS","index":2,"n_rows":105,"n_cols":4,"rows_kept":105,"cut":false,"hidden":false,"merged":[]}
["ProjectID","ProjectName","ProjectDescription","StatusFlag"]
["Name","Project Name","Description","Active?"]
["Type","Text","Text","Text"]
["Max Length","50","255","1"]
[{"$f":"IF(ISBLANK(B5),\"-\",IFERROR(A4+1,1))","v":"-"},null,null,{"$f":"IF(ISBLANK(B5),\"\",\"T\")","v":""}]
[{"$f":"IF(ISBLANK(B6),\"-\",IFERROR(A5+1,1))","v":"-"},null,null,""]
["-",null,null,""]
["-",null,null,""]
["-",null,null,""]
["-",null,null,""]
["-",null,null,""]
["-",null,null,""]
["-",null,null,""]
["-",null,null,""]
["-",null,null,""]
["-",null,null,""]
["-",null,null,""]
["-",null,null,""]
["-",null,null,""]
["-",null,null,""]
["-",null,null,""]
["-",null,null,""]
["-",null,null,""]
["-",null,null,""]
["-",null,null,""]
["-",null,null,""]
["-",null,null,""]
["-",null,null,""]
["-",null,null,""]
["-",null,null,""]
["-",null,null,""]
["-",null,null,""]
["-",null,null,""]
["-",null,null,""]
["-",null,null,""]
["-",null,null,""]
["-",null,null,""]
["-",null,null,""]
["-",null,null,""]
["-",null,null,""]
["-",null,null,""]
["-",null,null,""]
["-",null,null,""]
["-",null,null,""]
["-",null,null,""]
["-",null,null,""]
["-",null,null,""]
["-",null,null,""]
["-",null,null,""]
["-",null,null,""]
["-",null,null,""]
["-",null,null,""]
["-",null,null,""]
["-",null,null,""]
["-",null,null,""]
["-",null,null,""]
["-",null,null,""]
["-",null,null,""]
["-",null,null,""]
["-",null,null,""]
["-",null,null,""]
["-",null,null,""]
["-",null,null,""]
["-",null,null,""]
["-",null,null,""]
["-",null,null,""]
["-",null,null,""]
["-",null,null,""]
["-",null,null,""]
[{"$f":"IF(ISBLANK(B70),\"-\",IFERROR(A69+1,1))","v":"-"},null,null,{"$f":"IF(ISBLANK(B70),\"\",\"T\")","v":""}]
["-",null,null,""]
["-",null,null,""]
["-",null,null,""]
["-",null,null,""]
["-",null,null,""]
["-",null,null,""]
["-",null,null,""]
["-",null,null,""]
["-",null,null,""]
["-",null,null,""]
["-",null,null,""]
["-",null,null,""]
["-",null,null,""]
["-",null,null,""]
["-",null,null,""]
["-",null,null,""]
["-",null,null,""]
["-",null,null,""]
["-",null,null,""]
["-",null,null,""]
["-",null,null,""]
["-",null,null,""]
["-",null,null,""]
["-",null,null,""]
["-",null,null,""]
["-",null,null,""]
["-",null,null,""]
["-",null,null,""]
["-",null,null,""]
["-",null,null,""]
["-",null,null,""]
["-",null,null,""]
["-",null,null,""]
["-",null,null,""]
["To add more rows, copy from the previous line to ensure the proper formatting/formulas are in place."]

{"sheet":"PLOTS","index":3,"n_rows":1005,"n_cols":44,"rows_kept":1005,"cut":false,"hidden":false,"merged":[]}
["PlotID","PlotLabel","ProjectName","AgencyPlotCode","AdminUnit","AdminSubunit","OwnershipConfidentiality","PlotShape","PlotArea","AreaOfInference","LocationFormat","LocationSource","LocationConfidentiality","Elevation","Ecoregion","RangeEcoregion","SoilZone","EcositeReference","DominantEcosite","SecondaryEcosite","LandUse","CurrentGrazingLevel","Disturbances","AdjacentLandUse","SoilMapUnit","MappedTextureClass","MappedSlopeClass","MappedSalinityClass","FieldLandform","FieldSteepnessPercent","FieldAspect","FieldTopographyComments","FieldDominantTexture","FieldSalinityEvidence","FieldSoilAssociation","MottlingDepth","GleyingDepth","DrainageClass","StructuralType","LocationComments","CreatedBy","CreatedOn","ModifiedBy","ModifiedOn"]
["Name","Plot Label","Project Name","Agency","Admin Unit","Admin Sub-Unit","Ownership Confidentiality","Plot Shape","Plot Area","Area of Influence","Location Format","Location Source","Location Confidentiality","Elevation","Ecoregion","Range Ecoregion","Soil Zone","Ecosite Reference","Dominant Ecosite","Secondary Ecosite","LandUse","Current Grazing Level","Disturbances","Adjacent LandUse","Soil Map Unit","Texture Class (Mapped)","Slope Class (Mapped)","Salinity Class (Mapped)","Landform (Field )","Steepness Percent (Field )","Aspect (Field)","Topogaphy Comments (Field)","Dominant Texture (Field)","Salinity Evidence (Field)","Soil Association (Field)","Mottling Depth","Gleying Depth","Drainage Class","Structural Type","Location Comments","Created By","Created On","Modified By","Modified On"]
["Type","Text","Text","Text","Text","Text","Integer","Text","Double","Double","Text","Text","Integer","Integer","Text","Text","Text","Text","Text","Text","Text","Text","Memo","Memo","Text","Text","Text","Text","Text","Single","Integer","Memo","Text","Text","Text","Single","Single","Text","Text","Memo","Text","Date/Time","Text","Date/Time"]
["Max Length","50","50","25","50","50",null,null,null,null,"3","3",null,null,"3","4","2","6","10","10","2","1",null,null,"10","10","5","5","3",null,null,null,"4","3","25",null,null,"2","3",null,"15",null,"15"]
[{"$f":"IF(ISBLANK(B5),\"-\",GenGuid())","v":"-"},null,null,null,null,null,null,"R",null,null,null,null,null,null,null,null,null,null,null,null,null,null,null,null,null,null,null,null,null,null,null,null,null,null,null,null,null,null,null,null,null,{"$f":"IF(ISBLANK(B5),\"\",TODAY())","v":""},{"$f":"IF(ISBLANK(B5),\"\",IF(LEN(AO5)=0,\"\",AO5))","v":""},{"$f":"IF(ISBLANK(B5),\"\",AP5)","v":""}]
[{"$f":"IF(ISBLANK(B6),\"-\",GenGuid())","v":"-"},null,null,{"$f":"IF(AND(LEN(D5)>0,NOT(ISBLANK(C6))),D5,\"\")","v":""},null,null,null,null,null,null,null,null,null,null,null,null,null,null,null,null,null,null,null,null,null,null,null,null,null,null,null,null,null,null,null,null,null,null,null,null,{"$f":"IF(ISBLANK(B6),\"\",AO5)","v":""},{"$f":"IF(ISBLANK(B6),\"\",TODAY())","v":""},{"$f":"IF(ISBLANK(B6),\"\",IF(LEN(AO6)=0,\"\",AO6))","v":""},{"$f":"IF(ISBLANK(B6),\"\",AP6)","v":""}]
[{"$f":"IF(ISBLANK(B7),\"-\",GenGuid())","v":"-"},null,null,{"$f":"IF(AND(LEN(D6)>0,NOT(ISBLANK(C7))),D6,\"\")","v":""},null,null,null,null,null,null,null,null,null,null,null,null,null,null,null,null,null,null,null,null,null,null,null,null,null,null,null,null,null,null,null,null,null,null,null,null,{"$f":"IF(ISBLANK(B7),\"\",AO6)","v":""},{"$f":"IF(ISBLANK(B7),\"\",TODAY())","v":""},{"$f":"IF(ISBLANK(B7),\"\",IF(LEN(AO7)=0,\"\",AO7))","v":""},{"$f":"IF(ISBLANK(B7),\"\",AP7)","v":""}]
[{"$f":"IF(ISBLANK(B8),\"-\",GenGuid())","v":"-"},null,null,"",null,null,null,null,null,null,null,null,null,null,null,null,null,null,null,null,null,null,null,null,null,null,null,null,null,null,null,null,null,null,null,null,null,null,null,null,"","","",""]
[{"$f":"IF(ISBLANK(B9),\"-\",GenGuid())","v":"-"},null,null,"",null,null,null,null,null,null,null,null,null,null,null,null,null,null,null,null,null,null,null,null,null,null,null,null,null,null,null,null,null,null,null,null,null,null,null,null,"","","",""]
[{"$f":"IF(ISBLANK(B10),\"-\",GenGuid())","v":"-"},null,null,"",null,null,null,null,null,null,null,null,null,null,null,null,null,null,null,null,null,null,null,null,null,null,null,null,null,null,null,null,null,null,null,null,null,null,null,null,"","","",""]
[{"$f":"IF(ISBLANK(B11),\"-\",GenGuid())","v":"-"},null,null,"",null,null,null,null,null,null,null,null,null,null,null,null,null,null,null,null,null,null,null,null,null,null,null,null,null,null,null,null,null,null,null,null,null,null,null,null,"","","",""]
[{"$f":"IF(ISBLANK(B12),\"-\",GenGuid())","v":"-"},null,null,"",null,null,null,null,null,null,null,null,null,null,null,null,null,null,null,null,null,null,null,null,null,null,null,null,null,null,null,null,null,null,null,null,null,null,null,null,"","","",""]
[{"$f":"IF(ISBLANK(B13),\"-\",GenGuid())","v":"-"},null,null,"",null,null,null,null,null,null,null,null,null,null,null,null,null,null,null,null,null,null,null,null,null,null,null,null,null,null,null,null,null,null,null,null,null,null,null,null,"","","",""]
[{"$f":"IF(ISBLANK(B14),\"-\",GenGuid())","v":"-"},null,null,"",null,null,null,null,null,null,null,null,null,null,null,null,null,null,null,null,null,null,null,null,null,null,null,null,null,null,null,null,null,null,null,null,null,null,null,null,"","","",""]
[{"$f":"IF(ISBLANK(B15),\"-\",GenGuid())","v":"-"},null,null,"",null,null,null,null,null,null,null,null,null,null,null,null,null,null,null,null,null,null,null,null,null,null,null,null,null,null,null,null,null,null,null,null,null,null,null,null,"","","",""]
[{"$f":"IF(ISBLANK(B16),\"-\",GenGuid())","v":"-"},null,null,"",null,null,null,null,null,null,null,null,null,null,null,null,null,null,null,null,null,null,null,null,null,null,null,null,null,null,null,null,null,null,null,null,null,null,null,null,"","","",""]
[{"$f":"IF(ISBLANK(B17),\"-\",GenGuid())","v":"-"},null,null,"",null,null,null,null,null,null,null,null,null,null,null,null,null,null,null,null,null,null,null,null,null,null,null,null,null,null,null,null,null,null,null,null,null,null,null,null,"","","",""]
[{"$f":"IF(ISBLANK(B18),\"-\",GenGuid())","v":"-"},null,null,"",null,null,null,null,null,null,null,null,null,null,null,null,null,null,null,null,null,null,null,null,null,null,null,null,null,null,null,null,null,null,null,null,null,null,null,null,"","","",""]
[{"$f":"IF(ISBLANK(B19),\"-\",GenGuid())","v":"-"},null,null,"",null,null,null,null,null,null,null,null,null,null,null,null,null,null,null,null,null,null,null,null,null,null,null,null,null,null,null,null,null,null,null,null,null,null,null,null,"","","",""]
[{"$f":"IF(ISBLANK(B20),\"-\",GenGuid())","v":"-"},null,null,"",null,null,null,null,null,null,null,null,null,null,null,null,null,null,null,null,null,null,null,null,null,null,null,null,null,null,null,null,null,null,null,null,null,null,null,null,"","","",""]
[{"$f":"IF(ISBLANK(B21),\"-\",GenGuid())","v":"-"},null,null,"",null,null,null,null,null,null,null,null,null,null,null,null,null,null,null,null,null,null,null,null,null,null,null,null,null,null,null,null,null,null,null,null,null,null,null,null,"","","",""]
[{"$f":"IF(ISBLANK(B22),\"-\",GenGuid())","v":"-"},null,null,"",null,null,null,null,null,null,null,null,null,null,null,null,null,null,null,null,null,null,null,null,null,null,null,null,null,null,null,null,null,null,null,null,null,null,null,null,"","","",""]
[{"$f":"IF(ISBLANK(B23),\"-\",GenGuid())","v":"-"},null,null,"",null,null,null,null,null,null,null,null,null,null,null,null,null,null,null,null,null,null,null,null,null,null,null,null,null,null,null,null,null,null,null,null,null,null,null,null,"","","",""]
[{"$f":"IF(ISBLANK(B24),\"-\",GenGuid())","v":"-"},null,null,"",null,null,null,null,null,null,null,null,null,null,null,null,null,null,null,null,null,null,null,null,null,null,null,null,null,null,null,null,null,null,null,null,null,null,null,null,"","","",""]
[{"$f":"IF(ISBLANK(B25),\"-\",GenGuid())","v":"-"},null,null,"",null,null,null,null,null,null,null,null,null,null,null,null,null,null,null,null,null,null,null,null,null,null,null,null,null,null,null,null,null,null,null,null,null,null,null,null,"","","",""]
[{"$f":"IF(ISBLANK(B26),\"-\",GenGuid())","v":"-"},null,null,"",null,null,null,null,null,null,null,null,null,null,null,null,null,null,null,null,null,null,null,null,null,null,null,null,null,null,null,null,null,null,null,null,null,null,null,null,"","","",""]
[{"$f":"IF(ISBLANK(B27),\"-\",GenGuid())","v":"-"},null,null,"",null,null,null,null,null,null,null,null,null,null,null,null,null,null,null,null,null,null,null,null,null,null,null,null,null,null,null,null,null,null,null,null,null,null,null,null,"","","",""]
[{"$f":"IF(ISBLANK(B28),\"-\",GenGuid())","v":"-"},null,null,"",null,null,null,null,null,null,null,null,null,null,null,null,null,null,null,null,null,null,null,null,null,null,null,null,null,null,null,null,null,null,null,null,null,null,null,null,"","","",""]
[{"$f":"IF(ISBLANK(B29),\"-\",GenGuid())","v":"-"},null,null,"",null,null,null,null,null,null,null,null,null,null,null,null,null,null,null,null,null,null,null,null,null,null,null,null,null,null,null,null,null,null,null,null,null,null,null,null,"","","",""]
[{"$f":"IF(ISBLANK(B30),\"-\",GenGuid())","v":"-"},null,null,"",null,null,null,null,null,null,null,null,null,null,null,null,null,null,null,null,null,null,null,null,null,null,null,null,null,null,null,null,null,null,null,null,null,null,null,null,"","","",""]
[{"$f":"IF(ISBLANK(B31),\"-\",GenGuid())","v":"-"},null,null,"",null,null,null,null,null,null,null,null,null,null,null,null,null,null,null,null,null,null,null,null,null,null,null,null,null,null,null,null,null,null,null,null,null,null,null,null,"","","",""]
[{"$f":"IF(ISBLANK(B32),\"-\",GenGuid())","v":"-"},null,null,"",null,null,null,null,null,null,null,null,null,null,null,null,null,null,null,null,null,null,null,null,null,null,null,null,null,null,null,null,null,null,null,null,null,null,null,null,"","","",""]
[{"$f":"IF(ISBLANK(B33),\"-\",GenGuid())","v":"-"},null,null,"",null,null,null,null,null,null,null,null,null,null,null,null,null,null,null,null,null,null,null,null,null,null,null,null,null,null,null,null,null,null,null,null,null,null,null,null,"","","",""]
[{"$f":"IF(ISBLANK(B34),\"-\",GenGuid())","v":"-"},null,null,"",null,null,null,null,null,null,null,null,null,null,null,null,null,null,null,null,null,null,null,null,null,null,null,null,null,null,null,null,null,null,null,null,null,null,null,null,"","","",""]
[{"$f":"IF(ISBLANK(B35),\"-\",GenGuid())","v":"-"},null,null,"",null,null,null,null,null,null,null,null,null,null,null,null,null,null,null,null,null,null,null,null,null,null,null,null,null,null,null,null,null,null,null,null,null,null,null,null,"","","",""]
[{"$f":"IF(ISBLANK(B36),\"-\",GenGuid())","v":"-"},null,null,"",null,null,null,null,null,null,null,null,null,null,null,null,null,null,null,null,null,null,null,null,null,null,null,null,null,null,null,null,null,null,null,null,null,null,null,null,"","","",""]
[{"$f":"IF(ISBLANK(B37),\"-\",GenGuid())","v":"-"},null,null,"",null,null,null,null,null,null,null,null,null,null,null,null,null,null,null,null,null,null,null,null,null,null,null,null,null,null,null,null,null,null,null,null,null,null,null,null,"","","",""]
[{"$f":"IF(ISBLANK(B38),\"-\",GenGuid())","v":"-"},null,null,"",null,null,null,null,null,null,null,null,null,null,null,null,null,null,null,null,null,null,null,null,null,null,null,null,null,null,null,null,null,null,null,null,null,null,null,null,"","","",""]
[{"$f":"IF(ISBLANK(B39),\"-\",GenGuid())","v":"-"},null,null,"",null,null,null,null,null,null,null,null,null,null,null,null,null,null,null,null,null,null,null,null,null,null,null,null,null,null,null,null,null,null,null,null,null,null,null,null,"","","",""]
[{"$f":"IF(ISBLANK(B40),\"-\",GenGuid())","v":"-"},null,null,"",null,null,null,null,null,null,null,null,null,null,null,null,null,null,null,null,null,null,null,null,null,null,null,null,null,null,null,null,null,null,null,null,null,null,null,null,"","","",""]
[{"$f":"IF(ISBLANK(B41),\"-\",GenGuid())","v":"-"},null,null,"",null,null,null,null,null,null,null,null,null,null,null,null,null,null,null,null,null,null,null,null,null,null,null,null,null,null,null,null,null,null,null,null,null,null,null,null,"","","",""]
[{"$f":"IF(ISBLANK(B42),\"-\",GenGuid())","v":"-"},null,null,"",null,null,null,null,null,null,null,null,null,null,null,null,null,null,null,null,null,null,null,null,null,null,null,null,null,null,null,null,null,null,null,null,null,null,null,null,"","","",""]
[{"$f":"IF(ISBLANK(B43),\"-\",GenGuid())","v":"-"},null,null,"",null,null,null,null,null,null,null,null,null,null,null,null,null,null,null,null,null,null,null,null,null,null,null,null,null,null,null,null,null,null,null,null,null,null,null,null,"","","",""]
[{"$f":"IF(ISBLANK(B44),\"-\",GenGuid())","v":"-"},null,null,"",null,null,null,null,null,null,null,null,null,null,null,null,null,null,null,null,null,null,null,null,null,null,null,null,null,null,null,null,null,null,null,null,null,null,null,null,"","","",""]
[{"$f":"IF(ISBLANK(B45),\"-\",GenGuid())","v":"-"},null,null,"",null,null,null,null,null,null,null,null,null,null,null,null,null,null,null,null,null,null,null,null,null,null,null,null,null,null,null,null,null,null,null,null,null,null,null,null,"","","",""]
[{"$f":"IF(ISBLANK(B46),\"-\",GenGuid())","v":"-"},null,null,"",null,null,null,null,null,null,null,null,null,null,null,null,null,null,null,null,null,null,null,null,null,null,null,null,null,null,null,null,null,null,null,null,null,null,null,null,"","","",""]
[{"$f":"IF(ISBLANK(B47),\"-\",GenGuid())","v":"-"},null,null,"",null,null,null,null,null,null,null,null,null,null,null,null,null,null,null,null,null,null,null,null,null,null,null,null,null,null,null,null,null,null,null,null,null,null,null,null,"","","",""]
[{"$f":"IF(ISBLANK(B48),\"-\",GenGuid())","v":"-"},null,null,"",null,null,null,null,null,null,null,null,null,null,null,null,null,null,null,null,null,null,null,null,null,null,null,null,null,null,null,null,null,null,null,null,null,null,null,null,"","","",""]
[{"$f":"IF(ISBLANK(B49),\"-\",GenGuid())","v":"-"},null,null,"",null,null,null,null,null,null,null,null,null,null,null,null,null,null,null,null,null,null,null,null,null,null,null,null,null,null,null,null,null,null,null,null,null,null,null,null,"","","",""]
[{"$f":"IF(ISBLANK(B50),\"-\",GenGuid())","v":"-"},null,null,"",null,null,null,null,null,null,null,null,null,null,null,null,null,null,null,null,null,null,null,null,null,null,null,null,null,null,null,null,null,null,null,null,null,null,null,null,"","","",""]
[{"$f":"IF(ISBLANK(B51),\"-\",GenGuid())","v":"-"},null,null,"",null,null,null,null,null,null,null,null,null,null,null,null,null,null,null,null,null,null,null,null,null,null,null,null,null,null,null,null,null,null,null,null,null,null,null,null,"","","",""]
[{"$f":"IF(ISBLANK(B52),\"-\",GenGuid())","v":"-"},null,null,"",null,null,null,null,null,null,null,null,null,null,null,null,null,null,null,null,null,null,null,null,null,null,null,null,null,null,null,null,null,null,null,null,null,null,null,null,"","","",""]
[{"$f":"IF(ISBLANK(B53),\"-\",GenGuid())","v":"-"},null,null,"",null,null,null,null,null,null,null,null,null,null,null,null,null,null,null,null,null,null,null,null,null,null,null,null,null,null,null,null,null,null,null,null,null,null,null,null,"","","",""]
[{"$f":"IF(ISBLANK(B54),\"-\",GenGuid())","v":"-"},null,null,"",null,null,null,null,null,null,null,null,null,null,null,null,null,null,null,null,null,null,null,null,null,null,null,null,null,null,null,null,null,null,null,null,null,null,null,null,"","","",""]
[{"$f":"IF(ISBLANK(B55),\"-\",GenGuid())","v":"-"},null,null,"",null,null,null,null,null,null,null,null,null,null,null,null,null,null,null,null,null,null,null,null,null,null,null,null,null,null,null,null,null,null,null,null,null,null,null,null,"","","",""]
[{"$f":"IF(ISBLANK(B56),\"-\",GenGuid())","v":"-"},null,null,"",null,null,null,null,null,null,null,null,null,null,null,null,null,null,null,null,null,null,null,null,null,null,null,null,null,null,null,null,null,null,null,null,null,null,null,null,"","","",""]
[{"$f":"IF(ISBLANK(B57),\"-\",GenGuid())","v":"-"},null,null,"",null,null,null,null,null,null,null,null,null,null,null,null,null,null,null,null,null,null,null,null,null,null,null,null,null,null,null,null,null,null,null,null,null,null,null,null,"","","",""]
[{"$f":"IF(ISBLANK(B58),\"-\",GenGuid())","v":"-"},null,null,"",null,null,null,null,null,null,null,null,null,null,null,null,null,null,null,null,null,null,null,null,null,null,null,null,null,null,null,null,null,null,null,null,null,null,null,null,"","","",""]
[{"$f":"IF(ISBLANK(B59),\"-\",GenGuid())","v":"-"},null,null,"",null,null,null,null,null,null,null,null,null,null,null,null,null,null,null,null,null,null,null,null,null,null,null,null,null,null,null,null,null,null,null,null,null,null,null,null,"","","",""]
[{"$f":"IF(ISBLANK(B60),\"-\",GenGuid())","v":"-"},null,null,"",null,null,null,null,null,null,null,null,null,null,null,null,null,null,null,null,null,null,null,null,null,null,null,null,null,null,null,null,null,null,null,null,null,null,null,null,"","","",""]
[{"$f":"IF(ISBLANK(B61),\"-\",GenGuid())","v":"-"},null,null,"",null,null,null,null,null,null,null,null,null,null,null,null,null,null,null,null,null,null,null,null,null,null,null,null,null,null,null,null,null,null,null,null,null,null,null,null,"","","",""]
[{"$f":"IF(ISBLANK(B62),\"-\",GenGuid())","v":"-"},null,null,"",null,null,null,null,null,null,null,null,null,null,null,null,null,null,null,null,null,null,null,null,null,null,null,null,null,null,null,null,null,null,null,null,null,null,null,null,"","","",""]
[{"$f":"IF(ISBLANK(B63),\"-\",GenGuid())","v":"-"},null,null,"",null,null,null,null,null,null,null,null,null,null,null,null,null,null,null,null,null,null,null,null,null,null,null,null,null,null,null,null,null,null,null,null,null,null,null,null,"","","",""]
[{"$f":"IF(ISBLANK(B64),\"-\",GenGuid())","v":"-"},null,null,"",null,null,null,null,null,null,null,null,null,null,null,null,null,null,null,null,null,null,null,null,null,null,null,null,null,null,null,null,null,null,null,null,null,null,null,null,"","","",""]
[{"$f":"IF(ISBLANK(B65),\"-\",GenGuid())","v":"-"},null,null,"",null,null,null,null,null,null,null,null,null,null,null,null,null,null,null,null,null,null,null,null,null,null,null,null,null,null,null,null,null,null,null,null,null,null,null,null,"","","",""]
[{"$f":"IF(ISBLANK(B66),\"-\",GenGuid())","v":"-"},null,null,"",null,null,null,null,null,null,null,null,null,null,null,null,null,null,null,null,null,null,null,null,null,null,null,null,null,null,null,null,null,null,null,null,null,null,null,null,"","","",""]
[{"$f":"IF(ISBLANK(B67),\"-\",GenGuid())","v":"-"},null,null,"",null,null,null,null,null,null,null,null,null,null,null,null,null,null,null,null,null,null,null,null,null,null,null,null,null,null,null,null,null,null,null,null,null,null,null,null,"","","",""]
[{"$f":"IF(ISBLANK(B68),\"-\",GenGuid())","v":"-"},null,null,"",null,null,null,null,null,null,null,null,null,null,null,null,null,null,null,null,null,null,null,null,null,null,null,null,null,null,null,null,null,null,null,null,null,null,null,null,"","","",""]
[{"$f":"IF(ISBLANK(B69),\"-\",GenGuid())","v":"-"},null,null,"",null,null,null,null,null,null,null,null,null,null,null,null,null,null,null,null,null,null,null,null,null,null,null,null,null,null,null,null,null,null,null,null,null,null,null,null,"","","",""]
[{"$f":"IF(ISBLANK(B70),\"-\",GenGuid())","v":"-"},null,null,"",null,null,null,null,null,null,null,null,null,null,null,null,null,null,null,null,null,null,null,null,null,null,null,null,null,null,null,null,null,null,null,null,null,null,null,null,"","","",""]
[{"$f":"IF(ISBLANK(B71),\"-\",GenGuid())","v":"-"},null,null,{"$f":"IF(AND(LEN(D70)>0,NOT(ISBLANK(C71))),D70,\"\")","v":""},null,null,null,null,null,null,null,null,null,null,null,null,null,null,null,null,null,null,null,null,null,null,null,null,null,null,null,null,null,null,null,null,null,null,null,null,{"$f":"IF(ISBLANK(B71),\"\",AO70)","v":""},{"$f":"IF(ISBLANK(B71),\"\",TODAY())","v":""},{"$f":"IF(ISBLANK(B71),\"\",IF(LEN(AO71)=0,\"\",AO71))","v":""},{"$f":"IF(ISBLANK(B71),\"\",AP71)","v":""}]
[{"$f":"IF(ISBLANK(B72),\"-\",GenGuid())","v":"-"},null,null,"",null,null,null,null,null,null,null,null,null,null,null,null,null,null,null,null,null,null,null,null,null,null,null,null,null,null,null,null,null,null,null,null,null,null,null,null,"","","",""]
[{"$f":"IF(ISBLANK(B73),\"-\",GenGuid())","v":"-"},null,null,"",null,null,null,null,null,null,null,null,null,null,null,null,null,null,null,null,null,null,null,null,null,null,null,null,null,null,null,null,null,null,null,null,null,null,null,null,"","","",""]
[{"$f":"IF(ISBLANK(B74),\"-\",GenGuid())","v":"-"},null,null,"",null,null,null,null,null,null,null,null,null,null,null,null,null,null,null,null,null,null,null,null,null,null,null,null,null,null,null,null,null,null,null,null,null,null,null,null,"","","",""]
[{"$f":"IF(ISBLANK(B75),\"-\",GenGuid())","v":"-"},null,null,"",null,null,null,null,null,null,null,null,null,null,null,null,null,null,null,null,null,null,null,null,null,null,null,null,null,null,null,null,null,null,null,null,null,null,null,null,"","","",""]
[{"$f":"IF(ISBLANK(B76),\"-\",GenGuid())","v":"-"},null,null,"",null,null,null,null,null,null,null,null,null,null,null,null,null,null,null,null,null,null,null,null,null,null,null,null,null,null,null,null,null,null,null,null,null,null,null,null,"","","",""]
[{"$f":"IF(ISBLANK(B77),\"-\",GenGuid())","v":"-"},null,null,"",null,null,null,null,null,null,null,null,null,null,null,null,null,null,null,null,null,null,null,null,null,null,null,null,null,null,null,null,null,null,null,null,null,null,null,null,"","","",""]
[{"$f":"IF(ISBLANK(B78),\"-\",GenGuid())","v":"-"},null,null,"",null,null,null,null,null,null,null,null,null,null,null,null,null,null,null,null,null,null,null,null,null,null,null,null,null,null,null,null,null,null,null,null,null,null,null,null,"","","",""]
[{"$f":"IF(ISBLANK(B79),\"-\",GenGuid())","v":"-"},null,null,"",null,null,null,null,null,null,null,null,null,null,null,null,null,null,null,null,null,null,null,null,null,null,null,null,null,null,null,null,null,null,null,null,null,null,null,null,"","","",""]
[{"$f":"IF(ISBLANK(B80),\"-\",GenGuid())","v":"-"},null,null,"",null,null,null,null,null,null,null,null,null,null,null,null,null,null,null,null,null,null,null,null,null,null,null,null,null,null,null,null,null,null,null,null,null,null,null,null,"","","",""]
[{"$f":"IF(ISBLANK(B81),\"-\",GenGuid())","v":"-"},null,null,"",null,null,null,null,null,null,null,null,null,null,null,null,null,null,null,null,null,null,null,null,null,null,null,null,null,null,null,null,null,null,null,null,null,null,null,null,"","","",""]
[{"$f":"IF(ISBLANK(B82),\"-\",GenGuid())","v":"-"},null,null,"",null,null,null,null,null,null,null,null,null,null,null,null,null,null,null,null,null,null,null,null,null,null,null,null,null,null,null,null,null,null,null,null,null,null,null,null,"","","",""]
[{"$f":"IF(ISBLANK(B83),\"-\",GenGuid())","v":"-"},null,null,"",null,null,null,null,null,null,null,null,null,null,null,null,null,null,null,null,null,null,null,null,null,null,null,null,null,null,null,null,null,null,null,null,null,null,null,null,"","","",""]
[{"$f":"IF(ISBLANK(B84),\"-\",GenGuid())","v":"-"},null,null,"",null,null,null,null,null,null,null,null,null,null,null,null,null,null,null,null,null,null,null,null,null,null,null,null,null,null,null,null,null,null,null,null,null,null,null,null,"","","",""]
[{"$f":"IF(ISBLANK(B85),\"-\",GenGuid())","v":"-"},null,null,"",null,null,null,null,null,null,null,null,null,null,null,null,null,null,null,null,null,null,null,null,null,null,null,null,null,null,null,null,null,null,null,null,null,null,null,null,"","","",""]
[{"$f":"IF(ISBLANK(B86),\"-\",GenGuid())","v":"-"},null,null,"",null,null,null,null,null,null,null,null,null,null,null,null,null,null,null,null,null,null,null,null,null,null,null,null,null,null,null,null,null,null,null,null,null,null,null,null,"","","",""]
[{"$f":"IF(ISBLANK(B87),\"-\",GenGuid())","v":"-"},null,null,"",null,null,null,null,null,null,null,null,null,null,null,null,null,null,null,null,null,null,null,null,null,null,null,null,null,null,null,null,null,null,null,null,null,null,null,null,"","","",""]
[{"$f":"IF(ISBLANK(B88),\"-\",GenGuid())","v":"-"},null,null,"",null,null,null,null,null,null,null,null,null,null,null,null,null,null,null,null,null,null,null,null,null,null,null,null,null,null,null,null,null,null,null,null,null,null,null,null,"","","",""]
[{"$f":"IF(ISBLANK(B89),\"-\",GenGuid())","v":"-"},null,null,"",null,null,null,null,null,null,null,null,null,null,null,null,null,null,null,null,null,null,null,null,null,null,null,null,null,null,null,null,null,null,null,null,null,null,null,null,"","","",""]
[{"$f":"IF(ISBLANK(B90),\"-\",GenGuid())","v":"-"},null,null,"",null,null,null,null,null,null,null,null,null,null,null,null,null,null,null,null,null,null,null,null,null,null,null,null,null,null,null,null,null,null,null,null,null,null,null,null,"","","",""]
[{"$f":"IF(ISBLANK(B91),\"-\",GenGuid())","v":"-"},null,null,"",null,null,null,null,null,null,null,null,null,null,null,null,null,null,null,null,null,null,null,null,null,null,null,null,null,null,null,null,null,null,null,null,null,null,null,null,"","","",""]
[{"$f":"IF(ISBLANK(B92),\"-\",GenGuid())","v":"-"},null,null,"",null,null,null,null,null,null,null,null,null,null,null,null,null,null,null,null,null,null,null,null,null,null,null,null,null,null,null,null,null,null,null,null,null,null,null,null,"","","",""]
[{"$f":"IF(ISBLANK(B93),\"-\",GenGuid())","v":"-"},null,null,"",null,null,null,null,null,null,null,null,null,null,null,null,null,null,null,null,null,null,null,null,null,null,null,null,null,null,null,null,null,null,null,null,null,null,null,null,"","","",""]
[{"$f":"IF(ISBLANK(B94),\"-\",GenGuid())","v":"-"},null,null,"",null,null,null,null,null,null,null,null,null,null,null,null,null,null,null,null,null,null,null,null,null,null,null,null,null,null,null,null,null,null,null,null,null,null,null,null,"","","",""]
[{"$f":"IF(ISBLANK(B95),\"-\",GenGuid())","v":"-"},null,null,"",null,null,null,null,null,null,null,null,null,null,null,null,null,null,null,null,null,null,null,null,null,null,null,null,null,null,null,null,null,null,null,null,null,null,null,null,"","","",""]
[{"$f":"IF(ISBLANK(B96),\"-\",GenGuid())","v":"-"},null,null,"",null,null,null,null,null,null,null,null,null,null,null,null,null,null,null,null,null,null,null,null,null,null,null,null,null,null,null,null,null,null,null,null,null,null,null,null,"","","",""]
[{"$f":"IF(ISBLANK(B97),\"-\",GenGuid())","v":"-"},null,null,"",null,null,null,null,null,null,null,null,null,null,null,null,null,null,null,null,null,null,null,null,null,null,null,null,null,null,null,null,null,null,null,null,null,null,null,null,"","","",""]
[{"$f":"IF(ISBLANK(B98),\"-\",GenGuid())","v":"-"},null,null,"",null,null,null,null,null,null,null,null,null,null,null,null,null,null,null,null,null,null,null,null,null,null,null,null,null,null,null,null,null,null,null,null,null,null,null,null,"","","",""]
[{"$f":"IF(ISBLANK(B99),\"-\",GenGuid())","v":"-"},null,null,"",null,null,null,null,null,null,null,null,null,null,null,null,null,null,null,null,null,null,null,null,null,null,null,null,null,null,null,null,null,null,null,null,null,null,null,null,"","","",""]
[{"$f":"IF(ISBLANK(B100),\"-\",GenGuid())","v":"-"},null,null,"",null,null,null,null,null,null,null,null,null,null,null,null,null,null,null,null,null,null,null,null,null,null,null,null,null,null,null,null,null,null,null,null,null,null,null,null,"","","",""]
[{"$f":"IF(ISBLANK(B101),\"-\",GenGuid())","v":"-"},null,null,"",null,null,null,null,null,null,null,null,null,null,null,null,null,null,null,null,null,null,null,null,null,null,null,null,null,null,null,null,null,null,null,null,null,null,null,null,"","","",""]
[{"$f":"IF(ISBLANK(B102),\"-\",GenGuid())","v":"-"},null,null,"",null,null,null,null,null,null,null,null,null,null,null,null,null,null,null,null,null,null,null,null,null,null,null,null,null,null,null,null,null,null,null,null,null,null,null,null,"","","",""]
[{"$f":"IF(ISBLANK(B103),\"-\",GenGuid())","v":"-"},null,null,"",null,null,null,null,null,null,null,null,null,null,null,null,null,null,null,null,null,null,null,null,null,null,null,null,null,null,null,null,null,null,null,null,null,null,null,null,"","","",""]
[{"$f":"IF(ISBLANK(B104),\"-\",GenGuid())","v":"-"},null,null,"",null,null,null,null,null,null,null,null,null,null,null,null,null,null,null,null,null,null,null,null,null,null,null,null,null,null,null,null,null,null,null,null,null,null,null,null,"","","",""]
[{"$f":"IF(ISBLANK(B105),\"-\",GenGuid())","v":"-"},null,null,"",null,null,null,null,null,null,null,null,null,null,null,null,null,null,null,null,null,null,null,null,null,null,null,null,null,null,null,null,null,null,null,null,null,null,null,null,"","","",""]
[{"$f":"IF(ISBLANK(B106),\"-\",GenGuid())","v":"-"},null,null,"",null,null,null,null,null,null,null,null,null,null,null,null,null,null,null,null,null,null,null,null,null,null,null,null,null,null,null,null,null,null,null,null,null,null,null,null,"","","",""]
[{"$f":"IF(ISBLANK(B107),\"-\",GenGuid())","v":"-"},null,null,"",null,null,null,null,null,null,null,null,null,null,null,null,null,null,null,null,null,null,null,null,null,null,null,null,null,null,null,null,null,null,null,null,null,null,null,null,"","","",""]
[{"$f":"IF(ISBLANK(B108),\"-\",GenGuid())","v":"-"},null,null,"",null,null,null,null,null,null,null,null,null,null,null,null,null,null,null,null,null,null,null,null,null,null,null,null,null,null,null,null,null,null,null,null,null,null,null,null,"","","",""]
[{"$f":"IF(ISBLANK(B109),\"-\",GenGuid())","v":"-"},null,null,"",null,null,null,null,null,null,null,null,null,null,null,null,null,null,null,null,null,null,null,null,null,null,null,null,null,null,null,null,null,null,null,null,null,null,null,null,"","","",""]
[{"$f":"IF(ISBLANK(B110),\"-\",GenGuid())","v":"-"},null,null,"",null,null,null,null,null,null,null,null,null,null,null,null,null,null,null,null,null,null,null,null,null,null,null,null,null,null,null,null,null,null,null,null,null,null,null,null,"","","",""]
[{"$f":"IF(ISBLANK(B111),\"-\",GenGuid())","v":"-"},null,null,"",null,null,null,null,null,null,null,null,null,null,null,null,null,null,null,null,null,null,null,null,null,null,null,null,null,null,null,null,null,null,null,null,null,null,null,null,"","","",""]
[{"$f":"IF(ISBLANK(B112),\"-\",GenGuid())","v":"-"},null,null,"",null,null,null,null,null,null,null,null,null,null,null,null,null,null,null,null,null,null,null,null,null,null,null,null,null,null,null,null,null,null,null,null,null,null,null,null,"","","",""]
[{"$f":"IF(ISBLANK(B113),\"-\",GenGuid())","v":"-"},null,null,"",null,null,null,null,null,null,null,null,null,null,null,null,null,null,null,null,null,null,null,null,null,null,null,null,null,null,null,null,null,null,null,null,null,null,null,null,"","","",""]
[{"$f":"IF(ISBLANK(B114),\"-\",GenGuid())","v":"-"},null,null,"",null,null,null,null,null,null,null,null,null,null,null,null,null,null,null,null,null,null,null,null,null,null,null,null,null,null,null,null,null,null,null,null,null,null,null,null,"","","",""]
[{"$f":"IF(ISBLANK(B115),\"-\",GenGuid())","v":"-"},null,null,"",null,null,null,null,null,null,null,null,null,null,null,null,null,null,null,null,null,null,null,null,null,null,null,null,null,null,null,null,null,null,null,null,null,null,null,null,"","","",""]
[{"$f":"IF(ISBLANK(B116),\"-\",GenGuid())","v":"-"},null,null,"",null,null,null,null,null,null,null,null,null,null,null,null,null,null,null,null,null,null,null,null,null,null,null,null,null,null,null,null,null,null,null,null,null,null,null,null,"","","",""]
[{"$f":"IF(ISBLANK(B117),\"-\",GenGuid())","v":"-"},null,null,"",null,null,null,null,null,null,null,null,null,null,null,null,null,null,null,null,null,null,null,null,null,null,null,null,null,null,null,null,null,null,null,null,null,null,null,null,"","","",""]
[{"$f":"IF(ISBLANK(B118),\"-\",GenGuid())","v":"-"},null,null,"",null,null,null,null,null,null,null,null,null,null,null,null,null,null,null,null,null,null,null,null,null,null,null,null,null,null,null,null,null,null,null,null,null,null,null,null,"","","",""]
[{"$f":"IF(ISBLANK(B119),\"-\",GenGuid())","v":"-"},null,null,"",null,null,null,null,null,null,null,null,null,null,null,null,null,null,null,null,null,null,null,null,null,null,null,null,null,null,null,null,null,null,null,null,null,null,null,null,"","","",""]
[{"$f":"IF(ISBLANK(B120),\"-\",GenGuid())","v":"-"},null,null,"",null,null,null,null,null,null,null,null,null,null,null,null,null,null,null,null,null,null,null,null,null,null,null,null,null,null,null,null,null,null,null,null,null,null,null,null,"","","",""]
[{"$f":"IF(ISBLANK(B121),\"-\",GenGuid())","v":"-"},null,null,"",null,null,null,null,null,null,null,null,null,null,null,null,null,null,null,null,null,null,null,null,null,null,null,null,null,null,null,null,null,null,null,null,null,null,null,null,"","","",""]
[{"$f":"IF(ISBLANK(B122),\"-\",GenGuid())","v":"-"},null,null,"",null,null,null,null,null,null,null,null,null,null,null,null,null,null,null,null,null,null,null,null,null,null,null,null,null,null,null,null,null,null,null,null,null,null,null,null,"","","",""]
[{"$f":"IF(ISBLANK(B123),\"-\",GenGuid())","v":"-"},null,null,"",null,null,null,null,null,null,null,null,null,null,null,null,null,null,null,null,null,null,null,null,null,null,null,null,null,null,null,null,null,null,null,null,null,null,null,null,"","","",""]
[{"$f":"IF(ISBLANK(B124),\"-\",GenGuid())","v":"-"},null,null,"",null,null,null,null,null,null,null,null,null,null,null,null,null,null,null,null,null,null,null,null,null,null,null,null,null,null,null,null,null,null,null,null,null,null,null,null,"","","",""]
[{"$f":"IF(ISBLANK(B125),\"-\",GenGuid())","v":"-"},null,null,"",null,null,null,null,null,null,null,null,null,null,null,null,null,null,null,null,null,null,null,null,null,null,null,null,null,null,null,null,null,null,null,null,null,null,null,null,"","","",""]
[{"$f":"IF(ISBLANK(B126),\"-\",GenGuid())","v":"-"},null,null,"",null,null,null,null,null,null,null,null,null,null,null,null,null,null,null,null,null,null,null,null,null,null,null,null,null,null,null,null,null,null,null,null,null,null,null,null,"","","",""]
[{"$f":"IF(ISBLANK(B127),\"-\",GenGuid())","v":"-"},null,null,"",null,null,null,null,null,null,null,null,null,null,null,null,null,null,null,null,null,null,null,null,null,null,null,null,null,null,null,null,null,null,null,null,null,null,null,null,"","","",""]
[{"$f":"IF(ISBLANK(B128),\"-\",GenGuid())","v":"-"},null,null,"",null,null,null,null,null,null,null,null,null,null,null,null,null,null,null,null,null,null,null,null,null,null,null,null,null,null,null,null,null,null,null,null,null,null,null,null,"","","",""]
[{"$f":"IF(ISBLANK(B129),\"-\",GenGuid())","v":"-"},null,null,"",null,null,null,null,null,null,null,null,null,null,null,null,null,null,null,null,null,null,null,null,null,null,null,null,null,null,null,null,null,null,null,null,null,null,null,null,"","","",""]
[{"$f":"IF(ISBLANK(B130),\"-\",GenGuid())","v":"-"},null,null,"",null,null,null,null,null,null,null,null,null,null,null,null,null,null,null,null,null,null,null,null,null,null,null,null,null,null,null,null,null,null,null,null,null,null,null,null,"","","",""]
[{"$f":"IF(ISBLANK(B131),\"-\",GenGuid())","v":"-"},null,null,"",null,null,null,null,null,null,null,null,null,null,null,null,null,null,null,null,null,null,null,null,null,null,null,null,null,null,null,null,null,null,null,null,null,null,null,null,"","","",""]
[{"$f":"IF(ISBLANK(B132),\"-\",GenGuid())","v":"-"},null,null,"",null,null,null,null,null,null,null,null,null,null,null,null,null,null,null,null,null,null,null,null,null,null,null,null,null,null,null,null,null,null,null,null,null,null,null,null,"","","",""]
[{"$f":"IF(ISBLANK(B133),\"-\",GenGuid())","v":"-"},null,null,"",null,null,null,null,null,null,null,null,null,null,null,null,null,null,null,null,null,null,null,null,null,null,null,null,null,null,null,null,null,null,null,null,null,null,null,null,"","","",""]
[{"$f":"IF(ISBLANK(B134),\"-\",GenGuid())","v":"-"},null,null,"",null,null,null,null,null,null,null,null,null,null,null,null,null,null,null,null,null,null,null,null,null,null,null,null,null,null,null,null,null,null,null,null,null,null,null,null,"","","",""]
[{"$f":"IF(ISBLANK(B135),\"-\",GenGuid())","v":"-"},null,null,{"$f":"IF(AND(LEN(D134)>0,NOT(ISBLANK(C135))),D134,\"\")","v":""},null,null,null,null,null,null,null,null,null,null,null,null,null,null,null,null,null,null,null,null,null,null,null,null,null,null,null,null,null,null,null,null,null,null,null,null,{"$f":"IF(ISBLANK(B135),\"\",AO134)","v":""},{"$f":"IF(ISBLANK(B135),\"\",TODAY())","v":""},{"$f":"IF(ISBLANK(B135),\"\",IF(LEN(AO135)=0,\"\",AO135))","v":""},{"$f":"IF(ISBLANK(B135),\"\",AP135)","v":""}]
[{"$f":"IF(ISBLANK(B136),\"-\",GenGuid())","v":"-"},null,null,"",null,null,null,null,null,null,null,null,null,null,null,null,null,null,null,null,null,null,null,null,null,null,null,null,null,null,null,null,null,null,null,null,null,null,null,null,"","","",""]
[{"$f":"IF(ISBLANK(B137),\"-\",GenGuid())","v":"-"},null,null,"",null,null,null,null,null,null,null,null,null,null,null,null,null,null,null,null,null,null,null,null,null,null,null,null,null,null,null,null,null,null,null,null,null,null,null,null,"","","",""]
[{"$f":"IF(ISBLANK(B138),\"-\",GenGuid())","v":"-"},null,null,"",null,null,null,null,null,null,null,null,null,null,null,null,null,null,null,null,null,null,null,null,null,null,null,null,null,null,null,null,null,null,null,null,null,null,null,null,"","","",""]
[{"$f":"IF(ISBLANK(B139),\"-\",GenGuid())","v":"-"},null,null,"",null,null,null,null,null,null,null,null,null,null,null,null,null,null,null,null,null,null,null,null,null,null,null,null,null,null,null,null,null,null,null,null,null,null,null,null,"","","",""]
[{"$f":"IF(ISBLANK(B140),\"-\",GenGuid())","v":"-"},null,null,"",null,null,null,null,null,null,null,null,null,null,null,null,null,null,null,null,null,null,null,null,null,null,null,null,null,null,null,null,null,null,null,null,null,null,null,null,"","","",""]
[{"$f":"IF(ISBLANK(B141),\"-\",GenGuid())","v":"-"},null,null,"",null,null,null,null,null,null,null,null,null,null,null,null,null,null,null,null,null,null,null,null,null,null,null,null,null,null,null,null,null,null,null,null,null,null,null,null,"","","",""]
[{"$f":"IF(ISBLANK(B142),\"-\",GenGuid())","v":"-"},null,null,"",null,null,null,null,null,null,null,null,null,null,null,null,null,null,null,null,null,null,null,null,null,null,null,null,null,null,null,null,null,null,null,null,null,null,null,null,"","","",""]
[{"$f":"IF(ISBLANK(B143),\"-\",GenGuid())","v":"-"},null,null,"",null,null,null,null,null,null,null,null,null,null,null,null,null,null,null,null,null,null,null,null,null,null,null,null,null,null,null,null,null,null,null,null,null,null,null,null,"","","",""]
[{"$f":"IF(ISBLANK(B144),\"-\",GenGuid())","v":"-"},null,null,"",null,null,null,null,null,null,null,null,null,null,null,null,null,null,null,null,null,null,null,null,null,null,null,null,null,null,null,null,null,null,null,null,null,null,null,null,"","","",""]
[{"$f":"IF(ISBLANK(B145),\"-\",GenGuid())","v":"-"},null,null,"",null,null,null,null,null,null,null,null,null,null,null,null,null,null,null,null,null,null,null,null,null,null,null,null,null,null,null,null,null,null,null,null,null,null,null,null,"","","",""]
[{"$f":"IF(ISBLANK(B146),\"-\",GenGuid())","v":"-"},null,null,"",null,null,null,null,null,null,null,null,null,null,null,null,null,null,null,null,null,null,null,null,null,null,null,null,null,null,null,null,null,null,null,null,null,null,null,null,"","","",""]
[{"$f":"IF(ISBLANK(B147),\"-\",GenGuid())","v":"-"},null,null,"",null,null,null,null,null,null,null,null,null,null,null,null,null,null,null,null,null,null,null,null,null,null,null,null,null,null,null,null,null,null,null,null,null,null,null,null,"","","",""]
[{"$f":"IF(ISBLANK(B148),\"-\",GenGuid())","v":"-"},null,null,"",null,null,null,null,null,null,null,null,null,null,null,null,null,null,null,null,null,null,null,null,null,null,null,null,null,null,null,null,null,null,null,null,null,null,null,null,"","","",""]
[{"$f":"IF(ISBLANK(B149),\"-\",GenGuid())","v":"-"},null,null,"",null,null,null,null,null,null,null,null,null,null,null,null,null,null,null,null,null,null,null,null,null,null,null,null,null,null,null,null,null,null,null,null,null,null,null,null,"","","",""]
[{"$f":"IF(ISBLANK(B150),\"-\",GenGuid())","v":"-"},null,null,"",null,null,null,null,null,null,null,null,null,null,null,null,null,null,null,null,null,null,null,null,null,null,null,null,null,null,null,null,null,null,null,null,null,null,null,null,"","","",""]
[{"$f":"IF(ISBLANK(B151),\"-\",GenGuid())","v":"-"},null,null,"",null,null,null,null,null,null,null,null,null,null,null,null,null,null,null,null,null,null,null,null,null,null,null,null,null,null,null,null,null,null,null,null,null,null,null,null,"","","",""]
[{"$f":"IF(ISBLANK(B152),\"-\",GenGuid())","v":"-"},null,null,"",null,null,null,null,null,null,null,null,null,null,null,null,null,null,null,null,null,null,null,null,null,null,null,null,null,null,null,null,null,null,null,null,null,null,null,null,"","","",""]
[{"$f":"IF(ISBLANK(B153),\"-\",GenGuid())","v":"-"},null,null,"",null,null,null,null,null,null,null,null,null,null,null,null,null,null,null,null,null,null,null,null,null,null,null,null,null,null,null,null,null,null,null,null,null,null,null,null,"","","",""]
[{"$f":"IF(ISBLANK(B154),\"-\",GenGuid())","v":"-"},null,null,"",null,null,null,null,null,null,null,null,null,null,null,null,null,null,null,null,null,null,null,null,null,null,null,null,null,null,null,null,null,null,null,null,null,null,null,null,"","","",""]
[{"$f":"IF(ISBLANK(B155),\"-\",GenGuid())","v":"-"},null,null,"",null,null,null,null,null,null,null,null,null,null,null,null,null,null,null,null,null,null,null,null,null,null,null,null,null,null,null,null,null,null,null,null,null,null,null,null,"","","",""]
[{"$f":"IF(ISBLANK(B156),\"-\",GenGuid())","v":"-"},null,null,"",null,null,null,null,null,null,null,null,null,null,null,null,null,null,null,null,null,null,null,null,null,null,null,null,null,null,null,null,null,null,null,null,null,null,null,null,"","","",""]
[{"$f":"IF(ISBLANK(B157),\"-\",GenGuid())","v":"-"},null,null,"",null,null,null,null,null,null,null,null,null,null,null,null,null,null,null,null,null,null,null,null,null,null,null,null,null,null,null,null,null,null,null,null,null,null,null,null,"","","",""]
[{"$f":"IF(ISBLANK(B158),\"-\",GenGuid())","v":"-"},null,null,"",null,null,null,null,null,null,null,null,null,null,null,null,null,null,null,null,null,null,null,null,null,null,null,null,null,null,null,null,null,null,null,null,null,null,null,null,"","","",""]
[{"$f":"IF(ISBLANK(B159),\"-\",GenGuid())","v":"-"},null,null,"",null,null,null,null,null,null,null,null,null,null,null,null,null,null,null,null,null,null,null,null,null,null,null,null,null,null,null,null,null,null,null,null,null,null,null,null,"","","",""]
[{"$f":"IF(ISBLANK(B160),\"-\",GenGuid())","v":"-"},null,null,"",null,null,null,null,null,null,null,null,null,null,null,null,null,null,null,null,null,null,null,null,null,null,null,null,null,null,null,null,null,null,null,null,null,null,null,null,"","","",""]
[{"$f":"IF(ISBLANK(B161),\"-\",GenGuid())","v":"-"},null,null,"",null,null,null,null,null,null,null,null,null,null,null,null,null,null,null,null,null,null,null,null,null,null,null,null,null,null,null,null,null,null,null,null,null,null,null,null,"","","",""]
[{"$f":"IF(ISBLANK(B162),\"-\",GenGuid())","v":"-"},null,null,"",null,null,null,null,null,null,null,null,null,null,null,null,null,null,null,null,null,null,null,null,null,null,null,null,null,null,null,null,null,null,null,null,null,null,null,null,"","","",""]
[{"$f":"IF(ISBLANK(B163),\"-\",GenGuid())","v":"-"},null,null,"",null,null,null,null,null,null,null,null,null,null,null,null,null,null,null,null,null,null,null,null,null,null,null,null,null,null,null,null,null,null,null,null,null,null,null,null,"","","",""]
[{"$f":"IF(ISBLANK(B164),\"-\",GenGuid())","v":"-"},null,null,"",null,null,null,null,null,null,null,null,null,null,null,null,null,null,null,null,null,null,null,null,null,null,null,null,null,null,null,null,null,null,null,null,null,null,null,null,"","","",""]
[{"$f":"IF(ISBLANK(B165),\"-\",GenGuid())","v":"-"},null,null,"",null,null,null,null,null,null,null,null,null,null,null,null,null,null,null,null,null,null,null,null,null,null,null,null,null,null,null,null,null,null,null,null,null,null,null,null,"","","",""]
[{"$f":"IF(ISBLANK(B166),\"-\",GenGuid())","v":"-"},null,null,"",null,null,null,null,null,null,null,null,null,null,null,null,null,null,null,null,null,null,null,null,null,null,null,null,null,null,null,null,null,null,null,null,null,null,null,null,"","","",""]
[{"$f":"IF(ISBLANK(B167),\"-\",GenGuid())","v":"-"},null,null,"",null,null,null,null,null,null,null,null,null,null,null,null,null,null,null,null,null,null,null,null,null,null,null,null,null,null,null,null,null,null,null,null,null,null,null,null,"","","",""]
[{"$f":"IF(ISBLANK(B168),\"-\",GenGuid())","v":"-"},null,null,"",null,null,null,null,null,null,null,null,null,null,null,null,null,null,null,null,null,null,null,null,null,null,null,null,null,null,null,null,null,null,null,null,null,null,null,null,"","","",""]
[{"$f":"IF(ISBLANK(B169),\"-\",GenGuid())","v":"-"},null,null,"",null,null,null,null,null,null,null,null,null,null,null,null,null,null,null,null,null,null,null,null,null,null,null,null,null,null,null,null,null,null,null,null,null,null,null,null,"","","",""]
[{"$f":"IF(ISBLANK(B170),\"-\",GenGuid())","v":"-"},null,null,"",null,null,null,null,null,null,null,null,null,null,null,null,null,null,null,null,null,null,null,null,null,null,null,null,null,null,null,null,null,null,null,null,null,null,null,null,"","","",""]
[{"$f":"IF(ISBLANK(B171),\"-\",GenGuid())","v":"-"},null,null,"",null,null,null,null,null,null,null,null,null,null,null,null,null,null,null,null,null,null,null,null,null,null,null,null,null,null,null,null,null,null,null,null,null,null,null,null,"","","",""]
[{"$f":"IF(ISBLANK(B172),\"-\",GenGuid())","v":"-"},null,null,"",null,null,null,null,null,null,null,null,null,null,null,null,null,null,null,null,null,null,null,null,null,null,null,null,null,null,null,null,null,null,null,null,null,null,null,null,"","","",""]
[{"$f":"IF(ISBLANK(B173),\"-\",GenGuid())","v":"-"},null,null,"",null,null,null,null,null,null,null,null,null,null,null,null,null,null,null,null,null,null,null,null,null,null,null,null,null,null,null,null,null,null,null,null,null,null,null,null,"","","",""]
[{"$f":"IF(ISBLANK(B174),\"-\",GenGuid())","v":"-"},null,null,"",null,null,null,null,null,null,null,null,null,null,null,null,null,null,null,null,null,null,null,null,null,null,null,null,null,null,null,null,null,null,null,null,null,null,null,null,"","","",""]
[{"$f":"IF(ISBLANK(B175),\"-\",GenGuid())","v":"-"},null,null,"",null,null,null,null,null,null,null,null,null,null,null,null,null,null,null,null,null,null,null,null,null,null,null,null,null,null,null,null,null,null,null,null,null,null,null,null,"","","",""]
[{"$f":"IF(ISBLANK(B176),\"-\",GenGuid())","v":"-"},null,null,"",null,null,null,null,null,null,null,null,null,null,null,null,null,null,null,null,null,null,null,null,null,null,null,null,null,null,null,null,null,null,null,null,null,null,null,null,"","","",""]
[{"$f":"IF(ISBLANK(B177),\"-\",GenGuid())","v":"-"},null,null,"",null,null,null,null,null,null,null,null,null,null,null,null,null,null,null,null,null,null,null,null,null,null,null,null,null,null,null,null,null,null,null,null,null,null,null,null,"","","",""]
[{"$f":"IF(ISBLANK(B178),\"-\",GenGuid())","v":"-"},null,null,"",null,null,null,null,null,null,null,null,null,null,null,null,null,null,null,null,null,null,null,null,null,null,null,null,null,null,null,null,null,null,null,null,null,null,null,null,"","","",""]
[{"$f":"IF(ISBLANK(B179),\"-\",GenGuid())","v":"-"},null,null,"",null,null,null,null,null,null,null,null,null,null,null,null,null,null,null,null,null,null,null,null,null,null,null,null,null,null,null,null,null,null,null,null,null,null,null,null,"","","",""]
[{"$f":"IF(ISBLANK(B180),\"-\",GenGuid())","v":"-"},null,null,"",null,null,null,null,null,null,null,null,null,null,null,null,null,null,null,null,null,null,null,null,null,null,null,null,null,null,null,null,null,null,null,null,null,null,null,null,"","","",""]
[{"$f":"IF(ISBLANK(B181),\"-\",GenGuid())","v":"-"},null,null,"",null,null,null,null,null,null,null,null,null,null,null,null,null,null,null,null,null,null,null,null,null,null,null,null,null,null,null,null,null,null,null,null,null,null,null,null,"","","",""]
[{"$f":"IF(ISBLANK(B182),\"-\",GenGuid())","v":"-"},null,null,"",null,null,null,null,null,null,null,null,null,null,null,null,null,null,null,null,null,null,null,null,null,null,null,null,null,null,null,null,null,null,null,null,null,null,null,null,"","","",""]
[{"$f":"IF(ISBLANK(B183),\"-\",GenGuid())","v":"-"},null,null,"",null,null,null,null,null,null,null,null,null,null,null,null,null,null,null,null,null,null,null,null,null,null,null,null,null,null,null,null,null,null,null,null,null,null,null,null,"","","",""]
[{"$f":"IF(ISBLANK(B184),\"-\",GenGuid())","v":"-"},null,null,"",null,null,null,null,null,null,null,null,null,null,null,null,null,null,null,null,null,null,null,null,null,null,null,null,null,null,null,null,null,null,null,null,null,null,null,null,"","","",""]
[{"$f":"IF(ISBLANK(B185),\"-\",GenGuid())","v":"-"},null,null,"",null,null,null,null,null,null,null,null,null,null,null,null,null,null,null,null,null,null,null,null,null,null,null,null,null,null,null,null,null,null,null,null,null,null,null,null,"","","",""]
[{"$f":"IF(ISBLANK(B186),\"-\",GenGuid())","v":"-"},null,null,"",null,null,null,null,null,null,null,null,null,null,null,null,null,null,null,null,null,null,null,null,null,null,null,null,null,null,null,null,null,null,null,null,null,null,null,null,"","","",""]
[{"$f":"IF(ISBLANK(B187),\"-\",GenGuid())","v":"-"},null,null,"",null,null,null,null,null,null,null,null,null,null,null,null,null,null,null,null,null,null,null,null,null,null,null,null,null,null,null,null,null,null,null,null,null,null,null,null,"","","",""]
[{"$f":"IF(ISBLANK(B188),\"-\",GenGuid())","v":"-"},null,null,"",null,null,null,null,null,null,null,null,null,null,null,null,null,null,null,null,null,null,null,null,null,null,null,null,null,null,null,null,null,null,null,null,null,null,null,null,"","","",""]
[{"$f":"IF(ISBLANK(B189),\"-\",GenGuid())","v":"-"},null,null,"",null,null,null,null,null,null,null,null,null,null,null,null,null,null,null,null,null,null,null,null,null,null,null,null,null,null,null,null,null,null,null,null,null,null,null,null,"","","",""]
[{"$f":"IF(ISBLANK(B190),\"-\",GenGuid())","v":"-"},null,null,"",null,null,null,null,null,null,null,null,null,null,null,null,null,null,null,null,null,null,null,null,null,null,null,null,null,null,null,null,null,null,null,null,null,null,null,null,"","","",""]
[{"$f":"IF(ISBLANK(B191),\"-\",GenGuid())","v":"-"},null,null,"",null,null,null,null,null,null,null,null,null,null,null,null,null,null,null,null,null,null,null,null,null,null,null,null,null,null,null,null,null,null,null,null,null,null,null,null,"","","",""]
[{"$f":"IF(ISBLANK(B192),\"-\",GenGuid())","v":"-"},null,null,"",null,null,null,null,null,null,null,null,null,null,null,null,null,null,null,null,null,null,null,null,null,null,null,null,null,null,null,null,null,null,null,null,null,null,null,null,"","","",""]
[{"$f":"IF(ISBLANK(B193),\"-\",GenGuid())","v":"-"},null,null,"",null,null,null,null,null,null,null,null,null,null,null,null,null,null,null,null,null,null,null,null,null,null,null,null,null,null,null,null,null,null,null,null,null,null,null,null,"","","",""]
[{"$f":"IF(ISBLANK(B194),\"-\",GenGuid())","v":"-"},null,null,"",null,null,null,null,null,null,null,null,null,null,null,null,null,null,null,null,null,null,null,null,null,null,null,null,null,null,null,null,null,null,null,null,null,null,null,null,"","","",""]
[{"$f":"IF(ISBLANK(B195),\"-\",GenGuid())","v":"-"},null,null,"",null,null,null,null,null,null,null,null,null,null,null,null,null,null,null,null,null,null,null,null,null,null,null,null,null,null,null,null,null,null,null,null,null,null,null,null,"","","",""]
[{"$f":"IF(ISBLANK(B196),\"-\",GenGuid())","v":"-"},null,null,"",null,null,null,null,null,null,null,null,null,null,null,null,null,null,null,null,null,null,null,null,null,null,null,null,null,null,null,null,null,null,null,null,null,null,null,null,"","","",""]
[{"$f":"IF(ISBLANK(B197),\"-\",GenGuid())","v":"-"},null,null,"",null,null,null,null,null,null,null,null,null,null,null,null,null,null,null,null,null,null,null,null,null,null,null,null,null,null,null,null,null,null,null,null,null,null,null,null,"","","",""]
[{"$f":"IF(ISBLANK(B198),\"-\",GenGuid())","v":"-"},null,null,"",null,null,null,null,null,null,null,null,null,null,null,null,null,null,null,null,null,null,null,null,null,null,null,null,null,null,null,null,null,null,null,null,null,null,null,null,"","","",""]
[{"$f":"IF(ISBLANK(B199),\"-\",GenGuid())","v":"-"},null,null,{"$f":"IF(AND(LEN(D198)>0,NOT(ISBLANK(C199))),D198,\"\")","v":""},null,null,null,null,null,null,null,null,null,null,null,null,null,null,null,null,null,null,null,null,null,null,null,null,null,null,null,null,null,null,null,null,null,null,null,null,{"$f":"IF(ISBLANK(B199),\"\",AO198)","v":""},{"$f":"IF(ISBLANK(B199),\"\",TODAY())","v":""},{"$f":"IF(ISBLANK(B199),\"\",IF(LEN(AO199)=0,\"\",AO199))","v":""},{"$f":"IF(ISBLANK(B199),\"\",AP199)","v":""}]
[{"$f":"IF(ISBLANK(B200),\"-\",GenGuid())","v":"-"},null,null,"",null,null,null,null,null,null,null,null,null,null,null,null,null,null,null,null,null,null,null,null,null,null,null,null,null,null,null,null,null,null,null,null,null,null,null,null,"","","",""]
[{"$f":"IF(ISBLANK(B201),\"-\",GenGuid())","v":"-"},null,null,"",null,null,null,null,null,null,null,null,null,null,null,null,null,null,null,null,null,null,null,null,null,null,null,null,null,null,null,null,null,null,null,null,null,null,null,null,"","","",""]
[{"$f":"IF(ISBLANK(B202),\"-\",GenGuid())","v":"-"},null,null,"",null,null,null,null,null,null,null,null,null,null,null,null,null,null,null,null,null,null,null,null,null,null,null,null,null,null,null,null,null,null,null,null,null,null,null,null,"","","",""]
[{"$f":"IF(ISBLANK(B203),\"-\",GenGuid())","v":"-"},null,null,"",null,null,null,null,null,null,null,null,null,null,null,null,null,null,null,null,null,null,null,null,null,null,null,null,null,null,null,null,null,null,null,null,null,null,null,null,"","","",""]
[{"$f":"IF(ISBLANK(B204),\"-\",GenGuid())","v":"-"},null,null,"",null,null,null,null,null,null,null,null,null,null,null,null,null,null,null,null,null,null,null,null,null,null,null,null,null,null,null,null,null,null,null,null,null,null,null,null,"","","",""]
[{"$f":"IF(ISBLANK(B205),\"-\",GenGuid())","v":"-"},null,null,"",null,null,null,null,null,null,null,null,null,null,null,null,null,null,null,null,null,null,null,null,null,null,null,null,null,null,null,null,null,null,null,null,null,null,null,null,"","","",""]
[{"$f":"IF(ISBLANK(B206),\"-\",GenGuid())","v":"-"},null,null,"",null,null,null,null,null,null,null,null,null,null,null,null,null,null,null,null,null,null,null,null,null,null,null,null,null,null,null,null,null,null,null,null,null,null,null,null,"","","",""]
[{"$f":"IF(ISBLANK(B207),\"-\",GenGuid())","v":"-"},null,null,"",null,null,null,null,null,null,null,null,null,null,null,null,null,null,null,null,null,null,null,null,null,null,null,null,null,null,null,null,null,null,null,null,null,null,null,null,"","","",""]
[{"$f":"IF(ISBLANK(B208),\"-\",GenGuid())","v":"-"},null,null,"",null,null,null,null,null,null,null,null,null,null,null,null,null,null,null,null,null,null,null,null,null,null,null,null,null,null,null,null,null,null,null,null,null,null,null,null,"","","",""]
[{"$f":"IF(ISBLANK(B209),\"-\",GenGuid())","v":"-"},null,null,"",null,null,null,null,null,null,null,null,null,null,null,null,null,null,null,null,null,null,null,null,null,null,null,null,null,null,null,null,null,null,null,null,null,null,null,null,"","","",""]
[{"$f":"IF(ISBLANK(B210),\"-\",GenGuid())","v":"-"},null,null,"",null,null,null,null,null,null,null,null,null,null,null,null,null,null,null,null,null,null,null,null,null,null,null,null,null,null,null,null,null,null,null,null,null,null,null,null,"","","",""]
[{"$f":"IF(ISBLANK(B211),\"-\",GenGuid())","v":"-"},null,null,"",null,null,null,null,null,null,null,null,null,null,null,null,null,null,null,null,null,null,null,null,null,null,null,null,null,null,null,null,null,null,null,null,null,null,null,null,"","","",""]
[{"$f":"IF(ISBLANK(B212),\"-\",GenGuid())","v":"-"},null,null,"",null,null,null,null,null,null,null,null,null,null,null,null,null,null,null,null,null,null,null,null,null,null,null,null,null,null,null,null,null,null,null,null,null,null,null,null,"","","",""]
[{"$f":"IF(ISBLANK(B213),\"-\",GenGuid())","v":"-"},null,null,"",null,null,null,null,null,null,null,null,null,null,null,null,null,null,null,null,null,null,null,null,null,null,null,null,null,null,null,null,null,null,null,null,null,null,null,null,"","","",""]
[{"$f":"IF(ISBLANK(B214),\"-\",GenGuid())","v":"-"},null,null,"",null,null,null,null,null,null,null,null,null,null,null,null,null,null,null,null,null,null,null,null,null,null,null,null,null,null,null,null,null,null,null,null,null,null,null,null,"","","",""]
[{"$f":"IF(ISBLANK(B215),\"-\",GenGuid())","v":"-"},null,null,"",null,null,null,null,null,null,null,null,null,null,null,null,null,null,null,null,null,null,null,null,null,null,null,null,null,null,null,null,null,null,null,null,null,null,null,null,"","","",""]
[{"$f":"IF(ISBLANK(B216),\"-\",GenGuid())","v":"-"},null,null,"",null,null,null,null,null,null,null,null,null,null,null,null,null,null,null,null,null,null,null,null,null,null,null,null,null,null,null,null,null,null,null,null,null,null,null,null,"","","",""]
[{"$f":"IF(ISBLANK(B217),\"-\",GenGuid())","v":"-"},null,null,"",null,null,null,null,null,null,null,null,null,null,null,null,null,null,null,null,null,null,null,null,null,null,null,null,null,null,null,null,null,null,null,null,null,null,null,null,"","","",""]
[{"$f":"IF(ISBLANK(B218),\"-\",GenGuid())","v":"-"},null,null,"",null,null,null,null,null,null,null,null,null,null,null,null,null,null,null,null,null,null,null,null,null,null,null,null,null,null,null,null,null,null,null,null,null,null,null,null,"","","",""]
[{"$f":"IF(ISBLANK(B219),\"-\",GenGuid())","v":"-"},null,null,"",null,null,null,null,null,null,null,null,null,null,null,null,null,null,null,null,null,null,null,null,null,null,null,null,null,null,null,null,null,null,null,null,null,null,null,null,"","","",""]
[{"$f":"IF(ISBLANK(B220),\"-\",GenGuid())","v":"-"},null,null,"",null,null,null,null,null,null,null,null,null,null,null,null,null,null,null,null,null,null,null,null,null,null,null,null,null,null,null,null,null,null,null,null,null,null,null,null,"","","",""]
[{"$f":"IF(ISBLANK(B221),\"-\",GenGuid())","v":"-"},null,null,"",null,null,null,null,null,null,null,null,null,null,null,null,null,null,null,null,null,null,null,null,null,null,null,null,null,null,null,null,null,null,null,null,null,null,null,null,"","","",""]
[{"$f":"IF(ISBLANK(B222),\"-\",GenGuid())","v":"-"},null,null,"",null,null,null,null,null,null,null,null,null,null,null,null,null,null,null,null,null,null,null,null,null,null,null,null,null,null,null,null,null,null,null,null,null,null,null,null,"","","",""]
[{"$f":"IF(ISBLANK(B223),\"-\",GenGuid())","v":"-"},null,null,"",null,null,null,null,null,null,null,null,null,null,null,null,null,null,null,null,null,null,null,null,null,null,null,null,null,null,null,null,null,null,null,null,null,null,null,null,"","","",""]
[{"$f":"IF(ISBLANK(B224),\"-\",GenGuid())","v":"-"},null,null,"",null,null,null,null,null,null,null,null,null,null,null,null,null,null,null,null,null,null,null,null,null,null,null,null,null,null,null,null,null,null,null,null,null,null,null,null,"","","",""]
[{"$f":"IF(ISBLANK(B225),\"-\",GenGuid())","v":"-"},null,null,"",null,null,null,null,null,null,null,null,null,null,null,null,null,null,null,null,null,null,null,null,null,null,null,null,null,null,null,null,null,null,null,null,null,null,null,null,"","","",""]
[{"$f":"IF(ISBLANK(B226),\"-\",GenGuid())","v":"-"},null,null,"",null,null,null,null,null,null,null,null,null,null,null,null,null,null,null,null,null,null,null,null,null,null,null,null,null,null,null,null,null,null,null,null,null,null,null,null,"","","",""]
[{"$f":"IF(ISBLANK(B227),\"-\",GenGuid())","v":"-"},null,null,"",null,null,null,null,null,null,null,null,null,null,null,null,null,null,null,null,null,null,null,null,null,null,null,null,null,null,null,null,null,null,null,null,null,null,null,null,"","","",""]
[{"$f":"IF(ISBLANK(B228),\"-\",GenGuid())","v":"-"},null,null,"",null,null,null,null,null,null,null,null,null,null,null,null,null,null,null,null,null,null,null,null,null,null,null,null,null,null,null,null,null,null,null,null,null,null,null,null,"","","",""]
[{"$f":"IF(ISBLANK(B229),\"-\",GenGuid())","v":"-"},null,null,"",null,null,null,null,null,null,null,null,null,null,null,null,null,null,null,null,null,null,null,null,null,null,null,null,null,null,null,null,null,null,null,null,null,null,null,null,"","","",""]
[{"$f":"IF(ISBLANK(B230),\"-\",GenGuid())","v":"-"},null,null,"",null,null,null,null,null,null,null,null,null,null,null,null,null,null,null,null,null,null,null,null,null,null,null,null,null,null,null,null,null,null,null,null,null,null,null,null,"","","",""]
[{"$f":"IF(ISBLANK(B231),\"-\",GenGuid())","v":"-"},null,null,"",null,null,null,null,null,null,null,null,null,null,null,null,null,null,null,null,null,null,null,null,null,null,null,null,null,null,null,null,null,null,null,null,null,null,null,null,"","","",""]
[{"$f":"IF(ISBLANK(B232),\"-\",GenGuid())","v":"-"},null,null,"",null,null,null,null,null,null,null,null,null,null,null,null,null,null,null,null,null,null,null,null,null,null,null,null,null,null,null,null,null,null,null,null,null,null,null,null,"","","",""]
[{"$f":"IF(ISBLANK(B233),\"-\",GenGuid())","v":"-"},null,null,"",null,null,null,null,null,null,null,null,null,null,null,null,null,null,null,null,null,null,null,null,null,null,null,null,null,null,null,null,null,null,null,null,null,null,null,null,"","","",""]
[{"$f":"IF(ISBLANK(B234),\"-\",GenGuid())","v":"-"},null,null,"",null,null,null,null,null,null,null,null,null,null,null,null,null,null,null,null,null,null,null,null,null,null,null,null,null,null,null,null,null,null,null,null,null,null,null,null,"","","",""]
[{"$f":"IF(ISBLANK(B235),\"-\",GenGuid())","v":"-"},null,null,"",null,null,null,null,null,null,null,null,null,null,null,null,null,null,null,null,null,null,null,null,null,null,null,null,null,null,null,null,null,null,null,null,null,null,null,null,"","","",""]
[{"$f":"IF(ISBLANK(B236),\"-\",GenGuid())","v":"-"},null,null,"",null,null,null,null,null,null,null,null,null,null,null,null,null,null,null,null,null,null,null,null,null,null,null,null,null,null,null,null,null,null,null,null,null,null,null,null,"","","",""]
[{"$f":"IF(ISBLANK(B237),\"-\",GenGuid())","v":"-"},null,null,"",null,null,null,null,null,null,null,null,null,null,null,null,null,null,null,null,null,null,null,null,null,null,null,null,null,null,null,null,null,null,null,null,null,null,null,null,"","","",""]
[{"$f":"IF(ISBLANK(B238),\"-\",GenGuid())","v":"-"},null,null,"",null,null,null,null,null,null,null,null,null,null,null,null,null,null,null,null,null,null,null,null,null,null,null,null,null,null,null,null,null,null,null,null,null,null,null,null,"","","",""]
[{"$f":"IF(ISBLANK(B239),\"-\",GenGuid())","v":"-"},null,null,"",null,null,null,null,null,null,null,null,null,null,null,null,null,null,null,null,null,null,null,null,null,null,null,null,null,null,null,null,null,null,null,null,null,null,null,null,"","","",""]
[{"$f":"IF(ISBLANK(B240),\"-\",GenGuid())","v":"-"},null,null,"",null,null,null,null,null,null,null,null,null,null,null,null,null,null,null,null,null,null,null,null,null,null,null,null,null,null,null,null,null,null,null,null,null,null,null,null,"","","",""]
[{"$f":"IF(ISBLANK(B241),\"-\",GenGuid())","v":"-"},null,null,"",null,null,null,null,null,null,null,null,null,null,null,null,null,null,null,null,null,null,null,null,null,null,null,null,null,null,null,null,null,null,null,null,null,null,null,null,"","","",""]
[{"$f":"IF(ISBLANK(B242),\"-\",GenGuid())","v":"-"},null,null,"",null,null,null,null,null,null,null,null,null,null,null,null,null,null,null,null,null,null,null,null,null,null,null,null,null,null,null,null,null,null,null,null,null,null,null,null,"","","",""]
[{"$f":"IF(ISBLANK(B243),\"-\",GenGuid())","v":"-"},null,null,"",null,null,null,null,null,null,null,null,null,null,null,null,null,null,null,null,null,null,null,null,null,null,null,null,null,null,null,null,null,null,null,null,null,null,null,null,"","","",""]
[{"$f":"IF(ISBLANK(B244),\"-\",GenGuid())","v":"-"},null,null,"",null,null,null,null,null,null,null,null,null,null,null,null,null,null,null,null,null,null,null,null,null,null,null,null,null,null,null,null,null,null,null,null,null,null,null,null,"","","",""]
[{"$f":"IF(ISBLANK(B245),\"-\",GenGuid())","v":"-"},null,null,"",null,null,null,null,null,null,null,null,null,null,null,null,null,null,null,null,null,null,null,null,null,null,null,null,null,null,null,null,null,null,null,null,null,null,null,null,"","","",""]
[{"$f":"IF(ISBLANK(B246),\"-\",GenGuid())","v":"-"},null,null,"",null,null,null,null,null,null,null,null,null,null,null,null,null,null,null,null,null,null,null,null,null,null,null,null,null,null,null,null,null,null,null,null,null,null,null,null,"","","",""]
[{"$f":"IF(ISBLANK(B247),\"-\",GenGuid())","v":"-"},null,null,"",null,null,null,null,null,null,null,null,null,null,null,null,null,null,null,null,null,null,null,null,null,null,null,null,null,null,null,null,null,null,null,null,null,null,null,null,"","","",""]
[{"$f":"IF(ISBLANK(B248),\"-\",GenGuid())","v":"-"},null,null,"",null,null,null,null,null,null,null,null,null,null,null,null,null,null,null,null,null,null,null,null,null,null,null,null,null,null,null,null,null,null,null,null,null,null,null,null,"","","",""]
[{"$f":"IF(ISBLANK(B249),\"-\",GenGuid())","v":"-"},null,null,"",null,null,null,null,null,null,null,null,null,null,null,null,null,null,null,null,null,null,null,null,null,null,null,null,null,null,null,null,null,null,null,null,null,null,null,null,"","","",""]
[{"$f":"IF(ISBLANK(B250),\"-\",GenGuid())","v":"-"},null,null,"",null,null,null,null,null,null,null,null,null,null,null,null,null,null,null,null,null,null,null,null,null,null,null,null,null,null,null,null,null,null,null,null,null,null,null,null,"","","",""]
[{"$f":"IF(ISBLANK(B251),\"-\",GenGuid())","v":"-"},null,null,"",null,null,null,null,null,null,null,null,null,null,null,null,null,null,null,null,null,null,null,null,null,null,null,null,null,null,null,null,null,null,null,null,null,null,null,null,"","","",""]
[{"$f":"IF(ISBLANK(B252),\"-\",GenGuid())","v":"-"},null,null,"",null,null,null,null,null,null,null,null,null,null,null,null,null,null,null,null,null,null,null,null,null,null,null,null,null,null,null,null,null,null,null,null,null,null,null,null,"","","",""]
[{"$f":"IF(ISBLANK(B253),\"-\",GenGuid())","v":"-"},null,null,"",null,null,null,null,null,null,null,null,null,null,null,null,null,null,null,null,null,null,null,null,null,null,null,null,null,null,null,null,null,null,null,null,null,null,null,null,"","","",""]
[{"$f":"IF(ISBLANK(B254),\"-\",GenGuid())","v":"-"},null,null,"",null,null,null,null,null,null,null,null,null,null,null,null,null,null,null,null,null,null,null,null,null,null,null,null,null,null,null,null,null,null,null,null,null,null,null,null,"","","",""]
[{"$f":"IF(ISBLANK(B255),\"-\",GenGuid())","v":"-"},null,null,"",null,null,null,null,null,null,null,null,null,null,null,null,null,null,null,null,null,null,null,null,null,null,null,null,null,null,null,null,null,null,null,null,null,null,null,null,"","","",""]
[{"$f":"IF(ISBLANK(B256),\"-\",GenGuid())","v":"-"},null,null,"",null,null,null,null,null,null,null,null,null,null,null,null,null,null,null,null,null,null,null,null,null,null,null,null,null,null,null,null,null,null,null,null,null,null,null,null,"","","",""]
[{"$f":"IF(ISBLANK(B257),\"-\",GenGuid())","v":"-"},null,null,"",null,null,null,null,null,null,null,null,null,null,null,null,null,null,null,null,null,null,null,null,null,null,null,null,null,null,null,null,null,null,null,null,null,null,null,null,"","","",""]
[{"$f":"IF(ISBLANK(B258),\"-\",GenGuid())","v":"-"},null,null,"",null,null,null,null,null,null,null,null,null,null,null,null,null,null,null,null,null,null,null,null,null,null,null,null,null,null,null,null,null,null,null,null,null,null,null,null,"","","",""]
[{"$f":"IF(ISBLANK(B259),\"-\",GenGuid())","v":"-"},null,null,"",null,null,null,null,null,null,null,null,null,null,null,null,null,null,null,null,null,null,null,null,null,null,null,null,null,null,null,null,null,null,null,null,null,null,null,null,"","","",""]
[{"$f":"IF(ISBLANK(B260),\"-\",GenGuid())","v":"-"},null,null,"",null,null,null,null,null,null,null,null,null,null,null,null,null,null,null,null,null,null,null,null,null,null,null,null,null,null,null,null,null,null,null,null,null,null,null,null,"","","",""]
[{"$f":"IF(ISBLANK(B261),\"-\",GenGuid())","v":"-"},null,null,"",null,null,null,null,null,null,null,null,null,null,null,null,null,null,null,null,null,null,null,null,null,null,null,null,null,null,null,null,null,null,null,null,null,null,null,null,"","","",""]
[{"$f":"IF(ISBLANK(B262),\"-\",GenGuid())","v":"-"},null,null,"",null,null,null,null,null,null,null,null,null,null,null,null,null,null,null,null,null,null,null,null,null,null,null,null,null,null,null,null,null,null,null,null,null,null,null,null,"","","",""]
[{"$f":"IF(ISBLANK(B263),\"-\",GenGuid())","v":"-"},null,null,{"$f":"IF(AND(LEN(D262)>0,NOT(ISBLANK(C263))),D262,\"\")","v":""},null,null,null,null,null,null,null,null,null,null,null,null,null,null,null,null,null,null,null,null,null,null,null,null,null,null,null,null,null,null,null,null,null,null,null,null,{"$f":"IF(ISBLANK(B263),\"\",AO262)","v":""},{"$f":"IF(ISBLANK(B263),\"\",TODAY())","v":""},{"$f":"IF(ISBLANK(B263),\"\",IF(LEN(AO263)=0,\"\",AO263))","v":""},{"$f":"IF(ISBLANK(B263),\"\",AP263)","v":""}]
[{"$f":"IF(ISBLANK(B264),\"-\",GenGuid())","v":"-"},null,null,"",null,null,null,null,null,null,null,null,null,null,null,null,null,null,null,null,null,null,null,null,null,null,null,null,null,null,null,null,null,null,null,null,null,null,null,null,"","","",""]
[{"$f":"IF(ISBLANK(B265),\"-\",GenGuid())","v":"-"},null,null,"",null,null,null,null,null,null,null,null,null,null,null,null,null,null,null,null,null,null,null,null,null,null,null,null,null,null,null,null,null,null,null,null,null,null,null,null,"","","",""]
[{"$f":"IF(ISBLANK(B266),\"-\",GenGuid())","v":"-"},null,null,"",null,null,null,null,null,null,null,null,null,null,null,null,null,null,null,null,null,null,null,null,null,null,null,null,null,null,null,null,null,null,null,null,null,null,null,null,"","","",""]
[{"$f":"IF(ISBLANK(B267),\"-\",GenGuid())","v":"-"},null,null,"",null,null,null,null,null,null,null,null,null,null,null,null,null,null,null,null,null,null,null,null,null,null,null,null,null,null,null,null,null,null,null,null,null,null,null,null,"","","",""]
[{"$f":"IF(ISBLANK(B268),\"-\",GenGuid())","v":"-"},null,null,"",null,null,null,null,null,null,null,null,null,null,null,null,null,null,null,null,null,null,null,null,null,null,null,null,null,null,null,null,null,null,null,null,null,null,null,null,"","","",""]
[{"$f":"IF(ISBLANK(B269),\"-\",GenGuid())","v":"-"},null,null,"",null,null,null,null,null,null,null,null,null,null,null,null,null,null,null,null,null,null,null,null,null,null,null,null,null,null,null,null,null,null,null,null,null,null,null,null,"","","",""]
[{"$f":"IF(ISBLANK(B270),\"-\",GenGuid())","v":"-"},null,null,"",null,null,null,null,null,null,null,null,null,null,null,null,null,null,null,null,null,null,null,null,null,null,null,null,null,null,null,null,null,null,null,null,null,null,null,null,"","","",""]
[{"$f":"IF(ISBLANK(B271),\"-\",GenGuid())","v":"-"},null,null,"",null,null,null,null,null,null,null,null,null,null,null,null,null,null,null,null,null,null,null,null,null,null,null,null,null,null,null,null,null,null,null,null,null,null,null,null,"","","",""]
[{"$f":"IF(ISBLANK(B272),\"-\",GenGuid())","v":"-"},null,null,"",null,null,null,null,null,null,null,null,null,null,null,null,null,null,null,null,null,null,null,null,null,null,null,null,null,null,null,null,null,null,null,null,null,null,null,null,"","","",""]
[{"$f":"IF(ISBLANK(B273),\"-\",GenGuid())","v":"-"},null,null,"",null,null,null,null,null,null,null,null,null,null,null,null,null,null,null,null,null,null,null,null,null,null,null,null,null,null,null,null,null,null,null,null,null,null,null,null,"","","",""]
[{"$f":"IF(ISBLANK(B274),\"-\",GenGuid())","v":"-"},null,null,"",null,null,null,null,null,null,null,null,null,null,null,null,null,null,null,null,null,null,null,null,null,null,null,null,null,null,null,null,null,null,null,null,null,null,null,null,"","","",""]
[{"$f":"IF(ISBLANK(B275),\"-\",GenGuid())","v":"-"},null,null,"",null,null,null,null,null,null,null,null,null,null,null,null,null,null,null,null,null,null,null,null,null,null,null,null,null,null,null,null,null,null,null,null,null,null,null,null,"","","",""]
[{"$f":"IF(ISBLANK(B276),\"-\",GenGuid())","v":"-"},null,null,"",null,null,null,null,null,null,null,null,null,null,null,null,null,null,null,null,null,null,null,null,null,null,null,null,null,null,null,null,null,null,null,null,null,null,null,null,"","","",""]
[{"$f":"IF(ISBLANK(B277),\"-\",GenGuid())","v":"-"},null,null,"",null,null,null,null,null,null,null,null,null,null,null,null,null,null,null,null,null,null,null,null,null,null,null,null,null,null,null,null,null,null,null,null,null,null,null,null,"","","",""]
[{"$f":"IF(ISBLANK(B278),\"-\",GenGuid())","v":"-"},null,null,"",null,null,null,null,null,null,null,null,null,null,null,null,null,null,null,null,null,null,null,null,null,null,null,null,null,null,null,null,null,null,null,null,null,null,null,null,"","","",""]
[{"$f":"IF(ISBLANK(B279),\"-\",GenGuid())","v":"-"},null,null,"",null,null,null,null,null,null,null,null,null,null,null,null,null,null,null,null,null,null,null,null,null,null,null,null,null,null,null,null,null,null,null,null,null,null,null,null,"","","",""]
[{"$f":"IF(ISBLANK(B280),\"-\",GenGuid())","v":"-"},null,null,"",null,null,null,null,null,null,null,null,null,null,null,null,null,null,null,null,null,null,null,null,null,null,null,null,null,null,null,null,null,null,null,null,null,null,null,null,"","","",""]
[{"$f":"IF(ISBLANK(B281),\"-\",GenGuid())","v":"-"},null,null,"",null,null,null,null,null,null,null,null,null,null,null,null,null,null,null,null,null,null,null,null,null,null,null,null,null,null,null,null,null,null,null,null,null,null,null,null,"","","",""]
[{"$f":"IF(ISBLANK(B282),\"-\",GenGuid())","v":"-"},null,null,"",null,null,null,null,null,null,null,null,null,null,null,null,null,null,null,null,null,null,null,null,null,null,null,null,null,null,null,null,null,null,null,null,null,null,null,null,"","","",""]
[{"$f":"IF(ISBLANK(B283),\"-\",GenGuid())","v":"-"},null,null,"",null,null,null,null,null,null,null,null,null,null,null,null,null,null,null,null,null,null,null,null,null,null,null,null,null,null,null,null,null,null,null,null,null,null,null,null,"","","",""]
[{"$f":"IF(ISBLANK(B284),\"-\",GenGuid())","v":"-"},null,null,"",null,null,null,null,null,null,null,null,null,null,null,null,null,null,null,null,null,null,null,null,null,null,null,null,null,null,null,null,null,null,null,null,null,null,null,null,"","","",""]
[{"$f":"IF(ISBLANK(B285),\"-\",GenGuid())","v":"-"},null,null,"",null,null,null,null,null,null,null,null,null,null,null,null,null,null,null,null,null,null,null,null,null,null,null,null,null,null,null,null,null,null,null,null,null,null,null,null,"","","",""]
[{"$f":"IF(ISBLANK(B286),\"-\",GenGuid())","v":"-"},null,null,"",null,null,null,null,null,null,null,null,null,null,null,null,null,null,null,null,null,null,null,null,null,null,null,null,null,null,null,null,null,null,null,null,null,null,null,null,"","","",""]
[{"$f":"IF(ISBLANK(B287),\"-\",GenGuid())","v":"-"},null,null,"",null,null,null,null,null,null,null,null,null,null,null,null,null,null,null,null,null,null,null,null,null,null,null,null,null,null,null,null,null,null,null,null,null,null,null,null,"","","",""]
[{"$f":"IF(ISBLANK(B288),\"-\",GenGuid())","v":"-"},null,null,"",null,null,null,null,null,null,null,null,null,null,null,null,null,null,null,null,null,null,null,null,null,null,null,null,null,null,null,null,null,null,null,null,null,null,null,null,"","","",""]
[{"$f":"IF(ISBLANK(B289),\"-\",GenGuid())","v":"-"},null,null,"",null,null,null,null,null,null,null,null,null,null,null,null,null,null,null,null,null,null,null,null,null,null,null,null,null,null,null,null,null,null,null,null,null,null,null,null,"","","",""]
[{"$f":"IF(ISBLANK(B290),\"-\",GenGuid())","v":"-"},null,null,"",null,null,null,null,null,null,null,null,null,null,null,null,null,null,null,null,null,null,null,null,null,null,null,null,null,null,null,null,null,null,null,null,null,null,null,null,"","","",""]
[{"$f":"IF(ISBLANK(B291),\"-\",GenGuid())","v":"-"},null,null,"",null,null,null,null,null,null,null,null,null,null,null,null,null,null,null,null,null,null,null,null,null,null,null,null,null,null,null,null,null,null,null,null,null,null,null,null,"","","",""]
[{"$f":"IF(ISBLANK(B292),\"-\",GenGuid())","v":"-"},null,null,"",null,null,null,null,null,null,null,null,null,null,null,null,null,null,null,null,null,null,null,null,null,null,null,null,null,null,null,null,null,null,null,null,null,null,null,null,"","","",""]
[{"$f":"IF(ISBLANK(B293),\"-\",GenGuid())","v":"-"},null,null,"",null,null,null,null,null,null,null,null,null,null,null,null,null,null,null,null,null,null,null,null,null,null,null,null,null,null,null,null,null,null,null,null,null,null,null,null,"","","",""]
[{"$f":"IF(ISBLANK(B294),\"-\",GenGuid())","v":"-"},null,null,"",null,null,null,null,null,null,null,null,null,null,null,null,null,null,null,null,null,null,null,null,null,null,null,null,null,null,null,null,null,null,null,null,null,null,null,null,"","","",""]
[{"$f":"IF(ISBLANK(B295),\"-\",GenGuid())","v":"-"},null,null,"",null,null,null,null,null,null,null,null,null,null,null,null,null,null,null,null,null,null,null,null,null,null,null,null,null,null,null,null,null,null,null,null,null,null,null,null,"","","",""]
[{"$f":"IF(ISBLANK(B296),\"-\",GenGuid())","v":"-"},null,null,"",null,null,null,null,null,null,null,null,null,null,null,null,null,null,null,null,null,null,null,null,null,null,null,null,null,null,null,null,null,null,null,null,null,null,null,null,"","","",""]
[{"$f":"IF(ISBLANK(B297),\"-\",GenGuid())","v":"-"},null,null,"",null,null,null,null,null,null,null,null,null,null,null,null,null,null,null,null,null,null,null,null,null,null,null,null,null,null,null,null,null,null,null,null,null,null,null,null,"","","",""]
[{"$f":"IF(ISBLANK(B298),\"-\",GenGuid())","v":"-"},null,null,"",null,null,null,null,null,null,null,null,null,null,null,null,null,null,null,null,null,null,null,null,null,null,null,null,null,null,null,null,null,null,null,null,null,null,null,null,"","","",""]
[{"$f":"IF(ISBLANK(B299),\"-\",GenGuid())","v":"-"},null,null,"",null,null,null,null,null,null,null,null,null,null,null,null,null,null,null,null,null,null,null,null,null,null,null,null,null,null,null,null,null,null,null,null,null,null,null,null,"","","",""]
[{"$f":"IF(ISBLANK(B300),\"-\",GenGuid())","v":"-"},null,null,"",null,null,null,null,null,null,null,null,null,null,null,null,null,null,null,null,null,null,null,null,null,null,null,null,null,null,null,null,null,null,null,null,null,null,null,null,"","","",""]
[{"$f":"IF(ISBLANK(B301),\"-\",GenGuid())","v":"-"},null,null,"",null,null,null,null,null,null,null,null,null,null,null,null,null,null,null,null,null,null,null,null,null,null,null,null,null,null,null,null,null,null,null,null,null,null,null,null,"","","",""]
[{"$f":"IF(ISBLANK(B302),\"-\",GenGuid())","v":"-"},null,null,"",null,null,null,null,null,null,null,null,null,null,null,null,null,null,null,null,null,null,null,null,null,null,null,null,null,null,null,null,null,null,null,null,null,null,null,null,"","","",""]
[{"$f":"IF(ISBLANK(B303),\"-\",GenGuid())","v":"-"},null,null,"",null,null,null,null,null,null,null,null,null,null,null,null,null,null,null,null,null,null,null,null,null,null,null,null,null,null,null,null,null,null,null,null,null,null,null,null,"","","",""]
[{"$f":"IF(ISBLANK(B304),\"-\",GenGuid())","v":"-"},null,null,"",null,null,null,null,null,null,null,null,null,null,null,null,null,null,null,null,null,null,null,null,null,null,null,null,null,null,null,null,null,null,null,null,null,null,null,null,"","","",""]
[{"$f":"IF(ISBLANK(B305),\"-\",GenGuid())","v":"-"},null,null,"",null,null,null,null,null,null,null,null,null,null,null,null,null,null,null,null,null,null,null,null,null,null,null,null,null,null,null,null,null,null,null,null,null,null,null,null,"","","",""]
[{"$f":"IF(ISBLANK(B306),\"-\",GenGuid())","v":"-"},null,null,"",null,null,null,null,null,null,null,null,null,null,null,null,null,null,null,null,null,null,null,null,null,null,null,null,null,null,null,null,null,null,null,null,null,null,null,null,"","","",""]
[{"$f":"IF(ISBLANK(B307),\"-\",GenGuid())","v":"-"},null,null,"",null,null,null,null,null,null,null,null,null,null,null,null,null,null,null,null,null,null,null,null,null,null,null,null,null,null,null,null,null,null,null,null,null,null,null,null,"","","",""]
[{"$f":"IF(ISBLANK(B308),\"-\",GenGuid())","v":"-"},null,null,"",null,null,null,null,null,null,null,null,null,null,null,null,null,null,null,null,null,null,null,null,null,null,null,null,null,null,null,null,null,null,null,null,null,null,null,null,"","","",""]
[{"$f":"IF(ISBLANK(B309),\"-\",GenGuid())","v":"-"},null,null,"",null,null,null,null,null,null,null,null,null,null,null,null,null,null,null,null,null,null,null,null,null,null,null,null,null,null,null,null,null,null,null,null,null,null,null,null,"","","",""]
[{"$f":"IF(ISBLANK(B310),\"-\",GenGuid())","v":"-"},null,null,"",null,null,null,null,null,null,null,null,null,null,null,null,null,null,null,null,null,null,null,null,null,null,null,null,null,null,null,null,null,null,null,null,null,null,null,null,"","","",""]
[{"$f":"IF(ISBLANK(B311),\"-\",GenGuid())","v":"-"},null,null,"",null,null,null,null,null,null,null,null,null,null,null,null,null,null,null,null,null,null,null,null,null,null,null,null,null,null,null,null,null,null,null,null,null,null,null,null,"","","",""]
[{"$f":"IF(ISBLANK(B312),\"-\",GenGuid())","v":"-"},null,null,"",null,null,null,null,null,null,null,null,null,null,null,null,null,null,null,null,null,null,null,null,null,null,null,null,null,null,null,null,null,null,null,null,null,null,null,null,"","","",""]
[{"$f":"IF(ISBLANK(B313),\"-\",GenGuid())","v":"-"},null,null,"",null,null,null,null,null,null,null,null,null,null,null,null,null,null,null,null,null,null,null,null,null,null,null,null,null,null,null,null,null,null,null,null,null,null,null,null,"","","",""]
[{"$f":"IF(ISBLANK(B314),\"-\",GenGuid())","v":"-"},null,null,"",null,null,null,null,null,null,null,null,null,null,null,null,null,null,null,null,null,null,null,null,null,null,null,null,null,null,null,null,null,null,null,null,null,null,null,null,"","","",""]
[{"$f":"IF(ISBLANK(B315),\"-\",GenGuid())","v":"-"},null,null,"",null,null,null,null,null,null,null,null,null,null,null,null,null,null,null,null,null,null,null,null,null,null,null,null,null,null,null,null,null,null,null,null,null,null,null,null,"","","",""]
[{"$f":"IF(ISBLANK(B316),\"-\",GenGuid())","v":"-"},null,null,"",null,null,null,null,null,null,null,null,null,null,null,null,null,null,null,null,null,null,null,null,null,null,null,null,null,null,null,null,null,null,null,null,null,null,null,null,"","","",""]
[{"$f":"IF(ISBLANK(B317),\"-\",GenGuid())","v":"-"},null,null,"",null,null,null,null,null,null,null,null,null,null,null,null,null,null,null,null,null,null,null,null,null,null,null,null,null,null,null,null,null,null,null,null,null,null,null,null,"","","",""]
[{"$f":"IF(ISBLANK(B318),\"-\",GenGuid())","v":"-"},null,null,"",null,null,null,null,null,null,null,null,null,null,null,null,null,null,null,null,null,null,null,null,null,null,null,null,null,null,null,null,null,null,null,null,null,null,null,null,"","","",""]
[{"$f":"IF(ISBLANK(B319),\"-\",GenGuid())","v":"-"},null,null,"",null,null,null,null,null,null,null,null,null,null,null,null,null,null,null,null,null,null,null,null,null,null,null,null,null,null,null,null,null,null,null,null,null,null,null,null,"","","",""]
[{"$f":"IF(ISBLANK(B320),\"-\",GenGuid())","v":"-"},null,null,"",null,null,null,null,null,null,null,null,null,null,null,null,null,null,null,null,null,null,null,null,null,null,null,null,null,null,null,null,null,null,null,null,null,null,null,null,"","","",""]
[{"$f":"IF(ISBLANK(B321),\"-\",GenGuid())","v":"-"},null,null,"",null,null,null,null,null,null,null,null,null,null,null,null,null,null,null,null,null,null,null,null,null,null,null,null,null,null,null,null,null,null,null,null,null,null,null,null,"","","",""]
[{"$f":"IF(ISBLANK(B322),\"-\",GenGuid())","v":"-"},null,null,"",null,null,null,null,null,null,null,null,null,null,null,null,null,null,null,null,null,null,null,null,null,null,null,null,null,null,null,null,null,null,null,null,null,null,null,null,"","","",""]
[{"$f":"IF(ISBLANK(B323),\"-\",GenGuid())","v":"-"},null,null,"",null,null,null,null,null,null,null,null,null,null,null,null,null,null,null,null,null,null,null,null,null,null,null,null,null,null,null,null,null,null,null,null,null,null,null,null,"","","",""]
[{"$f":"IF(ISBLANK(B324),\"-\",GenGuid())","v":"-"},null,null,"",null,null,null,null,null,null,null,null,null,null,null,null,null,null,null,null,null,null,null,null,null,null,null,null,null,null,null,null,null,null,null,null,null,null,null,null,"","","",""]
[{"$f":"IF(ISBLANK(B325),\"-\",GenGuid())","v":"-"},null,null,"",null,null,null,null,null,null,null,null,null,null,null,null,null,null,null,null,null,null,null,null,null,null,null,null,null,null,null,null,null,null,null,null,null,null,null,null,"","","",""]
[{"$f":"IF(ISBLANK(B326),\"-\",GenGuid())","v":"-"},null,null,"",null,null,null,null,null,null,null,null,null,null,null,null,null,null,null,null,null,null,null,null,null,null,null,null,null,null,null,null,null,null,null,null,null,null,null,null,"","","",""]
[{"$f":"IF(ISBLANK(B327),\"-\",GenGuid())","v":"-"},null,null,{"$f":"IF(AND(LEN(D326)>0,NOT(ISBLANK(C327))),D326,\"\")","v":""},null,null,null,null,null,null,null,null,null,null,null,null,null,null,null,null,null,null,null,null,null,null,null,null,null,null,null,null,null,null,null,null,null,null,null,null,{"$f":"IF(ISBLANK(B327),\"\",AO326)","v":""},{"$f":"IF(ISBLANK(B327),\"\",TODAY())","v":""},{"$f":"IF(ISBLANK(B327),\"\",IF(LEN(AO327)=0,\"\",AO327))","v":""},{"$f":"IF(ISBLANK(B327),\"\",AP327)","v":""}]
[{"$f":"IF(ISBLANK(B328),\"-\",GenGuid())","v":"-"},null,null,"",null,null,null,null,null,null,null,null,null,null,null,null,null,null,null,null,null,null,null,null,null,null,null,null,null,null,null,null,null,null,null,null,null,null,null,null,"","","",""]
[{"$f":"IF(ISBLANK(B329),\"-\",GenGuid())","v":"-"},null,null,"",null,null,null,null,null,null,null,null,null,null,null,null,null,null,null,null,null,null,null,null,null,null,null,null,null,null,null,null,null,null,null,null,null,null,null,null,"","","",""]
[{"$f":"IF(ISBLANK(B330),\"-\",GenGuid())","v":"-"},null,null,"",null,null,null,null,null,null,null,null,null,null,null,null,null,null,null,null,null,null,null,null,null,null,null,null,null,null,null,null,null,null,null,null,null,null,null,null,"","","",""]
[{"$f":"IF(ISBLANK(B331),\"-\",GenGuid())","v":"-"},null,null,"",null,null,null,null,null,null,null,null,null,null,null,null,null,null,null,null,null,null,null,null,null,null,null,null,null,null,null,null,null,null,null,null,null,null,null,null,"","","",""]
[{"$f":"IF(ISBLANK(B332),\"-\",GenGuid())","v":"-"},null,null,"",null,null,null,null,null,null,null,null,null,null,null,null,null,null,null,null,null,null,null,null,null,null,null,null,null,null,null,null,null,null,null,null,null,null,null,null,"","","",""]
[{"$f":"IF(ISBLANK(B333),\"-\",GenGuid())","v":"-"},null,null,"",null,null,null,null,null,null,null,null,null,null,null,null,null,null,null,null,null,null,null,null,null,null,null,null,null,null,null,null,null,null,null,null,null,null,null,null,"","","",""]
[{"$f":"IF(ISBLANK(B334),\"-\",GenGuid())","v":"-"},null,null,"",null,null,null,null,null,null,null,null,null,null,null,null,null,null,null,null,null,null,null,null,null,null,null,null,null,null,null,null,null,null,null,null,null,null,null,null,"","","",""]
[{"$f":"IF(ISBLANK(B335),\"-\",GenGuid())","v":"-"},null,null,"",null,null,null,null,null,null,null,null,null,null,null,null,null,null,null,null,null,null,null,null,null,null,null,null,null,null,null,null,null,null,null,null,null,null,null,null,"","","",""]
[{"$f":"IF(ISBLANK(B336),\"-\",GenGuid())","v":"-"},null,null,"",null,null,null,null,null,null,null,null,null,null,null,null,null,null,null,null,null,null,null,null,null,null,null,null,null,null,null,null,null,null,null,null,null,null,null,null,"","","",""]
[{"$f":"IF(ISBLANK(B337),\"-\",GenGuid())","v":"-"},null,null,"",null,null,null,null,null,null,null,null,null,null,null,null,null,null,null,null,null,null,null,null,null,null,null,null,null,null,null,null,null,null,null,null,null,null,null,null,"","","",""]
[{"$f":"IF(ISBLANK(B338),\"-\",GenGuid())","v":"-"},null,null,"",null,null,null,null,null,null,null,null,null,null,null,null,null,null,null,null,null,null,null,null,null,null,null,null,null,null,null,null,null,null,null,null,null,null,null,null,"","","",""]
[{"$f":"IF(ISBLANK(B339),\"-\",GenGuid())","v":"-"},null,null,"",null,null,null,null,null,null,null,null,null,null,null,null,null,null,null,null,null,null,null,null,null,null,null,null,null,null,null,null,null,null,null,null,null,null,null,null,"","","",""]
[{"$f":"IF(ISBLANK(B340),\"-\",GenGuid())","v":"-"},null,null,"",null,null,null,null,null,null,null,null,null,null,null,null,null,null,null,null,null,null,null,null,null,null,null,null,null,null,null,null,null,null,null,null,null,null,null,null,"","","",""]
[{"$f":"IF(ISBLANK(B341),\"-\",GenGuid())","v":"-"},null,null,"",null,null,null,null,null,null,null,null,null,null,null,null,null,null,null,null,null,null,null,null,null,null,null,null,null,null,null,null,null,null,null,null,null,null,null,null,"","","",""]
[{"$f":"IF(ISBLANK(B342),\"-\",GenGuid())","v":"-"},null,null,"",null,null,null,null,null,null,null,null,null,null,null,null,null,null,null,null,null,null,null,null,null,null,null,null,null,null,null,null,null,null,null,null,null,null,null,null,"","","",""]
[{"$f":"IF(ISBLANK(B343),\"-\",GenGuid())","v":"-"},null,null,"",null,null,null,null,null,null,null,null,null,null,null,null,null,null,null,null,null,null,null,null,null,null,null,null,null,null,null,null,null,null,null,null,null,null,null,null,"","","",""]
[{"$f":"IF(ISBLANK(B344),\"-\",GenGuid())","v":"-"},null,null,"",null,null,null,null,null,null,null,null,null,null,null,null,null,null,null,null,null,null,null,null,null,null,null,null,null,null,null,null,null,null,null,null,null,null,null,null,"","","",""]
[{"$f":"IF(ISBLANK(B345),\"-\",GenGuid())","v":"-"},null,null,"",null,null,null,null,null,null,null,null,null,null,null,null,null,null,null,null,null,null,null,null,null,null,null,null,null,null,null,null,null,null,null,null,null,null,null,null,"","","",""]
[{"$f":"IF(ISBLANK(B346),\"-\",GenGuid())","v":"-"},null,null,"",null,null,null,null,null,null,null,null,null,null,null,null,null,null,null,null,null,null,null,null,null,null,null,null,null,null,null,null,null,null,null,null,null,null,null,null,"","","",""]
[{"$f":"IF(ISBLANK(B347),\"-\",GenGuid())","v":"-"},null,null,"",null,null,null,null,null,null,null,null,null,null,null,null,null,null,null,null,null,null,null,null,null,null,null,null,null,null,null,null,null,null,null,null,null,null,null,null,"","","",""]
[{"$f":"IF(ISBLANK(B348),\"-\",GenGuid())","v":"-"},null,null,"",null,null,null,null,null,null,null,null,null,null,null,null,null,null,null,null,null,null,null,null,null,null,null,null,null,null,null,null,null,null,null,null,null,null,null,null,"","","",""]
[{"$f":"IF(ISBLANK(B349),\"-\",GenGuid())","v":"-"},null,null,"",null,null,null,null,null,null,null,null,null,null,null,null,null,null,null,null,null,null,null,null,null,null,null,null,null,null,null,null,null,null,null,null,null,null,null,null,"","","",""]
[{"$f":"IF(ISBLANK(B350),\"-\",GenGuid())","v":"-"},null,null,"",null,null,null,null,null,null,null,null,null,null,null,null,null,null,null,null,null,null,null,null,null,null,null,null,null,null,null,null,null,null,null,null,null,null,null,null,"","","",""]
[{"$f":"IF(ISBLANK(B351),\"-\",GenGuid())","v":"-"},null,null,"",null,null,null,null,null,null,null,null,null,null,null,null,null,null,null,null,null,null,null,null,null,null,null,null,null,null,null,null,null,null,null,null,null,null,null,null,"","","",""]
[{"$f":"IF(ISBLANK(B352),\"-\",GenGuid())","v":"-"},null,null,"",null,null,null,null,null,null,null,null,null,null,null,null,null,null,null,null,null,null,null,null,null,null,null,null,null,null,null,null,null,null,null,null,null,null,null,null,"","","",""]
[{"$f":"IF(ISBLANK(B353),\"-\",GenGuid())","v":"-"},null,null,"",null,null,null,null,null,null,null,null,null,null,null,null,null,null,null,null,null,null,null,null,null,null,null,null,null,null,null,null,null,null,null,null,null,null,null,null,"","","",""]
[{"$f":"IF(ISBLANK(B354),\"-\",GenGuid())","v":"-"},null,null,"",null,null,null,null,null,null,null,null,null,null,null,null,null,null,null,null,null,null,null,null,null,null,null,null,null,null,null,null,null,null,null,null,null,null,null,null,"","","",""]
[{"$f":"IF(ISBLANK(B355),\"-\",GenGuid())","v":"-"},null,null,"",null,null,null,null,null,null,null,null,null,null,null,null,null,null,null,null,null,null,null,null,null,null,null,null,null,null,null,null,null,null,null,null,null,null,null,null,"","","",""]
[{"$f":"IF(ISBLANK(B356),\"-\",GenGuid())","v":"-"},null,null,"",null,null,null,null,null,null,null,null,null,null,null,null,null,null,null,null,null,null,null,null,null,null,null,null,null,null,null,null,null,null,null,null,null,null,null,null,"","","",""]
[{"$f":"IF(ISBLANK(B357),\"-\",GenGuid())","v":"-"},null,null,"",null,null,null,null,null,null,null,null,null,null,null,null,null,null,null,null,null,null,null,null,null,null,null,null,null,null,null,null,null,null,null,null,null,null,null,null,"","","",""]
[{"$f":"IF(ISBLANK(B358),\"-\",GenGuid())","v":"-"},null,null,"",null,null,null,null,null,null,null,null,null,null,null,null,null,null,null,null,null,null,null,null,null,null,null,null,null,null,null,null,null,null,null,null,null,null,null,null,"","","",""]
[{"$f":"IF(ISBLANK(B359),\"-\",GenGuid())","v":"-"},null,null,"",null,null,null,null,null,null,null,null,null,null,null,null,null,null,null,null,null,null,null,null,null,null,null,null,null,null,null,null,null,null,null,null,null,null,null,null,"","","",""]
[{"$f":"IF(ISBLANK(B360),\"-\",GenGuid())","v":"-"},null,null,"",null,null,null,null,null,null,null,null,null,null,null,null,null,null,null,null,null,null,null,null,null,null,null,null,null,null,null,null,null,null,null,null,null,null,null,null,"","","",""]
[{"$f":"IF(ISBLANK(B361),\"-\",GenGuid())","v":"-"},null,null,"",null,null,null,null,null,null,null,null,null,null,null,null,null,null,null,null,null,null,null,null,null,null,null,null,null,null,null,null,null,null,null,null,null,null,null,null,"","","",""]
[{"$f":"IF(ISBLANK(B362),\"-\",GenGuid())","v":"-"},null,null,"",null,null,null,null,null,null,null,null,null,null,null,null,null,null,null,null,null,null,null,null,null,null,null,null,null,null,null,null,null,null,null,null,null,null,null,null,"","","",""]
[{"$f":"IF(ISBLANK(B363),\"-\",GenGuid())","v":"-"},null,null,"",null,null,null,null,null,null,null,null,null,null,null,null,null,null,null,null,null,null,null,null,null,null,null,null,null,null,null,null,null,null,null,null,null,null,null,null,"","","",""]
[{"$f":"IF(ISBLANK(B364),\"-\",GenGuid())","v":"-"},null,null,"",null,null,null,null,null,null,null,null,null,null,null,null,null,null,null,null,null,null,null,null,null,null,null,null,null,null,null,null,null,null,null,null,null,null,null,null,"","","",""]
[{"$f":"IF(ISBLANK(B365),\"-\",GenGuid())","v":"-"},null,null,"",null,null,null,null,null,null,null,null,null,null,null,null,null,null,null,null,null,null,null,null,null,null,null,null,null,null,null,null,null,null,null,null,null,null,null,null,"","","",""]
[{"$f":"IF(ISBLANK(B366),\"-\",GenGuid())","v":"-"},null,null,"",null,null,null,null,null,null,null,null,null,null,null,null,null,null,null,null,null,null,null,null,null,null,null,null,null,null,null,null,null,null,null,null,null,null,null,null,"","","",""]
[{"$f":"IF(ISBLANK(B367),\"-\",GenGuid())","v":"-"},null,null,"",null,null,null,null,null,null,null,null,null,null,null,null,null,null,null,null,null,null,null,null,null,null,null,null,null,null,null,null,null,null,null,null,null,null,null,null,"","","",""]
[{"$f":"IF(ISBLANK(B368),\"-\",GenGuid())","v":"-"},null,null,"",null,null,null,null,null,null,null,null,null,null,null,null,null,null,null,null,null,null,null,null,null,null,null,null,null,null,null,null,null,null,null,null,null,null,null,null,"","","",""]
[{"$f":"IF(ISBLANK(B369),\"-\",GenGuid())","v":"-"},null,null,"",null,null,null,null,null,null,null,null,null,null,null,null,null,null,null,null,null,null,null,null,null,null,null,null,null,null,null,null,null,null,null,null,null,null,null,null,"","","",""]
[{"$f":"IF(ISBLANK(B370),\"-\",GenGuid())","v":"-"},null,null,"",null,null,null,null,null,null,null,null,null,null,null,null,null,null,null,null,null,null,null,null,null,null,null,null,null,null,null,null,null,null,null,null,null,null,null,null,"","","",""]
[{"$f":"IF(ISBLANK(B371),\"-\",GenGuid())","v":"-"},null,null,"",null,null,null,null,null,null,null,null,null,null,null,null,null,null,null,null,null,null,null,null,null,null,null,null,null,null,null,null,null,null,null,null,null,null,null,null,"","","",""]
[{"$f":"IF(ISBLANK(B372),\"-\",GenGuid())","v":"-"},null,null,"",null,null,null,null,null,null,null,null,null,null,null,null,null,null,null,null,null,null,null,null,null,null,null,null,null,null,null,null,null,null,null,null,null,null,null,null,"","","",""]
[{"$f":"IF(ISBLANK(B373),\"-\",GenGuid())","v":"-"},null,null,"",null,null,null,null,null,null,null,null,null,null,null,null,null,null,null,null,null,null,null,null,null,null,null,null,null,null,null,null,null,null,null,null,null,null,null,null,"","","",""]
[{"$f":"IF(ISBLANK(B374),\"-\",GenGuid())","v":"-"},null,null,"",null,null,null,null,null,null,null,null,null,null,null,null,null,null,null,null,null,null,null,null,null,null,null,null,null,null,null,null,null,null,null,null,null,null,null,null,"","","",""]
[{"$f":"IF(ISBLANK(B375),\"-\",GenGuid())","v":"-"},null,null,"",null,null,null,null,null,null,null,null,null,null,null,null,null,null,null,null,null,null,null,null,null,null,null,null,null,null,null,null,null,null,null,null,null,null,null,null,"","","",""]
[{"$f":"IF(ISBLANK(B376),\"-\",GenGuid())","v":"-"},null,null,"",null,null,null,null,null,null,null,null,null,null,null,null,null,null,null,null,null,null,null,null,null,null,null,null,null,null,null,null,null,null,null,null,null,null,null,null,"","","",""]
[{"$f":"IF(ISBLANK(B377),\"-\",GenGuid())","v":"-"},null,null,"",null,null,null,null,null,null,null,null,null,null,null,null,null,null,null,null,null,null,null,null,null,null,null,null,null,null,null,null,null,null,null,null,null,null,null,null,"","","",""]
[{"$f":"IF(ISBLANK(B378),\"-\",GenGuid())","v":"-"},null,null,"",null,null,null,null,null,null,null,null,null,null,null,null,null,null,null,null,null,null,null,null,null,null,null,null,null,null,null,null,null,null,null,null,null,null,null,null,"","","",""]
[{"$f":"IF(ISBLANK(B379),\"-\",GenGuid())","v":"-"},null,null,"",null,null,null,null,null,null,null,null,null,null,null,null,null,null,null,null,null,null,null,null,null,null,null,null,null,null,null,null,null,null,null,null,null,null,null,null,"","","",""]
[{"$f":"IF(ISBLANK(B380),\"-\",GenGuid())","v":"-"},null,null,"",null,null,null,null,null,null,null,null,null,null,null,null,null,null,null,null,null,null,null,null,null,null,null,null,null,null,null,null,null,null,null,null,null,null,null,null,"","","",""]
[{"$f":"IF(ISBLANK(B381),\"-\",GenGuid())","v":"-"},null,null,"",null,null,null,null,null,null,null,null,null,null,null,null,null,null,null,null,null,null,null,null,null,null,null,null,null,null,null,null,null,null,null,null,null,null,null,null,"","","",""]
[{"$f":"IF(ISBLANK(B382),\"-\",GenGuid())","v":"-"},null,null,"",null,null,null,null,null,null,null,null,null,null,null,null,null,null,null,null,null,null,null,null,null,null,null,null,null,null,null,null,null,null,null,null,null,null,null,null,"","","",""]
[{"$f":"IF(ISBLANK(B383),\"-\",GenGuid())","v":"-"},null,null,"",null,null,null,null,null,null,null,null,null,null,null,null,null,null,null,null,null,null,null,null,null,null,null,null,null,null,null,null,null,null,null,null,null,null,null,null,"","","",""]
[{"$f":"IF(ISBLANK(B384),\"-\",GenGuid())","v":"-"},null,null,"",null,null,null,null,null,null,null,null,null,null,null,null,null,null,null,null,null,null,null,null,null,null,null,null,null,null,null,null,null,null,null,null,null,null,null,null,"","","",""]
[{"$f":"IF(ISBLANK(B385),\"-\",GenGuid())","v":"-"},null,null,"",null,null,null,null,null,null,null,null,null,null,null,null,null,null,null,null,null,null,null,null,null,null,null,null,null,null,null,null,null,null,null,null,null,null,null,null,"","","",""]
[{"$f":"IF(ISBLANK(B386),\"-\",GenGuid())","v":"-"},null,null,"",null,null,null,null,null,null,null,null,null,null,null,null,null,null,null,null,null,null,null,null,null,null,null,null,null,null,null,null,null,null,null,null,null,null,null,null,"","","",""]
[{"$f":"IF(ISBLANK(B387),\"-\",GenGuid())","v":"-"},null,null,"",null,null,null,null,null,null,null,null,null,null,null,null,null,null,null,null,null,null,null,null,null,null,null,null,null,null,null,null,null,null,null,null,null,null,null,null,"","","",""]
[{"$f":"IF(ISBLANK(B388),\"-\",GenGuid())","v":"-"},null,null,"",null,null,null,null,null,null,null,null,null,null,null,null,null,null,null,null,null,null,null,null,null,null,null,null,null,null,null,null,null,null,null,null,null,null,null,null,"","","",""]
[{"$f":"IF(ISBLANK(B389),\"-\",GenGuid())","v":"-"},null,null,"",null,null,null,null,null,null,null,null,null,null,null,null,null,null,null,null,null,null,null,null,null,null,null,null,null,null,null,null,null,null,null,null,null,null,null,null,"","","",""]
[{"$f":"IF(ISBLANK(B390),\"-\",GenGuid())","v":"-"},null,null,"",null,null,null,null,null,null,null,null,null,null,null,null,null,null,null,null,null,null,null,null,null,null,null,null,null,null,null,null,null,null,null,null,null,null,null,null,"","","",""]
[{"$f":"IF(ISBLANK(B391),\"-\",GenGuid())","v":"-"},null,null,{"$f":"IF(AND(LEN(D390)>0,NOT(ISBLANK(C391))),D390,\"\")","v":""},null,null,null,null,null,null,null,null,null,null,null,null,null,null,null,null,null,null,null,null,null,null,null,null,null,null,null,null,null,null,null,null,null,null,null,null,{"$f":"IF(ISBLANK(B391),\"\",AO390)","v":""},{"$f":"IF(ISBLANK(B391),\"\",TODAY())","v":""},{"$f":"IF(ISBLANK(B391),\"\",IF(LEN(AO391)=0,\"\",AO391))","v":""},{"$f":"IF(ISBLANK(B391),\"\",AP391)","v":""}]
[{"$f":"IF(ISBLANK(B392),\"-\",GenGuid())","v":"-"},null,null,"",null,null,null,null,null,null,null,null,null,null,null,null,null,null,null,null,null,null,null,null,null,null,null,null,null,null,null,null,null,null,null,null,null,null,null,null,"","","",""]
[{"$f":"IF(ISBLANK(B393),\"-\",GenGuid())","v":"-"},null,null,"",null,null,null,null,null,null,null,null,null,null,null,null,null,null,null,null,null,null,null,null,null,null,null,null,null,null,null,null,null,null,null,null,null,null,null,null,"","","",""]
[{"$f":"IF(ISBLANK(B394),\"-\",GenGuid())","v":"-"},null,null,"",null,null,null,null,null,null,null,null,null,null,null,null,null,null,null,null,null,null,null,null,null,null,null,null,null,null,null,null,null,null,null,null,null,null,null,null,"","","",""]
[{"$f":"IF(ISBLANK(B395),\"-\",GenGuid())","v":"-"},null,null,"",null,null,null,null,null,null,null,null,null,null,null,null,null,null,null,null,null,null,null,null,null,null,null,null,null,null,null,null,null,null,null,null,null,null,null,null,"","","",""]
[{"$f":"IF(ISBLANK(B396),\"-\",GenGuid())","v":"-"},null,null,"",null,null,null,null,null,null,null,null,null,null,null,null,null,null,null,null,null,null,null,null,null,null,null,null,null,null,null,null,null,null,null,null,null,null,null,null,"","","",""]
[{"$f":"IF(ISBLANK(B397),\"-\",GenGuid())","v":"-"},null,null,"",null,null,null,null,null,null,null,null,null,null,null,null,null,null,null,null,null,null,null,null,null,null,null,null,null,null,null,null,null,null,null,null,null,null,null,null,"","","",""]
[{"$f":"IF(ISBLANK(B398),\"-\",GenGuid())","v":"-"},null,null,"",null,null,null,null,null,null,null,null,null,null,null,null,null,null,null,null,null,null,null,null,null,null,null,null,null,null,null,null,null,null,null,null,null,null,null,null,"","","",""]
[{"$f":"IF(ISBLANK(B399),\"-\",GenGuid())","v":"-"},null,null,"",null,null,null,null,null,null,null,null,null,null,null,null,null,null,null,null,null,null,null,null,null,null,null,null,null,null,null,null,null,null,null,null,null,null,null,null,"","","",""]
[{"$f":"IF(ISBLANK(B400),\"-\",GenGuid())","v":"-"},null,null,"",null,null,null,null,null,null,null,null,null,null,null,null,null,null,null,null,null,null,null,null,null,null,null,null,null,null,null,null,null,null,null,null,null,null,null,null,"","","",""]
[{"$f":"IF(ISBLANK(B401),\"-\",GenGuid())","v":"-"},null,null,"",null,null,null,null,null,null,null,null,null,null,null,null,null,null,null,null,null,null,null,null,null,null,null,null,null,null,null,null,null,null,null,null,null,null,null,null,"","","",""]
[{"$f":"IF(ISBLANK(B402),\"-\",GenGuid())","v":"-"},null,null,"",null,null,null,null,null,null,null,null,null,null,null,null,null,null,null,null,null,null,null,null,null,null,null,null,null,null,null,null,null,null,null,null,null,null,null,null,"","","",""]
[{"$f":"IF(ISBLANK(B403),\"-\",GenGuid())","v":"-"},null,null,"",null,null,null,null,null,null,null,null,null,null,null,null,null,null,null,null,null,null,null,null,null,null,null,null,null,null,null,null,null,null,null,null,null,null,null,null,"","","",""]
[{"$f":"IF(ISBLANK(B404),\"-\",GenGuid())","v":"-"},null,null,"",null,null,null,null,null,null,null,null,null,null,null,null,null,null,null,null,null,null,null,null,null,null,null,null,null,null,null,null,null,null,null,null,null,null,null,null,"","","",""]
[{"$f":"IF(ISBLANK(B405),\"-\",GenGuid())","v":"-"},null,null,"",null,null,null,null,null,null,null,null,null,null,null,null,null,null,null,null,null,null,null,null,null,null,null,null,null,null,null,null,null,null,null,null,null,null,null,null,"","","",""]
[{"$f":"IF(ISBLANK(B406),\"-\",GenGuid())","v":"-"},null,null,"",null,null,null,null,null,null,null,null,null,null,null,null,null,null,null,null,null,null,null,null,null,null,null,null,null,null,null,null,null,null,null,null,null,null,null,null,"","","",""]
[{"$f":"IF(ISBLANK(B407),\"-\",GenGuid())","v":"-"},null,null,"",null,null,null,null,null,null,null,null,null,null,null,null,null,null,null,null,null,null,null,null,null,null,null,null,null,null,null,null,null,null,null,null,null,null,null,null,"","","",""]
[{"$f":"IF(ISBLANK(B408),\"-\",GenGuid())","v":"-"},null,null,"",null,null,null,null,null,null,null,null,null,null,null,null,null,null,null,null,null,null,null,null,null,null,null,null,null,null,null,null,null,null,null,null,null,null,null,null,"","","",""]
[{"$f":"IF(ISBLANK(B409),\"-\",GenGuid())","v":"-"},null,null,"",null,null,null,null,null,null,null,null,null,null,null,null,null,null,null,null,null,null,null,null,null,null,null,null,null,null,null,null,null,null,null,null,null,null,null,null,"","","",""]
[{"$f":"IF(ISBLANK(B410),\"-\",GenGuid())","v":"-"},null,null,"",null,null,null,null,null,null,null,null,null,null,null,null,null,null,null,null,null,null,null,null,null,null,null,null,null,null,null,null,null,null,null,null,null,null,null,null,"","","",""]
[{"$f":"IF(ISBLANK(B411),\"-\",GenGuid())","v":"-"},null,null,"",null,null,null,null,null,null,null,null,null,null,null,null,null,null,null,null,null,null,null,null,null,null,null,null,null,null,null,null,null,null,null,null,null,null,null,null,"","","",""]
[{"$f":"IF(ISBLANK(B412),\"-\",GenGuid())","v":"-"},null,null,"",null,null,null,null,null,null,null,null,null,null,null,null,null,null,null,null,null,null,null,null,null,null,null,null,null,null,null,null,null,null,null,null,null,null,null,null,"","","",""]
[{"$f":"IF(ISBLANK(B413),\"-\",GenGuid())","v":"-"},null,null,"",null,null,null,null,null,null,null,null,null,null,null,null,null,null,null,null,null,null,null,null,null,null,null,null,null,null,null,null,null,null,null,null,null,null,null,null,"","","",""]
[{"$f":"IF(ISBLANK(B414),\"-\",GenGuid())","v":"-"},null,null,"",null,null,null,null,null,null,null,null,null,null,null,null,null,null,null,null,null,null,null,null,null,null,null,null,null,null,null,null,null,null,null,null,null,null,null,null,"","","",""]
[{"$f":"IF(ISBLANK(B415),\"-\",GenGuid())","v":"-"},null,null,"",null,null,null,null,null,null,null,null,null,null,null,null,null,null,null,null,null,null,null,null,null,null,null,null,null,null,null,null,null,null,null,null,null,null,null,null,"","","",""]
[{"$f":"IF(ISBLANK(B416),\"-\",GenGuid())","v":"-"},null,null,"",null,null,null,null,null,null,null,null,null,null,null,null,null,null,null,null,null,null,null,null,null,null,null,null,null,null,null,null,null,null,null,null,null,null,null,null,"","","",""]
[{"$f":"IF(ISBLANK(B417),\"-\",GenGuid())","v":"-"},null,null,"",null,null,null,null,null,null,null,null,null,null,null,null,null,null,null,null,null,null,null,null,null,null,null,null,null,null,null,null,null,null,null,null,null,null,null,null,"","","",""]
[{"$f":"IF(ISBLANK(B418),\"-\",GenGuid())","v":"-"},null,null,"",null,null,null,null,null,null,null,null,null,null,null,null,null,null,null,null,null,null,null,null,null,null,null,null,null,null,null,null,null,null,null,null,null,null,null,null,"","","",""]
[{"$f":"IF(ISBLANK(B419),\"-\",GenGuid())","v":"-"},null,null,"",null,null,null,null,null,null,null,null,null,null,null,null,null,null,null,null,null,null,null,null,null,null,null,null,null,null,null,null,null,null,null,null,null,null,null,null,"","","",""]
[{"$f":"IF(ISBLANK(B420),\"-\",GenGuid())","v":"-"},null,null,"",null,null,null,null,null,null,null,null,null,null,null,null,null,null,null,null,null,null,null,null,null,null,null,null,null,null,null,null,null,null,null,null,null,null,null,null,"","","",""]
[{"$f":"IF(ISBLANK(B421),\"-\",GenGuid())","v":"-"},null,null,"",null,null,null,null,null,null,null,null,null,null,null,null,null,null,null,null,null,null,null,null,null,null,null,null,null,null,null,null,null,null,null,null,null,null,null,null,"","","",""]
[{"$f":"IF(ISBLANK(B422),\"-\",GenGuid())","v":"-"},null,null,"",null,null,null,null,null,null,null,null,null,null,null,null,null,null,null,null,null,null,null,null,null,null,null,null,null,null,null,null,null,null,null,null,null,null,null,null,"","","",""]
[{"$f":"IF(ISBLANK(B423),\"-\",GenGuid())","v":"-"},null,null,"",null,null,null,null,null,null,null,null,null,null,null,null,null,null,null,null,null,null,null,null,null,null,null,null,null,null,null,null,null,null,null,null,null,null,null,null,"","","",""]
[{"$f":"IF(ISBLANK(B424),\"-\",GenGuid())","v":"-"},null,null,"",null,null,null,null,null,null,null,null,null,null,null,null,null,null,null,null,null,null,null,null,null,null,null,null,null,null,null,null,null,null,null,null,null,null,null,null,"","","",""]
[{"$f":"IF(ISBLANK(B425),\"-\",GenGuid())","v":"-"},null,null,"",null,null,null,null,null,null,null,null,null,null,null,null,null,null,null,null,null,null,null,null,null,null,null,null,null,null,null,null,null,null,null,null,null,null,null,null,"","","",""]
[{"$f":"IF(ISBLANK(B426),\"-\",GenGuid())","v":"-"},null,null,"",null,null,null,null,null,null,null,null,null,null,null,null,null,null,null,null,null,null,null,null,null,null,null,null,null,null,null,null,null,null,null,null,null,null,null,null,"","","",""]
[{"$f":"IF(ISBLANK(B427),\"-\",GenGuid())","v":"-"},null,null,"",null,null,null,null,null,null,null,null,null,null,null,null,null,null,null,null,null,null,null,null,null,null,null,null,null,null,null,null,null,null,null,null,null,null,null,null,"","","",""]
[{"$f":"IF(ISBLANK(B428),\"-\",GenGuid())","v":"-"},null,null,"",null,null,null,null,null,null,null,null,null,null,null,null,null,null,null,null,null,null,null,null,null,null,null,null,null,null,null,null,null,null,null,null,null,null,null,null,"","","",""]
[{"$f":"IF(ISBLANK(B429),\"-\",GenGuid())","v":"-"},null,null,"",null,null,null,null,null,null,null,null,null,null,null,null,null,null,null,null,null,null,null,null,null,null,null,null,null,null,null,null,null,null,null,null,null,null,null,null,"","","",""]
[{"$f":"IF(ISBLANK(B430),\"-\",GenGuid())","v":"-"},null,null,"",null,null,null,null,null,null,null,null,null,null,null,null,null,null,null,null,null,null,null,null,null,null,null,null,null,null,null,null,null,null,null,null,null,null,null,null,"","","",""]
[{"$f":"IF(ISBLANK(B431),\"-\",GenGuid())","v":"-"},null,null,"",null,null,null,null,null,null,null,null,null,null,null,null,null,null,null,null,null,null,null,null,null,null,null,null,null,null,null,null,null,null,null,null,null,null,null,null,"","","",""]
[{"$f":"IF(ISBLANK(B432),\"-\",GenGuid())","v":"-"},null,null,"",null,null,null,null,null,null,null,null,null,null,null,null,null,null,null,null,null,null,null,null,null,null,null,null,null,null,null,null,null,null,null,null,null,null,null,null,"","","",""]
[{"$f":"IF(ISBLANK(B433),\"-\",GenGuid())","v":"-"},null,null,"",null,null,null,null,null,null,null,null,null,null,null,null,null,null,null,null,null,null,null,null,null,null,null,null,null,null,null,null,null,null,null,null,null,null,null,null,"","","",""]
[{"$f":"IF(ISBLANK(B434),\"-\",GenGuid())","v":"-"},null,null,"",null,null,null,null,null,null,null,null,null,null,null,null,null,null,null,null,null,null,null,null,null,null,null,null,null,null,null,null,null,null,null,null,null,null,null,null,"","","",""]
[{"$f":"IF(ISBLANK(B435),\"-\",GenGuid())","v":"-"},null,null,"",null,null,null,null,null,null,null,null,null,null,null,null,null,null,null,null,null,null,null,null,null,null,null,null,null,null,null,null,null,null,null,null,null,null,null,null,"","","",""]
[{"$f":"IF(ISBLANK(B436),\"-\",GenGuid())","v":"-"},null,null,"",null,null,null,null,null,null,null,null,null,null,null,null,null,null,null,null,null,null,null,null,null,null,null,null,null,null,null,null,null,null,null,null,null,null,null,null,"","","",""]
[{"$f":"IF(ISBLANK(B437),\"-\",GenGuid())","v":"-"},null,null,"",null,null,null,null,null,null,null,null,null,null,null,null,null,null,null,null,null,null,null,null,null,null,null,null,null,null,null,null,null,null,null,null,null,null,null,null,"","","",""]
[{"$f":"IF(ISBLANK(B438),\"-\",GenGuid())","v":"-"},null,null,"",null,null,null,null,null,null,null,null,null,null,null,null,null,null,null,null,null,null,null,null,null,null,null,null,null,null,null,null,null,null,null,null,null,null,null,null,"","","",""]
[{"$f":"IF(ISBLANK(B439),\"-\",GenGuid())","v":"-"},null,null,"",null,null,null,null,null,null,null,null,null,null,null,null,null,null,null,null,null,null,null,null,null,null,null,null,null,null,null,null,null,null,null,null,null,null,null,null,"","","",""]
[{"$f":"IF(ISBLANK(B440),\"-\",GenGuid())","v":"-"},null,null,"",null,null,null,null,null,null,null,null,null,null,null,null,null,null,null,null,null,null,null,null,null,null,null,null,null,null,null,null,null,null,null,null,null,null,null,null,"","","",""]
[{"$f":"IF(ISBLANK(B441),\"-\",GenGuid())","v":"-"},null,null,"",null,null,null,null,null,null,null,null,null,null,null,null,null,null,null,null,null,null,null,null,null,null,null,null,null,null,null,null,null,null,null,null,null,null,null,null,"","","",""]
[{"$f":"IF(ISBLANK(B442),\"-\",GenGuid())","v":"-"},null,null,"",null,null,null,null,null,null,null,null,null,null,null,null,null,null,null,null,null,null,null,null,null,null,null,null,null,null,null,null,null,null,null,null,null,null,null,null,"","","",""]
[{"$f":"IF(ISBLANK(B443),\"-\",GenGuid())","v":"-"},null,null,"",null,null,null,null,null,null,null,null,null,null,null,null,null,null,null,null,null,null,null,null,null,null,null,null,null,null,null,null,null,null,null,null,null,null,null,null,"","","",""]
[{"$f":"IF(ISBLANK(B444),\"-\",GenGuid())","v":"-"},null,null,"",null,null,null,null,null,null,null,null,null,null,null,null,null,null,null,null,null,null,null,null,null,null,null,null,null,null,null,null,null,null,null,null,null,null,null,null,"","","",""]
[{"$f":"IF(ISBLANK(B445),\"-\",GenGuid())","v":"-"},null,null,"",null,null,null,null,null,null,null,null,null,null,null,null,null,null,null,null,null,null,null,null,null,null,null,null,null,null,null,null,null,null,null,null,null,null,null,null,"","","",""]
[{"$f":"IF(ISBLANK(B446),\"-\",GenGuid())","v":"-"},null,null,"",null,null,null,null,null,null,null,null,null,null,null,null,null,null,null,null,null,null,null,null,null,null,null,null,null,null,null,null,null,null,null,null,null,null,null,null,"","","",""]
[{"$f":"IF(ISBLANK(B447),\"-\",GenGuid())","v":"-"},null,null,"",null,null,null,null,null,null,null,null,null,null,null,null,null,null,null,null,null,null,null,null,null,null,null,null,null,null,null,null,null,null,null,null,null,null,null,null,"","","",""]
[{"$f":"IF(ISBLANK(B448),\"-\",GenGuid())","v":"-"},null,null,"",null,null,null,null,null,null,null,null,null,null,null,null,null,null,null,null,null,null,null,null,null,null,null,null,null,null,null,null,null,null,null,null,null,null,null,null,"","","",""]
[{"$f":"IF(ISBLANK(B449),\"-\",GenGuid())","v":"-"},null,null,"",null,null,null,null,null,null,null,null,null,null,null,null,null,null,null,null,null,null,null,null,null,null,null,null,null,null,null,null,null,null,null,null,null,null,null,null,"","","",""]
[{"$f":"IF(ISBLANK(B450),\"-\",GenGuid())","v":"-"},null,null,"",null,null,null,null,null,null,null,null,null,null,null,null,null,null,null,null,null,null,null,null,null,null,null,null,null,null,null,null,null,null,null,null,null,null,null,null,"","","",""]
[{"$f":"IF(ISBLANK(B451),\"-\",GenGuid())","v":"-"},null,null,"",null,null,null,null,null,null,null,null,null,null,null,null,null,null,null,null,null,null,null,null,null,null,null,null,null,null,null,null,null,null,null,null,null,null,null,null,"","","",""]
[{"$f":"IF(ISBLANK(B452),\"-\",GenGuid())","v":"-"},null,null,"",null,null,null,null,null,null,null,null,null,null,null,null,null,null,null,null,null,null,null,null,null,null,null,null,null,null,null,null,null,null,null,null,null,null,null,null,"","","",""]
[{"$f":"IF(ISBLANK(B453),\"-\",GenGuid())","v":"-"},null,null,"",null,null,null,null,null,null,null,null,null,null,null,null,null,null,null,null,null,null,null,null,null,null,null,null,null,null,null,null,null,null,null,null,null,null,null,null,"","","",""]
[{"$f":"IF(ISBLANK(B454),\"-\",GenGuid())","v":"-"},null,null,"",null,null,null,null,null,null,null,null,null,null,null,null,null,null,null,null,null,null,null,null,null,null,null,null,null,null,null,null,null,null,null,null,null,null,null,null,"","","",""]
[{"$f":"IF(ISBLANK(B455),\"-\",GenGuid())","v":"-"},null,null,{"$f":"IF(AND(LEN(D454)>0,NOT(ISBLANK(C455))),D454,\"\")","v":""},null,null,null,null,null,null,null,null,null,null,null,null,null,null,null,null,null,null,null,null,null,null,null,null,null,null,null,null,null,null,null,null,null,null,null,null,{"$f":"IF(ISBLANK(B455),\"\",AO454)","v":""},{"$f":"IF(ISBLANK(B455),\"\",TODAY())","v":""},{"$f":"IF(ISBLANK(B455),\"\",IF(LEN(AO455)=0,\"\",AO455))","v":""},{"$f":"IF(ISBLANK(B455),\"\",AP455)","v":""}]
[{"$f":"IF(ISBLANK(B456),\"-\",GenGuid())","v":"-"},null,null,"",null,null,null,null,null,null,null,null,null,null,null,null,null,null,null,null,null,null,null,null,null,null,null,null,null,null,null,null,null,null,null,null,null,null,null,null,"","","",""]
[{"$f":"IF(ISBLANK(B457),\"-\",GenGuid())","v":"-"},null,null,"",null,null,null,null,null,null,null,null,null,null,null,null,null,null,null,null,null,null,null,null,null,null,null,null,null,null,null,null,null,null,null,null,null,null,null,null,"","","",""]
[{"$f":"IF(ISBLANK(B458),\"-\",GenGuid())","v":"-"},null,null,"",null,null,null,null,null,null,null,null,null,null,null,null,null,null,null,null,null,null,null,null,null,null,null,null,null,null,null,null,null,null,null,null,null,null,null,null,"","","",""]
[{"$f":"IF(ISBLANK(B459),\"-\",GenGuid())","v":"-"},null,null,"",null,null,null,null,null,null,null,null,null,null,null,null,null,null,null,null,null,null,null,null,null,null,null,null,null,null,null,null,null,null,null,null,null,null,null,null,"","","",""]
[{"$f":"IF(ISBLANK(B460),\"-\",GenGuid())","v":"-"},null,null,"",null,null,null,null,null,null,null,null,null,null,null,null,null,null,null,null,null,null,null,null,null,null,null,null,null,null,null,null,null,null,null,null,null,null,null,null,"","","",""]
[{"$f":"IF(ISBLANK(B461),\"-\",GenGuid())","v":"-"},null,null,"",null,null,null,null,null,null,null,null,null,null,null,null,null,null,null,null,null,null,null,null,null,null,null,null,null,null,null,null,null,null,null,null,null,null,null,null,"","","",""]
[{"$f":"IF(ISBLANK(B462),\"-\",GenGuid())","v":"-"},null,null,"",null,null,null,null,null,null,null,null,null,null,null,null,null,null,null,null,null,null,null,null,null,null,null,null,null,null,null,null,null,null,null,null,null,null,null,null,"","","",""]
[{"$f":"IF(ISBLANK(B463),\"-\",GenGuid())","v":"-"},null,null,"",null,null,null,null,null,null,null,null,null,null,null,null,null,null,null,null,null,null,null,null,null,null,null,null,null,null,null,null,null,null,null,null,null,null,null,null,"","","",""]
[{"$f":"IF(ISBLANK(B464),\"-\",GenGuid())","v":"-"},null,null,"",null,null,null,null,null,null,null,null,null,null,null,null,null,null,null,null,null,null,null,null,null,null,null,null,null,null,null,null,null,null,null,null,null,null,null,null,"","","",""]
[{"$f":"IF(ISBLANK(B465),\"-\",GenGuid())","v":"-"},null,null,"",null,null,null,null,null,null,null,null,null,null,null,null,null,null,null,null,null,null,null,null,null,null,null,null,null,null,null,null,null,null,null,null,null,null,null,null,"","","",""]
[{"$f":"IF(ISBLANK(B466),\"-\",GenGuid())","v":"-"},null,null,"",null,null,null,null,null,null,null,null,null,null,null,null,null,null,null,null,null,null,null,null,null,null,null,null,null,null,null,null,null,null,null,null,null,null,null,null,"","","",""]
[{"$f":"IF(ISBLANK(B467),\"-\",GenGuid())","v":"-"},null,null,"",null,null,null,null,null,null,null,null,null,null,null,null,null,null,null,null,null,null,null,null,null,null,null,null,null,null,null,null,null,null,null,null,null,null,null,null,"","","",""]
[{"$f":"IF(ISBLANK(B468),\"-\",GenGuid())","v":"-"},null,null,"",null,null,null,null,null,null,null,null,null,null,null,null,null,null,null,null,null,null,null,null,null,null,null,null,null,null,null,null,null,null,null,null,null,null,null,null,"","","",""]
[{"$f":"IF(ISBLANK(B469),\"-\",GenGuid())","v":"-"},null,null,"",null,null,null,null,null,null,null,null,null,null,null,null,null,null,null,null,null,null,null,null,null,null,null,null,null,null,null,null,null,null,null,null,null,null,null,null,"","","",""]
[{"$f":"IF(ISBLANK(B470),\"-\",GenGuid())","v":"-"},null,null,"",null,null,null,null,null,null,null,null,null,null,null,null,null,null,null,null,null,null,null,null,null,null,null,null,null,null,null,null,null,null,null,null,null,null,null,null,"","","",""]
[{"$f":"IF(ISBLANK(B471),\"-\",GenGuid())","v":"-"},null,null,"",null,null,null,null,null,null,null,null,null,null,null,null,null,null,null,null,null,null,null,null,null,null,null,null,null,null,null,null,null,null,null,null,null,null,null,null,"","","",""]
[{"$f":"IF(ISBLANK(B472),\"-\",GenGuid())","v":"-"},null,null,"",null,null,null,null,null,null,null,null,null,null,null,null,null,null,null,null,null,null,null,null,null,null,null,null,null,null,null,null,null,null,null,null,null,null,null,null,"","","",""]
[{"$f":"IF(ISBLANK(B473),\"-\",GenGuid())","v":"-"},null,null,"",null,null,null,null,null,null,null,null,null,null,null,null,null,null,null,null,null,null,null,null,null,null,null,null,null,null,null,null,null,null,null,null,null,null,null,null,"","","",""]
[{"$f":"IF(ISBLANK(B474),\"-\",GenGuid())","v":"-"},null,null,"",null,null,null,null,null,null,null,null,null,null,null,null,null,null,null,null,null,null,null,null,null,null,null,null,null,null,null,null,null,null,null,null,null,null,null,null,"","","",""]
[{"$f":"IF(ISBLANK(B475),\"-\",GenGuid())","v":"-"},null,null,"",null,null,null,null,null,null,null,null,null,null,null,null,null,null,null,null,null,null,null,null,null,null,null,null,null,null,null,null,null,null,null,null,null,null,null,null,"","","",""]
[{"$f":"IF(ISBLANK(B476),\"-\",GenGuid())","v":"-"},null,null,"",null,null,null,null,null,null,null,null,null,null,null,null,null,null,null,null,null,null,null,null,null,null,null,null,null,null,null,null,null,null,null,null,null,null,null,null,"","","",""]
[{"$f":"IF(ISBLANK(B477),\"-\",GenGuid())","v":"-"},null,null,"",null,null,null,null,null,null,null,null,null,null,null,null,null,null,null,null,null,null,null,null,null,null,null,null,null,null,null,null,null,null,null,null,null,null,null,null,"","","",""]
[{"$f":"IF(ISBLANK(B478),\"-\",GenGuid())","v":"-"},null,null,"",null,null,null,null,null,null,null,null,null,null,null,null,null,null,null,null,null,null,null,null,null,null,null,null,null,null,null,null,null,null,null,null,null,null,null,null,"","","",""]
[{"$f":"IF(ISBLANK(B479),\"-\",GenGuid())","v":"-"},null,null,"",null,null,null,null,null,null,null,null,null,null,null,null,null,null,null,null,null,null,null,null,null,null,null,null,null,null,null,null,null,null,null,null,null,null,null,null,"","","",""]
[{"$f":"IF(ISBLANK(B480),\"-\",GenGuid())","v":"-"},null,null,"",null,null,null,null,null,null,null,null,null,null,null,null,null,null,null,null,null,null,null,null,null,null,null,null,null,null,null,null,null,null,null,null,null,null,null,null,"","","",""]
[{"$f":"IF(ISBLANK(B481),\"-\",GenGuid())","v":"-"},null,null,"",null,null,null,null,null,null,null,null,null,null,null,null,null,null,null,null,null,null,null,null,null,null,null,null,null,null,null,null,null,null,null,null,null,null,null,null,"","","",""]
[{"$f":"IF(ISBLANK(B482),\"-\",GenGuid())","v":"-"},null,null,"",null,null,null,null,null,null,null,null,null,null,null,null,null,null,null,null,null,null,null,null,null,null,null,null,null,null,null,null,null,null,null,null,null,null,null,null,"","","",""]
[{"$f":"IF(ISBLANK(B483),\"-\",GenGuid())","v":"-"},null,null,"",null,null,null,null,null,null,null,null,null,null,null,null,null,null,null,null,null,null,null,null,null,null,null,null,null,null,null,null,null,null,null,null,null,null,null,null,"","","",""]
[{"$f":"IF(ISBLANK(B484),\"-\",GenGuid())","v":"-"},null,null,"",null,null,null,null,null,null,null,null,null,null,null,null,null,null,null,null,null,null,null,null,null,null,null,null,null,null,null,null,null,null,null,null,null,null,null,null,"","","",""]
[{"$f":"IF(ISBLANK(B485),\"-\",GenGuid())","v":"-"},null,null,"",null,null,null,null,null,null,null,null,null,null,null,null,null,null,null,null,null,null,null,null,null,null,null,null,null,null,null,null,null,null,null,null,null,null,null,null,"","","",""]
[{"$f":"IF(ISBLANK(B486),\"-\",GenGuid())","v":"-"},null,null,"",null,null,null,null,null,null,null,null,null,null,null,null,null,null,null,null,null,null,null,null,null,null,null,null,null,null,null,null,null,null,null,null,null,null,null,null,"","","",""]
[{"$f":"IF(ISBLANK(B487),\"-\",GenGuid())","v":"-"},null,null,"",null,null,null,null,null,null,null,null,null,null,null,null,null,null,null,null,null,null,null,null,null,null,null,null,null,null,null,null,null,null,null,null,null,null,null,null,"","","",""]
[{"$f":"IF(ISBLANK(B488),\"-\",GenGuid())","v":"-"},null,null,"",null,null,null,null,null,null,null,null,null,null,null,null,null,null,null,null,null,null,null,null,null,null,null,null,null,null,null,null,null,null,null,null,null,null,null,null,"","","",""]
[{"$f":"IF(ISBLANK(B489),\"-\",GenGuid())","v":"-"},null,null,"",null,null,null,null,null,null,null,null,null,null,null,null,null,null,null,null,null,null,null,null,null,null,null,null,null,null,null,null,null,null,null,null,null,null,null,null,"","","",""]
[{"$f":"IF(ISBLANK(B490),\"-\",GenGuid())","v":"-"},null,null,"",null,null,null,null,null,null,null,null,null,null,null,null,null,null,null,null,null,null,null,null,null,null,null,null,null,null,null,null,null,null,null,null,null,null,null,null,"","","",""]
[{"$f":"IF(ISBLANK(B491),\"-\",GenGuid())","v":"-"},null,null,"",null,null,null,null,null,null,null,null,null,null,null,null,null,null,null,null,null,null,null,null,null,null,null,null,null,null,null,null,null,null,null,null,null,null,null,null,"","","",""]
[{"$f":"IF(ISBLANK(B492),\"-\",GenGuid())","v":"-"},null,null,"",null,null,null,null,null,null,null,null,null,null,null,null,null,null,null,null,null,null,null,null,null,null,null,null,null,null,null,null,null,null,null,null,null,null,null,null,"","","",""]
[{"$f":"IF(ISBLANK(B493),\"-\",GenGuid())","v":"-"},null,null,"",null,null,null,null,null,null,null,null,null,null,null,null,null,null,null,null,null,null,null,null,null,null,null,null,null,null,null,null,null,null,null,null,null,null,null,null,"","","",""]
[{"$f":"IF(ISBLANK(B494),\"-\",GenGuid())","v":"-"},null,null,"",null,null,null,null,null,null,null,null,null,null,null,null,null,null,null,null,null,null,null,null,null,null,null,null,null,null,null,null,null,null,null,null,null,null,null,null,"","","",""]
[{"$f":"IF(ISBLANK(B495),\"-\",GenGuid())","v":"-"},null,null,"",null,null,null,null,null,null,null,null,null,null,null,null,null,null,null,null,null,null,null,null,null,null,null,null,null,null,null,null,null,null,null,null,null,null,null,null,"","","",""]
[{"$f":"IF(ISBLANK(B496),\"-\",GenGuid())","v":"-"},null,null,"",null,null,null,null,null,null,null,null,null,null,null,null,null,null,null,null,null,null,null,null,null,null,null,null,null,null,null,null,null,null,null,null,null,null,null,null,"","","",""]
[{"$f":"IF(ISBLANK(B497),\"-\",GenGuid())","v":"-"},null,null,"",null,null,null,null,null,null,null,null,null,null,null,null,null,null,null,null,null,null,null,null,null,null,null,null,null,null,null,null,null,null,null,null,null,null,null,null,"","","",""]
[{"$f":"IF(ISBLANK(B498),\"-\",GenGuid())","v":"-"},null,null,"",null,null,null,null,null,null,null,null,null,null,null,null,null,null,null,null,null,null,null,null,null,null,null,null,null,null,null,null,null,null,null,null,null,null,null,null,"","","",""]
[{"$f":"IF(ISBLANK(B499),\"-\",GenGuid())","v":"-"},null,null,"",null,null,null,null,null,null,null,null,null,null,null,null,null,null,null,null,null,null,null,null,null,null,null,null,null,null,null,null,null,null,null,null,null,null,null,null,"","","",""]
[{"$f":"IF(ISBLANK(B500),\"-\",GenGuid())","v":"-"},null,null,"",null,null,null,null,null,null,null,null,null,null,null,null,null,null,null,null,null,null,null,null,null,null,null,null,null,null,null,null,null,null,null,null,null,null,null,null,"","","",""]
[{"$f":"IF(ISBLANK(B501),\"-\",GenGuid())","v":"-"},null,null,"",null,null,null,null,null,null,null,null,null,null,null,null,null,null,null,null,null,null,null,null,null,null,null,null,null,null,null,null,null,null,null,null,null,null,null,null,"","","",""]
[{"$f":"IF(ISBLANK(B502),\"-\",GenGuid())","v":"-"},null,null,"",null,null,null,null,null,null,null,null,null,null,null,null,null,null,null,null,null,null,null,null,null,null,null,null,null,null,null,null,null,null,null,null,null,null,null,null,"","","",""]
[{"$f":"IF(ISBLANK(B503),\"-\",GenGuid())","v":"-"},null,null,"",null,null,null,null,null,null,null,null,null,null,null,null,null,null,null,null,null,null,null,null,null,null,null,null,null,null,null,null,null,null,null,null,null,null,null,null,"","","",""]
[{"$f":"IF(ISBLANK(B504),\"-\",GenGuid())","v":"-"},null,null,"",null,null,null,null,null,null,null,null,null,null,null,null,null,null,null,null,null,null,null,null,null,null,null,null,null,null,null,null,null,null,null,null,null,null,null,null,"","","",""]
[{"$f":"IF(ISBLANK(B505),\"-\",GenGuid())","v":"-"},null,null,"",null,null,null,null,null,null,null,null,null,null,null,null,null,null,null,null,null,null,null,null,null,null,null,null,null,null,null,null,null,null,null,null,null,null,null,null,"","","",""]
[{"$f":"IF(ISBLANK(B506),\"-\",GenGuid())","v":"-"},null,null,"",null,null,null,null,null,null,null,null,null,null,null,null,null,null,null,null,null,null,null,null,null,null,null,null,null,null,null,null,null,null,null,null,null,null,null,null,"","","",""]
[{"$f":"IF(ISBLANK(B507),\"-\",GenGuid())","v":"-"},null,null,"",null,null,null,null,null,null,null,null,null,null,null,null,null,null,null,null,null,null,null,null,null,null,null,null,null,null,null,null,null,null,null,null,null,null,null,null,"","","",""]
[{"$f":"IF(ISBLANK(B508),\"-\",GenGuid())","v":"-"},null,null,"",null,null,null,null,null,null,null,null,null,null,null,null,null,null,null,null,null,null,null,null,null,null,null,null,null,null,null,null,null,null,null,null,null,null,null,null,"","","",""]
[{"$f":"IF(ISBLANK(B509),\"-\",GenGuid())","v":"-"},null,null,"",null,null,null,null,null,null,null,null,null,null,null,null,null,null,null,null,null,null,null,null,null,null,null,null,null,null,null,null,null,null,null,null,null,null,null,null,"","","",""]
[{"$f":"IF(ISBLANK(B510),\"-\",GenGuid())","v":"-"},null,null,"",null,null,null,null,null,null,null,null,null,null,null,null,null,null,null,null,null,null,null,null,null,null,null,null,null,null,null,null,null,null,null,null,null,null,null,null,"","","",""]
[{"$f":"IF(ISBLANK(B511),\"-\",GenGuid())","v":"-"},null,null,"",null,null,null,null,null,null,null,null,null,null,null,null,null,null,null,null,null,null,null,null,null,null,null,null,null,null,null,null,null,null,null,null,null,null,null,null,"","","",""]
[{"$f":"IF(ISBLANK(B512),\"-\",GenGuid())","v":"-"},null,null,"",null,null,null,null,null,null,null,null,null,null,null,null,null,null,null,null,null,null,null,null,null,null,null,null,null,null,null,null,null,null,null,null,null,null,null,null,"","","",""]
[{"$f":"IF(ISBLANK(B513),\"-\",GenGuid())","v":"-"},null,null,"",null,null,null,null,null,null,null,null,null,null,null,null,null,null,null,null,null,null,null,null,null,null,null,null,null,null,null,null,null,null,null,null,null,null,null,null,"","","",""]
[{"$f":"IF(ISBLANK(B514),\"-\",GenGuid())","v":"-"},null,null,"",null,null,null,null,null,null,null,null,null,null,null,null,null,null,null,null,null,null,null,null,null,null,null,null,null,null,null,null,null,null,null,null,null,null,null,null,"","","",""]
[{"$f":"IF(ISBLANK(B515),\"-\",GenGuid())","v":"-"},null,null,"",null,null,null,null,null,null,null,null,null,null,null,null,null,null,null,null,null,null,null,null,null,null,null,null,null,null,null,null,null,null,null,null,null,null,null,null,"","","",""]
[{"$f":"IF(ISBLANK(B516),\"-\",GenGuid())","v":"-"},null,null,"",null,null,null,null,null,null,null,null,null,null,null,null,null,null,null,null,null,null,null,null,null,null,null,null,null,null,null,null,null,null,null,null,null,null,null,null,"","","",""]
[{"$f":"IF(ISBLANK(B517),\"-\",GenGuid())","v":"-"},null,null,"",null,null,null,null,null,null,null,null,null,null,null,null,null,null,null,null,null,null,null,null,null,null,null,null,null,null,null,null,null,null,null,null,null,null,null,null,"","","",""]
[{"$f":"IF(ISBLANK(B518),\"-\",GenGuid())","v":"-"},null,null,"",null,null,null,null,null,null,null,null,null,null,null,null,null,null,null,null,null,null,null,null,null,null,null,null,null,null,null,null,null,null,null,null,null,null,null,null,"","","",""]
[{"$f":"IF(ISBLANK(B519),\"-\",GenGuid())","v":"-"},null,null,{"$f":"IF(AND(LEN(D518)>0,NOT(ISBLANK(C519))),D518,\"\")","v":""},null,null,null,null,null,null,null,null,null,null,null,null,null,null,null,null,null,null,null,null,null,null,null,null,null,null,null,null,null,null,null,null,null,null,null,null,{"$f":"IF(ISBLANK(B519),\"\",AO518)","v":""},{"$f":"IF(ISBLANK(B519),\"\",TODAY())","v":""},{"$f":"IF(ISBLANK(B519),\"\",IF(LEN(AO519)=0,\"\",AO519))","v":""},{"$f":"IF(ISBLANK(B519),\"\",AP519)","v":""}]
[{"$f":"IF(ISBLANK(B520),\"-\",GenGuid())","v":"-"},null,null,"",null,null,null,null,null,null,null,null,null,null,null,null,null,null,null,null,null,null,null,null,null,null,null,null,null,null,null,null,null,null,null,null,null,null,null,null,"","","",""]
[{"$f":"IF(ISBLANK(B521),\"-\",GenGuid())","v":"-"},null,null,"",null,null,null,null,null,null,null,null,null,null,null,null,null,null,null,null,null,null,null,null,null,null,null,null,null,null,null,null,null,null,null,null,null,null,null,null,"","","",""]
[{"$f":"IF(ISBLANK(B522),\"-\",GenGuid())","v":"-"},null,null,"",null,null,null,null,null,null,null,null,null,null,null,null,null,null,null,null,null,null,null,null,null,null,null,null,null,null,null,null,null,null,null,null,null,null,null,null,"","","",""]
[{"$f":"IF(ISBLANK(B523),\"-\",GenGuid())","v":"-"},null,null,"",null,null,null,null,null,null,null,null,null,null,null,null,null,null,null,null,null,null,null,null,null,null,null,null,null,null,null,null,null,null,null,null,null,null,null,null,"","","",""]
[{"$f":"IF(ISBLANK(B524),\"-\",GenGuid())","v":"-"},null,null,"",null,null,null,null,null,null,null,null,null,null,null,null,null,null,null,null,null,null,null,null,null,null,null,null,null,null,null,null,null,null,null,null,null,null,null,null,"","","",""]
[{"$f":"IF(ISBLANK(B525),\"-\",GenGuid())","v":"-"},null,null,"",null,null,null,null,null,null,null,null,null,null,null,null,null,null,null,null,null,null,null,null,null,null,null,null,null,null,null,null,null,null,null,null,null,null,null,null,"","","",""]
[{"$f":"IF(ISBLANK(B526),\"-\",GenGuid())","v":"-"},null,null,"",null,null,null,null,null,null,null,null,null,null,null,null,null,null,null,null,null,null,null,null,null,null,null,null,null,null,null,null,null,null,null,null,null,null,null,null,"","","",""]
[{"$f":"IF(ISBLANK(B527),\"-\",GenGuid())","v":"-"},null,null,"",null,null,null,null,null,null,null,null,null,null,null,null,null,null,null,null,null,null,null,null,null,null,null,null,null,null,null,null,null,null,null,null,null,null,null,null,"","","",""]
[{"$f":"IF(ISBLANK(B528),\"-\",GenGuid())","v":"-"},null,null,"",null,null,null,null,null,null,null,null,null,null,null,null,null,null,null,null,null,null,null,null,null,null,null,null,null,null,null,null,null,null,null,null,null,null,null,null,"","","",""]
[{"$f":"IF(ISBLANK(B529),\"-\",GenGuid())","v":"-"},null,null,"",null,null,null,null,null,null,null,null,null,null,null,null,null,null,null,null,null,null,null,null,null,null,null,null,null,null,null,null,null,null,null,null,null,null,null,null,"","","",""]
[{"$f":"IF(ISBLANK(B530),\"-\",GenGuid())","v":"-"},null,null,"",null,null,null,null,null,null,null,null,null,null,null,null,null,null,null,null,null,null,null,null,null,null,null,null,null,null,null,null,null,null,null,null,null,null,null,null,"","","",""]
[{"$f":"IF(ISBLANK(B531),\"-\",GenGuid())","v":"-"},null,null,"",null,null,null,null,null,null,null,null,null,null,null,null,null,null,null,null,null,null,null,null,null,null,null,null,null,null,null,null,null,null,null,null,null,null,null,null,"","","",""]
[{"$f":"IF(ISBLANK(B532),\"-\",GenGuid())","v":"-"},null,null,"",null,null,null,null,null,null,null,null,null,null,null,null,null,null,null,null,null,null,null,null,null,null,null,null,null,null,null,null,null,null,null,null,null,null,null,null,"","","",""]
[{"$f":"IF(ISBLANK(B533),\"-\",GenGuid())","v":"-"},null,null,"",null,null,null,null,null,null,null,null,null,null,null,null,null,null,null,null,null,null,null,null,null,null,null,null,null,null,null,null,null,null,null,null,null,null,null,null,"","","",""]
[{"$f":"IF(ISBLANK(B534),\"-\",GenGuid())","v":"-"},null,null,"",null,null,null,null,null,null,null,null,null,null,null,null,null,null,null,null,null,null,null,null,null,null,null,null,null,null,null,null,null,null,null,null,null,null,null,null,"","","",""]
[{"$f":"IF(ISBLANK(B535),\"-\",GenGuid())","v":"-"},null,null,"",null,null,null,null,null,null,null,null,null,null,null,null,null,null,null,null,null,null,null,null,null,null,null,null,null,null,null,null,null,null,null,null,null,null,null,null,"","","",""]
[{"$f":"IF(ISBLANK(B536),\"-\",GenGuid())","v":"-"},null,null,"",null,null,null,null,null,null,null,null,null,null,null,null,null,null,null,null,null,null,null,null,null,null,null,null,null,null,null,null,null,null,null,null,null,null,null,null,"","","",""]
[{"$f":"IF(ISBLANK(B537),\"-\",GenGuid())","v":"-"},null,null,"",null,null,null,null,null,null,null,null,null,null,null,null,null,null,null,null,null,null,null,null,null,null,null,null,null,null,null,null,null,null,null,null,null,null,null,null,"","","",""]
[{"$f":"IF(ISBLANK(B538),\"-\",GenGuid())","v":"-"},null,null,"",null,null,null,null,null,null,null,null,null,null,null,null,null,null,null,null,null,null,null,null,null,null,null,null,null,null,null,null,null,null,null,null,null,null,null,null,"","","",""]
[{"$f":"IF(ISBLANK(B539),\"-\",GenGuid())","v":"-"},null,null,"",null,null,null,null,null,null,null,null,null,null,null,null,null,null,null,null,null,null,null,null,null,null,null,null,null,null,null,null,null,null,null,null,null,null,null,null,"","","",""]
[{"$f":"IF(ISBLANK(B540),\"-\",GenGuid())","v":"-"},null,null,"",null,null,null,null,null,null,null,null,null,null,null,null,null,null,null,null,null,null,null,null,null,null,null,null,null,null,null,null,null,null,null,null,null,null,null,null,"","","",""]
[{"$f":"IF(ISBLANK(B541),\"-\",GenGuid())","v":"-"},null,null,"",null,null,null,null,null,null,null,null,null,null,null,null,null,null,null,null,null,null,null,null,null,null,null,null,null,null,null,null,null,null,null,null,null,null,null,null,"","","",""]
[{"$f":"IF(ISBLANK(B542),\"-\",GenGuid())","v":"-"},null,null,"",null,null,null,null,null,null,null,null,null,null,null,null,null,null,null,null,null,null,null,null,null,null,null,null,null,null,null,null,null,null,null,null,null,null,null,null,"","","",""]
[{"$f":"IF(ISBLANK(B543),\"-\",GenGuid())","v":"-"},null,null,"",null,null,null,null,null,null,null,null,null,null,null,null,null,null,null,null,null,null,null,null,null,null,null,null,null,null,null,null,null,null,null,null,null,null,null,null,"","","",""]
[{"$f":"IF(ISBLANK(B544),\"-\",GenGuid())","v":"-"},null,null,"",null,null,null,null,null,null,null,null,null,null,null,null,null,null,null,null,null,null,null,null,null,null,null,null,null,null,null,null,null,null,null,null,null,null,null,null,"","","",""]
[{"$f":"IF(ISBLANK(B545),\"-\",GenGuid())","v":"-"},null,null,"",null,null,null,null,null,null,null,null,null,null,null,null,null,null,null,null,null,null,null,null,null,null,null,null,null,null,null,null,null,null,null,null,null,null,null,null,"","","",""]
[{"$f":"IF(ISBLANK(B546),\"-\",GenGuid())","v":"-"},null,null,"",null,null,null,null,null,null,null,null,null,null,null,null,null,null,null,null,null,null,null,null,null,null,null,null,null,null,null,null,null,null,null,null,null,null,null,null,"","","",""]
[{"$f":"IF(ISBLANK(B547),\"-\",GenGuid())","v":"-"},null,null,"",null,null,null,null,null,null,null,null,null,null,null,null,null,null,null,null,null,null,null,null,null,null,null,null,null,null,null,null,null,null,null,null,null,null,null,null,"","","",""]
[{"$f":"IF(ISBLANK(B548),\"-\",GenGuid())","v":"-"},null,null,"",null,null,null,null,null,null,null,null,null,null,null,null,null,null,null,null,null,null,null,null,null,null,null,null,null,null,null,null,null,null,null,null,null,null,null,null,"","","",""]
[{"$f":"IF(ISBLANK(B549),\"-\",GenGuid())","v":"-"},null,null,"",null,null,null,null,null,null,null,null,null,null,null,null,null,null,null,null,null,null,null,null,null,null,null,null,null,null,null,null,null,null,null,null,null,null,null,null,"","","",""]
[{"$f":"IF(ISBLANK(B550),\"-\",GenGuid())","v":"-"},null,null,"",null,null,null,null,null,null,null,null,null,null,null,null,null,null,null,null,null,null,null,null,null,null,null,null,null,null,null,null,null,null,null,null,null,null,null,null,"","","",""]
[{"$f":"IF(ISBLANK(B551),\"-\",GenGuid())","v":"-"},null,null,"",null,null,null,null,null,null,null,null,null,null,null,null,null,null,null,null,null,null,null,null,null,null,null,null,null,null,null,null,null,null,null,null,null,null,null,null,"","","",""]
[{"$f":"IF(ISBLANK(B552),\"-\",GenGuid())","v":"-"},null,null,"",null,null,null,null,null,null,null,null,null,null,null,null,null,null,null,null,null,null,null,null,null,null,null,null,null,null,null,null,null,null,null,null,null,null,null,null,"","","",""]
[{"$f":"IF(ISBLANK(B553),\"-\",GenGuid())","v":"-"},null,null,"",null,null,null,null,null,null,null,null,null,null,null,null,null,null,null,null,null,null,null,null,null,null,null,null,null,null,null,null,null,null,null,null,null,null,null,null,"","","",""]
[{"$f":"IF(ISBLANK(B554),\"-\",GenGuid())","v":"-"},null,null,"",null,null,null,null,null,null,null,null,null,null,null,null,null,null,null,null,null,null,null,null,null,null,null,null,null,null,null,null,null,null,null,null,null,null,null,null,"","","",""]
[{"$f":"IF(ISBLANK(B555),\"-\",GenGuid())","v":"-"},null,null,"",null,null,null,null,null,null,null,null,null,null,null,null,null,null,null,null,null,null,null,null,null,null,null,null,null,null,null,null,null,null,null,null,null,null,null,null,"","","",""]
[{"$f":"IF(ISBLANK(B556),\"-\",GenGuid())","v":"-"},null,null,"",null,null,null,null,null,null,null,null,null,null,null,null,null,null,null,null,null,null,null,null,null,null,null,null,null,null,null,null,null,null,null,null,null,null,null,null,"","","",""]
[{"$f":"IF(ISBLANK(B557),\"-\",GenGuid())","v":"-"},null,null,"",null,null,null,null,null,null,null,null,null,null,null,null,null,null,null,null,null,null,null,null,null,null,null,null,null,null,null,null,null,null,null,null,null,null,null,null,"","","",""]
[{"$f":"IF(ISBLANK(B558),\"-\",GenGuid())","v":"-"},null,null,"",null,null,null,null,null,null,null,null,null,null,null,null,null,null,null,null,null,null,null,null,null,null,null,null,null,null,null,null,null,null,null,null,null,null,null,null,"","","",""]
[{"$f":"IF(ISBLANK(B559),\"-\",GenGuid())","v":"-"},null,null,"",null,null,null,null,null,null,null,null,null,null,null,null,null,null,null,null,null,null,null,null,null,null,null,null,null,null,null,null,null,null,null,null,null,null,null,null,"","","",""]
[{"$f":"IF(ISBLANK(B560),\"-\",GenGuid())","v":"-"},null,null,"",null,null,null,null,null,null,null,null,null,null,null,null,null,null,null,null,null,null,null,null,null,null,null,null,null,null,null,null,null,null,null,null,null,null,null,null,"","","",""]
[{"$f":"IF(ISBLANK(B561),\"-\",GenGuid())","v":"-"},null,null,"",null,null,null,null,null,null,null,null,null,null,null,null,null,null,null,null,null,null,null,null,null,null,null,null,null,null,null,null,null,null,null,null,null,null,null,null,"","","",""]
[{"$f":"IF(ISBLANK(B562),\"-\",GenGuid())","v":"-"},null,null,"",null,null,null,null,null,null,null,null,null,null,null,null,null,null,null,null,null,null,null,null,null,null,null,null,null,null,null,null,null,null,null,null,null,null,null,null,"","","",""]
[{"$f":"IF(ISBLANK(B563),\"-\",GenGuid())","v":"-"},null,null,"",null,null,null,null,null,null,null,null,null,null,null,null,null,null,null,null,null,null,null,null,null,null,null,null,null,null,null,null,null,null,null,null,null,null,null,null,"","","",""]
[{"$f":"IF(ISBLANK(B564),\"-\",GenGuid())","v":"-"},null,null,"",null,null,null,null,null,null,null,null,null,null,null,null,null,null,null,null,null,null,null,null,null,null,null,null,null,null,null,null,null,null,null,null,null,null,null,null,"","","",""]
[{"$f":"IF(ISBLANK(B565),\"-\",GenGuid())","v":"-"},null,null,"",null,null,null,null,null,null,null,null,null,null,null,null,null,null,null,null,null,null,null,null,null,null,null,null,null,null,null,null,null,null,null,null,null,null,null,null,"","","",""]
[{"$f":"IF(ISBLANK(B566),\"-\",GenGuid())","v":"-"},null,null,"",null,null,null,null,null,null,null,null,null,null,null,null,null,null,null,null,null,null,null,null,null,null,null,null,null,null,null,null,null,null,null,null,null,null,null,null,"","","",""]
[{"$f":"IF(ISBLANK(B567),\"-\",GenGuid())","v":"-"},null,null,"",null,null,null,null,null,null,null,null,null,null,null,null,null,null,null,null,null,null,null,null,null,null,null,null,null,null,null,null,null,null,null,null,null,null,null,null,"","","",""]
[{"$f":"IF(ISBLANK(B568),\"-\",GenGuid())","v":"-"},null,null,"",null,null,null,null,null,null,null,null,null,null,null,null,null,null,null,null,null,null,null,null,null,null,null,null,null,null,null,null,null,null,null,null,null,null,null,null,"","","",""]
[{"$f":"IF(ISBLANK(B569),\"-\",GenGuid())","v":"-"},null,null,"",null,null,null,null,null,null,null,null,null,null,null,null,null,null,null,null,null,null,null,null,null,null,null,null,null,null,null,null,null,null,null,null,null,null,null,null,"","","",""]
[{"$f":"IF(ISBLANK(B570),\"-\",GenGuid())","v":"-"},null,null,"",null,null,null,null,null,null,null,null,null,null,null,null,null,null,null,null,null,null,null,null,null,null,null,null,null,null,null,null,null,null,null,null,null,null,null,null,"","","",""]
[{"$f":"IF(ISBLANK(B571),\"-\",GenGuid())","v":"-"},null,null,"",null,null,null,null,null,null,null,null,null,null,null,null,null,null,null,null,null,null,null,null,null,null,null,null,null,null,null,null,null,null,null,null,null,null,null,null,"","","",""]
[{"$f":"IF(ISBLANK(B572),\"-\",GenGuid())","v":"-"},null,null,"",null,null,null,null,null,null,null,null,null,null,null,null,null,null,null,null,null,null,null,null,null,null,null,null,null,null,null,null,null,null,null,null,null,null,null,null,"","","",""]
[{"$f":"IF(ISBLANK(B573),\"-\",GenGuid())","v":"-"},null,null,"",null,null,null,null,null,null,null,null,null,null,null,null,null,null,null,null,null,null,null,null,null,null,null,null,null,null,null,null,null,null,null,null,null,null,null,null,"","","",""]
[{"$f":"IF(ISBLANK(B574),\"-\",GenGuid())","v":"-"},null,null,"",null,null,null,null,null,null,null,null,null,null,null,null,null,null,null,null,null,null,null,null,null,null,null,null,null,null,null,null,null,null,null,null,null,null,null,null,"","","",""]
[{"$f":"IF(ISBLANK(B575),\"-\",GenGuid())","v":"-"},null,null,"",null,null,null,null,null,null,null,null,null,null,null,null,null,null,null,null,null,null,null,null,null,null,null,null,null,null,null,null,null,null,null,null,null,null,null,null,"","","",""]
[{"$f":"IF(ISBLANK(B576),\"-\",GenGuid())","v":"-"},null,null,"",null,null,null,null,null,null,null,null,null,null,null,null,null,null,null,null,null,null,null,null,null,null,null,null,null,null,null,null,null,null,null,null,null,null,null,null,"","","",""]
[{"$f":"IF(ISBLANK(B577),\"-\",GenGuid())","v":"-"},null,null,"",null,null,null,null,null,null,null,null,null,null,null,null,null,null,null,null,null,null,null,null,null,null,null,null,null,null,null,null,null,null,null,null,null,null,null,null,"","","",""]
[{"$f":"IF(ISBLANK(B578),\"-\",GenGuid())","v":"-"},null,null,"",null,null,null,null,null,null,null,null,null,null,null,null,null,null,null,null,null,null,null,null,null,null,null,null,null,null,null,null,null,null,null,null,null,null,null,null,"","","",""]
[{"$f":"IF(ISBLANK(B579),\"-\",GenGuid())","v":"-"},null,null,"",null,null,null,null,null,null,null,null,null,null,null,null,null,null,null,null,null,null,null,null,null,null,null,null,null,null,null,null,null,null,null,null,null,null,null,null,"","","",""]
[{"$f":"IF(ISBLANK(B580),\"-\",GenGuid())","v":"-"},null,null,"",null,null,null,null,null,null,null,null,null,null,null,null,null,null,null,null,null,null,null,null,null,null,null,null,null,null,null,null,null,null,null,null,null,null,null,null,"","","",""]
[{"$f":"IF(ISBLANK(B581),\"-\",GenGuid())","v":"-"},null,null,"",null,null,null,null,null,null,null,null,null,null,null,null,null,null,null,null,null,null,null,null,null,null,null,null,null,null,null,null,null,null,null,null,null,null,null,null,"","","",""]
[{"$f":"IF(ISBLANK(B582),\"-\",GenGuid())","v":"-"},null,null,"",null,null,null,null,null,null,null,null,null,null,null,null,null,null,null,null,null,null,null,null,null,null,null,null,null,null,null,null,null,null,null,null,null,null,null,null,"","","",""]
[{"$f":"IF(ISBLANK(B583),\"-\",GenGuid())","v":"-"},null,null,{"$f":"IF(AND(LEN(D582)>0,NOT(ISBLANK(C583))),D582,\"\")","v":""},null,null,null,null,null,null,null,null,null,null,null,null,null,null,null,null,null,null,null,null,null,null,null,null,null,null,null,null,null,null,null,null,null,null,null,null,{"$f":"IF(ISBLANK(B583),\"\",AO582)","v":""},{"$f":"IF(ISBLANK(B583),\"\",TODAY())","v":""},{"$f":"IF(ISBLANK(B583),\"\",IF(LEN(AO583)=0,\"\",AO583))","v":""},{"$f":"IF(ISBLANK(B583),\"\",AP583)","v":""}]
[{"$f":"IF(ISBLANK(B584),\"-\",GenGuid())","v":"-"},null,null,"",null,null,null,null,null,null,null,null,null,null,null,null,null,null,null,null,null,null,null,null,null,null,null,null,null,null,null,null,null,null,null,null,null,null,null,null,"","","",""]
[{"$f":"IF(ISBLANK(B585),\"-\",GenGuid())","v":"-"},null,null,"",null,null,null,null,null,null,null,null,null,null,null,null,null,null,null,null,null,null,null,null,null,null,null,null,null,null,null,null,null,null,null,null,null,null,null,null,"","","",""]
[{"$f":"IF(ISBLANK(B586),\"-\",GenGuid())","v":"-"},null,null,"",null,null,null,null,null,null,null,null,null,null,null,null,null,null,null,null,null,null,null,null,null,null,null,null,null,null,null,null,null,null,null,null,null,null,null,null,"","","",""]
[{"$f":"IF(ISBLANK(B587),\"-\",GenGuid())","v":"-"},null,null,"",null,null,null,null,null,null,null,null,null,null,null,null,null,null,null,null,null,null,null,null,null,null,null,null,null,null,null,null,null,null,null,null,null,null,null,null,"","","",""]
[{"$f":"IF(ISBLANK(B588),\"-\",GenGuid())","v":"-"},null,null,"",null,null,null,null,null,null,null,null,null,null,null,null,null,null,null,null,null,null,null,null,null,null,null,null,null,null,null,null,null,null,null,null,null,null,null,null,"","","",""]
[{"$f":"IF(ISBLANK(B589),\"-\",GenGuid())","v":"-"},null,null,"",null,null,null,null,null,null,null,null,null,null,null,null,null,null,null,null,null,null,null,null,null,null,null,null,null,null,null,null,null,null,null,null,null,null,null,null,"","","",""]
[{"$f":"IF(ISBLANK(B590),\"-\",GenGuid())","v":"-"},null,null,"",null,null,null,null,null,null,null,null,null,null,null,null,null,null,null,null,null,null,null,null,null,null,null,null,null,null,null,null,null,null,null,null,null,null,null,null,"","","",""]
[{"$f":"IF(ISBLANK(B591),\"-\",GenGuid())","v":"-"},null,null,"",null,null,null,null,null,null,null,null,null,null,null,null,null,null,null,null,null,null,null,null,null,null,null,null,null,null,null,null,null,null,null,null,null,null,null,null,"","","",""]
[{"$f":"IF(ISBLANK(B592),\"-\",GenGuid())","v":"-"},null,null,"",null,null,null,null,null,null,null,null,null,null,null,null,null,null,null,null,null,null,null,null,null,null,null,null,null,null,null,null,null,null,null,null,null,null,null,null,"","","",""]
[{"$f":"IF(ISBLANK(B593),\"-\",GenGuid())","v":"-"},null,null,"",null,null,null,null,null,null,null,null,null,null,null,null,null,null,null,null,null,null,null,null,null,null,null,null,null,null,null,null,null,null,null,null,null,null,null,null,"","","",""]
[{"$f":"IF(ISBLANK(B594),\"-\",GenGuid())","v":"-"},null,null,"",null,null,null,null,null,null,null,null,null,null,null,null,null,null,null,null,null,null,null,null,null,null,null,null,null,null,null,null,null,null,null,null,null,null,null,null,"","","",""]
[{"$f":"IF(ISBLANK(B595),\"-\",GenGuid())","v":"-"},null,null,"",null,null,null,null,null,null,null,null,null,null,null,null,null,null,null,null,null,null,null,null,null,null,null,null,null,null,null,null,null,null,null,null,null,null,null,null,"","","",""]
[{"$f":"IF(ISBLANK(B596),\"-\",GenGuid())","v":"-"},null,null,"",null,null,null,null,null,null,null,null,null,null,null,null,null,null,null,null,null,null,null,null,null,null,null,null,null,null,null,null,null,null,null,null,null,null,null,null,"","","",""]
[{"$f":"IF(ISBLANK(B597),\"-\",GenGuid())","v":"-"},null,null,"",null,null,null,null,null,null,null,null,null,null,null,null,null,null,null,null,null,null,null,null,null,null,null,null,null,null,null,null,null,null,null,null,null,null,null,null,"","","",""]
[{"$f":"IF(ISBLANK(B598),\"-\",GenGuid())","v":"-"},null,null,"",null,null,null,null,null,null,null,null,null,null,null,null,null,null,null,null,null,null,null,null,null,null,null,null,null,null,null,null,null,null,null,null,null,null,null,null,"","","",""]
[{"$f":"IF(ISBLANK(B599),\"-\",GenGuid())","v":"-"},null,null,"",null,null,null,null,null,null,null,null,null,null,null,null,null,null,null,null,null,null,null,null,null,null,null,null,null,null,null,null,null,null,null,null,null,null,null,null,"","","",""]
[{"$f":"IF(ISBLANK(B600),\"-\",GenGuid())","v":"-"},null,null,"",null,null,null,null,null,null,null,null,null,null,null,null,null,null,null,null,null,null,null,null,null,null,null,null,null,null,null,null,null,null,null,null,null,null,null,null,"","","",""]
[{"$f":"IF(ISBLANK(B601),\"-\",GenGuid())","v":"-"},null,null,"",null,null,null,null,null,null,null,null,null,null,null,null,null,null,null,null,null,null,null,null,null,null,null,null,null,null,null,null,null,null,null,null,null,null,null,null,"","","",""]
[{"$f":"IF(ISBLANK(B602),\"-\",GenGuid())","v":"-"},null,null,"",null,null,null,null,null,null,null,null,null,null,null,null,null,null,null,null,null,null,null,null,null,null,null,null,null,null,null,null,null,null,null,null,null,null,null,null,"","","",""]
[{"$f":"IF(ISBLANK(B603),\"-\",GenGuid())","v":"-"},null,null,"",null,null,null,null,null,null,null,null,null,null,null,null,null,null,null,null,null,null,null,null,null,null,null,null,null,null,null,null,null,null,null,null,null,null,null,null,"","","",""]
[{"$f":"IF(ISBLANK(B604),\"-\",GenGuid())","v":"-"},null,null,"",null,null,null,null,null,null,null,null,null,null,null,null,null,null,null,null,null,null,null,null,null,null,null,null,null,null,null,null,null,null,null,null,null,null,null,null,"","","",""]
[{"$f":"IF(ISBLANK(B605),\"-\",GenGuid())","v":"-"},null,null,"",null,null,null,null,null,null,null,null,null,null,null,null,null,null,null,null,null,null,null,null,null,null,null,null,null,null,null,null,null,null,null,null,null,null,null,null,"","","",""]
[{"$f":"IF(ISBLANK(B606),\"-\",GenGuid())","v":"-"},null,null,"",null,null,null,null,null,null,null,null,null,null,null,null,null,null,null,null,null,null,null,null,null,null,null,null,null,null,null,null,null,null,null,null,null,null,null,null,"","","",""]
[{"$f":"IF(ISBLANK(B607),\"-\",GenGuid())","v":"-"},null,null,"",null,null,null,null,null,null,null,null,null,null,null,null,null,null,null,null,null,null,null,null,null,null,null,null,null,null,null,null,null,null,null,null,null,null,null,null,"","","",""]
[{"$f":"IF(ISBLANK(B608),\"-\",GenGuid())","v":"-"},null,null,"",null,null,null,null,null,null,null,null,null,null,null,null,null,null,null,null,null,null,null,null,null,null,null,null,null,null,null,null,null,null,null,null,null,null,null,null,"","","",""]
[{"$f":"IF(ISBLANK(B609),\"-\",GenGuid())","v":"-"},null,null,"",null,null,null,null,null,null,null,null,null,null,null,null,null,null,null,null,null,null,null,null,null,null,null,null,null,null,null,null,null,null,null,null,null,null,null,null,"","","",""]
[{"$f":"IF(ISBLANK(B610),\"-\",GenGuid())","v":"-"},null,null,"",null,null,null,null,null,null,null,null,null,null,null,null,null,null,null,null,null,null,null,null,null,null,null,null,null,null,null,null,null,null,null,null,null,null,null,null,"","","",""]
[{"$f":"IF(ISBLANK(B611),\"-\",GenGuid())","v":"-"},null,null,"",null,null,null,null,null,null,null,null,null,null,null,null,null,null,null,null,null,null,null,null,null,null,null,null,null,null,null,null,null,null,null,null,null,null,null,null,"","","",""]
[{"$f":"IF(ISBLANK(B612),\"-\",GenGuid())","v":"-"},null,null,"",null,null,null,null,null,null,null,null,null,null,null,null,null,null,null,null,null,null,null,null,null,null,null,null,null,null,null,null,null,null,null,null,null,null,null,null,"","","",""]
[{"$f":"IF(ISBLANK(B613),\"-\",GenGuid())","v":"-"},null,null,"",null,null,null,null,null,null,null,null,null,null,null,null,null,null,null,null,null,null,null,null,null,null,null,null,null,null,null,null,null,null,null,null,null,null,null,null,"","","",""]
[{"$f":"IF(ISBLANK(B614),\"-\",GenGuid())","v":"-"},null,null,"",null,null,null,null,null,null,null,null,null,null,null,null,null,null,null,null,null,null,null,null,null,null,null,null,null,null,null,null,null,null,null,null,null,null,null,null,"","","",""]
[{"$f":"IF(ISBLANK(B615),\"-\",GenGuid())","v":"-"},null,null,"",null,null,null,null,null,null,null,null,null,null,null,null,null,null,null,null,null,null,null,null,null,null,null,null,null,null,null,null,null,null,null,null,null,null,null,null,"","","",""]
[{"$f":"IF(ISBLANK(B616),\"-\",GenGuid())","v":"-"},null,null,"",null,null,null,null,null,null,null,null,null,null,null,null,null,null,null,null,null,null,null,null,null,null,null,null,null,null,null,null,null,null,null,null,null,null,null,null,"","","",""]
[{"$f":"IF(ISBLANK(B617),\"-\",GenGuid())","v":"-"},null,null,"",null,null,null,null,null,null,null,null,null,null,null,null,null,null,null,null,null,null,null,null,null,null,null,null,null,null,null,null,null,null,null,null,null,null,null,null,"","","",""]
[{"$f":"IF(ISBLANK(B618),\"-\",GenGuid())","v":"-"},null,null,"",null,null,null,null,null,null,null,null,null,null,null,null,null,null,null,null,null,null,null,null,null,null,null,null,null,null,null,null,null,null,null,null,null,null,null,null,"","","",""]
[{"$f":"IF(ISBLANK(B619),\"-\",GenGuid())","v":"-"},null,null,"",null,null,null,null,null,null,null,null,null,null,null,null,null,null,null,null,null,null,null,null,null,null,null,null,null,null,null,null,null,null,null,null,null,null,null,null,"","","",""]
[{"$f":"IF(ISBLANK(B620),\"-\",GenGuid())","v":"-"},null,null,"",null,null,null,null,null,null,null,null,null,null,null,null,null,null,null,null,null,null,null,null,null,null,null,null,null,null,null,null,null,null,null,null,null,null,null,null,"","","",""]
[{"$f":"IF(ISBLANK(B621),\"-\",GenGuid())","v":"-"},null,null,"",null,null,null,null,null,null,null,null,null,null,null,null,null,null,null,null,null,null,null,null,null,null,null,null,null,null,null,null,null,null,null,null,null,null,null,null,"","","",""]
[{"$f":"IF(ISBLANK(B622),\"-\",GenGuid())","v":"-"},null,null,"",null,null,null,null,null,null,null,null,null,null,null,null,null,null,null,null,null,null,null,null,null,null,null,null,null,null,null,null,null,null,null,null,null,null,null,null,"","","",""]
[{"$f":"IF(ISBLANK(B623),\"-\",GenGuid())","v":"-"},null,null,"",null,null,null,null,null,null,null,null,null,null,null,null,null,null,null,null,null,null,null,null,null,null,null,null,null,null,null,null,null,null,null,null,null,null,null,null,"","","",""]
[{"$f":"IF(ISBLANK(B624),\"-\",GenGuid())","v":"-"},null,null,"",null,null,null,null,null,null,null,null,null,null,null,null,null,null,null,null,null,null,null,null,null,null,null,null,null,null,null,null,null,null,null,null,null,null,null,null,"","","",""]
[{"$f":"IF(ISBLANK(B625),\"-\",GenGuid())","v":"-"},null,null,"",null,null,null,null,null,null,null,null,null,null,null,null,null,null,null,null,null,null,null,null,null,null,null,null,null,null,null,null,null,null,null,null,null,null,null,null,"","","",""]
[{"$f":"IF(ISBLANK(B626),\"-\",GenGuid())","v":"-"},null,null,"",null,null,null,null,null,null,null,null,null,null,null,null,null,null,null,null,null,null,null,null,null,null,null,null,null,null,null,null,null,null,null,null,null,null,null,null,"","","",""]
[{"$f":"IF(ISBLANK(B627),\"-\",GenGuid())","v":"-"},null,null,"",null,null,null,null,null,null,null,null,null,null,null,null,null,null,null,null,null,null,null,null,null,null,null,null,null,null,null,null,null,null,null,null,null,null,null,null,"","","",""]
[{"$f":"IF(ISBLANK(B628),\"-\",GenGuid())","v":"-"},null,null,"",null,null,null,null,null,null,null,null,null,null,null,null,null,null,null,null,null,null,null,null,null,null,null,null,null,null,null,null,null,null,null,null,null,null,null,null,"","","",""]
[{"$f":"IF(ISBLANK(B629),\"-\",GenGuid())","v":"-"},null,null,"",null,null,null,null,null,null,null,null,null,null,null,null,null,null,null,null,null,null,null,null,null,null,null,null,null,null,null,null,null,null,null,null,null,null,null,null,"","","",""]
[{"$f":"IF(ISBLANK(B630),\"-\",GenGuid())","v":"-"},null,null,"",null,null,null,null,null,null,null,null,null,null,null,null,null,null,null,null,null,null,null,null,null,null,null,null,null,null,null,null,null,null,null,null,null,null,null,null,"","","",""]
[{"$f":"IF(ISBLANK(B631),\"-\",GenGuid())","v":"-"},null,null,"",null,null,null,null,null,null,null,null,null,null,null,null,null,null,null,null,null,null,null,null,null,null,null,null,null,null,null,null,null,null,null,null,null,null,null,null,"","","",""]
[{"$f":"IF(ISBLANK(B632),\"-\",GenGuid())","v":"-"},null,null,"",null,null,null,null,null,null,null,null,null,null,null,null,null,null,null,null,null,null,null,null,null,null,null,null,null,null,null,null,null,null,null,null,null,null,null,null,"","","",""]
[{"$f":"IF(ISBLANK(B633),\"-\",GenGuid())","v":"-"},null,null,"",null,null,null,null,null,null,null,null,null,null,null,null,null,null,null,null,null,null,null,null,null,null,null,null,null,null,null,null,null,null,null,null,null,null,null,null,"","","",""]
[{"$f":"IF(ISBLANK(B634),\"-\",GenGuid())","v":"-"},null,null,"",null,null,null,null,null,null,null,null,null,null,null,null,null,null,null,null,null,null,null,null,null,null,null,null,null,null,null,null,null,null,null,null,null,null,null,null,"","","",""]
[{"$f":"IF(ISBLANK(B635),\"-\",GenGuid())","v":"-"},null,null,"",null,null,null,null,null,null,null,null,null,null,null,null,null,null,null,null,null,null,null,null,null,null,null,null,null,null,null,null,null,null,null,null,null,null,null,null,"","","",""]
[{"$f":"IF(ISBLANK(B636),\"-\",GenGuid())","v":"-"},null,null,"",null,null,null,null,null,null,null,null,null,null,null,null,null,null,null,null,null,null,null,null,null,null,null,null,null,null,null,null,null,null,null,null,null,null,null,null,"","","",""]
[{"$f":"IF(ISBLANK(B637),\"-\",GenGuid())","v":"-"},null,null,"",null,null,null,null,null,null,null,null,null,null,null,null,null,null,null,null,null,null,null,null,null,null,null,null,null,null,null,null,null,null,null,null,null,null,null,null,"","","",""]
[{"$f":"IF(ISBLANK(B638),\"-\",GenGuid())","v":"-"},null,null,"",null,null,null,null,null,null,null,null,null,null,null,null,null,null,null,null,null,null,null,null,null,null,null,null,null,null,null,null,null,null,null,null,null,null,null,null,"","","",""]
[{"$f":"IF(ISBLANK(B639),\"-\",GenGuid())","v":"-"},null,null,"",null,null,null,null,null,null,null,null,null,null,null,null,null,null,null,null,null,null,null,null,null,null,null,null,null,null,null,null,null,null,null,null,null,null,null,null,"","","",""]
[{"$f":"IF(ISBLANK(B640),\"-\",GenGuid())","v":"-"},null,null,"",null,null,null,null,null,null,null,null,null,null,null,null,null,null,null,null,null,null,null,null,null,null,null,null,null,null,null,null,null,null,null,null,null,null,null,null,"","","",""]
[{"$f":"IF(ISBLANK(B641),\"-\",GenGuid())","v":"-"},null,null,"",null,null,null,null,null,null,null,null,null,null,null,null,null,null,null,null,null,null,null,null,null,null,null,null,null,null,null,null,null,null,null,null,null,null,null,null,"","","",""]
[{"$f":"IF(ISBLANK(B642),\"-\",GenGuid())","v":"-"},null,null,"",null,null,null,null,null,null,null,null,null,null,null,null,null,null,null,null,null,null,null,null,null,null,null,null,null,null,null,null,null,null,null,null,null,null,null,null,"","","",""]
[{"$f":"IF(ISBLANK(B643),\"-\",GenGuid())","v":"-"},null,null,"",null,null,null,null,null,null,null,null,null,null,null,null,null,null,null,null,null,null,null,null,null,null,null,null,null,null,null,null,null,null,null,null,null,null,null,null,"","","",""]
[{"$f":"IF(ISBLANK(B644),\"-\",GenGuid())","v":"-"},null,null,"",null,null,null,null,null,null,null,null,null,null,null,null,null,null,null,null,null,null,null,null,null,null,null,null,null,null,null,null,null,null,null,null,null,null,null,null,"","","",""]
[{"$f":"IF(ISBLANK(B645),\"-\",GenGuid())","v":"-"},null,null,"",null,null,null,null,null,null,null,null,null,null,null,null,null,null,null,null,null,null,null,null,null,null,null,null,null,null,null,null,null,null,null,null,null,null,null,null,"","","",""]
[{"$f":"IF(ISBLANK(B646),\"-\",GenGuid())","v":"-"},null,null,"",null,null,null,null,null,null,null,null,null,null,null,null,null,null,null,null,null,null,null,null,null,null,null,null,null,null,null,null,null,null,null,null,null,null,null,null,"","","",""]
[{"$f":"IF(ISBLANK(B647),\"-\",GenGuid())","v":"-"},null,null,{"$f":"IF(AND(LEN(D646)>0,NOT(ISBLANK(C647))),D646,\"\")","v":""},null,null,null,null,null,null,null,null,null,null,null,null,null,null,null,null,null,null,null,null,null,null,null,null,null,null,null,null,null,null,null,null,null,null,null,null,{"$f":"IF(ISBLANK(B647),\"\",AO646)","v":""},{"$f":"IF(ISBLANK(B647),\"\",TODAY())","v":""},{"$f":"IF(ISBLANK(B647),\"\",IF(LEN(AO647)=0,\"\",AO647))","v":""},{"$f":"IF(ISBLANK(B647),\"\",AP647)","v":""}]
[{"$f":"IF(ISBLANK(B648),\"-\",GenGuid())","v":"-"},null,null,"",null,null,null,null,null,null,null,null,null,null,null,null,null,null,null,null,null,null,null,null,null,null,null,null,null,null,null,null,null,null,null,null,null,null,null,null,"","","",""]
[{"$f":"IF(ISBLANK(B649),\"-\",GenGuid())","v":"-"},null,null,"",null,null,null,null,null,null,null,null,null,null,null,null,null,null,null,null,null,null,null,null,null,null,null,null,null,null,null,null,null,null,null,null,null,null,null,null,"","","",""]
[{"$f":"IF(ISBLANK(B650),\"-\",GenGuid())","v":"-"},null,null,"",null,null,null,null,null,null,null,null,null,null,null,null,null,null,null,null,null,null,null,null,null,null,null,null,null,null,null,null,null,null,null,null,null,null,null,null,"","","",""]
[{"$f":"IF(ISBLANK(B651),\"-\",GenGuid())","v":"-"},null,null,"",null,null,null,null,null,null,null,null,null,null,null,null,null,null,null,null,null,null,null,null,null,null,null,null,null,null,null,null,null,null,null,null,null,null,null,null,"","","",""]
[{"$f":"IF(ISBLANK(B652),\"-\",GenGuid())","v":"-"},null,null,"",null,null,null,null,null,null,null,null,null,null,null,null,null,null,null,null,null,null,null,null,null,null,null,null,null,null,null,null,null,null,null,null,null,null,null,null,"","","",""]
[{"$f":"IF(ISBLANK(B653),\"-\",GenGuid())","v":"-"},null,null,"",null,null,null,null,null,null,null,null,null,null,null,null,null,null,null,null,null,null,null,null,null,null,null,null,null,null,null,null,null,null,null,null,null,null,null,null,"","","",""]
[{"$f":"IF(ISBLANK(B654),\"-\",GenGuid())","v":"-"},null,null,"",null,null,null,null,null,null,null,null,null,null,null,null,null,null,null,null,null,null,null,null,null,null,null,null,null,null,null,null,null,null,null,null,null,null,null,null,"","","",""]
[{"$f":"IF(ISBLANK(B655),\"-\",GenGuid())","v":"-"},null,null,"",null,null,null,null,null,null,null,null,null,null,null,null,null,null,null,null,null,null,null,null,null,null,null,null,null,null,null,null,null,null,null,null,null,null,null,null,"","","",""]
[{"$f":"IF(ISBLANK(B656),\"-\",GenGuid())","v":"-"},null,null,"",null,null,null,null,null,null,null,null,null,null,null,null,null,null,null,null,null,null,null,null,null,null,null,null,null,null,null,null,null,null,null,null,null,null,null,null,"","","",""]
[{"$f":"IF(ISBLANK(B657),\"-\",GenGuid())","v":"-"},null,null,"",null,null,null,null,null,null,null,null,null,null,null,null,null,null,null,null,null,null,null,null,null,null,null,null,null,null,null,null,null,null,null,null,null,null,null,null,"","","",""]
[{"$f":"IF(ISBLANK(B658),\"-\",GenGuid())","v":"-"},null,null,"",null,null,null,null,null,null,null,null,null,null,null,null,null,null,null,null,null,null,null,null,null,null,null,null,null,null,null,null,null,null,null,null,null,null,null,null,"","","",""]
[{"$f":"IF(ISBLANK(B659),\"-\",GenGuid())","v":"-"},null,null,"",null,null,null,null,null,null,null,null,null,null,null,null,null,null,null,null,null,null,null,null,null,null,null,null,null,null,null,null,null,null,null,null,null,null,null,null,"","","",""]
[{"$f":"IF(ISBLANK(B660),\"-\",GenGuid())","v":"-"},null,null,"",null,null,null,null,null,null,null,null,null,null,null,null,null,null,null,null,null,null,null,null,null,null,null,null,null,null,null,null,null,null,null,null,null,null,null,null,"","","",""]
[{"$f":"IF(ISBLANK(B661),\"-\",GenGuid())","v":"-"},null,null,"",null,null,null,null,null,null,null,null,null,null,null,null,null,null,null,null,null,null,null,null,null,null,null,null,null,null,null,null,null,null,null,null,null,null,null,null,"","","",""]
[{"$f":"IF(ISBLANK(B662),\"-\",GenGuid())","v":"-"},null,null,"",null,null,null,null,null,null,null,null,null,null,null,null,null,null,null,null,null,null,null,null,null,null,null,null,null,null,null,null,null,null,null,null,null,null,null,null,"","","",""]
[{"$f":"IF(ISBLANK(B663),\"-\",GenGuid())","v":"-"},null,null,"",null,null,null,null,null,null,null,null,null,null,null,null,null,null,null,null,null,null,null,null,null,null,null,null,null,null,null,null,null,null,null,null,null,null,null,null,"","","",""]
[{"$f":"IF(ISBLANK(B664),\"-\",GenGuid())","v":"-"},null,null,"",null,null,null,null,null,null,null,null,null,null,null,null,null,null,null,null,null,null,null,null,null,null,null,null,null,null,null,null,null,null,null,null,null,null,null,null,"","","",""]
[{"$f":"IF(ISBLANK(B665),\"-\",GenGuid())","v":"-"},null,null,"",null,null,null,null,null,null,null,null,null,null,null,null,null,null,null,null,null,null,null,null,null,null,null,null,null,null,null,null,null,null,null,null,null,null,null,null,"","","",""]
[{"$f":"IF(ISBLANK(B666),\"-\",GenGuid())","v":"-"},null,null,"",null,null,null,null,null,null,null,null,null,null,null,null,null,null,null,null,null,null,null,null,null,null,null,null,null,null,null,null,null,null,null,null,null,null,null,null,"","","",""]
[{"$f":"IF(ISBLANK(B667),\"-\",GenGuid())","v":"-"},null,null,"",null,null,null,null,null,null,null,null,null,null,null,null,null,null,null,null,null,null,null,null,null,null,null,null,null,null,null,null,null,null,null,null,null,null,null,null,"","","",""]
[{"$f":"IF(ISBLANK(B668),\"-\",GenGuid())","v":"-"},null,null,"",null,null,null,null,null,null,null,null,null,null,null,null,null,null,null,null,null,null,null,null,null,null,null,null,null,null,null,null,null,null,null,null,null,null,null,null,"","","",""]
[{"$f":"IF(ISBLANK(B669),\"-\",GenGuid())","v":"-"},null,null,"",null,null,null,null,null,null,null,null,null,null,null,null,null,null,null,null,null,null,null,null,null,null,null,null,null,null,null,null,null,null,null,null,null,null,null,null,"","","",""]
[{"$f":"IF(ISBLANK(B670),\"-\",GenGuid())","v":"-"},null,null,"",null,null,null,null,null,null,null,null,null,null,null,null,null,null,null,null,null,null,null,null,null,null,null,null,null,null,null,null,null,null,null,null,null,null,null,null,"","","",""]
[{"$f":"IF(ISBLANK(B671),\"-\",GenGuid())","v":"-"},null,null,"",null,null,null,null,null,null,null,null,null,null,null,null,null,null,null,null,null,null,null,null,null,null,null,null,null,null,null,null,null,null,null,null,null,null,null,null,"","","",""]
[{"$f":"IF(ISBLANK(B672),\"-\",GenGuid())","v":"-"},null,null,"",null,null,null,null,null,null,null,null,null,null,null,null,null,null,null,null,null,null,null,null,null,null,null,null,null,null,null,null,null,null,null,null,null,null,null,null,"","","",""]
[{"$f":"IF(ISBLANK(B673),\"-\",GenGuid())","v":"-"},null,null,"",null,null,null,null,null,null,null,null,null,null,null,null,null,null,null,null,null,null,null,null,null,null,null,null,null,null,null,null,null,null,null,null,null,null,null,null,"","","",""]
[{"$f":"IF(ISBLANK(B674),\"-\",GenGuid())","v":"-"},null,null,"",null,null,null,null,null,null,null,null,null,null,null,null,null,null,null,null,null,null,null,null,null,null,null,null,null,null,null,null,null,null,null,null,null,null,null,null,"","","",""]
[{"$f":"IF(ISBLANK(B675),\"-\",GenGuid())","v":"-"},null,null,"",null,null,null,null,null,null,null,null,null,null,null,null,null,null,null,null,null,null,null,null,null,null,null,null,null,null,null,null,null,null,null,null,null,null,null,null,"","","",""]
[{"$f":"IF(ISBLANK(B676),\"-\",GenGuid())","v":"-"},null,null,"",null,null,null,null,null,null,null,null,null,null,null,null,null,null,null,null,null,null,null,null,null,null,null,null,null,null,null,null,null,null,null,null,null,null,null,null,"","","",""]
[{"$f":"IF(ISBLANK(B677),\"-\",GenGuid())","v":"-"},null,null,"",null,null,null,null,null,null,null,null,null,null,null,null,null,null,null,null,null,null,null,null,null,null,null,null,null,null,null,null,null,null,null,null,null,null,null,null,"","","",""]
[{"$f":"IF(ISBLANK(B678),\"-\",GenGuid())","v":"-"},null,null,"",null,null,null,null,null,null,null,null,null,null,null,null,null,null,null,null,null,null,null,null,null,null,null,null,null,null,null,null,null,null,null,null,null,null,null,null,"","","",""]
[{"$f":"IF(ISBLANK(B679),\"-\",GenGuid())","v":"-"},null,null,"",null,null,null,null,null,null,null,null,null,null,null,null,null,null,null,null,null,null,null,null,null,null,null,null,null,null,null,null,null,null,null,null,null,null,null,null,"","","",""]
[{"$f":"IF(ISBLANK(B680),\"-\",GenGuid())","v":"-"},null,null,"",null,null,null,null,null,null,null,null,null,null,null,null,null,null,null,null,null,null,null,null,null,null,null,null,null,null,null,null,null,null,null,null,null,null,null,null,"","","",""]
[{"$f":"IF(ISBLANK(B681),\"-\",GenGuid())","v":"-"},null,null,"",null,null,null,null,null,null,null,null,null,null,null,null,null,null,null,null,null,null,null,null,null,null,null,null,null,null,null,null,null,null,null,null,null,null,null,null,"","","",""]
[{"$f":"IF(ISBLANK(B682),\"-\",GenGuid())","v":"-"},null,null,"",null,null,null,null,null,null,null,null,null,null,null,null,null,null,null,null,null,null,null,null,null,null,null,null,null,null,null,null,null,null,null,null,null,null,null,null,"","","",""]
[{"$f":"IF(ISBLANK(B683),\"-\",GenGuid())","v":"-"},null,null,"",null,null,null,null,null,null,null,null,null,null,null,null,null,null,null,null,null,null,null,null,null,null,null,null,null,null,null,null,null,null,null,null,null,null,null,null,"","","",""]
[{"$f":"IF(ISBLANK(B684),\"-\",GenGuid())","v":"-"},null,null,"",null,null,null,null,null,null,null,null,null,null,null,null,null,null,null,null,null,null,null,null,null,null,null,null,null,null,null,null,null,null,null,null,null,null,null,null,"","","",""]
[{"$f":"IF(ISBLANK(B685),\"-\",GenGuid())","v":"-"},null,null,"",null,null,null,null,null,null,null,null,null,null,null,null,null,null,null,null,null,null,null,null,null,null,null,null,null,null,null,null,null,null,null,null,null,null,null,null,"","","",""]
[{"$f":"IF(ISBLANK(B686),\"-\",GenGuid())","v":"-"},null,null,"",null,null,null,null,null,null,null,null,null,null,null,null,null,null,null,null,null,null,null,null,null,null,null,null,null,null,null,null,null,null,null,null,null,null,null,null,"","","",""]
[{"$f":"IF(ISBLANK(B687),\"-\",GenGuid())","v":"-"},null,null,"",null,null,null,null,null,null,null,null,null,null,null,null,null,null,null,null,null,null,null,null,null,null,null,null,null,null,null,null,null,null,null,null,null,null,null,null,"","","",""]
[{"$f":"IF(ISBLANK(B688),\"-\",GenGuid())","v":"-"},null,null,"",null,null,null,null,null,null,null,null,null,null,null,null,null,null,null,null,null,null,null,null,null,null,null,null,null,null,null,null,null,null,null,null,null,null,null,null,"","","",""]
[{"$f":"IF(ISBLANK(B689),\"-\",GenGuid())","v":"-"},null,null,"",null,null,null,null,null,null,null,null,null,null,null,null,null,null,null,null,null,null,null,null,null,null,null,null,null,null,null,null,null,null,null,null,null,null,null,null,"","","",""]
[{"$f":"IF(ISBLANK(B690),\"-\",GenGuid())","v":"-"},null,null,"",null,null,null,null,null,null,null,null,null,null,null,null,null,null,null,null,null,null,null,null,null,null,null,null,null,null,null,null,null,null,null,null,null,null,null,null,"","","",""]
[{"$f":"IF(ISBLANK(B691),\"-\",GenGuid())","v":"-"},null,null,"",null,null,null,null,null,null,null,null,null,null,null,null,null,null,null,null,null,null,null,null,null,null,null,null,null,null,null,null,null,null,null,null,null,null,null,null,"","","",""]
[{"$f":"IF(ISBLANK(B692),\"-\",GenGuid())","v":"-"},null,null,"",null,null,null,null,null,null,null,null,null,null,null,null,null,null,null,null,null,null,null,null,null,null,null,null,null,null,null,null,null,null,null,null,null,null,null,null,"","","",""]
[{"$f":"IF(ISBLANK(B693),\"-\",GenGuid())","v":"-"},null,null,"",null,null,null,null,null,null,null,null,null,null,null,null,null,null,null,null,null,null,null,null,null,null,null,null,null,null,null,null,null,null,null,null,null,null,null,null,"","","",""]
[{"$f":"IF(ISBLANK(B694),\"-\",GenGuid())","v":"-"},null,null,"",null,null,null,null,null,null,null,null,null,null,null,null,null,null,null,null,null,null,null,null,null,null,null,null,null,null,null,null,null,null,null,null,null,null,null,null,"","","",""]
[{"$f":"IF(ISBLANK(B695),\"-\",GenGuid())","v":"-"},null,null,"",null,null,null,null,null,null,null,null,null,null,null,null,null,null,null,null,null,null,null,null,null,null,null,null,null,null,null,null,null,null,null,null,null,null,null,null,"","","",""]
[{"$f":"IF(ISBLANK(B696),\"-\",GenGuid())","v":"-"},null,null,"",null,null,null,null,null,null,null,null,null,null,null,null,null,null,null,null,null,null,null,null,null,null,null,null,null,null,null,null,null,null,null,null,null,null,null,null,"","","",""]
[{"$f":"IF(ISBLANK(B697),\"-\",GenGuid())","v":"-"},null,null,"",null,null,null,null,null,null,null,null,null,null,null,null,null,null,null,null,null,null,null,null,null,null,null,null,null,null,null,null,null,null,null,null,null,null,null,null,"","","",""]
[{"$f":"IF(ISBLANK(B698),\"-\",GenGuid())","v":"-"},null,null,"",null,null,null,null,null,null,null,null,null,null,null,null,null,null,null,null,null,null,null,null,null,null,null,null,null,null,null,null,null,null,null,null,null,null,null,null,"","","",""]
[{"$f":"IF(ISBLANK(B699),\"-\",GenGuid())","v":"-"},null,null,"",null,null,null,null,null,null,null,null,null,null,null,null,null,null,null,null,null,null,null,null,null,null,null,null,null,null,null,null,null,null,null,null,null,null,null,null,"","","",""]
[{"$f":"IF(ISBLANK(B700),\"-\",GenGuid())","v":"-"},null,null,"",null,null,null,null,null,null,null,null,null,null,null,null,null,null,null,null,null,null,null,null,null,null,null,null,null,null,null,null,null,null,null,null,null,null,null,null,"","","",""]
[{"$f":"IF(ISBLANK(B701),\"-\",GenGuid())","v":"-"},null,null,"",null,null,null,null,null,null,null,null,null,null,null,null,null,null,null,null,null,null,null,null,null,null,null,null,null,null,null,null,null,null,null,null,null,null,null,null,"","","",""]
[{"$f":"IF(ISBLANK(B702),\"-\",GenGuid())","v":"-"},null,null,"",null,null,null,null,null,null,null,null,null,null,null,null,null,null,null,null,null,null,null,null,null,null,null,null,null,null,null,null,null,null,null,null,null,null,null,null,"","","",""]
[{"$f":"IF(ISBLANK(B703),\"-\",GenGuid())","v":"-"},null,null,"",null,null,null,null,null,null,null,null,null,null,null,null,null,null,null,null,null,null,null,null,null,null,null,null,null,null,null,null,null,null,null,null,null,null,null,null,"","","",""]
[{"$f":"IF(ISBLANK(B704),\"-\",GenGuid())","v":"-"},null,null,"",null,null,null,null,null,null,null,null,null,null,null,null,null,null,null,null,null,null,null,null,null,null,null,null,null,null,null,null,null,null,null,null,null,null,null,null,"","","",""]
[{"$f":"IF(ISBLANK(B705),\"-\",GenGuid())","v":"-"},null,null,"",null,null,null,null,null,null,null,null,null,null,null,null,null,null,null,null,null,null,null,null,null,null,null,null,null,null,null,null,null,null,null,null,null,null,null,null,"","","",""]
[{"$f":"IF(ISBLANK(B706),\"-\",GenGuid())","v":"-"},null,null,"",null,null,null,null,null,null,null,null,null,null,null,null,null,null,null,null,null,null,null,null,null,null,null,null,null,null,null,null,null,null,null,null,null,null,null,null,"","","",""]
[{"$f":"IF(ISBLANK(B707),\"-\",GenGuid())","v":"-"},null,null,"",null,null,null,null,null,null,null,null,null,null,null,null,null,null,null,null,null,null,null,null,null,null,null,null,null,null,null,null,null,null,null,null,null,null,null,null,"","","",""]
[{"$f":"IF(ISBLANK(B708),\"-\",GenGuid())","v":"-"},null,null,"",null,null,null,null,null,null,null,null,null,null,null,null,null,null,null,null,null,null,null,null,null,null,null,null,null,null,null,null,null,null,null,null,null,null,null,null,"","","",""]
[{"$f":"IF(ISBLANK(B709),\"-\",GenGuid())","v":"-"},null,null,"",null,null,null,null,null,null,null,null,null,null,null,null,null,null,null,null,null,null,null,null,null,null,null,null,null,null,null,null,null,null,null,null,null,null,null,null,"","","",""]
[{"$f":"IF(ISBLANK(B710),\"-\",GenGuid())","v":"-"},null,null,"",null,null,null,null,null,null,null,null,null,null,null,null,null,null,null,null,null,null,null,null,null,null,null,null,null,null,null,null,null,null,null,null,null,null,null,null,"","","",""]
[{"$f":"IF(ISBLANK(B711),\"-\",GenGuid())","v":"-"},null,null,{"$f":"IF(AND(LEN(D710)>0,NOT(ISBLANK(C711))),D710,\"\")","v":""},null,null,null,null,null,null,null,null,null,null,null,null,null,null,null,null,null,null,null,null,null,null,null,null,null,null,null,null,null,null,null,null,null,null,null,null,{"$f":"IF(ISBLANK(B711),\"\",AO710)","v":""},{"$f":"IF(ISBLANK(B711),\"\",TODAY())","v":""},{"$f":"IF(ISBLANK(B711),\"\",IF(LEN(AO711)=0,\"\",AO711))","v":""},{"$f":"IF(ISBLANK(B711),\"\",AP711)","v":""}]
[{"$f":"IF(ISBLANK(B712),\"-\",GenGuid())","v":"-"},null,null,"",null,null,null,null,null,null,null,null,null,null,null,null,null,null,null,null,null,null,null,null,null,null,null,null,null,null,null,null,null,null,null,null,null,null,null,null,"","","",""]
[{"$f":"IF(ISBLANK(B713),\"-\",GenGuid())","v":"-"},null,null,"",null,null,null,null,null,null,null,null,null,null,null,null,null,null,null,null,null,null,null,null,null,null,null,null,null,null,null,null,null,null,null,null,null,null,null,null,"","","",""]
[{"$f":"IF(ISBLANK(B714),\"-\",GenGuid())","v":"-"},null,null,"",null,null,null,null,null,null,null,null,null,null,null,null,null,null,null,null,null,null,null,null,null,null,null,null,null,null,null,null,null,null,null,null,null,null,null,null,"","","",""]
[{"$f":"IF(ISBLANK(B715),\"-\",GenGuid())","v":"-"},null,null,"",null,null,null,null,null,null,null,null,null,null,null,null,null,null,null,null,null,null,null,null,null,null,null,null,null,null,null,null,null,null,null,null,null,null,null,null,"","","",""]
[{"$f":"IF(ISBLANK(B716),\"-\",GenGuid())","v":"-"},null,null,"",null,null,null,null,null,null,null,null,null,null,null,null,null,null,null,null,null,null,null,null,null,null,null,null,null,null,null,null,null,null,null,null,null,null,null,null,"","","",""]
[{"$f":"IF(ISBLANK(B717),\"-\",GenGuid())","v":"-"},null,null,"",null,null,null,null,null,null,null,null,null,null,null,null,null,null,null,null,null,null,null,null,null,null,null,null,null,null,null,null,null,null,null,null,null,null,null,null,"","","",""]
[{"$f":"IF(ISBLANK(B718),\"-\",GenGuid())","v":"-"},null,null,"",null,null,null,null,null,null,null,null,null,null,null,null,null,null,null,null,null,null,null,null,null,null,null,null,null,null,null,null,null,null,null,null,null,null,null,null,"","","",""]
[{"$f":"IF(ISBLANK(B719),\"-\",GenGuid())","v":"-"},null,null,"",null,null,null,null,null,null,null,null,null,null,null,null,null,null,null,null,null,null,null,null,null,null,null,null,null,null,null,null,null,null,null,null,null,null,null,null,"","","",""]
[{"$f":"IF(ISBLANK(B720),\"-\",GenGuid())","v":"-"},null,null,"",null,null,null,null,null,null,null,null,null,null,null,null,null,null,null,null,null,null,null,null,null,null,null,null,null,null,null,null,null,null,null,null,null,null,null,null,"","","",""]
[{"$f":"IF(ISBLANK(B721),\"-\",GenGuid())","v":"-"},null,null,"",null,null,null,null,null,null,null,null,null,null,null,null,null,null,null,null,null,null,null,null,null,null,null,null,null,null,null,null,null,null,null,null,null,null,null,null,"","","",""]
[{"$f":"IF(ISBLANK(B722),\"-\",GenGuid())","v":"-"},null,null,"",null,null,null,null,null,null,null,null,null,null,null,null,null,null,null,null,null,null,null,null,null,null,null,null,null,null,null,null,null,null,null,null,null,null,null,null,"","","",""]
[{"$f":"IF(ISBLANK(B723),\"-\",GenGuid())","v":"-"},null,null,"",null,null,null,null,null,null,null,null,null,null,null,null,null,null,null,null,null,null,null,null,null,null,null,null,null,null,null,null,null,null,null,null,null,null,null,null,"","","",""]
[{"$f":"IF(ISBLANK(B724),\"-\",GenGuid())","v":"-"},null,null,"",null,null,null,null,null,null,null,null,null,null,null,null,null,null,null,null,null,null,null,null,null,null,null,null,null,null,null,null,null,null,null,null,null,null,null,null,"","","",""]
[{"$f":"IF(ISBLANK(B725),\"-\",GenGuid())","v":"-"},null,null,"",null,null,null,null,null,null,null,null,null,null,null,null,null,null,null,null,null,null,null,null,null,null,null,null,null,null,null,null,null,null,null,null,null,null,null,null,"","","",""]
[{"$f":"IF(ISBLANK(B726),\"-\",GenGuid())","v":"-"},null,null,"",null,null,null,null,null,null,null,null,null,null,null,null,null,null,null,null,null,null,null,null,null,null,null,null,null,null,null,null,null,null,null,null,null,null,null,null,"","","",""]
[{"$f":"IF(ISBLANK(B727),\"-\",GenGuid())","v":"-"},null,null,"",null,null,null,null,null,null,null,null,null,null,null,null,null,null,null,null,null,null,null,null,null,null,null,null,null,null,null,null,null,null,null,null,null,null,null,null,"","","",""]
[{"$f":"IF(ISBLANK(B728),\"-\",GenGuid())","v":"-"},null,null,"",null,null,null,null,null,null,null,null,null,null,null,null,null,null,null,null,null,null,null,null,null,null,null,null,null,null,null,null,null,null,null,null,null,null,null,null,"","","",""]
[{"$f":"IF(ISBLANK(B729),\"-\",GenGuid())","v":"-"},null,null,"",null,null,null,null,null,null,null,null,null,null,null,null,null,null,null,null,null,null,null,null,null,null,null,null,null,null,null,null,null,null,null,null,null,null,null,null,"","","",""]
[{"$f":"IF(ISBLANK(B730),\"-\",GenGuid())","v":"-"},null,null,"",null,null,null,null,null,null,null,null,null,null,null,null,null,null,null,null,null,null,null,null,null,null,null,null,null,null,null,null,null,null,null,null,null,null,null,null,"","","",""]
[{"$f":"IF(ISBLANK(B731),\"-\",GenGuid())","v":"-"},null,null,"",null,null,null,null,null,null,null,null,null,null,null,null,null,null,null,null,null,null,null,null,null,null,null,null,null,null,null,null,null,null,null,null,null,null,null,null,"","","",""]
[{"$f":"IF(ISBLANK(B732),\"-\",GenGuid())","v":"-"},null,null,"",null,null,null,null,null,null,null,null,null,null,null,null,null,null,null,null,null,null,null,null,null,null,null,null,null,null,null,null,null,null,null,null,null,null,null,null,"","","",""]
[{"$f":"IF(ISBLANK(B733),\"-\",GenGuid())","v":"-"},null,null,"",null,null,null,null,null,null,null,null,null,null,null,null,null,null,null,null,null,null,null,null,null,null,null,null,null,null,null,null,null,null,null,null,null,null,null,null,"","","",""]
[{"$f":"IF(ISBLANK(B734),\"-\",GenGuid())","v":"-"},null,null,"",null,null,null,null,null,null,null,null,null,null,null,null,null,null,null,null,null,null,null,null,null,null,null,null,null,null,null,null,null,null,null,null,null,null,null,null,"","","",""]
[{"$f":"IF(ISBLANK(B735),\"-\",GenGuid())","v":"-"},null,null,"",null,null,null,null,null,null,null,null,null,null,null,null,null,null,null,null,null,null,null,null,null,null,null,null,null,null,null,null,null,null,null,null,null,null,null,null,"","","",""]
[{"$f":"IF(ISBLANK(B736),\"-\",GenGuid())","v":"-"},null,null,"",null,null,null,null,null,null,null,null,null,null,null,null,null,null,null,null,null,null,null,null,null,null,null,null,null,null,null,null,null,null,null,null,null,null,null,null,"","","",""]
[{"$f":"IF(ISBLANK(B737),\"-\",GenGuid())","v":"-"},null,null,"",null,null,null,null,null,null,null,null,null,null,null,null,null,null,null,null,null,null,null,null,null,null,null,null,null,null,null,null,null,null,null,null,null,null,null,null,"","","",""]
[{"$f":"IF(ISBLANK(B738),\"-\",GenGuid())","v":"-"},null,null,"",null,null,null,null,null,null,null,null,null,null,null,null,null,null,null,null,null,null,null,null,null,null,null,null,null,null,null,null,null,null,null,null,null,null,null,null,"","","",""]
[{"$f":"IF(ISBLANK(B739),\"-\",GenGuid())","v":"-"},null,null,"",null,null,null,null,null,null,null,null,null,null,null,null,null,null,null,null,null,null,null,null,null,null,null,null,null,null,null,null,null,null,null,null,null,null,null,null,"","","",""]
[{"$f":"IF(ISBLANK(B740),\"-\",GenGuid())","v":"-"},null,null,"",null,null,null,null,null,null,null,null,null,null,null,null,null,null,null,null,null,null,null,null,null,null,null,null,null,null,null,null,null,null,null,null,null,null,null,null,"","","",""]
[{"$f":"IF(ISBLANK(B741),\"-\",GenGuid())","v":"-"},null,null,"",null,null,null,null,null,null,null,null,null,null,null,null,null,null,null,null,null,null,null,null,null,null,null,null,null,null,null,null,null,null,null,null,null,null,null,null,"","","",""]
[{"$f":"IF(ISBLANK(B742),\"-\",GenGuid())","v":"-"},null,null,"",null,null,null,null,null,null,null,null,null,null,null,null,null,null,null,null,null,null,null,null,null,null,null,null,null,null,null,null,null,null,null,null,null,null,null,null,"","","",""]
[{"$f":"IF(ISBLANK(B743),\"-\",GenGuid())","v":"-"},null,null,"",null,null,null,null,null,null,null,null,null,null,null,null,null,null,null,null,null,null,null,null,null,null,null,null,null,null,null,null,null,null,null,null,null,null,null,null,"","","",""]
[{"$f":"IF(ISBLANK(B744),\"-\",GenGuid())","v":"-"},null,null,"",null,null,null,null,null,null,null,null,null,null,null,null,null,null,null,null,null,null,null,null,null,null,null,null,null,null,null,null,null,null,null,null,null,null,null,null,"","","",""]
[{"$f":"IF(ISBLANK(B745),\"-\",GenGuid())","v":"-"},null,null,"",null,null,null,null,null,null,null,null,null,null,null,null,null,null,null,null,null,null,null,null,null,null,null,null,null,null,null,null,null,null,null,null,null,null,null,null,"","","",""]
[{"$f":"IF(ISBLANK(B746),\"-\",GenGuid())","v":"-"},null,null,"",null,null,null,null,null,null,null,null,null,null,null,null,null,null,null,null,null,null,null,null,null,null,null,null,null,null,null,null,null,null,null,null,null,null,null,null,"","","",""]
[{"$f":"IF(ISBLANK(B747),\"-\",GenGuid())","v":"-"},null,null,"",null,null,null,null,null,null,null,null,null,null,null,null,null,null,null,null,null,null,null,null,null,null,null,null,null,null,null,null,null,null,null,null,null,null,null,null,"","","",""]
[{"$f":"IF(ISBLANK(B748),\"-\",GenGuid())","v":"-"},null,null,"",null,null,null,null,null,null,null,null,null,null,null,null,null,null,null,null,null,null,null,null,null,null,null,null,null,null,null,null,null,null,null,null,null,null,null,null,"","","",""]
[{"$f":"IF(ISBLANK(B749),\"-\",GenGuid())","v":"-"},null,null,"",null,null,null,null,null,null,null,null,null,null,null,null,null,null,null,null,null,null,null,null,null,null,null,null,null,null,null,null,null,null,null,null,null,null,null,null,"","","",""]
[{"$f":"IF(ISBLANK(B750),\"-\",GenGuid())","v":"-"},null,null,"",null,null,null,null,null,null,null,null,null,null,null,null,null,null,null,null,null,null,null,null,null,null,null,null,null,null,null,null,null,null,null,null,null,null,null,null,"","","",""]
[{"$f":"IF(ISBLANK(B751),\"-\",GenGuid())","v":"-"},null,null,"",null,null,null,null,null,null,null,null,null,null,null,null,null,null,null,null,null,null,null,null,null,null,null,null,null,null,null,null,null,null,null,null,null,null,null,null,"","","",""]
[{"$f":"IF(ISBLANK(B752),\"-\",GenGuid())","v":"-"},null,null,"",null,null,null,null,null,null,null,null,null,null,null,null,null,null,null,null,null,null,null,null,null,null,null,null,null,null,null,null,null,null,null,null,null,null,null,null,"","","",""]
[{"$f":"IF(ISBLANK(B753),\"-\",GenGuid())","v":"-"},null,null,"",null,null,null,null,null,null,null,null,null,null,null,null,null,null,null,null,null,null,null,null,null,null,null,null,null,null,null,null,null,null,null,null,null,null,null,null,"","","",""]
[{"$f":"IF(ISBLANK(B754),\"-\",GenGuid())","v":"-"},null,null,"",null,null,null,null,null,null,null,null,null,null,null,null,null,null,null,null,null,null,null,null,null,null,null,null,null,null,null,null,null,null,null,null,null,null,null,null,"","","",""]
[{"$f":"IF(ISBLANK(B755),\"-\",GenGuid())","v":"-"},null,null,"",null,null,null,null,null,null,null,null,null,null,null,null,null,null,null,null,null,null,null,null,null,null,null,null,null,null,null,null,null,null,null,null,null,null,null,null,"","","",""]
[{"$f":"IF(ISBLANK(B756),\"-\",GenGuid())","v":"-"},null,null,"",null,null,null,null,null,null,null,null,null,null,null,null,null,null,null,null,null,null,null,null,null,null,null,null,null,null,null,null,null,null,null,null,null,null,null,null,"","","",""]
[{"$f":"IF(ISBLANK(B757),\"-\",GenGuid())","v":"-"},null,null,"",null,null,null,null,null,null,null,null,null,null,null,null,null,null,null,null,null,null,null,null,null,null,null,null,null,null,null,null,null,null,null,null,null,null,null,null,"","","",""]
[{"$f":"IF(ISBLANK(B758),\"-\",GenGuid())","v":"-"},null,null,"",null,null,null,null,null,null,null,null,null,null,null,null,null,null,null,null,null,null,null,null,null,null,null,null,null,null,null,null,null,null,null,null,null,null,null,null,"","","",""]
[{"$f":"IF(ISBLANK(B759),\"-\",GenGuid())","v":"-"},null,null,"",null,null,null,null,null,null,null,null,null,null,null,null,null,null,null,null,null,null,null,null,null,null,null,null,null,null,null,null,null,null,null,null,null,null,null,null,"","","",""]
[{"$f":"IF(ISBLANK(B760),\"-\",GenGuid())","v":"-"},null,null,"",null,null,null,null,null,null,null,null,null,null,null,null,null,null,null,null,null,null,null,null,null,null,null,null,null,null,null,null,null,null,null,null,null,null,null,null,"","","",""]
[{"$f":"IF(ISBLANK(B761),\"-\",GenGuid())","v":"-"},null,null,"",null,null,null,null,null,null,null,null,null,null,null,null,null,null,null,null,null,null,null,null,null,null,null,null,null,null,null,null,null,null,null,null,null,null,null,null,"","","",""]
[{"$f":"IF(ISBLANK(B762),\"-\",GenGuid())","v":"-"},null,null,"",null,null,null,null,null,null,null,null,null,null,null,null,null,null,null,null,null,null,null,null,null,null,null,null,null,null,null,null,null,null,null,null,null,null,null,null,"","","",""]
[{"$f":"IF(ISBLANK(B763),\"-\",GenGuid())","v":"-"},null,null,"",null,null,null,null,null,null,null,null,null,null,null,null,null,null,null,null,null,null,null,null,null,null,null,null,null,null,null,null,null,null,null,null,null,null,null,null,"","","",""]
[{"$f":"IF(ISBLANK(B764),\"-\",GenGuid())","v":"-"},null,null,"",null,null,null,null,null,null,null,null,null,null,null,null,null,null,null,null,null,null,null,null,null,null,null,null,null,null,null,null,null,null,null,null,null,null,null,null,"","","",""]
[{"$f":"IF(ISBLANK(B765),\"-\",GenGuid())","v":"-"},null,null,"",null,null,null,null,null,null,null,null,null,null,null,null,null,null,null,null,null,null,null,null,null,null,null,null,null,null,null,null,null,null,null,null,null,null,null,null,"","","",""]
[{"$f":"IF(ISBLANK(B766),\"-\",GenGuid())","v":"-"},null,null,"",null,null,null,null,null,null,null,null,null,null,null,null,null,null,null,null,null,null,null,null,null,null,null,null,null,null,null,null,null,null,null,null,null,null,null,null,"","","",""]
[{"$f":"IF(ISBLANK(B767),\"-\",GenGuid())","v":"-"},null,null,"",null,null,null,null,null,null,null,null,null,null,null,null,null,null,null,null,null,null,null,null,null,null,null,null,null,null,null,null,null,null,null,null,null,null,null,null,"","","",""]
[{"$f":"IF(ISBLANK(B768),\"-\",GenGuid())","v":"-"},null,null,"",null,null,null,null,null,null,null,null,null,null,null,null,null,null,null,null,null,null,null,null,null,null,null,null,null,null,null,null,null,null,null,null,null,null,null,null,"","","",""]
[{"$f":"IF(ISBLANK(B769),\"-\",GenGuid())","v":"-"},null,null,"",null,null,null,null,null,null,null,null,null,null,null,null,null,null,null,null,null,null,null,null,null,null,null,null,null,null,null,null,null,null,null,null,null,null,null,null,"","","",""]
[{"$f":"IF(ISBLANK(B770),\"-\",GenGuid())","v":"-"},null,null,"",null,null,null,null,null,null,null,null,null,null,null,null,null,null,null,null,null,null,null,null,null,null,null,null,null,null,null,null,null,null,null,null,null,null,null,null,"","","",""]
[{"$f":"IF(ISBLANK(B771),\"-\",GenGuid())","v":"-"},null,null,"",null,null,null,null,null,null,null,null,null,null,null,null,null,null,null,null,null,null,null,null,null,null,null,null,null,null,null,null,null,null,null,null,null,null,null,null,"","","",""]
[{"$f":"IF(ISBLANK(B772),\"-\",GenGuid())","v":"-"},null,null,"",null,null,null,null,null,null,null,null,null,null,null,null,null,null,null,null,null,null,null,null,null,null,null,null,null,null,null,null,null,null,null,null,null,null,null,null,"","","",""]
[{"$f":"IF(ISBLANK(B773),\"-\",GenGuid())","v":"-"},null,null,"",null,null,null,null,null,null,null,null,null,null,null,null,null,null,null,null,null,null,null,null,null,null,null,null,null,null,null,null,null,null,null,null,null,null,null,null,"","","",""]
[{"$f":"IF(ISBLANK(B774),\"-\",GenGuid())","v":"-"},null,null,"",null,null,null,null,null,null,null,null,null,null,null,null,null,null,null,null,null,null,null,null,null,null,null,null,null,null,null,null,null,null,null,null,null,null,null,null,"","","",""]
[{"$f":"IF(ISBLANK(B775),\"-\",GenGuid())","v":"-"},null,null,{"$f":"IF(AND(LEN(D774)>0,NOT(ISBLANK(C775))),D774,\"\")","v":""},null,null,null,null,null,null,null,null,null,null,null,null,null,null,null,null,null,null,null,null,null,null,null,null,null,null,null,null,null,null,null,null,null,null,null,null,{"$f":"IF(ISBLANK(B775),\"\",AO774)","v":""},{"$f":"IF(ISBLANK(B775),\"\",TODAY())","v":""},{"$f":"IF(ISBLANK(B775),\"\",IF(LEN(AO775)=0,\"\",AO775))","v":""},{"$f":"IF(ISBLANK(B775),\"\",AP775)","v":""}]
[{"$f":"IF(ISBLANK(B776),\"-\",GenGuid())","v":"-"},null,null,"",null,null,null,null,null,null,null,null,null,null,null,null,null,null,null,null,null,null,null,null,null,null,null,null,null,null,null,null,null,null,null,null,null,null,null,null,"","","",""]
[{"$f":"IF(ISBLANK(B777),\"-\",GenGuid())","v":"-"},null,null,"",null,null,null,null,null,null,null,null,null,null,null,null,null,null,null,null,null,null,null,null,null,null,null,null,null,null,null,null,null,null,null,null,null,null,null,null,"","","",""]
[{"$f":"IF(ISBLANK(B778),\"-\",GenGuid())","v":"-"},null,null,"",null,null,null,null,null,null,null,null,null,null,null,null,null,null,null,null,null,null,null,null,null,null,null,null,null,null,null,null,null,null,null,null,null,null,null,null,"","","",""]
[{"$f":"IF(ISBLANK(B779),\"-\",GenGuid())","v":"-"},null,null,"",null,null,null,null,null,null,null,null,null,null,null,null,null,null,null,null,null,null,null,null,null,null,null,null,null,null,null,null,null,null,null,null,null,null,null,null,"","","",""]
[{"$f":"IF(ISBLANK(B780),\"-\",GenGuid())","v":"-"},null,null,"",null,null,null,null,null,null,null,null,null,null,null,null,null,null,null,null,null,null,null,null,null,null,null,null,null,null,null,null,null,null,null,null,null,null,null,null,"","","",""]
[{"$f":"IF(ISBLANK(B781),\"-\",GenGuid())","v":"-"},null,null,"",null,null,null,null,null,null,null,null,null,null,null,null,null,null,null,null,null,null,null,null,null,null,null,null,null,null,null,null,null,null,null,null,null,null,null,null,"","","",""]
[{"$f":"IF(ISBLANK(B782),\"-\",GenGuid())","v":"-"},null,null,"",null,null,null,null,null,null,null,null,null,null,null,null,null,null,null,null,null,null,null,null,null,null,null,null,null,null,null,null,null,null,null,null,null,null,null,null,"","","",""]
[{"$f":"IF(ISBLANK(B783),\"-\",GenGuid())","v":"-"},null,null,"",null,null,null,null,null,null,null,null,null,null,null,null,null,null,null,null,null,null,null,null,null,null,null,null,null,null,null,null,null,null,null,null,null,null,null,null,"","","",""]
[{"$f":"IF(ISBLANK(B784),\"-\",GenGuid())","v":"-"},null,null,"",null,null,null,null,null,null,null,null,null,null,null,null,null,null,null,null,null,null,null,null,null,null,null,null,null,null,null,null,null,null,null,null,null,null,null,null,"","","",""]
[{"$f":"IF(ISBLANK(B785),\"-\",GenGuid())","v":"-"},null,null,"",null,null,null,null,null,null,null,null,null,null,null,null,null,null,null,null,null,null,null,null,null,null,null,null,null,null,null,null,null,null,null,null,null,null,null,null,"","","",""]
[{"$f":"IF(ISBLANK(B786),\"-\",GenGuid())","v":"-"},null,null,"",null,null,null,null,null,null,null,null,null,null,null,null,null,null,null,null,null,null,null,null,null,null,null,null,null,null,null,null,null,null,null,null,null,null,null,null,"","","",""]
[{"$f":"IF(ISBLANK(B787),\"-\",GenGuid())","v":"-"},null,null,"",null,null,null,null,null,null,null,null,null,null,null,null,null,null,null,null,null,null,null,null,null,null,null,null,null,null,null,null,null,null,null,null,null,null,null,null,"","","",""]
[{"$f":"IF(ISBLANK(B788),\"-\",GenGuid())","v":"-"},null,null,"",null,null,null,null,null,null,null,null,null,null,null,null,null,null,null,null,null,null,null,null,null,null,null,null,null,null,null,null,null,null,null,null,null,null,null,null,"","","",""]
[{"$f":"IF(ISBLANK(B789),\"-\",GenGuid())","v":"-"},null,null,"",null,null,null,null,null,null,null,null,null,null,null,null,null,null,null,null,null,null,null,null,null,null,null,null,null,null,null,null,null,null,null,null,null,null,null,null,"","","",""]
[{"$f":"IF(ISBLANK(B790),\"-\",GenGuid())","v":"-"},null,null,"",null,null,null,null,null,null,null,null,null,null,null,null,null,null,null,null,null,null,null,null,null,null,null,null,null,null,null,null,null,null,null,null,null,null,null,null,"","","",""]
[{"$f":"IF(ISBLANK(B791),\"-\",GenGuid())","v":"-"},null,null,"",null,null,null,null,null,null,null,null,null,null,null,null,null,null,null,null,null,null,null,null,null,null,null,null,null,null,null,null,null,null,null,null,null,null,null,null,"","","",""]
[{"$f":"IF(ISBLANK(B792),\"-\",GenGuid())","v":"-"},null,null,"",null,null,null,null,null,null,null,null,null,null,null,null,null,null,null,null,null,null,null,null,null,null,null,null,null,null,null,null,null,null,null,null,null,null,null,null,"","","",""]
[{"$f":"IF(ISBLANK(B793),\"-\",GenGuid())","v":"-"},null,null,"",null,null,null,null,null,null,null,null,null,null,null,null,null,null,null,null,null,null,null,null,null,null,null,null,null,null,null,null,null,null,null,null,null,null,null,null,"","","",""]
[{"$f":"IF(ISBLANK(B794),\"-\",GenGuid())","v":"-"},null,null,"",null,null,null,null,null,null,null,null,null,null,null,null,null,null,null,null,null,null,null,null,null,null,null,null,null,null,null,null,null,null,null,null,null,null,null,null,"","","",""]
[{"$f":"IF(ISBLANK(B795),\"-\",GenGuid())","v":"-"},null,null,"",null,null,null,null,null,null,null,null,null,null,null,null,null,null,null,null,null,null,null,null,null,null,null,null,null,null,null,null,null,null,null,null,null,null,null,null,"","","",""]
[{"$f":"IF(ISBLANK(B796),\"-\",GenGuid())","v":"-"},null,null,"",null,null,null,null,null,null,null,null,null,null,null,null,null,null,null,null,null,null,null,null,null,null,null,null,null,null,null,null,null,null,null,null,null,null,null,null,"","","",""]
[{"$f":"IF(ISBLANK(B797),\"-\",GenGuid())","v":"-"},null,null,"",null,null,null,null,null,null,null,null,null,null,null,null,null,null,null,null,null,null,null,null,null,null,null,null,null,null,null,null,null,null,null,null,null,null,null,null,"","","",""]
[{"$f":"IF(ISBLANK(B798),\"-\",GenGuid())","v":"-"},null,null,"",null,null,null,null,null,null,null,null,null,null,null,null,null,null,null,null,null,null,null,null,null,null,null,null,null,null,null,null,null,null,null,null,null,null,null,null,"","","",""]
[{"$f":"IF(ISBLANK(B799),\"-\",GenGuid())","v":"-"},null,null,"",null,null,null,null,null,null,null,null,null,null,null,null,null,null,null,null,null,null,null,null,null,null,null,null,null,null,null,null,null,null,null,null,null,null,null,null,"","","",""]
[{"$f":"IF(ISBLANK(B800),\"-\",GenGuid())","v":"-"},null,null,"",null,null,null,null,null,null,null,null,null,null,null,null,null,null,null,null,null,null,null,null,null,null,null,null,null,null,null,null,null,null,null,null,null,null,null,null,"","","",""]
[{"$f":"IF(ISBLANK(B801),\"-\",GenGuid())","v":"-"},null,null,"",null,null,null,null,null,null,null,null,null,null,null,null,null,null,null,null,null,null,null,null,null,null,null,null,null,null,null,null,null,null,null,null,null,null,null,null,"","","",""]
[{"$f":"IF(ISBLANK(B802),\"-\",GenGuid())","v":"-"},null,null,"",null,null,null,null,null,null,null,null,null,null,null,null,null,null,null,null,null,null,null,null,null,null,null,null,null,null,null,null,null,null,null,null,null,null,null,null,"","","",""]
[{"$f":"IF(ISBLANK(B803),\"-\",GenGuid())","v":"-"},null,null,"",null,null,null,null,null,null,null,null,null,null,null,null,null,null,null,null,null,null,null,null,null,null,null,null,null,null,null,null,null,null,null,null,null,null,null,null,"","","",""]
[{"$f":"IF(ISBLANK(B804),\"-\",GenGuid())","v":"-"},null,null,"",null,null,null,null,null,null,null,null,null,null,null,null,null,null,null,null,null,null,null,null,null,null,null,null,null,null,null,null,null,null,null,null,null,null,null,null,"","","",""]
[{"$f":"IF(ISBLANK(B805),\"-\",GenGuid())","v":"-"},null,null,"",null,null,null,null,null,null,null,null,null,null,null,null,null,null,null,null,null,null,null,null,null,null,null,null,null,null,null,null,null,null,null,null,null,null,null,null,"","","",""]
[{"$f":"IF(ISBLANK(B806),\"-\",GenGuid())","v":"-"},null,null,"",null,null,null,null,null,null,null,null,null,null,null,null,null,null,null,null,null,null,null,null,null,null,null,null,null,null,null,null,null,null,null,null,null,null,null,null,"","","",""]
[{"$f":"IF(ISBLANK(B807),\"-\",GenGuid())","v":"-"},null,null,"",null,null,null,null,null,null,null,null,null,null,null,null,null,null,null,null,null,null,null,null,null,null,null,null,null,null,null,null,null,null,null,null,null,null,null,null,"","","",""]
[{"$f":"IF(ISBLANK(B808),\"-\",GenGuid())","v":"-"},null,null,"",null,null,null,null,null,null,null,null,null,null,null,null,null,null,null,null,null,null,null,null,null,null,null,null,null,null,null,null,null,null,null,null,null,null,null,null,"","","",""]
[{"$f":"IF(ISBLANK(B809),\"-\",GenGuid())","v":"-"},null,null,"",null,null,null,null,null,null,null,null,null,null,null,null,null,null,null,null,null,null,null,null,null,null,null,null,null,null,null,null,null,null,null,null,null,null,null,null,"","","",""]
[{"$f":"IF(ISBLANK(B810),\"-\",GenGuid())","v":"-"},null,null,"",null,null,null,null,null,null,null,null,null,null,null,null,null,null,null,null,null,null,null,null,null,null,null,null,null,null,null,null,null,null,null,null,null,null,null,null,"","","",""]
[{"$f":"IF(ISBLANK(B811),\"-\",GenGuid())","v":"-"},null,null,"",null,null,null,null,null,null,null,null,null,null,null,null,null,null,null,null,null,null,null,null,null,null,null,null,null,null,null,null,null,null,null,null,null,null,null,null,"","","",""]
[{"$f":"IF(ISBLANK(B812),\"-\",GenGuid())","v":"-"},null,null,"",null,null,null,null,null,null,null,null,null,null,null,null,null,null,null,null,null,null,null,null,null,null,null,null,null,null,null,null,null,null,null,null,null,null,null,null,"","","",""]
[{"$f":"IF(ISBLANK(B813),\"-\",GenGuid())","v":"-"},null,null,"",null,null,null,null,null,null,null,null,null,null,null,null,null,null,null,null,null,null,null,null,null,null,null,null,null,null,null,null,null,null,null,null,null,null,null,null,"","","",""]
[{"$f":"IF(ISBLANK(B814),\"-\",GenGuid())","v":"-"},null,null,"",null,null,null,null,null,null,null,null,null,null,null,null,null,null,null,null,null,null,null,null,null,null,null,null,null,null,null,null,null,null,null,null,null,null,null,null,"","","",""]
[{"$f":"IF(ISBLANK(B815),\"-\",GenGuid())","v":"-"},null,null,"",null,null,null,null,null,null,null,null,null,null,null,null,null,null,null,null,null,null,null,null,null,null,null,null,null,null,null,null,null,null,null,null,null,null,null,null,"","","",""]
[{"$f":"IF(ISBLANK(B816),\"-\",GenGuid())","v":"-"},null,null,"",null,null,null,null,null,null,null,null,null,null,null,null,null,null,null,null,null,null,null,null,null,null,null,null,null,null,null,null,null,null,null,null,null,null,null,null,"","","",""]
[{"$f":"IF(ISBLANK(B817),\"-\",GenGuid())","v":"-"},null,null,"",null,null,null,null,null,null,null,null,null,null,null,null,null,null,null,null,null,null,null,null,null,null,null,null,null,null,null,null,null,null,null,null,null,null,null,null,"","","",""]
[{"$f":"IF(ISBLANK(B818),\"-\",GenGuid())","v":"-"},null,null,"",null,null,null,null,null,null,null,null,null,null,null,null,null,null,null,null,null,null,null,null,null,null,null,null,null,null,null,null,null,null,null,null,null,null,null,null,"","","",""]
[{"$f":"IF(ISBLANK(B819),\"-\",GenGuid())","v":"-"},null,null,"",null,null,null,null,null,null,null,null,null,null,null,null,null,null,null,null,null,null,null,null,null,null,null,null,null,null,null,null,null,null,null,null,null,null,null,null,"","","",""]
[{"$f":"IF(ISBLANK(B820),\"-\",GenGuid())","v":"-"},null,null,"",null,null,null,null,null,null,null,null,null,null,null,null,null,null,null,null,null,null,null,null,null,null,null,null,null,null,null,null,null,null,null,null,null,null,null,null,"","","",""]
[{"$f":"IF(ISBLANK(B821),\"-\",GenGuid())","v":"-"},null,null,"",null,null,null,null,null,null,null,null,null,null,null,null,null,null,null,null,null,null,null,null,null,null,null,null,null,null,null,null,null,null,null,null,null,null,null,null,"","","",""]
[{"$f":"IF(ISBLANK(B822),\"-\",GenGuid())","v":"-"},null,null,"",null,null,null,null,null,null,null,null,null,null,null,null,null,null,null,null,null,null,null,null,null,null,null,null,null,null,null,null,null,null,null,null,null,null,null,null,"","","",""]
[{"$f":"IF(ISBLANK(B823),\"-\",GenGuid())","v":"-"},null,null,"",null,null,null,null,null,null,null,null,null,null,null,null,null,null,null,null,null,null,null,null,null,null,null,null,null,null,null,null,null,null,null,null,null,null,null,null,"","","",""]
[{"$f":"IF(ISBLANK(B824),\"-\",GenGuid())","v":"-"},null,null,"",null,null,null,null,null,null,null,null,null,null,null,null,null,null,null,null,null,null,null,null,null,null,null,null,null,null,null,null,null,null,null,null,null,null,null,null,"","","",""]
[{"$f":"IF(ISBLANK(B825),\"-\",GenGuid())","v":"-"},null,null,"",null,null,null,null,null,null,null,null,null,null,null,null,null,null,null,null,null,null,null,null,null,null,null,null,null,null,null,null,null,null,null,null,null,null,null,null,"","","",""]
[{"$f":"IF(ISBLANK(B826),\"-\",GenGuid())","v":"-"},null,null,"",null,null,null,null,null,null,null,null,null,null,null,null,null,null,null,null,null,null,null,null,null,null,null,null,null,null,null,null,null,null,null,null,null,null,null,null,"","","",""]
[{"$f":"IF(ISBLANK(B827),\"-\",GenGuid())","v":"-"},null,null,"",null,null,null,null,null,null,null,null,null,null,null,null,null,null,null,null,null,null,null,null,null,null,null,null,null,null,null,null,null,null,null,null,null,null,null,null,"","","",""]
[{"$f":"IF(ISBLANK(B828),\"-\",GenGuid())","v":"-"},null,null,"",null,null,null,null,null,null,null,null,null,null,null,null,null,null,null,null,null,null,null,null,null,null,null,null,null,null,null,null,null,null,null,null,null,null,null,null,"","","",""]
[{"$f":"IF(ISBLANK(B829),\"-\",GenGuid())","v":"-"},null,null,"",null,null,null,null,null,null,null,null,null,null,null,null,null,null,null,null,null,null,null,null,null,null,null,null,null,null,null,null,null,null,null,null,null,null,null,null,"","","",""]
[{"$f":"IF(ISBLANK(B830),\"-\",GenGuid())","v":"-"},null,null,"",null,null,null,null,null,null,null,null,null,null,null,null,null,null,null,null,null,null,null,null,null,null,null,null,null,null,null,null,null,null,null,null,null,null,null,null,"","","",""]
[{"$f":"IF(ISBLANK(B831),\"-\",GenGuid())","v":"-"},null,null,"",null,null,null,null,null,null,null,null,null,null,null,null,null,null,null,null,null,null,null,null,null,null,null,null,null,null,null,null,null,null,null,null,null,null,null,null,"","","",""]
[{"$f":"IF(ISBLANK(B832),\"-\",GenGuid())","v":"-"},null,null,"",null,null,null,null,null,null,null,null,null,null,null,null,null,null,null,null,null,null,null,null,null,null,null,null,null,null,null,null,null,null,null,null,null,null,null,null,"","","",""]
[{"$f":"IF(ISBLANK(B833),\"-\",GenGuid())","v":"-"},null,null,"",null,null,null,null,null,null,null,null,null,null,null,null,null,null,null,null,null,null,null,null,null,null,null,null,null,null,null,null,null,null,null,null,null,null,null,null,"","","",""]
[{"$f":"IF(ISBLANK(B834),\"-\",GenGuid())","v":"-"},null,null,"",null,null,null,null,null,null,null,null,null,null,null,null,null,null,null,null,null,null,null,null,null,null,null,null,null,null,null,null,null,null,null,null,null,null,null,null,"","","",""]
[{"$f":"IF(ISBLANK(B835),\"-\",GenGuid())","v":"-"},null,null,"",null,null,null,null,null,null,null,null,null,null,null,null,null,null,null,null,null,null,null,null,null,null,null,null,null,null,null,null,null,null,null,null,null,null,null,null,"","","",""]
[{"$f":"IF(ISBLANK(B836),\"-\",GenGuid())","v":"-"},null,null,"",null,null,null,null,null,null,null,null,null,null,null,null,null,null,null,null,null,null,null,null,null,null,null,null,null,null,null,null,null,null,null,null,null,null,null,null,"","","",""]
[{"$f":"IF(ISBLANK(B837),\"-\",GenGuid())","v":"-"},null,null,"",null,null,null,null,null,null,null,null,null,null,null,null,null,null,null,null,null,null,null,null,null,null,null,null,null,null,null,null,null,null,null,null,null,null,null,null,"","","",""]
[{"$f":"IF(ISBLANK(B838),\"-\",GenGuid())","v":"-"},null,null,"",null,null,null,null,null,null,null,null,null,null,null,null,null,null,null,null,null,null,null,null,null,null,null,null,null,null,null,null,null,null,null,null,null,null,null,null,"","","",""]
[{"$f":"IF(ISBLANK(B839),\"-\",GenGuid())","v":"-"},null,null,{"$f":"IF(AND(LEN(D838)>0,NOT(ISBLANK(C839))),D838,\"\")","v":""},null,null,null,null,null,null,null,null,null,null,null,null,null,null,null,null,null,null,null,null,null,null,null,null,null,null,null,null,null,null,null,null,null,null,null,null,{"$f":"IF(ISBLANK(B839),\"\",AO838)","v":""},{"$f":"IF(ISBLANK(B839),\"\",TODAY())","v":""},{"$f":"IF(ISBLANK(B839),\"\",IF(LEN(AO839)=0,\"\",AO839))","v":""},{"$f":"IF(ISBLANK(B839),\"\",AP839)","v":""}]
[{"$f":"IF(ISBLANK(B840),\"-\",GenGuid())","v":"-"},null,null,"",null,null,null,null,null,null,null,null,null,null,null,null,null,null,null,null,null,null,null,null,null,null,null,null,null,null,null,null,null,null,null,null,null,null,null,null,"","","",""]
[{"$f":"IF(ISBLANK(B841),\"-\",GenGuid())","v":"-"},null,null,"",null,null,null,null,null,null,null,null,null,null,null,null,null,null,null,null,null,null,null,null,null,null,null,null,null,null,null,null,null,null,null,null,null,null,null,null,"","","",""]
[{"$f":"IF(ISBLANK(B842),\"-\",GenGuid())","v":"-"},null,null,"",null,null,null,null,null,null,null,null,null,null,null,null,null,null,null,null,null,null,null,null,null,null,null,null,null,null,null,null,null,null,null,null,null,null,null,null,"","","",""]
[{"$f":"IF(ISBLANK(B843),\"-\",GenGuid())","v":"-"},null,null,"",null,null,null,null,null,null,null,null,null,null,null,null,null,null,null,null,null,null,null,null,null,null,null,null,null,null,null,null,null,null,null,null,null,null,null,null,"","","",""]
[{"$f":"IF(ISBLANK(B844),\"-\",GenGuid())","v":"-"},null,null,"",null,null,null,null,null,null,null,null,null,null,null,null,null,null,null,null,null,null,null,null,null,null,null,null,null,null,null,null,null,null,null,null,null,null,null,null,"","","",""]
[{"$f":"IF(ISBLANK(B845),\"-\",GenGuid())","v":"-"},null,null,"",null,null,null,null,null,null,null,null,null,null,null,null,null,null,null,null,null,null,null,null,null,null,null,null,null,null,null,null,null,null,null,null,null,null,null,null,"","","",""]
[{"$f":"IF(ISBLANK(B846),\"-\",GenGuid())","v":"-"},null,null,"",null,null,null,null,null,null,null,null,null,null,null,null,null,null,null,null,null,null,null,null,null,null,null,null,null,null,null,null,null,null,null,null,null,null,null,null,"","","",""]
[{"$f":"IF(ISBLANK(B847),\"-\",GenGuid())","v":"-"},null,null,"",null,null,null,null,null,null,null,null,null,null,null,null,null,null,null,null,null,null,null,null,null,null,null,null,null,null,null,null,null,null,null,null,null,null,null,null,"","","",""]
[{"$f":"IF(ISBLANK(B848),\"-\",GenGuid())","v":"-"},null,null,"",null,null,null,null,null,null,null,null,null,null,null,null,null,null,null,null,null,null,null,null,null,null,null,null,null,null,null,null,null,null,null,null,null,null,null,null,"","","",""]
[{"$f":"IF(ISBLANK(B849),\"-\",GenGuid())","v":"-"},null,null,"",null,null,null,null,null,null,null,null,null,null,null,null,null,null,null,null,null,null,null,null,null,null,null,null,null,null,null,null,null,null,null,null,null,null,null,null,"","","",""]
[{"$f":"IF(ISBLANK(B850),\"-\",GenGuid())","v":"-"},null,null,"",null,null,null,null,null,null,null,null,null,null,null,null,null,null,null,null,null,null,null,null,null,null,null,null,null,null,null,null,null,null,null,null,null,null,null,null,"","","",""]
[{"$f":"IF(ISBLANK(B851),\"-\",GenGuid())","v":"-"},null,null,"",null,null,null,null,null,null,null,null,null,null,null,null,null,null,null,null,null,null,null,null,null,null,null,null,null,null,null,null,null,null,null,null,null,null,null,null,"","","",""]
[{"$f":"IF(ISBLANK(B852),\"-\",GenGuid())","v":"-"},null,null,"",null,null,null,null,null,null,null,null,null,null,null,null,null,null,null,null,null,null,null,null,null,null,null,null,null,null,null,null,null,null,null,null,null,null,null,null,"","","",""]
[{"$f":"IF(ISBLANK(B853),\"-\",GenGuid())","v":"-"},null,null,"",null,null,null,null,null,null,null,null,null,null,null,null,null,null,null,null,null,null,null,null,null,null,null,null,null,null,null,null,null,null,null,null,null,null,null,null,"","","",""]
[{"$f":"IF(ISBLANK(B854),\"-\",GenGuid())","v":"-"},null,null,"",null,null,null,null,null,null,null,null,null,null,null,null,null,null,null,null,null,null,null,null,null,null,null,null,null,null,null,null,null,null,null,null,null,null,null,null,"","","",""]
[{"$f":"IF(ISBLANK(B855),\"-\",GenGuid())","v":"-"},null,null,"",null,null,null,null,null,null,null,null,null,null,null,null,null,null,null,null,null,null,null,null,null,null,null,null,null,null,null,null,null,null,null,null,null,null,null,null,"","","",""]
[{"$f":"IF(ISBLANK(B856),\"-\",GenGuid())","v":"-"},null,null,"",null,null,null,null,null,null,null,null,null,null,null,null,null,null,null,null,null,null,null,null,null,null,null,null,null,null,null,null,null,null,null,null,null,null,null,null,"","","",""]
[{"$f":"IF(ISBLANK(B857),\"-\",GenGuid())","v":"-"},null,null,"",null,null,null,null,null,null,null,null,null,null,null,null,null,null,null,null,null,null,null,null,null,null,null,null,null,null,null,null,null,null,null,null,null,null,null,null,"","","",""]
[{"$f":"IF(ISBLANK(B858),\"-\",GenGuid())","v":"-"},null,null,"",null,null,null,null,null,null,null,null,null,null,null,null,null,null,null,null,null,null,null,null,null,null,null,null,null,null,null,null,null,null,null,null,null,null,null,null,"","","",""]
[{"$f":"IF(ISBLANK(B859),\"-\",GenGuid())","v":"-"},null,null,"",null,null,null,null,null,null,null,null,null,null,null,null,null,null,null,null,null,null,null,null,null,null,null,null,null,null,null,null,null,null,null,null,null,null,null,null,"","","",""]
[{"$f":"IF(ISBLANK(B860),\"-\",GenGuid())","v":"-"},null,null,"",null,null,null,null,null,null,null,null,null,null,null,null,null,null,null,null,null,null,null,null,null,null,null,null,null,null,null,null,null,null,null,null,null,null,null,null,"","","",""]
[{"$f":"IF(ISBLANK(B861),\"-\",GenGuid())","v":"-"},null,null,"",null,null,null,null,null,null,null,null,null,null,null,null,null,null,null,null,null,null,null,null,null,null,null,null,null,null,null,null,null,null,null,null,null,null,null,null,"","","",""]
[{"$f":"IF(ISBLANK(B862),\"-\",GenGuid())","v":"-"},null,null,"",null,null,null,null,null,null,null,null,null,null,null,null,null,null,null,null,null,null,null,null,null,null,null,null,null,null,null,null,null,null,null,null,null,null,null,null,"","","",""]
[{"$f":"IF(ISBLANK(B863),\"-\",GenGuid())","v":"-"},null,null,"",null,null,null,null,null,null,null,null,null,null,null,null,null,null,null,null,null,null,null,null,null,null,null,null,null,null,null,null,null,null,null,null,null,null,null,null,"","","",""]
[{"$f":"IF(ISBLANK(B864),\"-\",GenGuid())","v":"-"},null,null,"",null,null,null,null,null,null,null,null,null,null,null,null,null,null,null,null,null,null,null,null,null,null,null,null,null,null,null,null,null,null,null,null,null,null,null,null,"","","",""]
[{"$f":"IF(ISBLANK(B865),\"-\",GenGuid())","v":"-"},null,null,"",null,null,null,null,null,null,null,null,null,null,null,null,null,null,null,null,null,null,null,null,null,null,null,null,null,null,null,null,null,null,null,null,null,null,null,null,"","","",""]
[{"$f":"IF(ISBLANK(B866),\"-\",GenGuid())","v":"-"},null,null,"",null,null,null,null,null,null,null,null,null,null,null,null,null,null,null,null,null,null,null,null,null,null,null,null,null,null,null,null,null,null,null,null,null,null,null,null,"","","",""]
[{"$f":"IF(ISBLANK(B867),\"-\",GenGuid())","v":"-"},null,null,"",null,null,null,null,null,null,null,null,null,null,null,null,null,null,null,null,null,null,null,null,null,null,null,null,null,null,null,null,null,null,null,null,null,null,null,null,"","","",""]
[{"$f":"IF(ISBLANK(B868),\"-\",GenGuid())","v":"-"},null,null,"",null,null,null,null,null,null,null,null,null,null,null,null,null,null,null,null,null,null,null,null,null,null,null,null,null,null,null,null,null,null,null,null,null,null,null,null,"","","",""]
[{"$f":"IF(ISBLANK(B869),\"-\",GenGuid())","v":"-"},null,null,"",null,null,null,null,null,null,null,null,null,null,null,null,null,null,null,null,null,null,null,null,null,null,null,null,null,null,null,null,null,null,null,null,null,null,null,null,"","","",""]
[{"$f":"IF(ISBLANK(B870),\"-\",GenGuid())","v":"-"},null,null,"",null,null,null,null,null,null,null,null,null,null,null,null,null,null,null,null,null,null,null,null,null,null,null,null,null,null,null,null,null,null,null,null,null,null,null,null,"","","",""]
[{"$f":"IF(ISBLANK(B871),\"-\",GenGuid())","v":"-"},null,null,"",null,null,null,null,null,null,null,null,null,null,null,null,null,null,null,null,null,null,null,null,null,null,null,null,null,null,null,null,null,null,null,null,null,null,null,null,"","","",""]
[{"$f":"IF(ISBLANK(B872),\"-\",GenGuid())","v":"-"},null,null,"",null,null,null,null,null,null,null,null,null,null,null,null,null,null,null,null,null,null,null,null,null,null,null,null,null,null,null,null,null,null,null,null,null,null,null,null,"","","",""]
[{"$f":"IF(ISBLANK(B873),\"-\",GenGuid())","v":"-"},null,null,"",null,null,null,null,null,null,null,null,null,null,null,null,null,null,null,null,null,null,null,null,null,null,null,null,null,null,null,null,null,null,null,null,null,null,null,null,"","","",""]
[{"$f":"IF(ISBLANK(B874),\"-\",GenGuid())","v":"-"},null,null,"",null,null,null,null,null,null,null,null,null,null,null,null,null,null,null,null,null,null,null,null,null,null,null,null,null,null,null,null,null,null,null,null,null,null,null,null,"","","",""]
[{"$f":"IF(ISBLANK(B875),\"-\",GenGuid())","v":"-"},null,null,"",null,null,null,null,null,null,null,null,null,null,null,null,null,null,null,null,null,null,null,null,null,null,null,null,null,null,null,null,null,null,null,null,null,null,null,null,"","","",""]
[{"$f":"IF(ISBLANK(B876),\"-\",GenGuid())","v":"-"},null,null,"",null,null,null,null,null,null,null,null,null,null,null,null,null,null,null,null,null,null,null,null,null,null,null,null,null,null,null,null,null,null,null,null,null,null,null,null,"","","",""]
[{"$f":"IF(ISBLANK(B877),\"-\",GenGuid())","v":"-"},null,null,"",null,null,null,null,null,null,null,null,null,null,null,null,null,null,null,null,null,null,null,null,null,null,null,null,null,null,null,null,null,null,null,null,null,null,null,null,"","","",""]
[{"$f":"IF(ISBLANK(B878),\"-\",GenGuid())","v":"-"},null,null,"",null,null,null,null,null,null,null,null,null,null,null,null,null,null,null,null,null,null,null,null,null,null,null,null,null,null,null,null,null,null,null,null,null,null,null,null,"","","",""]
[{"$f":"IF(ISBLANK(B879),\"-\",GenGuid())","v":"-"},null,null,"",null,null,null,null,null,null,null,null,null,null,null,null,null,null,null,null,null,null,null,null,null,null,null,null,null,null,null,null,null,null,null,null,null,null,null,null,"","","",""]
[{"$f":"IF(ISBLANK(B880),\"-\",GenGuid())","v":"-"},null,null,"",null,null,null,null,null,null,null,null,null,null,null,null,null,null,null,null,null,null,null,null,null,null,null,null,null,null,null,null,null,null,null,null,null,null,null,null,"","","",""]
[{"$f":"IF(ISBLANK(B881),\"-\",GenGuid())","v":"-"},null,null,"",null,null,null,null,null,null,null,null,null,null,null,null,null,null,null,null,null,null,null,null,null,null,null,null,null,null,null,null,null,null,null,null,null,null,null,null,"","","",""]
[{"$f":"IF(ISBLANK(B882),\"-\",GenGuid())","v":"-"},null,null,"",null,null,null,null,null,null,null,null,null,null,null,null,null,null,null,null,null,null,null,null,null,null,null,null,null,null,null,null,null,null,null,null,null,null,null,null,"","","",""]
[{"$f":"IF(ISBLANK(B883),\"-\",GenGuid())","v":"-"},null,null,"",null,null,null,null,null,null,null,null,null,null,null,null,null,null,null,null,null,null,null,null,null,null,null,null,null,null,null,null,null,null,null,null,null,null,null,null,"","","",""]
[{"$f":"IF(ISBLANK(B884),\"-\",GenGuid())","v":"-"},null,null,"",null,null,null,null,null,null,null,null,null,null,null,null,null,null,null,null,null,null,null,null,null,null,null,null,null,null,null,null,null,null,null,null,null,null,null,null,"","","",""]
[{"$f":"IF(ISBLANK(B885),\"-\",GenGuid())","v":"-"},null,null,"",null,null,null,null,null,null,null,null,null,null,null,null,null,null,null,null,null,null,null,null,null,null,null,null,null,null,null,null,null,null,null,null,null,null,null,null,"","","",""]
[{"$f":"IF(ISBLANK(B886),\"-\",GenGuid())","v":"-"},null,null,"",null,null,null,null,null,null,null,null,null,null,null,null,null,null,null,null,null,null,null,null,null,null,null,null,null,null,null,null,null,null,null,null,null,null,null,null,"","","",""]
[{"$f":"IF(ISBLANK(B887),\"-\",GenGuid())","v":"-"},null,null,"",null,null,null,null,null,null,null,null,null,null,null,null,null,null,null,null,null,null,null,null,null,null,null,null,null,null,null,null,null,null,null,null,null,null,null,null,"","","",""]
[{"$f":"IF(ISBLANK(B888),\"-\",GenGuid())","v":"-"},null,null,"",null,null,null,null,null,null,null,null,null,null,null,null,null,null,null,null,null,null,null,null,null,null,null,null,null,null,null,null,null,null,null,null,null,null,null,null,"","","",""]
[{"$f":"IF(ISBLANK(B889),\"-\",GenGuid())","v":"-"},null,null,"",null,null,null,null,null,null,null,null,null,null,null,null,null,null,null,null,null,null,null,null,null,null,null,null,null,null,null,null,null,null,null,null,null,null,null,null,"","","",""]
[{"$f":"IF(ISBLANK(B890),\"-\",GenGuid())","v":"-"},null,null,"",null,null,null,null,null,null,null,null,null,null,null,null,null,null,null,null,null,null,null,null,null,null,null,null,null,null,null,null,null,null,null,null,null,null,null,null,"","","",""]
[{"$f":"IF(ISBLANK(B891),\"-\",GenGuid())","v":"-"},null,null,"",null,null,null,null,null,null,null,null,null,null,null,null,null,null,null,null,null,null,null,null,null,null,null,null,null,null,null,null,null,null,null,null,null,null,null,null,"","","",""]
[{"$f":"IF(ISBLANK(B892),\"-\",GenGuid())","v":"-"},null,null,"",null,null,null,null,null,null,null,null,null,null,null,null,null,null,null,null,null,null,null,null,null,null,null,null,null,null,null,null,null,null,null,null,null,null,null,null,"","","",""]
[{"$f":"IF(ISBLANK(B893),\"-\",GenGuid())","v":"-"},null,null,"",null,null,null,null,null,null,null,null,null,null,null,null,null,null,null,null,null,null,null,null,null,null,null,null,null,null,null,null,null,null,null,null,null,null,null,null,"","","",""]
[{"$f":"IF(ISBLANK(B894),\"-\",GenGuid())","v":"-"},null,null,"",null,null,null,null,null,null,null,null,null,null,null,null,null,null,null,null,null,null,null,null,null,null,null,null,null,null,null,null,null,null,null,null,null,null,null,null,"","","",""]
[{"$f":"IF(ISBLANK(B895),\"-\",GenGuid())","v":"-"},null,null,"",null,null,null,null,null,null,null,null,null,null,null,null,null,null,null,null,null,null,null,null,null,null,null,null,null,null,null,null,null,null,null,null,null,null,null,null,"","","",""]
[{"$f":"IF(ISBLANK(B896),\"-\",GenGuid())","v":"-"},null,null,"",null,null,null,null,null,null,null,null,null,null,null,null,null,null,null,null,null,null,null,null,null,null,null,null,null,null,null,null,null,null,null,null,null,null,null,null,"","","",""]
[{"$f":"IF(ISBLANK(B897),\"-\",GenGuid())","v":"-"},null,null,"",null,null,null,null,null,null,null,null,null,null,null,null,null,null,null,null,null,null,null,null,null,null,null,null,null,null,null,null,null,null,null,null,null,null,null,null,"","","",""]
[{"$f":"IF(ISBLANK(B898),\"-\",GenGuid())","v":"-"},null,null,"",null,null,null,null,null,null,null,null,null,null,null,null,null,null,null,null,null,null,null,null,null,null,null,null,null,null,null,null,null,null,null,null,null,null,null,null,"","","",""]
[{"$f":"IF(ISBLANK(B899),\"-\",GenGuid())","v":"-"},null,null,"",null,null,null,null,null,null,null,null,null,null,null,null,null,null,null,null,null,null,null,null,null,null,null,null,null,null,null,null,null,null,null,null,null,null,null,null,"","","",""]
[{"$f":"IF(ISBLANK(B900),\"-\",GenGuid())","v":"-"},null,null,"",null,null,null,null,null,null,null,null,null,null,null,null,null,null,null,null,null,null,null,null,null,null,null,null,null,null,null,null,null,null,null,null,null,null,null,null,"","","",""]
[{"$f":"IF(ISBLANK(B901),\"-\",GenGuid())","v":"-"},null,null,"",null,null,null,null,null,null,null,null,null,null,null,null,null,null,null,null,null,null,null,null,null,null,null,null,null,null,null,null,null,null,null,null,null,null,null,null,"","","",""]
[{"$f":"IF(ISBLANK(B902),\"-\",GenGuid())","v":"-"},null,null,"",null,null,null,null,null,null,null,null,null,null,null,null,null,null,null,null,null,null,null,null,null,null,null,null,null,null,null,null,null,null,null,null,null,null,null,null,"","","",""]
[{"$f":"IF(ISBLANK(B903),\"-\",GenGuid())","v":"-"},null,null,{"$f":"IF(AND(LEN(D902)>0,NOT(ISBLANK(C903))),D902,\"\")","v":""},null,null,null,null,null,null,null,null,null,null,null,null,null,null,null,null,null,null,null,null,null,null,null,null,null,null,null,null,null,null,null,null,null,null,null,null,{"$f":"IF(ISBLANK(B903),\"\",AO902)","v":""},{"$f":"IF(ISBLANK(B903),\"\",TODAY())","v":""},{"$f":"IF(ISBLANK(B903),\"\",IF(LEN(AO903)=0,\"\",AO903))","v":""},{"$f":"IF(ISBLANK(B903),\"\",AP903)","v":""}]
[{"$f":"IF(ISBLANK(B904),\"-\",GenGuid())","v":"-"},null,null,"",null,null,null,null,null,null,null,null,null,null,null,null,null,null,null,null,null,null,null,null,null,null,null,null,null,null,null,null,null,null,null,null,null,null,null,null,"","","",""]
[{"$f":"IF(ISBLANK(B905),\"-\",GenGuid())","v":"-"},null,null,"",null,null,null,null,null,null,null,null,null,null,null,null,null,null,null,null,null,null,null,null,null,null,null,null,null,null,null,null,null,null,null,null,null,null,null,null,"","","",""]
[{"$f":"IF(ISBLANK(B906),\"-\",GenGuid())","v":"-"},null,null,"",null,null,null,null,null,null,null,null,null,null,null,null,null,null,null,null,null,null,null,null,null,null,null,null,null,null,null,null,null,null,null,null,null,null,null,null,"","","",""]
[{"$f":"IF(ISBLANK(B907),\"-\",GenGuid())","v":"-"},null,null,"",null,null,null,null,null,null,null,null,null,null,null,null,null,null,null,null,null,null,null,null,null,null,null,null,null,null,null,null,null,null,null,null,null,null,null,null,"","","",""]
[{"$f":"IF(ISBLANK(B908),\"-\",GenGuid())","v":"-"},null,null,"",null,null,null,null,null,null,null,null,null,null,null,null,null,null,null,null,null,null,null,null,null,null,null,null,null,null,null,null,null,null,null,null,null,null,null,null,"","","",""]
[{"$f":"IF(ISBLANK(B909),\"-\",GenGuid())","v":"-"},null,null,"",null,null,null,null,null,null,null,null,null,null,null,null,null,null,null,null,null,null,null,null,null,null,null,null,null,null,null,null,null,null,null,null,null,null,null,null,"","","",""]
[{"$f":"IF(ISBLANK(B910),\"-\",GenGuid())","v":"-"},null,null,"",null,null,null,null,null,null,null,null,null,null,null,null,null,null,null,null,null,null,null,null,null,null,null,null,null,null,null,null,null,null,null,null,null,null,null,null,"","","",""]
[{"$f":"IF(ISBLANK(B911),\"-\",GenGuid())","v":"-"},null,null,"",null,null,null,null,null,null,null,null,null,null,null,null,null,null,null,null,null,null,null,null,null,null,null,null,null,null,null,null,null,null,null,null,null,null,null,null,"","","",""]
[{"$f":"IF(ISBLANK(B912),\"-\",GenGuid())","v":"-"},null,null,"",null,null,null,null,null,null,null,null,null,null,null,null,null,null,null,null,null,null,null,null,null,null,null,null,null,null,null,null,null,null,null,null,null,null,null,null,"","","",""]
[{"$f":"IF(ISBLANK(B913),\"-\",GenGuid())","v":"-"},null,null,"",null,null,null,null,null,null,null,null,null,null,null,null,null,null,null,null,null,null,null,null,null,null,null,null,null,null,null,null,null,null,null,null,null,null,null,null,"","","",""]
[{"$f":"IF(ISBLANK(B914),\"-\",GenGuid())","v":"-"},null,null,"",null,null,null,null,null,null,null,null,null,null,null,null,null,null,null,null,null,null,null,null,null,null,null,null,null,null,null,null,null,null,null,null,null,null,null,null,"","","",""]
[{"$f":"IF(ISBLANK(B915),\"-\",GenGuid())","v":"-"},null,null,"",null,null,null,null,null,null,null,null,null,null,null,null,null,null,null,null,null,null,null,null,null,null,null,null,null,null,null,null,null,null,null,null,null,null,null,null,"","","",""]
[{"$f":"IF(ISBLANK(B916),\"-\",GenGuid())","v":"-"},null,null,"",null,null,null,null,null,null,null,null,null,null,null,null,null,null,null,null,null,null,null,null,null,null,null,null,null,null,null,null,null,null,null,null,null,null,null,null,"","","",""]
[{"$f":"IF(ISBLANK(B917),\"-\",GenGuid())","v":"-"},null,null,"",null,null,null,null,null,null,null,null,null,null,null,null,null,null,null,null,null,null,null,null,null,null,null,null,null,null,null,null,null,null,null,null,null,null,null,null,"","","",""]
[{"$f":"IF(ISBLANK(B918),\"-\",GenGuid())","v":"-"},null,null,"",null,null,null,null,null,null,null,null,null,null,null,null,null,null,null,null,null,null,null,null,null,null,null,null,null,null,null,null,null,null,null,null,null,null,null,null,"","","",""]
[{"$f":"IF(ISBLANK(B919),\"-\",GenGuid())","v":"-"},null,null,"",null,null,null,null,null,null,null,null,null,null,null,null,null,null,null,null,null,null,null,null,null,null,null,null,null,null,null,null,null,null,null,null,null,null,null,null,"","","",""]
[{"$f":"IF(ISBLANK(B920),\"-\",GenGuid())","v":"-"},null,null,"",null,null,null,null,null,null,null,null,null,null,null,null,null,null,null,null,null,null,null,null,null,null,null,null,null,null,null,null,null,null,null,null,null,null,null,null,"","","",""]
[{"$f":"IF(ISBLANK(B921),\"-\",GenGuid())","v":"-"},null,null,"",null,null,null,null,null,null,null,null,null,null,null,null,null,null,null,null,null,null,null,null,null,null,null,null,null,null,null,null,null,null,null,null,null,null,null,null,"","","",""]
[{"$f":"IF(ISBLANK(B922),\"-\",GenGuid())","v":"-"},null,null,"",null,null,null,null,null,null,null,null,null,null,null,null,null,null,null,null,null,null,null,null,null,null,null,null,null,null,null,null,null,null,null,null,null,null,null,null,"","","",""]
[{"$f":"IF(ISBLANK(B923),\"-\",GenGuid())","v":"-"},null,null,"",null,null,null,null,null,null,null,null,null,null,null,null,null,null,null,null,null,null,null,null,null,null,null,null,null,null,null,null,null,null,null,null,null,null,null,null,"","","",""]
[{"$f":"IF(ISBLANK(B924),\"-\",GenGuid())","v":"-"},null,null,"",null,null,null,null,null,null,null,null,null,null,null,null,null,null,null,null,null,null,null,null,null,null,null,null,null,null,null,null,null,null,null,null,null,null,null,null,"","","",""]
[{"$f":"IF(ISBLANK(B925),\"-\",GenGuid())","v":"-"},null,null,"",null,null,null,null,null,null,null,null,null,null,null,null,null,null,null,null,null,null,null,null,null,null,null,null,null,null,null,null,null,null,null,null,null,null,null,null,"","","",""]
[{"$f":"IF(ISBLANK(B926),\"-\",GenGuid())","v":"-"},null,null,"",null,null,null,null,null,null,null,null,null,null,null,null,null,null,null,null,null,null,null,null,null,null,null,null,null,null,null,null,null,null,null,null,null,null,null,null,"","","",""]
[{"$f":"IF(ISBLANK(B927),\"-\",GenGuid())","v":"-"},null,null,"",null,null,null,null,null,null,null,null,null,null,null,null,null,null,null,null,null,null,null,null,null,null,null,null,null,null,null,null,null,null,null,null,null,null,null,null,"","","",""]
[{"$f":"IF(ISBLANK(B928),\"-\",GenGuid())","v":"-"},null,null,"",null,null,null,null,null,null,null,null,null,null,null,null,null,null,null,null,null,null,null,null,null,null,null,null,null,null,null,null,null,null,null,null,null,null,null,null,"","","",""]
[{"$f":"IF(ISBLANK(B929),\"-\",GenGuid())","v":"-"},null,null,"",null,null,null,null,null,null,null,null,null,null,null,null,null,null,null,null,null,null,null,null,null,null,null,null,null,null,null,null,null,null,null,null,null,null,null,null,"","","",""]
[{"$f":"IF(ISBLANK(B930),\"-\",GenGuid())","v":"-"},null,null,"",null,null,null,null,null,null,null,null,null,null,null,null,null,null,null,null,null,null,null,null,null,null,null,null,null,null,null,null,null,null,null,null,null,null,null,null,"","","",""]
[{"$f":"IF(ISBLANK(B931),\"-\",GenGuid())","v":"-"},null,null,"",null,null,null,null,null,null,null,null,null,null,null,null,null,null,null,null,null,null,null,null,null,null,null,null,null,null,null,null,null,null,null,null,null,null,null,null,"","","",""]
[{"$f":"IF(ISBLANK(B932),\"-\",GenGuid())","v":"-"},null,null,"",null,null,null,null,null,null,null,null,null,null,null,null,null,null,null,null,null,null,null,null,null,null,null,null,null,null,null,null,null,null,null,null,null,null,null,null,"","","",""]
[{"$f":"IF(ISBLANK(B933),\"-\",GenGuid())","v":"-"},null,null,"",null,null,null,null,null,null,null,null,null,null,null,null,null,null,null,null,null,null,null,null,null,null,null,null,null,null,null,null,null,null,null,null,null,null,null,null,"","","",""]
[{"$f":"IF(ISBLANK(B934),\"-\",GenGuid())","v":"-"},null,null,"",null,null,null,null,null,null,null,null,null,null,null,null,null,null,null,null,null,null,null,null,null,null,null,null,null,null,null,null,null,null,null,null,null,null,null,null,"","","",""]
[{"$f":"IF(ISBLANK(B935),\"-\",GenGuid())","v":"-"},null,null,"",null,null,null,null,null,null,null,null,null,null,null,null,null,null,null,null,null,null,null,null,null,null,null,null,null,null,null,null,null,null,null,null,null,null,null,null,"","","",""]
[{"$f":"IF(ISBLANK(B936),\"-\",GenGuid())","v":"-"},null,null,"",null,null,null,null,null,null,null,null,null,null,null,null,null,null,null,null,null,null,null,null,null,null,null,null,null,null,null,null,null,null,null,null,null,null,null,null,"","","",""]
[{"$f":"IF(ISBLANK(B937),\"-\",GenGuid())","v":"-"},null,null,"",null,null,null,null,null,null,null,null,null,null,null,null,null,null,null,null,null,null,null,null,null,null,null,null,null,null,null,null,null,null,null,null,null,null,null,null,"","","",""]
[{"$f":"IF(ISBLANK(B938),\"-\",GenGuid())","v":"-"},null,null,"",null,null,null,null,null,null,null,null,null,null,null,null,null,null,null,null,null,null,null,null,null,null,null,null,null,null,null,null,null,null,null,null,null,null,null,null,"","","",""]
[{"$f":"IF(ISBLANK(B939),\"-\",GenGuid())","v":"-"},null,null,"",null,null,null,null,null,null,null,null,null,null,null,null,null,null,null,null,null,null,null,null,null,null,null,null,null,null,null,null,null,null,null,null,null,null,null,null,"","","",""]
[{"$f":"IF(ISBLANK(B940),\"-\",GenGuid())","v":"-"},null,null,"",null,null,null,null,null,null,null,null,null,null,null,null,null,null,null,null,null,null,null,null,null,null,null,null,null,null,null,null,null,null,null,null,null,null,null,null,"","","",""]
[{"$f":"IF(ISBLANK(B941),\"-\",GenGuid())","v":"-"},null,null,"",null,null,null,null,null,null,null,null,null,null,null,null,null,null,null,null,null,null,null,null,null,null,null,null,null,null,null,null,null,null,null,null,null,null,null,null,"","","",""]
[{"$f":"IF(ISBLANK(B942),\"-\",GenGuid())","v":"-"},null,null,"",null,null,null,null,null,null,null,null,null,null,null,null,null,null,null,null,null,null,null,null,null,null,null,null,null,null,null,null,null,null,null,null,null,null,null,null,"","","",""]
[{"$f":"IF(ISBLANK(B943),\"-\",GenGuid())","v":"-"},null,null,"",null,null,null,null,null,null,null,null,null,null,null,null,null,null,null,null,null,null,null,null,null,null,null,null,null,null,null,null,null,null,null,null,null,null,null,null,"","","",""]
[{"$f":"IF(ISBLANK(B944),\"-\",GenGuid())","v":"-"},null,null,"",null,null,null,null,null,null,null,null,null,null,null,null,null,null,null,null,null,null,null,null,null,null,null,null,null,null,null,null,null,null,null,null,null,null,null,null,"","","",""]
[{"$f":"IF(ISBLANK(B945),\"-\",GenGuid())","v":"-"},null,null,"",null,null,null,null,null,null,null,null,null,null,null,null,null,null,null,null,null,null,null,null,null,null,null,null,null,null,null,null,null,null,null,null,null,null,null,null,"","","",""]
[{"$f":"IF(ISBLANK(B946),\"-\",GenGuid())","v":"-"},null,null,"",null,null,null,null,null,null,null,null,null,null,null,null,null,null,null,null,null,null,null,null,null,null,null,null,null,null,null,null,null,null,null,null,null,null,null,null,"","","",""]
[{"$f":"IF(ISBLANK(B947),\"-\",GenGuid())","v":"-"},null,null,"",null,null,null,null,null,null,null,null,null,null,null,null,null,null,null,null,null,null,null,null,null,null,null,null,null,null,null,null,null,null,null,null,null,null,null,null,"","","",""]
[{"$f":"IF(ISBLANK(B948),\"-\",GenGuid())","v":"-"},null,null,"",null,null,null,null,null,null,null,null,null,null,null,null,null,null,null,null,null,null,null,null,null,null,null,null,null,null,null,null,null,null,null,null,null,null,null,null,"","","",""]
[{"$f":"IF(ISBLANK(B949),\"-\",GenGuid())","v":"-"},null,null,"",null,null,null,null,null,null,null,null,null,null,null,null,null,null,null,null,null,null,null,null,null,null,null,null,null,null,null,null,null,null,null,null,null,null,null,null,"","","",""]
[{"$f":"IF(ISBLANK(B950),\"-\",GenGuid())","v":"-"},null,null,"",null,null,null,null,null,null,null,null,null,null,null,null,null,null,null,null,null,null,null,null,null,null,null,null,null,null,null,null,null,null,null,null,null,null,null,null,"","","",""]
[{"$f":"IF(ISBLANK(B951),\"-\",GenGuid())","v":"-"},null,null,"",null,null,null,null,null,null,null,null,null,null,null,null,null,null,null,null,null,null,null,null,null,null,null,null,null,null,null,null,null,null,null,null,null,null,null,null,"","","",""]
[{"$f":"IF(ISBLANK(B952),\"-\",GenGuid())","v":"-"},null,null,"",null,null,null,null,null,null,null,null,null,null,null,null,null,null,null,null,null,null,null,null,null,null,null,null,null,null,null,null,null,null,null,null,null,null,null,null,"","","",""]
[{"$f":"IF(ISBLANK(B953),\"-\",GenGuid())","v":"-"},null,null,"",null,null,null,null,null,null,null,null,null,null,null,null,null,null,null,null,null,null,null,null,null,null,null,null,null,null,null,null,null,null,null,null,null,null,null,null,"","","",""]
[{"$f":"IF(ISBLANK(B954),\"-\",GenGuid())","v":"-"},null,null,"",null,null,null,null,null,null,null,null,null,null,null,null,null,null,null,null,null,null,null,null,null,null,null,null,null,null,null,null,null,null,null,null,null,null,null,null,"","","",""]
[{"$f":"IF(ISBLANK(B955),\"-\",GenGuid())","v":"-"},null,null,"",null,null,null,null,null,null,null,null,null,null,null,null,null,null,null,null,null,null,null,null,null,null,null,null,null,null,null,null,null,null,null,null,null,null,null,null,"","","",""]
[{"$f":"IF(ISBLANK(B956),\"-\",GenGuid())","v":"-"},null,null,"",null,null,null,null,null,null,null,null,null,null,null,null,null,null,null,null,null,null,null,null,null,null,null,null,null,null,null,null,null,null,null,null,null,null,null,null,"","","",""]
[{"$f":"IF(ISBLANK(B957),\"-\",GenGuid())","v":"-"},null,null,"",null,null,null,null,null,null,null,null,null,null,null,null,null,null,null,null,null,null,null,null,null,null,null,null,null,null,null,null,null,null,null,null,null,null,null,null,"","","",""]
[{"$f":"IF(ISBLANK(B958),\"-\",GenGuid())","v":"-"},null,null,"",null,null,null,null,null,null,null,null,null,null,null,null,null,null,null,null,null,null,null,null,null,null,null,null,null,null,null,null,null,null,null,null,null,null,null,null,"","","",""]
[{"$f":"IF(ISBLANK(B959),\"-\",GenGuid())","v":"-"},null,null,"",null,null,null,null,null,null,null,null,null,null,null,null,null,null,null,null,null,null,null,null,null,null,null,null,null,null,null,null,null,null,null,null,null,null,null,null,"","","",""]
[{"$f":"IF(ISBLANK(B960),\"-\",GenGuid())","v":"-"},null,null,"",null,null,null,null,null,null,null,null,null,null,null,null,null,null,null,null,null,null,null,null,null,null,null,null,null,null,null,null,null,null,null,null,null,null,null,null,"","","",""]
[{"$f":"IF(ISBLANK(B961),\"-\",GenGuid())","v":"-"},null,null,"",null,null,null,null,null,null,null,null,null,null,null,null,null,null,null,null,null,null,null,null,null,null,null,null,null,null,null,null,null,null,null,null,null,null,null,null,"","","",""]
[{"$f":"IF(ISBLANK(B962),\"-\",GenGuid())","v":"-"},null,null,"",null,null,null,null,null,null,null,null,null,null,null,null,null,null,null,null,null,null,null,null,null,null,null,null,null,null,null,null,null,null,null,null,null,null,null,null,"","","",""]
[{"$f":"IF(ISBLANK(B963),\"-\",GenGuid())","v":"-"},null,null,"",null,null,null,null,null,null,null,null,null,null,null,null,null,null,null,null,null,null,null,null,null,null,null,null,null,null,null,null,null,null,null,null,null,null,null,null,"","","",""]
[{"$f":"IF(ISBLANK(B964),\"-\",GenGuid())","v":"-"},null,null,"",null,null,null,null,null,null,null,null,null,null,null,null,null,null,null,null,null,null,null,null,null,null,null,null,null,null,null,null,null,null,null,null,null,null,null,null,"","","",""]
[{"$f":"IF(ISBLANK(B965),\"-\",GenGuid())","v":"-"},null,null,"",null,null,null,null,null,null,null,null,null,null,null,null,null,null,null,null,null,null,null,null,null,null,null,null,null,null,null,null,null,null,null,null,null,null,null,null,"","","",""]
[{"$f":"IF(ISBLANK(B966),\"-\",GenGuid())","v":"-"},null,null,"",null,null,null,null,null,null,null,null,null,null,null,null,null,null,null,null,null,null,null,null,null,null,null,null,null,null,null,null,null,null,null,null,null,null,null,null,"","","",""]
[{"$f":"IF(ISBLANK(B967),\"-\",GenGuid())","v":"-"},null,null,{"$f":"IF(AND(LEN(D966)>0,NOT(ISBLANK(C967))),D966,\"\")","v":""},null,null,null,null,null,null,null,null,null,null,null,null,null,null,null,null,null,null,null,null,null,null,null,null,null,null,null,null,null,null,null,null,null,null,null,null,{"$f":"IF(ISBLANK(B967),\"\",AO966)","v":""},{"$f":"IF(ISBLANK(B967),\"\",TODAY())","v":""},{"$f":"IF(ISBLANK(B967),\"\",IF(LEN(AO967)=0,\"\",AO967))","v":""},{"$f":"IF(ISBLANK(B967),\"\",AP967)","v":""}]
[{"$f":"IF(ISBLANK(B968),\"-\",GenGuid())","v":"-"},null,null,"",null,null,null,null,null,null,null,null,null,null,null,null,null,null,null,null,null,null,null,null,null,null,null,null,null,null,null,null,null,null,null,null,null,null,null,null,"","","",""]
[{"$f":"IF(ISBLANK(B969),\"-\",GenGuid())","v":"-"},null,null,"",null,null,null,null,null,null,null,null,null,null,null,null,null,null,null,null,null,null,null,null,null,null,null,null,null,null,null,null,null,null,null,null,null,null,null,null,"","","",""]
[{"$f":"IF(ISBLANK(B970),\"-\",GenGuid())","v":"-"},null,null,"",null,null,null,null,null,null,null,null,null,null,null,null,null,null,null,null,null,null,null,null,null,null,null,null,null,null,null,null,null,null,null,null,null,null,null,null,"","","",""]
[{"$f":"IF(ISBLANK(B971),\"-\",GenGuid())","v":"-"},null,null,"",null,null,null,null,null,null,null,null,null,null,null,null,null,null,null,null,null,null,null,null,null,null,null,null,null,null,null,null,null,null,null,null,null,null,null,null,"","","",""]
[{"$f":"IF(ISBLANK(B972),\"-\",GenGuid())","v":"-"},null,null,"",null,null,null,null,null,null,null,null,null,null,null,null,null,null,null,null,null,null,null,null,null,null,null,null,null,null,null,null,null,null,null,null,null,null,null,null,"","","",""]
[{"$f":"IF(ISBLANK(B973),\"-\",GenGuid())","v":"-"},null,null,"",null,null,null,null,null,null,null,null,null,null,null,null,null,null,null,null,null,null,null,null,null,null,null,null,null,null,null,null,null,null,null,null,null,null,null,null,"","","",""]
[{"$f":"IF(ISBLANK(B974),\"-\",GenGuid())","v":"-"},null,null,"",null,null,null,null,null,null,null,null,null,null,null,null,null,null,null,null,null,null,null,null,null,null,null,null,null,null,null,null,null,null,null,null,null,null,null,null,"","","",""]
[{"$f":"IF(ISBLANK(B975),\"-\",GenGuid())","v":"-"},null,null,"",null,null,null,null,null,null,null,null,null,null,null,null,null,null,null,null,null,null,null,null,null,null,null,null,null,null,null,null,null,null,null,null,null,null,null,null,"","","",""]
[{"$f":"IF(ISBLANK(B976),\"-\",GenGuid())","v":"-"},null,null,"",null,null,null,null,null,null,null,null,null,null,null,null,null,null,null,null,null,null,null,null,null,null,null,null,null,null,null,null,null,null,null,null,null,null,null,null,"","","",""]
[{"$f":"IF(ISBLANK(B977),\"-\",GenGuid())","v":"-"},null,null,"",null,null,null,null,null,null,null,null,null,null,null,null,null,null,null,null,null,null,null,null,null,null,null,null,null,null,null,null,null,null,null,null,null,null,null,null,"","","",""]
[{"$f":"IF(ISBLANK(B978),\"-\",GenGuid())","v":"-"},null,null,"",null,null,null,null,null,null,null,null,null,null,null,null,null,null,null,null,null,null,null,null,null,null,null,null,null,null,null,null,null,null,null,null,null,null,null,null,"","","",""]
[{"$f":"IF(ISBLANK(B979),\"-\",GenGuid())","v":"-"},null,null,"",null,null,null,null,null,null,null,null,null,null,null,null,null,null,null,null,null,null,null,null,null,null,null,null,null,null,null,null,null,null,null,null,null,null,null,null,"","","",""]
[{"$f":"IF(ISBLANK(B980),\"-\",GenGuid())","v":"-"},null,null,"",null,null,null,null,null,null,null,null,null,null,null,null,null,null,null,null,null,null,null,null,null,null,null,null,null,null,null,null,null,null,null,null,null,null,null,null,"","","",""]
[{"$f":"IF(ISBLANK(B981),\"-\",GenGuid())","v":"-"},null,null,"",null,null,null,null,null,null,null,null,null,null,null,null,null,null,null,null,null,null,null,null,null,null,null,null,null,null,null,null,null,null,null,null,null,null,null,null,"","","",""]
[{"$f":"IF(ISBLANK(B982),\"-\",GenGuid())","v":"-"},null,null,"",null,null,null,null,null,null,null,null,null,null,null,null,null,null,null,null,null,null,null,null,null,null,null,null,null,null,null,null,null,null,null,null,null,null,null,null,"","","",""]
[{"$f":"IF(ISBLANK(B983),\"-\",GenGuid())","v":"-"},null,null,"",null,null,null,null,null,null,null,null,null,null,null,null,null,null,null,null,null,null,null,null,null,null,null,null,null,null,null,null,null,null,null,null,null,null,null,null,"","","",""]
[{"$f":"IF(ISBLANK(B984),\"-\",GenGuid())","v":"-"},null,null,"",null,null,null,null,null,null,null,null,null,null,null,null,null,null,null,null,null,null,null,null,null,null,null,null,null,null,null,null,null,null,null,null,null,null,null,null,"","","",""]
[{"$f":"IF(ISBLANK(B985),\"-\",GenGuid())","v":"-"},null,null,"",null,null,null,null,null,null,null,null,null,null,null,null,null,null,null,null,null,null,null,null,null,null,null,null,null,null,null,null,null,null,null,null,null,null,null,null,"","","",""]
[{"$f":"IF(ISBLANK(B986),\"-\",GenGuid())","v":"-"},null,null,"",null,null,null,null,null,null,null,null,null,null,null,null,null,null,null,null,null,null,null,null,null,null,null,null,null,null,null,null,null,null,null,null,null,null,null,null,"","","",""]
[{"$f":"IF(ISBLANK(B987),\"-\",GenGuid())","v":"-"},null,null,"",null,null,null,null,null,null,null,null,null,null,null,null,null,null,null,null,null,null,null,null,null,null,null,null,null,null,null,null,null,null,null,null,null,null,null,null,"","","",""]
[{"$f":"IF(ISBLANK(B988),\"-\",GenGuid())","v":"-"},null,null,"",null,null,null,null,null,null,null,null,null,null,null,null,null,null,null,null,null,null,null,null,null,null,null,null,null,null,null,null,null,null,null,null,null,null,null,null,"","","",""]
[{"$f":"IF(ISBLANK(B989),\"-\",GenGuid())","v":"-"},null,null,"",null,null,null,null,null,null,null,null,null,null,null,null,null,null,null,null,null,null,null,null,null,null,null,null,null,null,null,null,null,null,null,null,null,null,null,null,"","","",""]
[{"$f":"IF(ISBLANK(B990),\"-\",GenGuid())","v":"-"},null,null,"",null,null,null,null,null,null,null,null,null,null,null,null,null,null,null,null,null,null,null,null,null,null,null,null,null,null,null,null,null,null,null,null,null,null,null,null,"","","",""]
[{"$f":"IF(ISBLANK(B991),\"-\",GenGuid())","v":"-"},null,null,"",null,null,null,null,null,null,null,null,null,null,null,null,null,null,null,null,null,null,null,null,null,null,null,null,null,null,null,null,null,null,null,null,null,null,null,null,"","","",""]
[{"$f":"IF(ISBLANK(B992),\"-\",GenGuid())","v":"-"},null,null,"",null,null,null,null,null,null,null,null,null,null,null,null,null,null,null,null,null,null,null,null,null,null,null,null,null,null,null,null,null,null,null,null,null,null,null,null,"","","",""]
[{"$f":"IF(ISBLANK(B993),\"-\",GenGuid())","v":"-"},null,null,"",null,null,null,null,null,null,null,null,null,null,null,null,null,null,null,null,null,null,null,null,null,null,null,null,null,null,null,null,null,null,null,null,null,null,null,null,"","","",""]
[{"$f":"IF(ISBLANK(B994),\"-\",GenGuid())","v":"-"},null,null,"",null,null,null,null,null,null,null,null,null,null,null,null,null,null,null,null,null,null,null,null,null,null,null,null,null,null,null,null,null,null,null,null,null,null,null,null,"","","",""]
[{"$f":"IF(ISBLANK(B995),\"-\",GenGuid())","v":"-"},null,null,"",null,null,null,null,null,null,null,null,null,null,null,null,null,null,null,null,null,null,null,null,null,null,null,null,null,null,null,null,null,null,null,null,null,null,null,null,"","","",""]
[{"$f":"IF(ISBLANK(B996),\"-\",GenGuid())","v":"-"},null,null,"",null,null,null,null,null,null,null,null,null,null,null,null,null,null,null,null,null,null,null,null,null,null,null,null,null,null,null,null,null,null,null,null,null,null,null,null,"","","",""]
[{"$f":"IF(ISBLANK(B997),\"-\",GenGuid())","v":"-"},null,null,"",null,null,null,null,null,null,null,null,null,null,null,null,null,null,null,null,null,null,null,null,null,null,null,null,null,null,null,null,null,null,null,null,null,null,null,null,"","","",""]
[{"$f":"IF(ISBLANK(B998),\"-\",GenGuid())","v":"-"},null,null,"",null,null,null,null,null,null,null,null,null,null,null,null,null,null,null,null,null,null,null,null,null,null,null,null,null,null,null,null,null,null,null,null,null,null,null,null,"","","",""]
[{"$f":"IF(ISBLANK(B999),\"-\",GenGuid())","v":"-"},null,null,"",null,null,null,null,null,null,null,null,null,null,null,null,null,null,null,null,null,null,null,null,null,null,null,null,null,null,null,null,null,null,null,null,null,null,null,null,"","","",""]
[{"$f":"IF(ISBLANK(B1000),\"-\",GenGuid())","v":"-"},null,null,"",null,null,null,null,null,null,null,null,null,null,null,null,null,null,null,null,null,null,null,null,null,null,null,null,null,null,null,null,null,null,null,null,null,null,null,null,"","","",""]
[{"$f":"IF(ISBLANK(B1001),\"-\",GenGuid())","v":"-"},null,null,"",null,null,null,null,null,null,null,null,null,null,null,null,null,null,null,null,null,null,null,null,null,null,null,null,null,null,null,null,null,null,null,null,null,null,null,null,"","","",""]
[{"$f":"IF(ISBLANK(B1002),\"-\",GenGuid())","v":"-"},null,null,"",null,null,null,null,null,null,null,null,null,null,null,null,null,null,null,null,null,null,null,null,null,null,null,null,null,null,null,null,null,null,null,null,null,null,null,null,"","","",""]
[{"$f":"IF(ISBLANK(B1003),\"-\",GenGuid())","v":"-"},null,null,"",null,null,null,null,null,null,null,null,null,null,null,null,null,null,null,null,null,null,null,null,null,null,null,null,null,null,null,null,null,null,null,null,null,null,null,null,"","","",""]
[{"$f":"IF(ISBLANK(B1004),\"-\",GenGuid())","v":"-"},null,null,"",null,null,null,null,null,null,null,null,null,null,null,null,null,null,null,null,null,null,null,null,null,null,null,null,null,null,null,null,null,null,null,null,null,null,null,null,"","","",""]
["To add more rows, copy from the previous line to ensure the proper formatting/formulas are in place."]

{"sheet":"PLOT_UTM","index":4,"n_rows":1005,"n_cols":8,"rows_kept":1005,"cut":false,"hidden":false,"merged":[]}
["PlotUTMID","PlotID","PlotLabel","LocationType","Datum","UTMzone","Easting","Northing"]
["Name","Plot ID","Plot Label","Location Type","Datum","Zone","Easting","Northing"]
["Type",null,"Text","Text","Text","Integer","Long Integer","Long Integer"]
["Max Length",null,"50","2","5"]
[{"$f":"IF(ISBLANK(C5),\"-\",GenGuid())","v":"-"},{"$f":"IF(ISBLANK(C5),\"-\",INDIRECT(\"PLOTS!A\"&MATCH(C5,PlotLabels)+4))","v":"-"}]
[{"$f":"IF(ISBLANK(C6),\"-\",GenGuid())","v":"-"},"-"]
[{"$f":"IF(ISBLANK(C7),\"-\",GenGuid())","v":"-"},"-"]
[{"$f":"IF(ISBLANK(C8),\"-\",GenGuid())","v":"-"},"-"]
[{"$f":"IF(ISBLANK(C9),\"-\",GenGuid())","v":"-"},"-"]
[{"$f":"IF(ISBLANK(C10),\"-\",GenGuid())","v":"-"},"-"]
[{"$f":"IF(ISBLANK(C11),\"-\",GenGuid())","v":"-"},"-"]
[{"$f":"IF(ISBLANK(C12),\"-\",GenGuid())","v":"-"},"-"]
[{"$f":"IF(ISBLANK(C13),\"-\",GenGuid())","v":"-"},"-"]
[{"$f":"IF(ISBLANK(C14),\"-\",GenGuid())","v":"-"},"-"]
[{"$f":"IF(ISBLANK(C15),\"-\",GenGuid())","v":"-"},"-"]
[{"$f":"IF(ISBLANK(C16),\"-\",GenGuid())","v":"-"},"-"]
[{"$f":"IF(ISBLANK(C17),\"-\",GenGuid())","v":"-"},"-"]
[{"$f":"IF(ISBLANK(C18),\"-\",GenGuid())","v":"-"},"-"]
[{"$f":"IF(ISBLANK(C19),\"-\",GenGuid())","v":"-"},"-"]
[{"$f":"IF(ISBLANK(C20),\"-\",GenGuid())","v":"-"},"-"]
[{"$f":"IF(ISBLANK(C21),\"-\",GenGuid())","v":"-"},"-"]
[{"$f":"IF(ISBLANK(C22),\"-\",GenGuid())","v":"-"},"-"]
[{"$f":"IF(ISBLANK(C23),\"-\",GenGuid())","v":"-"},"-"]
[{"$f":"IF(ISBLANK(C24),\"-\",GenGuid())","v":"-"},"-"]
[{"$f":"IF(ISBLANK(C25),\"-\",GenGuid())","v":"-"},"-"]
[{"$f":"IF(ISBLANK(C26),\"-\",GenGuid())","v":"-"},"-"]
[{"$f":"IF(ISBLANK(C27),\"-\",GenGuid())","v":"-"},"-"]
[{"$f":"IF(ISBLANK(C28),\"-\",GenGuid())","v":"-"},"-"]
[{"$f":"IF(ISBLANK(C29),\"-\",GenGuid())","v":"-"},"-"]
[{"$f":"IF(ISBLANK(C30),\"-\",GenGuid())","v":"-"},"-"]
[{"$f":"IF(ISBLANK(C31),\"-\",GenGuid())","v":"-"},"-"]
[{"$f":"IF(ISBLANK(C32),\"-\",GenGuid())","v":"-"},"-"]
[{"$f":"IF(ISBLANK(C33),\"-\",GenGuid())","v":"-"},"-"]
[{"$f":"IF(ISBLANK(C34),\"-\",GenGuid())","v":"-"},"-"]
[{"$f":"IF(ISBLANK(C35),\"-\",GenGuid())","v":"-"},"-"]
[{"$f":"IF(ISBLANK(C36),\"-\",GenGuid())","v":"-"},"-"]
[{"$f":"IF(ISBLANK(C37),\"-\",GenGuid())","v":"-"},"-"]
[{"$f":"IF(ISBLANK(C38),\"-\",GenGuid())","v":"-"},"-"]
[{"$f":"IF(ISBLANK(C39),\"-\",GenGuid())","v":"-"},"-"]
[{"$f":"IF(ISBLANK(C40),\"-\",GenGuid())","v":"-"},"-"]
[{"$f":"IF(ISBLANK(C41),\"-\",GenGuid())","v":"-"},"-"]
[{"$f":"IF(ISBLANK(C42),\"-\",GenGuid())","v":"-"},"-"]
[{"$f":"IF(ISBLANK(C43),\"-\",GenGuid())","v":"-"},"-"]
[{"$f":"IF(ISBLANK(C44),\"-\",GenGuid())","v":"-"},"-"]
[{"$f":"IF(ISBLANK(C45),\"-\",GenGuid())","v":"-"},"-"]
[{"$f":"IF(ISBLANK(C46),\"-\",GenGuid())","v":"-"},"-"]
[{"$f":"IF(ISBLANK(C47),\"-\",GenGuid())","v":"-"},"-"]
[{"$f":"IF(ISBLANK(C48),\"-\",GenGuid())","v":"-"},"-"]
[{"$f":"IF(ISBLANK(C49),\"-\",GenGuid())","v":"-"},"-"]
[{"$f":"IF(ISBLANK(C50),\"-\",GenGuid())","v":"-"},"-"]
[{"$f":"IF(ISBLANK(C51),\"-\",GenGuid())","v":"-"},"-"]
[{"$f":"IF(ISBLANK(C52),\"-\",GenGuid())","v":"-"},"-"]
[{"$f":"IF(ISBLANK(C53),\"-\",GenGuid())","v":"-"},"-"]
[{"$f":"IF(ISBLANK(C54),\"-\",GenGuid())","v":"-"},"-"]
[{"$f":"IF(ISBLANK(C55),\"-\",GenGuid())","v":"-"},"-"]
[{"$f":"IF(ISBLANK(C56),\"-\",GenGuid())","v":"-"},"-"]
[{"$f":"IF(ISBLANK(C57),\"-\",GenGuid())","v":"-"},"-"]
[{"$f":"IF(ISBLANK(C58),\"-\",GenGuid())","v":"-"},"-"]
[{"$f":"IF(ISBLANK(C59),\"-\",GenGuid())","v":"-"},"-"]
[{"$f":"IF(ISBLANK(C60),\"-\",GenGuid())","v":"-"},"-"]
[{"$f":"IF(ISBLANK(C61),\"-\",GenGuid())","v":"-"},"-"]
[{"$f":"IF(ISBLANK(C62),\"-\",GenGuid())","v":"-"},"-"]
[{"$f":"IF(ISBLANK(C63),\"-\",GenGuid())","v":"-"},"-"]
[{"$f":"IF(ISBLANK(C64),\"-\",GenGuid())","v":"-"},"-"]
[{"$f":"IF(ISBLANK(C65),\"-\",GenGuid())","v":"-"},"-"]
[{"$f":"IF(ISBLANK(C66),\"-\",GenGuid())","v":"-"},"-"]
[{"$f":"IF(ISBLANK(C67),\"-\",GenGuid())","v":"-"},"-"]
[{"$f":"IF(ISBLANK(C68),\"-\",GenGuid())","v":"-"},"-"]
[{"$f":"IF(ISBLANK(C69),\"-\",GenGuid())","v":"-"},{"$f":"IF(ISBLANK(C69),\"-\",INDIRECT(\"PLOTS!A\"&MATCH(C69,PlotLabels)+4))","v":"-"}]
[{"$f":"IF(ISBLANK(C70),\"-\",GenGuid())","v":"-"},"-"]
[{"$f":"IF(ISBLANK(C71),\"-\",GenGuid())","v":"-"},"-"]
[{"$f":"IF(ISBLANK(C72),\"-\",GenGuid())","v":"-"},"-"]
[{"$f":"IF(ISBLANK(C73),\"-\",GenGuid())","v":"-"},"-"]
[{"$f":"IF(ISBLANK(C74),\"-\",GenGuid())","v":"-"},"-"]
[{"$f":"IF(ISBLANK(C75),\"-\",GenGuid())","v":"-"},"-"]
[{"$f":"IF(ISBLANK(C76),\"-\",GenGuid())","v":"-"},"-"]
[{"$f":"IF(ISBLANK(C77),\"-\",GenGuid())","v":"-"},"-"]
[{"$f":"IF(ISBLANK(C78),\"-\",GenGuid())","v":"-"},"-"]
[{"$f":"IF(ISBLANK(C79),\"-\",GenGuid())","v":"-"},"-"]
[{"$f":"IF(ISBLANK(C80),\"-\",GenGuid())","v":"-"},"-"]
[{"$f":"IF(ISBLANK(C81),\"-\",GenGuid())","v":"-"},"-"]
[{"$f":"IF(ISBLANK(C82),\"-\",GenGuid())","v":"-"},"-"]
[{"$f":"IF(ISBLANK(C83),\"-\",GenGuid())","v":"-"},"-"]
[{"$f":"IF(ISBLANK(C84),\"-\",GenGuid())","v":"-"},"-"]
[{"$f":"IF(ISBLANK(C85),\"-\",GenGuid())","v":"-"},"-"]
[{"$f":"IF(ISBLANK(C86),\"-\",GenGuid())","v":"-"},"-"]
[{"$f":"IF(ISBLANK(C87),\"-\",GenGuid())","v":"-"},"-"]
[{"$f":"IF(ISBLANK(C88),\"-\",GenGuid())","v":"-"},"-"]
[{"$f":"IF(ISBLANK(C89),\"-\",GenGuid())","v":"-"},"-"]
[{"$f":"IF(ISBLANK(C90),\"-\",GenGuid())","v":"-"},"-"]
[{"$f":"IF(ISBLANK(C91),\"-\",GenGuid())","v":"-"},"-"]
[{"$f":"IF(ISBLANK(C92),\"-\",GenGuid())","v":"-"},"-"]
[{"$f":"IF(ISBLANK(C93),\"-\",GenGuid())","v":"-"},"-"]
[{"$f":"IF(ISBLANK(C94),\"-\",GenGuid())","v":"-"},"-"]
[{"$f":"IF(ISBLANK(C95),\"-\",GenGuid())","v":"-"},"-"]
[{"$f":"IF(ISBLANK(C96),\"-\",GenGuid())","v":"-"},"-"]
[{"$f":"IF(ISBLANK(C97),\"-\",GenGuid())","v":"-"},"-"]
[{"$f":"IF(ISBLANK(C98),\"-\",GenGuid())","v":"-"},"-"]
[{"$f":"IF(ISBLANK(C99),\"-\",GenGuid())","v":"-"},"-"]
[{"$f":"IF(ISBLANK(C100),\"-\",GenGuid())","v":"-"},"-"]
[{"$f":"IF(ISBLANK(C101),\"-\",GenGuid())","v":"-"},"-"]
[{"$f":"IF(ISBLANK(C102),\"-\",GenGuid())","v":"-"},"-"]
[{"$f":"IF(ISBLANK(C103),\"-\",GenGuid())","v":"-"},"-"]
[{"$f":"IF(ISBLANK(C104),\"-\",GenGuid())","v":"-"},"-"]
[{"$f":"IF(ISBLANK(C105),\"-\",GenGuid())","v":"-"},"-"]
[{"$f":"IF(ISBLANK(C106),\"-\",GenGuid())","v":"-"},"-"]
[{"$f":"IF(ISBLANK(C107),\"-\",GenGuid())","v":"-"},"-"]
[{"$f":"IF(ISBLANK(C108),\"-\",GenGuid())","v":"-"},"-"]
[{"$f":"IF(ISBLANK(C109),\"-\",GenGuid())","v":"-"},"-"]
[{"$f":"IF(ISBLANK(C110),\"-\",GenGuid())","v":"-"},"-"]
[{"$f":"IF(ISBLANK(C111),\"-\",GenGuid())","v":"-"},"-"]
[{"$f":"IF(ISBLANK(C112),\"-\",GenGuid())","v":"-"},"-"]
[{"$f":"IF(ISBLANK(C113),\"-\",GenGuid())","v":"-"},"-"]
[{"$f":"IF(ISBLANK(C114),\"-\",GenGuid())","v":"-"},"-"]
[{"$f":"IF(ISBLANK(C115),\"-\",GenGuid())","v":"-"},"-"]
[{"$f":"IF(ISBLANK(C116),\"-\",GenGuid())","v":"-"},"-"]
[{"$f":"IF(ISBLANK(C117),\"-\",GenGuid())","v":"-"},"-"]
[{"$f":"IF(ISBLANK(C118),\"-\",GenGuid())","v":"-"},"-"]
[{"$f":"IF(ISBLANK(C119),\"-\",GenGuid())","v":"-"},"-"]
[{"$f":"IF(ISBLANK(C120),\"-\",GenGuid())","v":"-"},"-"]
[{"$f":"IF(ISBLANK(C121),\"-\",GenGuid())","v":"-"},"-"]
[{"$f":"IF(ISBLANK(C122),\"-\",GenGuid())","v":"-"},"-"]
[{"$f":"IF(ISBLANK(C123),\"-\",GenGuid())","v":"-"},"-"]
[{"$f":"IF(ISBLANK(C124),\"-\",GenGuid())","v":"-"},"-"]
[{"$f":"IF(ISBLANK(C125),\"-\",GenGuid())","v":"-"},"-"]
[{"$f":"IF(ISBLANK(C126),\"-\",GenGuid())","v":"-"},"-"]
[{"$f":"IF(ISBLANK(C127),\"-\",GenGuid())","v":"-"},"-"]
[{"$f":"IF(ISBLANK(C128),\"-\",GenGuid())","v":"-"},"-"]
[{"$f":"IF(ISBLANK(C129),\"-\",GenGuid())","v":"-"},"-"]
[{"$f":"IF(ISBLANK(C130),\"-\",GenGuid())","v":"-"},"-"]
[{"$f":"IF(ISBLANK(C131),\"-\",GenGuid())","v":"-"},"-"]
[{"$f":"IF(ISBLANK(C132),\"-\",GenGuid())","v":"-"},"-"]
[{"$f":"IF(ISBLANK(C133),\"-\",GenGuid())","v":"-"},{"$f":"IF(ISBLANK(C133),\"-\",INDIRECT(\"PLOTS!A\"&MATCH(C133,PlotLabels)+4))","v":"-"}]
[{"$f":"IF(ISBLANK(C134),\"-\",GenGuid())","v":"-"},"-"]
[{"$f":"IF(ISBLANK(C135),\"-\",GenGuid())","v":"-"},"-"]
[{"$f":"IF(ISBLANK(C136),\"-\",GenGuid())","v":"-"},"-"]
[{"$f":"IF(ISBLANK(C137),\"-\",GenGuid())","v":"-"},"-"]
[{"$f":"IF(ISBLANK(C138),\"-\",GenGuid())","v":"-"},"-"]
[{"$f":"IF(ISBLANK(C139),\"-\",GenGuid())","v":"-"},"-"]
[{"$f":"IF(ISBLANK(C140),\"-\",GenGuid())","v":"-"},"-"]
[{"$f":"IF(ISBLANK(C141),\"-\",GenGuid())","v":"-"},"-"]
[{"$f":"IF(ISBLANK(C142),\"-\",GenGuid())","v":"-"},"-"]
[{"$f":"IF(ISBLANK(C143),\"-\",GenGuid())","v":"-"},"-"]
[{"$f":"IF(ISBLANK(C144),\"-\",GenGuid())","v":"-"},"-"]
[{"$f":"IF(ISBLANK(C145),\"-\",GenGuid())","v":"-"},"-"]
[{"$f":"IF(ISBLANK(C146),\"-\",GenGuid())","v":"-"},"-"]
[{"$f":"IF(ISBLANK(C147),\"-\",GenGuid())","v":"-"},"-"]
[{"$f":"IF(ISBLANK(C148),\"-\",GenGuid())","v":"-"},"-"]
[{"$f":"IF(ISBLANK(C149),\"-\",GenGuid())","v":"-"},"-"]
[{"$f":"IF(ISBLANK(C150),\"-\",GenGuid())","v":"-"},"-"]
[{"$f":"IF(ISBLANK(C151),\"-\",GenGuid())","v":"-"},"-"]
[{"$f":"IF(ISBLANK(C152),\"-\",GenGuid())","v":"-"},"-"]
[{"$f":"IF(ISBLANK(C153),\"-\",GenGuid())","v":"-"},"-"]
[{"$f":"IF(ISBLANK(C154),\"-\",GenGuid())","v":"-"},"-"]
[{"$f":"IF(ISBLANK(C155),\"-\",GenGuid())","v":"-"},"-"]
[{"$f":"IF(ISBLANK(C156),\"-\",GenGuid())","v":"-"},"-"]
[{"$f":"IF(ISBLANK(C157),\"-\",GenGuid())","v":"-"},"-"]
[{"$f":"IF(ISBLANK(C158),\"-\",GenGuid())","v":"-"},"-"]
[{"$f":"IF(ISBLANK(C159),\"-\",GenGuid())","v":"-"},"-"]
[{"$f":"IF(ISBLANK(C160),\"-\",GenGuid())","v":"-"},"-"]
[{"$f":"IF(ISBLANK(C161),\"-\",GenGuid())","v":"-"},"-"]
[{"$f":"IF(ISBLANK(C162),\"-\",GenGuid())","v":"-"},"-"]
[{"$f":"IF(ISBLANK(C163),\"-\",GenGuid())","v":"-"},"-"]
[{"$f":"IF(ISBLANK(C164),\"-\",GenGuid())","v":"-"},"-"]
[{"$f":"IF(ISBLANK(C165),\"-\",GenGuid())","v":"-"},"-"]
[{"$f":"IF(ISBLANK(C166),\"-\",GenGuid())","v":"-"},"-"]
[{"$f":"IF(ISBLANK(C167),\"-\",GenGuid())","v":"-"},"-"]
[{"$f":"IF(ISBLANK(C168),\"-\",GenGuid())","v":"-"},"-"]
[{"$f":"IF(ISBLANK(C169),\"-\",GenGuid())","v":"-"},"-"]
[{"$f":"IF(ISBLANK(C170),\"-\",GenGuid())","v":"-"},"-"]
[{"$f":"IF(ISBLANK(C171),\"-\",GenGuid())","v":"-"},"-"]
[{"$f":"IF(ISBLANK(C172),\"-\",GenGuid())","v":"-"},"-"]
[{"$f":"IF(ISBLANK(C173),\"-\",GenGuid())","v":"-"},"-"]
[{"$f":"IF(ISBLANK(C174),\"-\",GenGuid())","v":"-"},"-"]
[{"$f":"IF(ISBLANK(C175),\"-\",GenGuid())","v":"-"},"-"]
[{"$f":"IF(ISBLANK(C176),\"-\",GenGuid())","v":"-"},"-"]
[{"$f":"IF(ISBLANK(C177),\"-\",GenGuid())","v":"-"},"-"]
[{"$f":"IF(ISBLANK(C178),\"-\",GenGuid())","v":"-"},"-"]
[{"$f":"IF(ISBLANK(C179),\"-\",GenGuid())","v":"-"},"-"]
[{"$f":"IF(ISBLANK(C180),\"-\",GenGuid())","v":"-"},"-"]
[{"$f":"IF(ISBLANK(C181),\"-\",GenGuid())","v":"-"},"-"]
[{"$f":"IF(ISBLANK(C182),\"-\",GenGuid())","v":"-"},"-"]
[{"$f":"IF(ISBLANK(C183),\"-\",GenGuid())","v":"-"},"-"]
[{"$f":"IF(ISBLANK(C184),\"-\",GenGuid())","v":"-"},"-"]
[{"$f":"IF(ISBLANK(C185),\"-\",GenGuid())","v":"-"},"-"]
[{"$f":"IF(ISBLANK(C186),\"-\",GenGuid())","v":"-"},"-"]
[{"$f":"IF(ISBLANK(C187),\"-\",GenGuid())","v":"-"},"-"]
[{"$f":"IF(ISBLANK(C188),\"-\",GenGuid())","v":"-"},"-"]
[{"$f":"IF(ISBLANK(C189),\"-\",GenGuid())","v":"-"},"-"]
[{"$f":"IF(ISBLANK(C190),\"-\",GenGuid())","v":"-"},"-"]
[{"$f":"IF(ISBLANK(C191),\"-\",GenGuid())","v":"-"},"-"]
[{"$f":"IF(ISBLANK(C192),\"-\",GenGuid())","v":"-"},"-"]
[{"$f":"IF(ISBLANK(C193),\"-\",GenGuid())","v":"-"},"-"]
[{"$f":"IF(ISBLANK(C194),\"-\",GenGuid())","v":"-"},"-"]
[{"$f":"IF(ISBLANK(C195),\"-\",GenGuid())","v":"-"},"-"]
[{"$f":"IF(ISBLANK(C196),\"-\",GenGuid())","v":"-"},"-"]
[{"$f":"IF(ISBLANK(C197),\"-\",GenGuid())","v":"-"},{"$f":"IF(ISBLANK(C197),\"-\",INDIRECT(\"PLOTS!A\"&MATCH(C197,PlotLabels)+4))","v":"-"}]
[{"$f":"IF(ISBLANK(C198),\"-\",GenGuid())","v":"-"},"-"]
[{"$f":"IF(ISBLANK(C199),\"-\",GenGuid())","v":"-"},"-"]
[{"$f":"IF(ISBLANK(C200),\"-\",GenGuid())","v":"-"},"-"]
[{"$f":"IF(ISBLANK(C201),\"-\",GenGuid())","v":"-"},"-"]
[{"$f":"IF(ISBLANK(C202),\"-\",GenGuid())","v":"-"},"-"]
[{"$f":"IF(ISBLANK(C203),\"-\",GenGuid())","v":"-"},"-"]
[{"$f":"IF(ISBLANK(C204),\"-\",GenGuid())","v":"-"},"-"]
[{"$f":"IF(ISBLANK(C205),\"-\",GenGuid())","v":"-"},"-"]
[{"$f":"IF(ISBLANK(C206),\"-\",GenGuid())","v":"-"},"-"]
[{"$f":"IF(ISBLANK(C207),\"-\",GenGuid())","v":"-"},"-"]
[{"$f":"IF(ISBLANK(C208),\"-\",GenGuid())","v":"-"},"-"]
[{"$f":"IF(ISBLANK(C209),\"-\",GenGuid())","v":"-"},"-"]
[{"$f":"IF(ISBLANK(C210),\"-\",GenGuid())","v":"-"},"-"]
[{"$f":"IF(ISBLANK(C211),\"-\",GenGuid())","v":"-"},"-"]
[{"$f":"IF(ISBLANK(C212),\"-\",GenGuid())","v":"-"},"-"]
[{"$f":"IF(ISBLANK(C213),\"-\",GenGuid())","v":"-"},"-"]
[{"$f":"IF(ISBLANK(C214),\"-\",GenGuid())","v":"-"},"-"]
[{"$f":"IF(ISBLANK(C215),\"-\",GenGuid())","v":"-"},"-"]
[{"$f":"IF(ISBLANK(C216),\"-\",GenGuid())","v":"-"},"-"]
[{"$f":"IF(ISBLANK(C217),\"-\",GenGuid())","v":"-"},"-"]
[{"$f":"IF(ISBLANK(C218),\"-\",GenGuid())","v":"-"},"-"]
[{"$f":"IF(ISBLANK(C219),\"-\",GenGuid())","v":"-"},"-"]
[{"$f":"IF(ISBLANK(C220),\"-\",GenGuid())","v":"-"},"-"]
[{"$f":"IF(ISBLANK(C221),\"-\",GenGuid())","v":"-"},"-"]
[{"$f":"IF(ISBLANK(C222),\"-\",GenGuid())","v":"-"},"-"]
[{"$f":"IF(ISBLANK(C223),\"-\",GenGuid())","v":"-"},"-"]
[{"$f":"IF(ISBLANK(C224),\"-\",GenGuid())","v":"-"},"-"]
[{"$f":"IF(ISBLANK(C225),\"-\",GenGuid())","v":"-"},"-"]
[{"$f":"IF(ISBLANK(C226),\"-\",GenGuid())","v":"-"},"-"]
[{"$f":"IF(ISBLANK(C227),\"-\",GenGuid())","v":"-"},"-"]
[{"$f":"IF(ISBLANK(C228),\"-\",GenGuid())","v":"-"},"-"]
[{"$f":"IF(ISBLANK(C229),\"-\",GenGuid())","v":"-"},"-"]
[{"$f":"IF(ISBLANK(C230),\"-\",GenGuid())","v":"-"},"-"]
[{"$f":"IF(ISBLANK(C231),\"-\",GenGuid())","v":"-"},"-"]
[{"$f":"IF(ISBLANK(C232),\"-\",GenGuid())","v":"-"},"-"]
[{"$f":"IF(ISBLANK(C233),\"-\",GenGuid())","v":"-"},"-"]
[{"$f":"IF(ISBLANK(C234),\"-\",GenGuid())","v":"-"},"-"]
[{"$f":"IF(ISBLANK(C235),\"-\",GenGuid())","v":"-"},"-"]
[{"$f":"IF(ISBLANK(C236),\"-\",GenGuid())","v":"-"},"-"]
[{"$f":"IF(ISBLANK(C237),\"-\",GenGuid())","v":"-"},"-"]
[{"$f":"IF(ISBLANK(C238),\"-\",GenGuid())","v":"-"},"-"]
[{"$f":"IF(ISBLANK(C239),\"-\",GenGuid())","v":"-"},"-"]
[{"$f":"IF(ISBLANK(C240),\"-\",GenGuid())","v":"-"},"-"]
[{"$f":"IF(ISBLANK(C241),\"-\",GenGuid())","v":"-"},"-"]
[{"$f":"IF(ISBLANK(C242),\"-\",GenGuid())","v":"-"},"-"]
[{"$f":"IF(ISBLANK(C243),\"-\",GenGuid())","v":"-"},"-"]
[{"$f":"IF(ISBLANK(C244),\"-\",GenGuid())","v":"-"},"-"]
[{"$f":"IF(ISBLANK(C245),\"-\",GenGuid())","v":"-"},"-"]
[{"$f":"IF(ISBLANK(C246),\"-\",GenGuid())","v":"-"},"-"]
[{"$f":"IF(ISBLANK(C247),\"-\",GenGuid())","v":"-"},"-"]
[{"$f":"IF(ISBLANK(C248),\"-\",GenGuid())","v":"-"},"-"]
[{"$f":"IF(ISBLANK(C249),\"-\",GenGuid())","v":"-"},"-"]
[{"$f":"IF(ISBLANK(C250),\"-\",GenGuid())","v":"-"},"-"]
[{"$f":"IF(ISBLANK(C251),\"-\",GenGuid())","v":"-"},"-"]
[{"$f":"IF(ISBLANK(C252),\"-\",GenGuid())","v":"-"},"-"]
[{"$f":"IF(ISBLANK(C253),\"-\",GenGuid())","v":"-"},"-"]
[{"$f":"IF(ISBLANK(C254),\"-\",GenGuid())","v":"-"},"-"]
[{"$f":"IF(ISBLANK(C255),\"-\",GenGuid())","v":"-"},"-"]
[{"$f":"IF(ISBLANK(C256),\"-\",GenGuid())","v":"-"},"-"]
[{"$f":"IF(ISBLANK(C257),\"-\",GenGuid())","v":"-"},"-"]
[{"$f":"IF(ISBLANK(C258),\"-\",GenGuid())","v":"-"},"-"]
[{"$f":"IF(ISBLANK(C259),\"-\",GenGuid())","v":"-"},"-"]
[{"$f":"IF(ISBLANK(C260),\"-\",GenGuid())","v":"-"},"-"]
[{"$f":"IF(ISBLANK(C261),\"-\",GenGuid())","v":"-"},{"$f":"IF(ISBLANK(C261),\"-\",INDIRECT(\"PLOTS!A\"&MATCH(C261,PlotLabels)+4))","v":"-"}]
[{"$f":"IF(ISBLANK(C262),\"-\",GenGuid())","v":"-"},"-"]
[{"$f":"IF(ISBLANK(C263),\"-\",GenGuid())","v":"-"},"-"]
[{"$f":"IF(ISBLANK(C264),\"-\",GenGuid())","v":"-"},"-"]
[{"$f":"IF(ISBLANK(C265),\"-\",GenGuid())","v":"-"},"-"]
[{"$f":"IF(ISBLANK(C266),\"-\",GenGuid())","v":"-"},"-"]
[{"$f":"IF(ISBLANK(C267),\"-\",GenGuid())","v":"-"},"-"]
[{"$f":"IF(ISBLANK(C268),\"-\",GenGuid())","v":"-"},"-"]
[{"$f":"IF(ISBLANK(C269),\"-\",GenGuid())","v":"-"},"-"]
[{"$f":"IF(ISBLANK(C270),\"-\",GenGuid())","v":"-"},"-"]
[{"$f":"IF(ISBLANK(C271),\"-\",GenGuid())","v":"-"},"-"]
[{"$f":"IF(ISBLANK(C272),\"-\",GenGuid())","v":"-"},"-"]
[{"$f":"IF(ISBLANK(C273),\"-\",GenGuid())","v":"-"},"-"]
[{"$f":"IF(ISBLANK(C274),\"-\",GenGuid())","v":"-"},"-"]
[{"$f":"IF(ISBLANK(C275),\"-\",GenGuid())","v":"-"},"-"]
[{"$f":"IF(ISBLANK(C276),\"-\",GenGuid())","v":"-"},"-"]
[{"$f":"IF(ISBLANK(C277),\"-\",GenGuid())","v":"-"},"-"]
[{"$f":"IF(ISBLANK(C278),\"-\",GenGuid())","v":"-"},"-"]
[{"$f":"IF(ISBLANK(C279),\"-\",GenGuid())","v":"-"},"-"]
[{"$f":"IF(ISBLANK(C280),\"-\",GenGuid())","v":"-"},"-"]
[{"$f":"IF(ISBLANK(C281),\"-\",GenGuid())","v":"-"},"-"]
[{"$f":"IF(ISBLANK(C282),\"-\",GenGuid())","v":"-"},"-"]
[{"$f":"IF(ISBLANK(C283),\"-\",GenGuid())","v":"-"},"-"]
[{"$f":"IF(ISBLANK(C284),\"-\",GenGuid())","v":"-"},"-"]
[{"$f":"IF(ISBLANK(C285),\"-\",GenGuid())","v":"-"},"-"]
[{"$f":"IF(ISBLANK(C286),\"-\",GenGuid())","v":"-"},"-"]
[{"$f":"IF(ISBLANK(C287),\"-\",GenGuid())","v":"-"},"-"]
[{"$f":"IF(ISBLANK(C288),\"-\",GenGuid())","v":"-"},"-"]
[{"$f":"IF(ISBLANK(C289),\"-\",GenGuid())","v":"-"},"-"]
[{"$f":"IF(ISBLANK(C290),\"-\",GenGuid())","v":"-"},"-"]
[{"$f":"IF(ISBLANK(C291),\"-\",GenGuid())","v":"-"},"-"]
[{"$f":"IF(ISBLANK(C292),\"-\",GenGuid())","v":"-"},"-"]
[{"$f":"IF(ISBLANK(C293),\"-\",GenGuid())","v":"-"},"-"]
[{"$f":"IF(ISBLANK(C294),\"-\",GenGuid())","v":"-"},"-"]
[{"$f":"IF(ISBLANK(C295),\"-\",GenGuid())","v":"-"},"-"]
[{"$f":"IF(ISBLANK(C296),\"-\",GenGuid())","v":"-"},"-"]
[{"$f":"IF(ISBLANK(C297),\"-\",GenGuid())","v":"-"},"-"]
[{"$f":"IF(ISBLANK(C298),\"-\",GenGuid())","v":"-"},"-"]
[{"$f":"IF(ISBLANK(C299),\"-\",GenGuid())","v":"-"},"-"]
[{"$f":"IF(ISBLANK(C300),\"-\",GenGuid())","v":"-"},"-"]
[{"$f":"IF(ISBLANK(C301),\"-\",GenGuid())","v":"-"},"-"]
[{"$f":"IF(ISBLANK(C302),\"-\",GenGuid())","v":"-"},"-"]
[{"$f":"IF(ISBLANK(C303),\"-\",GenGuid())","v":"-"},"-"]
[{"$f":"IF(ISBLANK(C304),\"-\",GenGuid())","v":"-"},"-"]
[{"$f":"IF(ISBLANK(C305),\"-\",GenGuid())","v":"-"},"-"]
[{"$f":"IF(ISBLANK(C306),\"-\",GenGuid())","v":"-"},"-"]
[{"$f":"IF(ISBLANK(C307),\"-\",GenGuid())","v":"-"},"-"]
[{"$f":"IF(ISBLANK(C308),\"-\",GenGuid())","v":"-"},"-"]
[{"$f":"IF(ISBLANK(C309),\"-\",GenGuid())","v":"-"},"-"]
[{"$f":"IF(ISBLANK(C310),\"-\",GenGuid())","v":"-"},"-"]
[{"$f":"IF(ISBLANK(C311),\"-\",GenGuid())","v":"-"},"-"]
[{"$f":"IF(ISBLANK(C312),\"-\",GenGuid())","v":"-"},"-"]
[{"$f":"IF(ISBLANK(C313),\"-\",GenGuid())","v":"-"},"-"]
[{"$f":"IF(ISBLANK(C314),\"-\",GenGuid())","v":"-"},"-"]
[{"$f":"IF(ISBLANK(C315),\"-\",GenGuid())","v":"-"},"-"]
[{"$f":"IF(ISBLANK(C316),\"-\",GenGuid())","v":"-"},"-"]
[{"$f":"IF(ISBLANK(C317),\"-\",GenGuid())","v":"-"},"-"]
[{"$f":"IF(ISBLANK(C318),\"-\",GenGuid())","v":"-"},"-"]
[{"$f":"IF(ISBLANK(C319),\"-\",GenGuid())","v":"-"},"-"]
[{"$f":"IF(ISBLANK(C320),\"-\",GenGuid())","v":"-"},"-"]
[{"$f":"IF(ISBLANK(C321),\"-\",GenGuid())","v":"-"},"-"]
[{"$f":"IF(ISBLANK(C322),\"-\",GenGuid())","v":"-"},"-"]
[{"$f":"IF(ISBLANK(C323),\"-\",GenGuid())","v":"-"},"-"]
[{"$f":"IF(ISBLANK(C324),\"-\",GenGuid())","v":"-"},"-"]
[{"$f":"IF(ISBLANK(C325),\"-\",GenGuid())","v":"-"},{"$f":"IF(ISBLANK(C325),\"-\",INDIRECT(\"PLOTS!A\"&MATCH(C325,PlotLabels)+4))","v":"-"}]
[{"$f":"IF(ISBLANK(C326),\"-\",GenGuid())","v":"-"},"-"]
[{"$f":"IF(ISBLANK(C327),\"-\",GenGuid())","v":"-"},"-"]
[{"$f":"IF(ISBLANK(C328),\"-\",GenGuid())","v":"-"},"-"]
[{"$f":"IF(ISBLANK(C329),\"-\",GenGuid())","v":"-"},"-"]
[{"$f":"IF(ISBLANK(C330),\"-\",GenGuid())","v":"-"},"-"]
[{"$f":"IF(ISBLANK(C331),\"-\",GenGuid())","v":"-"},"-"]
[{"$f":"IF(ISBLANK(C332),\"-\",GenGuid())","v":"-"},"-"]
[{"$f":"IF(ISBLANK(C333),\"-\",GenGuid())","v":"-"},"-"]
[{"$f":"IF(ISBLANK(C334),\"-\",GenGuid())","v":"-"},"-"]
[{"$f":"IF(ISBLANK(C335),\"-\",GenGuid())","v":"-"},"-"]
[{"$f":"IF(ISBLANK(C336),\"-\",GenGuid())","v":"-"},"-"]
[{"$f":"IF(ISBLANK(C337),\"-\",GenGuid())","v":"-"},"-"]
[{"$f":"IF(ISBLANK(C338),\"-\",GenGuid())","v":"-"},"-"]
[{"$f":"IF(ISBLANK(C339),\"-\",GenGuid())","v":"-"},"-"]
[{"$f":"IF(ISBLANK(C340),\"-\",GenGuid())","v":"-"},"-"]
[{"$f":"IF(ISBLANK(C341),\"-\",GenGuid())","v":"-"},"-"]
[{"$f":"IF(ISBLANK(C342),\"-\",GenGuid())","v":"-"},"-"]
[{"$f":"IF(ISBLANK(C343),\"-\",GenGuid())","v":"-"},"-"]
[{"$f":"IF(ISBLANK(C344),\"-\",GenGuid())","v":"-"},"-"]
[{"$f":"IF(ISBLANK(C345),\"-\",GenGuid())","v":"-"},"-"]
[{"$f":"IF(ISBLANK(C346),\"-\",GenGuid())","v":"-"},"-"]
[{"$f":"IF(ISBLANK(C347),\"-\",GenGuid())","v":"-"},"-"]
[{"$f":"IF(ISBLANK(C348),\"-\",GenGuid())","v":"-"},"-"]
[{"$f":"IF(ISBLANK(C349),\"-\",GenGuid())","v":"-"},"-"]
[{"$f":"IF(ISBLANK(C350),\"-\",GenGuid())","v":"-"},"-"]
[{"$f":"IF(ISBLANK(C351),\"-\",GenGuid())","v":"-"},"-"]
[{"$f":"IF(ISBLANK(C352),\"-\",GenGuid())","v":"-"},"-"]
[{"$f":"IF(ISBLANK(C353),\"-\",GenGuid())","v":"-"},"-"]
[{"$f":"IF(ISBLANK(C354),\"-\",GenGuid())","v":"-"},"-"]
[{"$f":"IF(ISBLANK(C355),\"-\",GenGuid())","v":"-"},"-"]
[{"$f":"IF(ISBLANK(C356),\"-\",GenGuid())","v":"-"},"-"]
[{"$f":"IF(ISBLANK(C357),\"-\",GenGuid())","v":"-"},"-"]
[{"$f":"IF(ISBLANK(C358),\"-\",GenGuid())","v":"-"},"-"]
[{"$f":"IF(ISBLANK(C359),\"-\",GenGuid())","v":"-"},"-"]
[{"$f":"IF(ISBLANK(C360),\"-\",GenGuid())","v":"-"},"-"]
[{"$f":"IF(ISBLANK(C361),\"-\",GenGuid())","v":"-"},"-"]
[{"$f":"IF(ISBLANK(C362),\"-\",GenGuid())","v":"-"},"-"]
[{"$f":"IF(ISBLANK(C363),\"-\",GenGuid())","v":"-"},"-"]
[{"$f":"IF(ISBLANK(C364),\"-\",GenGuid())","v":"-"},"-"]
[{"$f":"IF(ISBLANK(C365),\"-\",GenGuid())","v":"-"},"-"]
[{"$f":"IF(ISBLANK(C366),\"-\",GenGuid())","v":"-"},"-"]
[{"$f":"IF(ISBLANK(C367),\"-\",GenGuid())","v":"-"},"-"]
[{"$f":"IF(ISBLANK(C368),\"-\",GenGuid())","v":"-"},"-"]
[{"$f":"IF(ISBLANK(C369),\"-\",GenGuid())","v":"-"},"-"]
[{"$f":"IF(ISBLANK(C370),\"-\",GenGuid())","v":"-"},"-"]
[{"$f":"IF(ISBLANK(C371),\"-\",GenGuid())","v":"-"},"-"]
[{"$f":"IF(ISBLANK(C372),\"-\",GenGuid())","v":"-"},"-"]
[{"$f":"IF(ISBLANK(C373),\"-\",GenGuid())","v":"-"},"-"]
[{"$f":"IF(ISBLANK(C374),\"-\",GenGuid())","v":"-"},"-"]
[{"$f":"IF(ISBLANK(C375),\"-\",GenGuid())","v":"-"},"-"]
[{"$f":"IF(ISBLANK(C376),\"-\",GenGuid())","v":"-"},"-"]
[{"$f":"IF(ISBLANK(C377),\"-\",GenGuid())","v":"-"},"-"]
[{"$f":"IF(ISBLANK(C378),\"-\",GenGuid())","v":"-"},"-"]
[{"$f":"IF(ISBLANK(C379),\"-\",GenGuid())","v":"-"},"-"]
[{"$f":"IF(ISBLANK(C380),\"-\",GenGuid())","v":"-"},"-"]
[{"$f":"IF(ISBLANK(C381),\"-\",GenGuid())","v":"-"},"-"]
[{"$f":"IF(ISBLANK(C382),\"-\",GenGuid())","v":"-"},"-"]
[{"$f":"IF(ISBLANK(C383),\"-\",GenGuid())","v":"-"},"-"]
[{"$f":"IF(ISBLANK(C384),\"-\",GenGuid())","v":"-"},"-"]
[{"$f":"IF(ISBLANK(C385),\"-\",GenGuid())","v":"-"},"-"]
[{"$f":"IF(ISBLANK(C386),\"-\",GenGuid())","v":"-"},"-"]
[{"$f":"IF(ISBLANK(C387),\"-\",GenGuid())","v":"-"},"-"]
[{"$f":"IF(ISBLANK(C388),\"-\",GenGuid())","v":"-"},"-"]
[{"$f":"IF(ISBLANK(C389),\"-\",GenGuid())","v":"-"},{"$f":"IF(ISBLANK(C389),\"-\",INDIRECT(\"PLOTS!A\"&MATCH(C389,PlotLabels)+4))","v":"-"}]
[{"$f":"IF(ISBLANK(C390),\"-\",GenGuid())","v":"-"},"-"]
[{"$f":"IF(ISBLANK(C391),\"-\",GenGuid())","v":"-"},"-"]
[{"$f":"IF(ISBLANK(C392),\"-\",GenGuid())","v":"-"},"-"]
[{"$f":"IF(ISBLANK(C393),\"-\",GenGuid())","v":"-"},"-"]
[{"$f":"IF(ISBLANK(C394),\"-\",GenGuid())","v":"-"},"-"]
[{"$f":"IF(ISBLANK(C395),\"-\",GenGuid())","v":"-"},"-"]
[{"$f":"IF(ISBLANK(C396),\"-\",GenGuid())","v":"-"},"-"]
[{"$f":"IF(ISBLANK(C397),\"-\",GenGuid())","v":"-"},"-"]
[{"$f":"IF(ISBLANK(C398),\"-\",GenGuid())","v":"-"},"-"]
[{"$f":"IF(ISBLANK(C399),\"-\",GenGuid())","v":"-"},"-"]
[{"$f":"IF(ISBLANK(C400),\"-\",GenGuid())","v":"-"},"-"]
[{"$f":"IF(ISBLANK(C401),\"-\",GenGuid())","v":"-"},"-"]
[{"$f":"IF(ISBLANK(C402),\"-\",GenGuid())","v":"-"},"-"]
[{"$f":"IF(ISBLANK(C403),\"-\",GenGuid())","v":"-"},"-"]
[{"$f":"IF(ISBLANK(C404),\"-\",GenGuid())","v":"-"},"-"]
[{"$f":"IF(ISBLANK(C405),\"-\",GenGuid())","v":"-"},"-"]
[{"$f":"IF(ISBLANK(C406),\"-\",GenGuid())","v":"-"},"-"]
[{"$f":"IF(ISBLANK(C407),\"-\",GenGuid())","v":"-"},"-"]
[{"$f":"IF(ISBLANK(C408),\"-\",GenGuid())","v":"-"},"-"]
[{"$f":"IF(ISBLANK(C409),\"-\",GenGuid())","v":"-"},"-"]
[{"$f":"IF(ISBLANK(C410),\"-\",GenGuid())","v":"-"},"-"]
[{"$f":"IF(ISBLANK(C411),\"-\",GenGuid())","v":"-"},"-"]
[{"$f":"IF(ISBLANK(C412),\"-\",GenGuid())","v":"-"},"-"]
[{"$f":"IF(ISBLANK(C413),\"-\",GenGuid())","v":"-"},"-"]
[{"$f":"IF(ISBLANK(C414),\"-\",GenGuid())","v":"-"},"-"]
[{"$f":"IF(ISBLANK(C415),\"-\",GenGuid())","v":"-"},"-"]
[{"$f":"IF(ISBLANK(C416),\"-\",GenGuid())","v":"-"},"-"]
[{"$f":"IF(ISBLANK(C417),\"-\",GenGuid())","v":"-"},"-"]
[{"$f":"IF(ISBLANK(C418),\"-\",GenGuid())","v":"-"},"-"]
[{"$f":"IF(ISBLANK(C419),\"-\",GenGuid())","v":"-"},"-"]
[{"$f":"IF(ISBLANK(C420),\"-\",GenGuid())","v":"-"},"-"]
[{"$f":"IF(ISBLANK(C421),\"-\",GenGuid())","v":"-"},"-"]
[{"$f":"IF(ISBLANK(C422),\"-\",GenGuid())","v":"-"},"-"]
[{"$f":"IF(ISBLANK(C423),\"-\",GenGuid())","v":"-"},"-"]
[{"$f":"IF(ISBLANK(C424),\"-\",GenGuid())","v":"-"},"-"]
[{"$f":"IF(ISBLANK(C425),\"-\",GenGuid())","v":"-"},"-"]
[{"$f":"IF(ISBLANK(C426),\"-\",GenGuid())","v":"-"},"-"]
[{"$f":"IF(ISBLANK(C427),\"-\",GenGuid())","v":"-"},"-"]
[{"$f":"IF(ISBLANK(C428),\"-\",GenGuid())","v":"-"},"-"]
[{"$f":"IF(ISBLANK(C429),\"-\",GenGuid())","v":"-"},"-"]
[{"$f":"IF(ISBLANK(C430),\"-\",GenGuid())","v":"-"},"-"]
[{"$f":"IF(ISBLANK(C431),\"-\",GenGuid())","v":"-"},"-"]
[{"$f":"IF(ISBLANK(C432),\"-\",GenGuid())","v":"-"},"-"]
[{"$f":"IF(ISBLANK(C433),\"-\",GenGuid())","v":"-"},"-"]
[{"$f":"IF(ISBLANK(C434),\"-\",GenGuid())","v":"-"},"-"]
[{"$f":"IF(ISBLANK(C435),\"-\",GenGuid())","v":"-"},"-"]
[{"$f":"IF(ISBLANK(C436),\"-\",GenGuid())","v":"-"},"-"]
[{"$f":"IF(ISBLANK(C437),\"-\",GenGuid())","v":"-"},"-"]
[{"$f":"IF(ISBLANK(C438),\"-\",GenGuid())","v":"-"},"-"]
[{"$f":"IF(ISBLANK(C439),\"-\",GenGuid())","v":"-"},"-"]
[{"$f":"IF(ISBLANK(C440),\"-\",GenGuid())","v":"-"},"-"]
[{"$f":"IF(ISBLANK(C441),\"-\",GenGuid())","v":"-"},"-"]
[{"$f":"IF(ISBLANK(C442),\"-\",GenGuid())","v":"-"},"-"]
[{"$f":"IF(ISBLANK(C443),\"-\",GenGuid())","v":"-"},"-"]
[{"$f":"IF(ISBLANK(C444),\"-\",GenGuid())","v":"-"},"-"]
[{"$f":"IF(ISBLANK(C445),\"-\",GenGuid())","v":"-"},"-"]
[{"$f":"IF(ISBLANK(C446),\"-\",GenGuid())","v":"-"},"-"]
[{"$f":"IF(ISBLANK(C447),\"-\",GenGuid())","v":"-"},"-"]
[{"$f":"IF(ISBLANK(C448),\"-\",GenGuid())","v":"-"},"-"]
[{"$f":"IF(ISBLANK(C449),\"-\",GenGuid())","v":"-"},"-"]
[{"$f":"IF(ISBLANK(C450),\"-\",GenGuid())","v":"-"},"-"]
[{"$f":"IF(ISBLANK(C451),\"-\",GenGuid())","v":"-"},"-"]
[{"$f":"IF(ISBLANK(C452),\"-\",GenGuid())","v":"-"},"-"]
[{"$f":"IF(ISBLANK(C453),\"-\",GenGuid())","v":"-"},{"$f":"IF(ISBLANK(C453),\"-\",INDIRECT(\"PLOTS!A\"&MATCH(C453,PlotLabels)+4))","v":"-"}]
[{"$f":"IF(ISBLANK(C454),\"-\",GenGuid())","v":"-"},"-"]
[{"$f":"IF(ISBLANK(C455),\"-\",GenGuid())","v":"-"},"-"]
[{"$f":"IF(ISBLANK(C456),\"-\",GenGuid())","v":"-"},"-"]
[{"$f":"IF(ISBLANK(C457),\"-\",GenGuid())","v":"-"},"-"]
[{"$f":"IF(ISBLANK(C458),\"-\",GenGuid())","v":"-"},"-"]
[{"$f":"IF(ISBLANK(C459),\"-\",GenGuid())","v":"-"},"-"]
[{"$f":"IF(ISBLANK(C460),\"-\",GenGuid())","v":"-"},"-"]
[{"$f":"IF(ISBLANK(C461),\"-\",GenGuid())","v":"-"},"-"]
[{"$f":"IF(ISBLANK(C462),\"-\",GenGuid())","v":"-"},"-"]
[{"$f":"IF(ISBLANK(C463),\"-\",GenGuid())","v":"-"},"-"]
[{"$f":"IF(ISBLANK(C464),\"-\",GenGuid())","v":"-"},"-"]
[{"$f":"IF(ISBLANK(C465),\"-\",GenGuid())","v":"-"},"-"]
[{"$f":"IF(ISBLANK(C466),\"-\",GenGuid())","v":"-"},"-"]
[{"$f":"IF(ISBLANK(C467),\"-\",GenGuid())","v":"-"},"-"]
[{"$f":"IF(ISBLANK(C468),\"-\",GenGuid())","v":"-"},"-"]
[{"$f":"IF(ISBLANK(C469),\"-\",GenGuid())","v":"-"},"-"]
[{"$f":"IF(ISBLANK(C470),\"-\",GenGuid())","v":"-"},"-"]
[{"$f":"IF(ISBLANK(C471),\"-\",GenGuid())","v":"-"},"-"]
[{"$f":"IF(ISBLANK(C472),\"-\",GenGuid())","v":"-"},"-"]
[{"$f":"IF(ISBLANK(C473),\"-\",GenGuid())","v":"-"},"-"]
[{"$f":"IF(ISBLANK(C474),\"-\",GenGuid())","v":"-"},"-"]
[{"$f":"IF(ISBLANK(C475),\"-\",GenGuid())","v":"-"},"-"]
[{"$f":"IF(ISBLANK(C476),\"-\",GenGuid())","v":"-"},"-"]
[{"$f":"IF(ISBLANK(C477),\"-\",GenGuid())","v":"-"},"-"]
[{"$f":"IF(ISBLANK(C478),\"-\",GenGuid())","v":"-"},"-"]
[{"$f":"IF(ISBLANK(C479),\"-\",GenGuid())","v":"-"},"-"]
[{"$f":"IF(ISBLANK(C480),\"-\",GenGuid())","v":"-"},"-"]
[{"$f":"IF(ISBLANK(C481),\"-\",GenGuid())","v":"-"},"-"]
[{"$f":"IF(ISBLANK(C482),\"-\",GenGuid())","v":"-"},"-"]
[{"$f":"IF(ISBLANK(C483),\"-\",GenGuid())","v":"-"},"-"]
[{"$f":"IF(ISBLANK(C484),\"-\",GenGuid())","v":"-"},"-"]
[{"$f":"IF(ISBLANK(C485),\"-\",GenGuid())","v":"-"},"-"]
[{"$f":"IF(ISBLANK(C486),\"-\",GenGuid())","v":"-"},"-"]
[{"$f":"IF(ISBLANK(C487),\"-\",GenGuid())","v":"-"},"-"]
[{"$f":"IF(ISBLANK(C488),\"-\",GenGuid())","v":"-"},"-"]
[{"$f":"IF(ISBLANK(C489),\"-\",GenGuid())","v":"-"},"-"]
[{"$f":"IF(ISBLANK(C490),\"-\",GenGuid())","v":"-"},"-"]
[{"$f":"IF(ISBLANK(C491),\"-\",GenGuid())","v":"-"},"-"]
[{"$f":"IF(ISBLANK(C492),\"-\",GenGuid())","v":"-"},"-"]
[{"$f":"IF(ISBLANK(C493),\"-\",GenGuid())","v":"-"},"-"]
[{"$f":"IF(ISBLANK(C494),\"-\",GenGuid())","v":"-"},"-"]
[{"$f":"IF(ISBLANK(C495),\"-\",GenGuid())","v":"-"},"-"]
[{"$f":"IF(ISBLANK(C496),\"-\",GenGuid())","v":"-"},"-"]
[{"$f":"IF(ISBLANK(C497),\"-\",GenGuid())","v":"-"},"-"]
[{"$f":"IF(ISBLANK(C498),\"-\",GenGuid())","v":"-"},"-"]
[{"$f":"IF(ISBLANK(C499),\"-\",GenGuid())","v":"-"},"-"]
[{"$f":"IF(ISBLANK(C500),\"-\",GenGuid())","v":"-"},"-"]
[{"$f":"IF(ISBLANK(C501),\"-\",GenGuid())","v":"-"},"-"]
[{"$f":"IF(ISBLANK(C502),\"-\",GenGuid())","v":"-"},"-"]
[{"$f":"IF(ISBLANK(C503),\"-\",GenGuid())","v":"-"},"-"]
[{"$f":"IF(ISBLANK(C504),\"-\",GenGuid())","v":"-"},"-"]
[{"$f":"IF(ISBLANK(C505),\"-\",GenGuid())","v":"-"},"-"]
[{"$f":"IF(ISBLANK(C506),\"-\",GenGuid())","v":"-"},"-"]
[{"$f":"IF(ISBLANK(C507),\"-\",GenGuid())","v":"-"},"-"]
[{"$f":"IF(ISBLANK(C508),\"-\",GenGuid())","v":"-"},"-"]
[{"$f":"IF(ISBLANK(C509),\"-\",GenGuid())","v":"-"},"-"]
[{"$f":"IF(ISBLANK(C510),\"-\",GenGuid())","v":"-"},"-"]
[{"$f":"IF(ISBLANK(C511),\"-\",GenGuid())","v":"-"},"-"]
[{"$f":"IF(ISBLANK(C512),\"-\",GenGuid())","v":"-"},"-"]
[{"$f":"IF(ISBLANK(C513),\"-\",GenGuid())","v":"-"},"-"]
[{"$f":"IF(ISBLANK(C514),\"-\",GenGuid())","v":"-"},"-"]
[{"$f":"IF(ISBLANK(C515),\"-\",GenGuid())","v":"-"},"-"]
[{"$f":"IF(ISBLANK(C516),\"-\",GenGuid())","v":"-"},"-"]
[{"$f":"IF(ISBLANK(C517),\"-\",GenGuid())","v":"-"},{"$f":"IF(ISBLANK(C517),\"-\",INDIRECT(\"PLOTS!A\"&MATCH(C517,PlotLabels)+4))","v":"-"}]
[{"$f":"IF(ISBLANK(C518),\"-\",GenGuid())","v":"-"},"-"]
[{"$f":"IF(ISBLANK(C519),\"-\",GenGuid())","v":"-"},"-"]
[{"$f":"IF(ISBLANK(C520),\"-\",GenGuid())","v":"-"},"-"]
[{"$f":"IF(ISBLANK(C521),\"-\",GenGuid())","v":"-"},"-"]
[{"$f":"IF(ISBLANK(C522),\"-\",GenGuid())","v":"-"},"-"]
[{"$f":"IF(ISBLANK(C523),\"-\",GenGuid())","v":"-"},"-"]
[{"$f":"IF(ISBLANK(C524),\"-\",GenGuid())","v":"-"},"-"]
[{"$f":"IF(ISBLANK(C525),\"-\",GenGuid())","v":"-"},"-"]
[{"$f":"IF(ISBLANK(C526),\"-\",GenGuid())","v":"-"},"-"]
[{"$f":"IF(ISBLANK(C527),\"-\",GenGuid())","v":"-"},"-"]
[{"$f":"IF(ISBLANK(C528),\"-\",GenGuid())","v":"-"},"-"]
[{"$f":"IF(ISBLANK(C529),\"-\",GenGuid())","v":"-"},"-"]
[{"$f":"IF(ISBLANK(C530),\"-\",GenGuid())","v":"-"},"-"]
[{"$f":"IF(ISBLANK(C531),\"-\",GenGuid())","v":"-"},"-"]
[{"$f":"IF(ISBLANK(C532),\"-\",GenGuid())","v":"-"},"-"]
[{"$f":"IF(ISBLANK(C533),\"-\",GenGuid())","v":"-"},"-"]
[{"$f":"IF(ISBLANK(C534),\"-\",GenGuid())","v":"-"},"-"]
[{"$f":"IF(ISBLANK(C535),\"-\",GenGuid())","v":"-"},"-"]
[{"$f":"IF(ISBLANK(C536),\"-\",GenGuid())","v":"-"},"-"]
[{"$f":"IF(ISBLANK(C537),\"-\",GenGuid())","v":"-"},"-"]
[{"$f":"IF(ISBLANK(C538),\"-\",GenGuid())","v":"-"},"-"]
[{"$f":"IF(ISBLANK(C539),\"-\",GenGuid())","v":"-"},"-"]
[{"$f":"IF(ISBLANK(C540),\"-\",GenGuid())","v":"-"},"-"]
[{"$f":"IF(ISBLANK(C541),\"-\",GenGuid())","v":"-"},"-"]
[{"$f":"IF(ISBLANK(C542),\"-\",GenGuid())","v":"-"},"-"]
[{"$f":"IF(ISBLANK(C543),\"-\",GenGuid())","v":"-"},"-"]
[{"$f":"IF(ISBLANK(C544),\"-\",GenGuid())","v":"-"},"-"]
[{"$f":"IF(ISBLANK(C545),\"-\",GenGuid())","v":"-"},"-"]
[{"$f":"IF(ISBLANK(C546),\"-\",GenGuid())","v":"-"},"-"]
[{"$f":"IF(ISBLANK(C547),\"-\",GenGuid())","v":"-"},"-"]
[{"$f":"IF(ISBLANK(C548),\"-\",GenGuid())","v":"-"},"-"]
[{"$f":"IF(ISBLANK(C549),\"-\",GenGuid())","v":"-"},"-"]
[{"$f":"IF(ISBLANK(C550),\"-\",GenGuid())","v":"-"},"-"]
[{"$f":"IF(ISBLANK(C551),\"-\",GenGuid())","v":"-"},"-"]
[{"$f":"IF(ISBLANK(C552),\"-\",GenGuid())","v":"-"},"-"]
[{"$f":"IF(ISBLANK(C553),\"-\",GenGuid())","v":"-"},"-"]
[{"$f":"IF(ISBLANK(C554),\"-\",GenGuid())","v":"-"},"-"]
[{"$f":"IF(ISBLANK(C555),\"-\",GenGuid())","v":"-"},"-"]
[{"$f":"IF(ISBLANK(C556),\"-\",GenGuid())","v":"-"},"-"]
[{"$f":"IF(ISBLANK(C557),\"-\",GenGuid())","v":"-"},"-"]
[{"$f":"IF(ISBLANK(C558),\"-\",GenGuid())","v":"-"},"-"]
[{"$f":"IF(ISBLANK(C559),\"-\",GenGuid())","v":"-"},"-"]
[{"$f":"IF(ISBLANK(C560),\"-\",GenGuid())","v":"-"},"-"]
[{"$f":"IF(ISBLANK(C561),\"-\",GenGuid())","v":"-"},"-"]
[{"$f":"IF(ISBLANK(C562),\"-\",GenGuid())","v":"-"},"-"]
[{"$f":"IF(ISBLANK(C563),\"-\",GenGuid())","v":"-"},"-"]
[{"$f":"IF(ISBLANK(C564),\"-\",GenGuid())","v":"-"},"-"]
[{"$f":"IF(ISBLANK(C565),\"-\",GenGuid())","v":"-"},"-"]
[{"$f":"IF(ISBLANK(C566),\"-\",GenGuid())","v":"-"},"-"]
[{"$f":"IF(ISBLANK(C567),\"-\",GenGuid())","v":"-"},"-"]
[{"$f":"IF(ISBLANK(C568),\"-\",GenGuid())","v":"-"},"-"]
[{"$f":"IF(ISBLANK(C569),\"-\",GenGuid())","v":"-"},"-"]
[{"$f":"IF(ISBLANK(C570),\"-\",GenGuid())","v":"-"},"-"]
[{"$f":"IF(ISBLANK(C571),\"-\",GenGuid())","v":"-"},"-"]
[{"$f":"IF(ISBLANK(C572),\"-\",GenGuid())","v":"-"},"-"]
[{"$f":"IF(ISBLANK(C573),\"-\",GenGuid())","v":"-"},"-"]
[{"$f":"IF(ISBLANK(C574),\"-\",GenGuid())","v":"-"},"-"]
[{"$f":"IF(ISBLANK(C575),\"-\",GenGuid())","v":"-"},"-"]
[{"$f":"IF(ISBLANK(C576),\"-\",GenGuid())","v":"-"},"-"]
[{"$f":"IF(ISBLANK(C577),\"-\",GenGuid())","v":"-"},"-"]
[{"$f":"IF(ISBLANK(C578),\"-\",GenGuid())","v":"-"},"-"]
[{"$f":"IF(ISBLANK(C579),\"-\",GenGuid())","v":"-"},"-"]
[{"$f":"IF(ISBLANK(C580),\"-\",GenGuid())","v":"-"},"-"]
[{"$f":"IF(ISBLANK(C581),\"-\",GenGuid())","v":"-"},{"$f":"IF(ISBLANK(C581),\"-\",INDIRECT(\"PLOTS!A\"&MATCH(C581,PlotLabels)+4))","v":"-"}]
[{"$f":"IF(ISBLANK(C582),\"-\",GenGuid())","v":"-"},"-"]
[{"$f":"IF(ISBLANK(C583),\"-\",GenGuid())","v":"-"},"-"]
[{"$f":"IF(ISBLANK(C584),\"-\",GenGuid())","v":"-"},"-"]
[{"$f":"IF(ISBLANK(C585),\"-\",GenGuid())","v":"-"},"-"]
[{"$f":"IF(ISBLANK(C586),\"-\",GenGuid())","v":"-"},"-"]
[{"$f":"IF(ISBLANK(C587),\"-\",GenGuid())","v":"-"},"-"]
[{"$f":"IF(ISBLANK(C588),\"-\",GenGuid())","v":"-"},"-"]
[{"$f":"IF(ISBLANK(C589),\"-\",GenGuid())","v":"-"},"-"]
[{"$f":"IF(ISBLANK(C590),\"-\",GenGuid())","v":"-"},"-"]
[{"$f":"IF(ISBLANK(C591),\"-\",GenGuid())","v":"-"},"-"]
[{"$f":"IF(ISBLANK(C592),\"-\",GenGuid())","v":"-"},"-"]
[{"$f":"IF(ISBLANK(C593),\"-\",GenGuid())","v":"-"},"-"]
[{"$f":"IF(ISBLANK(C594),\"-\",GenGuid())","v":"-"},"-"]
[{"$f":"IF(ISBLANK(C595),\"-\",GenGuid())","v":"-"},"-"]
[{"$f":"IF(ISBLANK(C596),\"-\",GenGuid())","v":"-"},"-"]
[{"$f":"IF(ISBLANK(C597),\"-\",GenGuid())","v":"-"},"-"]
[{"$f":"IF(ISBLANK(C598),\"-\",GenGuid())","v":"-"},"-"]
[{"$f":"IF(ISBLANK(C599),\"-\",GenGuid())","v":"-"},"-"]
[{"$f":"IF(ISBLANK(C600),\"-\",GenGuid())","v":"-"},"-"]
[{"$f":"IF(ISBLANK(C601),\"-\",GenGuid())","v":"-"},"-"]
[{"$f":"IF(ISBLANK(C602),\"-\",GenGuid())","v":"-"},"-"]
[{"$f":"IF(ISBLANK(C603),\"-\",GenGuid())","v":"-"},"-"]
[{"$f":"IF(ISBLANK(C604),\"-\",GenGuid())","v":"-"},"-"]
[{"$f":"IF(ISBLANK(C605),\"-\",GenGuid())","v":"-"},"-"]
[{"$f":"IF(ISBLANK(C606),\"-\",GenGuid())","v":"-"},"-"]
[{"$f":"IF(ISBLANK(C607),\"-\",GenGuid())","v":"-"},"-"]
[{"$f":"IF(ISBLANK(C608),\"-\",GenGuid())","v":"-"},"-"]
[{"$f":"IF(ISBLANK(C609),\"-\",GenGuid())","v":"-"},"-"]
[{"$f":"IF(ISBLANK(C610),\"-\",GenGuid())","v":"-"},"-"]
[{"$f":"IF(ISBLANK(C611),\"-\",GenGuid())","v":"-"},"-"]
[{"$f":"IF(ISBLANK(C612),\"-\",GenGuid())","v":"-"},"-"]
[{"$f":"IF(ISBLANK(C613),\"-\",GenGuid())","v":"-"},"-"]
[{"$f":"IF(ISBLANK(C614),\"-\",GenGuid())","v":"-"},"-"]
[{"$f":"IF(ISBLANK(C615),\"-\",GenGuid())","v":"-"},"-"]
[{"$f":"IF(ISBLANK(C616),\"-\",GenGuid())","v":"-"},"-"]
[{"$f":"IF(ISBLANK(C617),\"-\",GenGuid())","v":"-"},"-"]
[{"$f":"IF(ISBLANK(C618),\"-\",GenGuid())","v":"-"},"-"]
[{"$f":"IF(ISBLANK(C619),\"-\",GenGuid())","v":"-"},"-"]
[{"$f":"IF(ISBLANK(C620),\"-\",GenGuid())","v":"-"},"-"]
[{"$f":"IF(ISBLANK(C621),\"-\",GenGuid())","v":"-"},"-"]
[{"$f":"IF(ISBLANK(C622),\"-\",GenGuid())","v":"-"},"-"]
[{"$f":"IF(ISBLANK(C623),\"-\",GenGuid())","v":"-"},"-"]
[{"$f":"IF(ISBLANK(C624),\"-\",GenGuid())","v":"-"},"-"]
[{"$f":"IF(ISBLANK(C625),\"-\",GenGuid())","v":"-"},"-"]
[{"$f":"IF(ISBLANK(C626),\"-\",GenGuid())","v":"-"},"-"]
[{"$f":"IF(ISBLANK(C627),\"-\",GenGuid())","v":"-"},"-"]
[{"$f":"IF(ISBLANK(C628),\"-\",GenGuid())","v":"-"},"-"]
[{"$f":"IF(ISBLANK(C629),\"-\",GenGuid())","v":"-"},"-"]
[{"$f":"IF(ISBLANK(C630),\"-\",GenGuid())","v":"-"},"-"]
[{"$f":"IF(ISBLANK(C631),\"-\",GenGuid())","v":"-"},"-"]
[{"$f":"IF(ISBLANK(C632),\"-\",GenGuid())","v":"-"},"-"]
[{"$f":"IF(ISBLANK(C633),\"-\",GenGuid())","v":"-"},"-"]
[{"$f":"IF(ISBLANK(C634),\"-\",GenGuid())","v":"-"},"-"]
[{"$f":"IF(ISBLANK(C635),\"-\",GenGuid())","v":"-"},"-"]
[{"$f":"IF(ISBLANK(C636),\"-\",GenGuid())","v":"-"},"-"]
[{"$f":"IF(ISBLANK(C637),\"-\",GenGuid())","v":"-"},"-"]
[{"$f":"IF(ISBLANK(C638),\"-\",GenGuid())","v":"-"},"-"]
[{"$f":"IF(ISBLANK(C639),\"-\",GenGuid())","v":"-"},"-"]
[{"$f":"IF(ISBLANK(C640),\"-\",GenGuid())","v":"-"},"-"]
[{"$f":"IF(ISBLANK(C641),\"-\",GenGuid())","v":"-"},"-"]
[{"$f":"IF(ISBLANK(C642),\"-\",GenGuid())","v":"-"},"-"]
[{"$f":"IF(ISBLANK(C643),\"-\",GenGuid())","v":"-"},"-"]
[{"$f":"IF(ISBLANK(C644),\"-\",GenGuid())","v":"-"},"-"]
[{"$f":"IF(ISBLANK(C645),\"-\",GenGuid())","v":"-"},{"$f":"IF(ISBLANK(C645),\"-\",INDIRECT(\"PLOTS!A\"&MATCH(C645,PlotLabels)+4))","v":"-"}]
[{"$f":"IF(ISBLANK(C646),\"-\",GenGuid())","v":"-"},"-"]
[{"$f":"IF(ISBLANK(C647),\"-\",GenGuid())","v":"-"},"-"]
[{"$f":"IF(ISBLANK(C648),\"-\",GenGuid())","v":"-"},"-"]
[{"$f":"IF(ISBLANK(C649),\"-\",GenGuid())","v":"-"},"-"]
[{"$f":"IF(ISBLANK(C650),\"-\",GenGuid())","v":"-"},"-"]
[{"$f":"IF(ISBLANK(C651),\"-\",GenGuid())","v":"-"},"-"]
[{"$f":"IF(ISBLANK(C652),\"-\",GenGuid())","v":"-"},"-"]
[{"$f":"IF(ISBLANK(C653),\"-\",GenGuid())","v":"-"},"-"]
[{"$f":"IF(ISBLANK(C654),\"-\",GenGuid())","v":"-"},"-"]
[{"$f":"IF(ISBLANK(C655),\"-\",GenGuid())","v":"-"},"-"]
[{"$f":"IF(ISBLANK(C656),\"-\",GenGuid())","v":"-"},"-"]
[{"$f":"IF(ISBLANK(C657),\"-\",GenGuid())","v":"-"},"-"]
[{"$f":"IF(ISBLANK(C658),\"-\",GenGuid())","v":"-"},"-"]
[{"$f":"IF(ISBLANK(C659),\"-\",GenGuid())","v":"-"},"-"]
[{"$f":"IF(ISBLANK(C660),\"-\",GenGuid())","v":"-"},"-"]
[{"$f":"IF(ISBLANK(C661),\"-\",GenGuid())","v":"-"},"-"]
[{"$f":"IF(ISBLANK(C662),\"-\",GenGuid())","v":"-"},"-"]
[{"$f":"IF(ISBLANK(C663),\"-\",GenGuid())","v":"-"},"-"]
[{"$f":"IF(ISBLANK(C664),\"-\",GenGuid())","v":"-"},"-"]
[{"$f":"IF(ISBLANK(C665),\"-\",GenGuid())","v":"-"},"-"]
[{"$f":"IF(ISBLANK(C666),\"-\",GenGuid())","v":"-"},"-"]
[{"$f":"IF(ISBLANK(C667),\"-\",GenGuid())","v":"-"},"-"]
[{"$f":"IF(ISBLANK(C668),\"-\",GenGuid())","v":"-"},"-"]
[{"$f":"IF(ISBLANK(C669),\"-\",GenGuid())","v":"-"},"-"]
[{"$f":"IF(ISBLANK(C670),\"-\",GenGuid())","v":"-"},"-"]
[{"$f":"IF(ISBLANK(C671),\"-\",GenGuid())","v":"-"},"-"]
[{"$f":"IF(ISBLANK(C672),\"-\",GenGuid())","v":"-"},"-"]
[{"$f":"IF(ISBLANK(C673),\"-\",GenGuid())","v":"-"},"-"]
[{"$f":"IF(ISBLANK(C674),\"-\",GenGuid())","v":"-"},"-"]
[{"$f":"IF(ISBLANK(C675),\"-\",GenGuid())","v":"-"},"-"]
[{"$f":"IF(ISBLANK(C676),\"-\",GenGuid())","v":"-"},"-"]
[{"$f":"IF(ISBLANK(C677),\"-\",GenGuid())","v":"-"},"-"]
[{"$f":"IF(ISBLANK(C678),\"-\",GenGuid())","v":"-"},"-"]
[{"$f":"IF(ISBLANK(C679),\"-\",GenGuid())","v":"-"},"-"]
[{"$f":"IF(ISBLANK(C680),\"-\",GenGuid())","v":"-"},"-"]
[{"$f":"IF(ISBLANK(C681),\"-\",GenGuid())","v":"-"},"-"]
[{"$f":"IF(ISBLANK(C682),\"-\",GenGuid())","v":"-"},"-"]
[{"$f":"IF(ISBLANK(C683),\"-\",GenGuid())","v":"-"},"-"]
[{"$f":"IF(ISBLANK(C684),\"-\",GenGuid())","v":"-"},"-"]
[{"$f":"IF(ISBLANK(C685),\"-\",GenGuid())","v":"-"},"-"]
[{"$f":"IF(ISBLANK(C686),\"-\",GenGuid())","v":"-"},"-"]
[{"$f":"IF(ISBLANK(C687),\"-\",GenGuid())","v":"-"},"-"]
[{"$f":"IF(ISBLANK(C688),\"-\",GenGuid())","v":"-"},"-"]
[{"$f":"IF(ISBLANK(C689),\"-\",GenGuid())","v":"-"},"-"]
[{"$f":"IF(ISBLANK(C690),\"-\",GenGuid())","v":"-"},"-"]
[{"$f":"IF(ISBLANK(C691),\"-\",GenGuid())","v":"-"},"-"]
[{"$f":"IF(ISBLANK(C692),\"-\",GenGuid())","v":"-"},"-"]
[{"$f":"IF(ISBLANK(C693),\"-\",GenGuid())","v":"-"},"-"]
[{"$f":"IF(ISBLANK(C694),\"-\",GenGuid())","v":"-"},"-"]
[{"$f":"IF(ISBLANK(C695),\"-\",GenGuid())","v":"-"},"-"]
[{"$f":"IF(ISBLANK(C696),\"-\",GenGuid())","v":"-"},"-"]
[{"$f":"IF(ISBLANK(C697),\"-\",GenGuid())","v":"-"},"-"]
[{"$f":"IF(ISBLANK(C698),\"-\",GenGuid())","v":"-"},"-"]
[{"$f":"IF(ISBLANK(C699),\"-\",GenGuid())","v":"-"},"-"]
[{"$f":"IF(ISBLANK(C700),\"-\",GenGuid())","v":"-"},"-"]
[{"$f":"IF(ISBLANK(C701),\"-\",GenGuid())","v":"-"},"-"]
[{"$f":"IF(ISBLANK(C702),\"-\",GenGuid())","v":"-"},"-"]
[{"$f":"IF(ISBLANK(C703),\"-\",GenGuid())","v":"-"},"-"]
[{"$f":"IF(ISBLANK(C704),\"-\",GenGuid())","v":"-"},"-"]
[{"$f":"IF(ISBLANK(C705),\"-\",GenGuid())","v":"-"},"-"]
[{"$f":"IF(ISBLANK(C706),\"-\",GenGuid())","v":"-"},"-"]
[{"$f":"IF(ISBLANK(C707),\"-\",GenGuid())","v":"-"},"-"]
[{"$f":"IF(ISBLANK(C708),\"-\",GenGuid())","v":"-"},"-"]
[{"$f":"IF(ISBLANK(C709),\"-\",GenGuid())","v":"-"},{"$f":"IF(ISBLANK(C709),\"-\",INDIRECT(\"PLOTS!A\"&MATCH(C709,PlotLabels)+4))","v":"-"}]
[{"$f":"IF(ISBLANK(C710),\"-\",GenGuid())","v":"-"},"-"]
[{"$f":"IF(ISBLANK(C711),\"-\",GenGuid())","v":"-"},"-"]
[{"$f":"IF(ISBLANK(C712),\"-\",GenGuid())","v":"-"},"-"]
[{"$f":"IF(ISBLANK(C713),\"-\",GenGuid())","v":"-"},"-"]
[{"$f":"IF(ISBLANK(C714),\"-\",GenGuid())","v":"-"},"-"]
[{"$f":"IF(ISBLANK(C715),\"-\",GenGuid())","v":"-"},"-"]
[{"$f":"IF(ISBLANK(C716),\"-\",GenGuid())","v":"-"},"-"]
[{"$f":"IF(ISBLANK(C717),\"-\",GenGuid())","v":"-"},"-"]
[{"$f":"IF(ISBLANK(C718),\"-\",GenGuid())","v":"-"},"-"]
[{"$f":"IF(ISBLANK(C719),\"-\",GenGuid())","v":"-"},"-"]
[{"$f":"IF(ISBLANK(C720),\"-\",GenGuid())","v":"-"},"-"]
[{"$f":"IF(ISBLANK(C721),\"-\",GenGuid())","v":"-"},"-"]
[{"$f":"IF(ISBLANK(C722),\"-\",GenGuid())","v":"-"},"-"]
[{"$f":"IF(ISBLANK(C723),\"-\",GenGuid())","v":"-"},"-"]
[{"$f":"IF(ISBLANK(C724),\"-\",GenGuid())","v":"-"},"-"]
[{"$f":"IF(ISBLANK(C725),\"-\",GenGuid())","v":"-"},"-"]
[{"$f":"IF(ISBLANK(C726),\"-\",GenGuid())","v":"-"},"-"]
[{"$f":"IF(ISBLANK(C727),\"-\",GenGuid())","v":"-"},"-"]
[{"$f":"IF(ISBLANK(C728),\"-\",GenGuid())","v":"-"},"-"]
[{"$f":"IF(ISBLANK(C729),\"-\",GenGuid())","v":"-"},"-"]
[{"$f":"IF(ISBLANK(C730),\"-\",GenGuid())","v":"-"},"-"]
[{"$f":"IF(ISBLANK(C731),\"-\",GenGuid())","v":"-"},"-"]
[{"$f":"IF(ISBLANK(C732),\"-\",GenGuid())","v":"-"},"-"]
[{"$f":"IF(ISBLANK(C733),\"-\",GenGuid())","v":"-"},"-"]
[{"$f":"IF(ISBLANK(C734),\"-\",GenGuid())","v":"-"},"-"]
[{"$f":"IF(ISBLANK(C735),\"-\",GenGuid())","v":"-"},"-"]
[{"$f":"IF(ISBLANK(C736),\"-\",GenGuid())","v":"-"},"-"]
[{"$f":"IF(ISBLANK(C737),\"-\",GenGuid())","v":"-"},"-"]
[{"$f":"IF(ISBLANK(C738),\"-\",GenGuid())","v":"-"},"-"]
[{"$f":"IF(ISBLANK(C739),\"-\",GenGuid())","v":"-"},"-"]
[{"$f":"IF(ISBLANK(C740),\"-\",GenGuid())","v":"-"},"-"]
[{"$f":"IF(ISBLANK(C741),\"-\",GenGuid())","v":"-"},"-"]
[{"$f":"IF(ISBLANK(C742),\"-\",GenGuid())","v":"-"},"-"]
[{"$f":"IF(ISBLANK(C743),\"-\",GenGuid())","v":"-"},"-"]
[{"$f":"IF(ISBLANK(C744),\"-\",GenGuid())","v":"-"},"-"]
[{"$f":"IF(ISBLANK(C745),\"-\",GenGuid())","v":"-"},"-"]
[{"$f":"IF(ISBLANK(C746),\"-\",GenGuid())","v":"-"},"-"]
[{"$f":"IF(ISBLANK(C747),\"-\",GenGuid())","v":"-"},"-"]
[{"$f":"IF(ISBLANK(C748),\"-\",GenGuid())","v":"-"},"-"]
[{"$f":"IF(ISBLANK(C749),\"-\",GenGuid())","v":"-"},"-"]
[{"$f":"IF(ISBLANK(C750),\"-\",GenGuid())","v":"-"},"-"]
[{"$f":"IF(ISBLANK(C751),\"-\",GenGuid())","v":"-"},"-"]
[{"$f":"IF(ISBLANK(C752),\"-\",GenGuid())","v":"-"},"-"]
[{"$f":"IF(ISBLANK(C753),\"-\",GenGuid())","v":"-"},"-"]
[{"$f":"IF(ISBLANK(C754),\"-\",GenGuid())","v":"-"},"-"]
[{"$f":"IF(ISBLANK(C755),\"-\",GenGuid())","v":"-"},"-"]
[{"$f":"IF(ISBLANK(C756),\"-\",GenGuid())","v":"-"},"-"]
[{"$f":"IF(ISBLANK(C757),\"-\",GenGuid())","v":"-"},"-"]
[{"$f":"IF(ISBLANK(C758),\"-\",GenGuid())","v":"-"},"-"]
[{"$f":"IF(ISBLANK(C759),\"-\",GenGuid())","v":"-"},"-"]
[{"$f":"IF(ISBLANK(C760),\"-\",GenGuid())","v":"-"},"-"]
[{"$f":"IF(ISBLANK(C761),\"-\",GenGuid())","v":"-"},"-"]
[{"$f":"IF(ISBLANK(C762),\"-\",GenGuid())","v":"-"},"-"]
[{"$f":"IF(ISBLANK(C763),\"-\",GenGuid())","v":"-"},"-"]
[{"$f":"IF(ISBLANK(C764),\"-\",GenGuid())","v":"-"},"-"]
[{"$f":"IF(ISBLANK(C765),\"-\",GenGuid())","v":"-"},"-"]
[{"$f":"IF(ISBLANK(C766),\"-\",GenGuid())","v":"-"},"-"]
[{"$f":"IF(ISBLANK(C767),\"-\",GenGuid())","v":"-"},"-"]
[{"$f":"IF(ISBLANK(C768),\"-\",GenGuid())","v":"-"},"-"]
[{"$f":"IF(ISBLANK(C769),\"-\",GenGuid())","v":"-"},"-"]
[{"$f":"IF(ISBLANK(C770),\"-\",GenGuid())","v":"-"},"-"]
[{"$f":"IF(ISBLANK(C771),\"-\",GenGuid())","v":"-"},"-"]
[{"$f":"IF(ISBLANK(C772),\"-\",GenGuid())","v":"-"},"-"]
[{"$f":"IF(ISBLANK(C773),\"-\",GenGuid())","v":"-"},{"$f":"IF(ISBLANK(C773),\"-\",INDIRECT(\"PLOTS!A\"&MATCH(C773,PlotLabels)+4))","v":"-"}]
[{"$f":"IF(ISBLANK(C774),\"-\",GenGuid())","v":"-"},"-"]
[{"$f":"IF(ISBLANK(C775),\"-\",GenGuid())","v":"-"},"-"]
[{"$f":"IF(ISBLANK(C776),\"-\",GenGuid())","v":"-"},"-"]
[{"$f":"IF(ISBLANK(C777),\"-\",GenGuid())","v":"-"},"-"]
[{"$f":"IF(ISBLANK(C778),\"-\",GenGuid())","v":"-"},"-"]
[{"$f":"IF(ISBLANK(C779),\"-\",GenGuid())","v":"-"},"-"]
[{"$f":"IF(ISBLANK(C780),\"-\",GenGuid())","v":"-"},"-"]
[{"$f":"IF(ISBLANK(C781),\"-\",GenGuid())","v":"-"},"-"]
[{"$f":"IF(ISBLANK(C782),\"-\",GenGuid())","v":"-"},"-"]
[{"$f":"IF(ISBLANK(C783),\"-\",GenGuid())","v":"-"},"-"]
[{"$f":"IF(ISBLANK(C784),\"-\",GenGuid())","v":"-"},"-"]
[{"$f":"IF(ISBLANK(C785),\"-\",GenGuid())","v":"-"},"-"]
[{"$f":"IF(ISBLANK(C786),\"-\",GenGuid())","v":"-"},"-"]
[{"$f":"IF(ISBLANK(C787),\"-\",GenGuid())","v":"-"},"-"]
[{"$f":"IF(ISBLANK(C788),\"-\",GenGuid())","v":"-"},"-"]
[{"$f":"IF(ISBLANK(C789),\"-\",GenGuid())","v":"-"},"-"]
[{"$f":"IF(ISBLANK(C790),\"-\",GenGuid())","v":"-"},"-"]
[{"$f":"IF(ISBLANK(C791),\"-\",GenGuid())","v":"-"},"-"]
[{"$f":"IF(ISBLANK(C792),\"-\",GenGuid())","v":"-"},"-"]
[{"$f":"IF(ISBLANK(C793),\"-\",GenGuid())","v":"-"},"-"]
[{"$f":"IF(ISBLANK(C794),\"-\",GenGuid())","v":"-"},"-"]
[{"$f":"IF(ISBLANK(C795),\"-\",GenGuid())","v":"-"},"-"]
[{"$f":"IF(ISBLANK(C796),\"-\",GenGuid())","v":"-"},"-"]
[{"$f":"IF(ISBLANK(C797),\"-\",GenGuid())","v":"-"},"-"]
[{"$f":"IF(ISBLANK(C798),\"-\",GenGuid())","v":"-"},"-"]
[{"$f":"IF(ISBLANK(C799),\"-\",GenGuid())","v":"-"},"-"]
[{"$f":"IF(ISBLANK(C800),\"-\",GenGuid())","v":"-"},"-"]
[{"$f":"IF(ISBLANK(C801),\"-\",GenGuid())","v":"-"},"-"]
[{"$f":"IF(ISBLANK(C802),\"-\",GenGuid())","v":"-"},"-"]
[{"$f":"IF(ISBLANK(C803),\"-\",GenGuid())","v":"-"},"-"]
[{"$f":"IF(ISBLANK(C804),\"-\",GenGuid())","v":"-"},"-"]
[{"$f":"IF(ISBLANK(C805),\"-\",GenGuid())","v":"-"},"-"]
[{"$f":"IF(ISBLANK(C806),\"-\",GenGuid())","v":"-"},"-"]
[{"$f":"IF(ISBLANK(C807),\"-\",GenGuid())","v":"-"},"-"]
[{"$f":"IF(ISBLANK(C808),\"-\",GenGuid())","v":"-"},"-"]
[{"$f":"IF(ISBLANK(C809),\"-\",GenGuid())","v":"-"},"-"]
[{"$f":"IF(ISBLANK(C810),\"-\",GenGuid())","v":"-"},"-"]
[{"$f":"IF(ISBLANK(C811),\"-\",GenGuid())","v":"-"},"-"]
[{"$f":"IF(ISBLANK(C812),\"-\",GenGuid())","v":"-"},"-"]
[{"$f":"IF(ISBLANK(C813),\"-\",GenGuid())","v":"-"},"-"]
[{"$f":"IF(ISBLANK(C814),\"-\",GenGuid())","v":"-"},"-"]
[{"$f":"IF(ISBLANK(C815),\"-\",GenGuid())","v":"-"},"-"]
[{"$f":"IF(ISBLANK(C816),\"-\",GenGuid())","v":"-"},"-"]
[{"$f":"IF(ISBLANK(C817),\"-\",GenGuid())","v":"-"},"-"]
[{"$f":"IF(ISBLANK(C818),\"-\",GenGuid())","v":"-"},"-"]
[{"$f":"IF(ISBLANK(C819),\"-\",GenGuid())","v":"-"},"-"]
[{"$f":"IF(ISBLANK(C820),\"-\",GenGuid())","v":"-"},"-"]
[{"$f":"IF(ISBLANK(C821),\"-\",GenGuid())","v":"-"},"-"]
[{"$f":"IF(ISBLANK(C822),\"-\",GenGuid())","v":"-"},"-"]
[{"$f":"IF(ISBLANK(C823),\"-\",GenGuid())","v":"-"},"-"]
[{"$f":"IF(ISBLANK(C824),\"-\",GenGuid())","v":"-"},"-"]
[{"$f":"IF(ISBLANK(C825),\"-\",GenGuid())","v":"-"},"-"]
[{"$f":"IF(ISBLANK(C826),\"-\",GenGuid())","v":"-"},"-"]
[{"$f":"IF(ISBLANK(C827),\"-\",GenGuid())","v":"-"},"-"]
[{"$f":"IF(ISBLANK(C828),\"-\",GenGuid())","v":"-"},"-"]
[{"$f":"IF(ISBLANK(C829),\"-\",GenGuid())","v":"-"},"-"]
[{"$f":"IF(ISBLANK(C830),\"-\",GenGuid())","v":"-"},"-"]
[{"$f":"IF(ISBLANK(C831),\"-\",GenGuid())","v":"-"},"-"]
[{"$f":"IF(ISBLANK(C832),\"-\",GenGuid())","v":"-"},"-"]
[{"$f":"IF(ISBLANK(C833),\"-\",GenGuid())","v":"-"},"-"]
[{"$f":"IF(ISBLANK(C834),\"-\",GenGuid())","v":"-"},"-"]
[{"$f":"IF(ISBLANK(C835),\"-\",GenGuid())","v":"-"},"-"]
[{"$f":"IF(ISBLANK(C836),\"-\",GenGuid())","v":"-"},"-"]
[{"$f":"IF(ISBLANK(C837),\"-\",GenGuid())","v":"-"},{"$f":"IF(ISBLANK(C837),\"-\",INDIRECT(\"PLOTS!A\"&MATCH(C837,PlotLabels)+4))","v":"-"}]
[{"$f":"IF(ISBLANK(C838),\"-\",GenGuid())","v":"-"},"-"]
[{"$f":"IF(ISBLANK(C839),\"-\",GenGuid())","v":"-"},"-"]
[{"$f":"IF(ISBLANK(C840),\"-\",GenGuid())","v":"-"},"-"]
[{"$f":"IF(ISBLANK(C841),\"-\",GenGuid())","v":"-"},"-"]
[{"$f":"IF(ISBLANK(C842),\"-\",GenGuid())","v":"-"},"-"]
[{"$f":"IF(ISBLANK(C843),\"-\",GenGuid())","v":"-"},"-"]
[{"$f":"IF(ISBLANK(C844),\"-\",GenGuid())","v":"-"},"-"]
[{"$f":"IF(ISBLANK(C845),\"-\",GenGuid())","v":"-"},"-"]
[{"$f":"IF(ISBLANK(C846),\"-\",GenGuid())","v":"-"},"-"]
[{"$f":"IF(ISBLANK(C847),\"-\",GenGuid())","v":"-"},"-"]
[{"$f":"IF(ISBLANK(C848),\"-\",GenGuid())","v":"-"},"-"]
[{"$f":"IF(ISBLANK(C849),\"-\",GenGuid())","v":"-"},"-"]
[{"$f":"IF(ISBLANK(C850),\"-\",GenGuid())","v":"-"},"-"]
[{"$f":"IF(ISBLANK(C851),\"-\",GenGuid())","v":"-"},"-"]
[{"$f":"IF(ISBLANK(C852),\"-\",GenGuid())","v":"-"},"-"]
[{"$f":"IF(ISBLANK(C853),\"-\",GenGuid())","v":"-"},"-"]
[{"$f":"IF(ISBLANK(C854),\"-\",GenGuid())","v":"-"},"-"]
[{"$f":"IF(ISBLANK(C855),\"-\",GenGuid())","v":"-"},"-"]
[{"$f":"IF(ISBLANK(C856),\"-\",GenGuid())","v":"-"},"-"]
[{"$f":"IF(ISBLANK(C857),\"-\",GenGuid())","v":"-"},"-"]
[{"$f":"IF(ISBLANK(C858),\"-\",GenGuid())","v":"-"},"-"]
[{"$f":"IF(ISBLANK(C859),\"-\",GenGuid())","v":"-"},"-"]
[{"$f":"IF(ISBLANK(C860),\"-\",GenGuid())","v":"-"},"-"]
[{"$f":"IF(ISBLANK(C861),\"-\",GenGuid())","v":"-"},"-"]
[{"$f":"IF(ISBLANK(C862),\"-\",GenGuid())","v":"-"},"-"]
[{"$f":"IF(ISBLANK(C863),\"-\",GenGuid())","v":"-"},"-"]
[{"$f":"IF(ISBLANK(C864),\"-\",GenGuid())","v":"-"},"-"]
[{"$f":"IF(ISBLANK(C865),\"-\",GenGuid())","v":"-"},"-"]
[{"$f":"IF(ISBLANK(C866),\"-\",GenGuid())","v":"-"},"-"]
[{"$f":"IF(ISBLANK(C867),\"-\",GenGuid())","v":"-"},"-"]
[{"$f":"IF(ISBLANK(C868),\"-\",GenGuid())","v":"-"},"-"]
[{"$f":"IF(ISBLANK(C869),\"-\",GenGuid())","v":"-"},"-"]
[{"$f":"IF(ISBLANK(C870),\"-\",GenGuid())","v":"-"},"-"]
[{"$f":"IF(ISBLANK(C871),\"-\",GenGuid())","v":"-"},"-"]
[{"$f":"IF(ISBLANK(C872),\"-\",GenGuid())","v":"-"},"-"]
[{"$f":"IF(ISBLANK(C873),\"-\",GenGuid())","v":"-"},"-"]
[{"$f":"IF(ISBLANK(C874),\"-\",GenGuid())","v":"-"},"-"]
[{"$f":"IF(ISBLANK(C875),\"-\",GenGuid())","v":"-"},"-"]
[{"$f":"IF(ISBLANK(C876),\"-\",GenGuid())","v":"-"},"-"]
[{"$f":"IF(ISBLANK(C877),\"-\",GenGuid())","v":"-"},"-"]
[{"$f":"IF(ISBLANK(C878),\"-\",GenGuid())","v":"-"},"-"]
[{"$f":"IF(ISBLANK(C879),\"-\",GenGuid())","v":"-"},"-"]
[{"$f":"IF(ISBLANK(C880),\"-\",GenGuid())","v":"-"},"-"]
[{"$f":"IF(ISBLANK(C881),\"-\",GenGuid())","v":"-"},"-"]
[{"$f":"IF(ISBLANK(C882),\"-\",GenGuid())","v":"-"},"-"]
[{"$f":"IF(ISBLANK(C883),\"-\",GenGuid())","v":"-"},"-"]
[{"$f":"IF(ISBLANK(C884),\"-\",GenGuid())","v":"-"},"-"]
[{"$f":"IF(ISBLANK(C885),\"-\",GenGuid())","v":"-"},"-"]
[{"$f":"IF(ISBLANK(C886),\"-\",GenGuid())","v":"-"},"-"]
[{"$f":"IF(ISBLANK(C887),\"-\",GenGuid())","v":"-"},"-"]
[{"$f":"IF(ISBLANK(C888),\"-\",GenGuid())","v":"-"},"-"]
[{"$f":"IF(ISBLANK(C889),\"-\",GenGuid())","v":"-"},"-"]
[{"$f":"IF(ISBLANK(C890),\"-\",GenGuid())","v":"-"},"-"]
[{"$f":"IF(ISBLANK(C891),\"-\",GenGuid())","v":"-"},"-"]
[{"$f":"IF(ISBLANK(C892),\"-\",GenGuid())","v":"-"},"-"]
[{"$f":"IF(ISBLANK(C893),\"-\",GenGuid())","v":"-"},"-"]
[{"$f":"IF(ISBLANK(C894),\"-\",GenGuid())","v":"-"},"-"]
[{"$f":"IF(ISBLANK(C895),\"-\",GenGuid())","v":"-"},"-"]
[{"$f":"IF(ISBLANK(C896),\"-\",GenGuid())","v":"-"},"-"]
[{"$f":"IF(ISBLANK(C897),\"-\",GenGuid())","v":"-"},"-"]
[{"$f":"IF(ISBLANK(C898),\"-\",GenGuid())","v":"-"},"-"]
[{"$f":"IF(ISBLANK(C899),\"-\",GenGuid())","v":"-"},"-"]
[{"$f":"IF(ISBLANK(C900),\"-\",GenGuid())","v":"-"},"-"]
[{"$f":"IF(ISBLANK(C901),\"-\",GenGuid())","v":"-"},{"$f":"IF(ISBLANK(C901),\"-\",INDIRECT(\"PLOTS!A\"&MATCH(C901,PlotLabels)+4))","v":"-"}]
[{"$f":"IF(ISBLANK(C902),\"-\",GenGuid())","v":"-"},"-"]
[{"$f":"IF(ISBLANK(C903),\"-\",GenGuid())","v":"-"},"-"]
[{"$f":"IF(ISBLANK(C904),\"-\",GenGuid())","v":"-"},"-"]
[{"$f":"IF(ISBLANK(C905),\"-\",GenGuid())","v":"-"},"-"]
[{"$f":"IF(ISBLANK(C906),\"-\",GenGuid())","v":"-"},"-"]
[{"$f":"IF(ISBLANK(C907),\"-\",GenGuid())","v":"-"},"-"]
[{"$f":"IF(ISBLANK(C908),\"-\",GenGuid())","v":"-"},"-"]
[{"$f":"IF(ISBLANK(C909),\"-\",GenGuid())","v":"-"},"-"]
[{"$f":"IF(ISBLANK(C910),\"-\",GenGuid())","v":"-"},"-"]
[{"$f":"IF(ISBLANK(C911),\"-\",GenGuid())","v":"-"},"-"]
[{"$f":"IF(ISBLANK(C912),\"-\",GenGuid())","v":"-"},"-"]
[{"$f":"IF(ISBLANK(C913),\"-\",GenGuid())","v":"-"},"-"]
[{"$f":"IF(ISBLANK(C914),\"-\",GenGuid())","v":"-"},"-"]
[{"$f":"IF(ISBLANK(C915),\"-\",GenGuid())","v":"-"},"-"]
[{"$f":"IF(ISBLANK(C916),\"-\",GenGuid())","v":"-"},"-"]
[{"$f":"IF(ISBLANK(C917),\"-\",GenGuid())","v":"-"},"-"]
[{"$f":"IF(ISBLANK(C918),\"-\",GenGuid())","v":"-"},"-"]
[{"$f":"IF(ISBLANK(C919),\"-\",GenGuid())","v":"-"},"-"]
[{"$f":"IF(ISBLANK(C920),\"-\",GenGuid())","v":"-"},"-"]
[{"$f":"IF(ISBLANK(C921),\"-\",GenGuid())","v":"-"},"-"]
[{"$f":"IF(ISBLANK(C922),\"-\",GenGuid())","v":"-"},"-"]
[{"$f":"IF(ISBLANK(C923),\"-\",GenGuid())","v":"-"},"-"]
[{"$f":"IF(ISBLANK(C924),\"-\",GenGuid())","v":"-"},"-"]
[{"$f":"IF(ISBLANK(C925),\"-\",GenGuid())","v":"-"},"-"]
[{"$f":"IF(ISBLANK(C926),\"-\",GenGuid())","v":"-"},"-"]
[{"$f":"IF(ISBLANK(C927),\"-\",GenGuid())","v":"-"},"-"]
[{"$f":"IF(ISBLANK(C928),\"-\",GenGuid())","v":"-"},"-"]
[{"$f":"IF(ISBLANK(C929),\"-\",GenGuid())","v":"-"},"-"]
[{"$f":"IF(ISBLANK(C930),\"-\",GenGuid())","v":"-"},"-"]
[{"$f":"IF(ISBLANK(C931),\"-\",GenGuid())","v":"-"},"-"]
[{"$f":"IF(ISBLANK(C932),\"-\",GenGuid())","v":"-"},"-"]
[{"$f":"IF(ISBLANK(C933),\"-\",GenGuid())","v":"-"},"-"]
[{"$f":"IF(ISBLANK(C934),\"-\",GenGuid())","v":"-"},"-"]
[{"$f":"IF(ISBLANK(C935),\"-\",GenGuid())","v":"-"},"-"]
[{"$f":"IF(ISBLANK(C936),\"-\",GenGuid())","v":"-"},"-"]
[{"$f":"IF(ISBLANK(C937),\"-\",GenGuid())","v":"-"},"-"]
[{"$f":"IF(ISBLANK(C938),\"-\",GenGuid())","v":"-"},"-"]
[{"$f":"IF(ISBLANK(C939),\"-\",GenGuid())","v":"-"},"-"]
[{"$f":"IF(ISBLANK(C940),\"-\",GenGuid())","v":"-"},"-"]
[{"$f":"IF(ISBLANK(C941),\"-\",GenGuid())","v":"-"},"-"]
[{"$f":"IF(ISBLANK(C942),\"-\",GenGuid())","v":"-"},"-"]
[{"$f":"IF(ISBLANK(C943),\"-\",GenGuid())","v":"-"},"-"]
[{"$f":"IF(ISBLANK(C944),\"-\",GenGuid())","v":"-"},"-"]
[{"$f":"IF(ISBLANK(C945),\"-\",GenGuid())","v":"-"},"-"]
[{"$f":"IF(ISBLANK(C946),\"-\",GenGuid())","v":"-"},"-"]
[{"$f":"IF(ISBLANK(C947),\"-\",GenGuid())","v":"-"},"-"]
[{"$f":"IF(ISBLANK(C948),\"-\",GenGuid())","v":"-"},"-"]
[{"$f":"IF(ISBLANK(C949),\"-\",GenGuid())","v":"-"},"-"]
[{"$f":"IF(ISBLANK(C950),\"-\",GenGuid())","v":"-"},"-"]
[{"$f":"IF(ISBLANK(C951),\"-\",GenGuid())","v":"-"},"-"]
[{"$f":"IF(ISBLANK(C952),\"-\",GenGuid())","v":"-"},"-"]
[{"$f":"IF(ISBLANK(C953),\"-\",GenGuid())","v":"-"},"-"]
[{"$f":"IF(ISBLANK(C954),\"-\",GenGuid())","v":"-"},"-"]
[{"$f":"IF(ISBLANK(C955),\"-\",GenGuid())","v":"-"},"-"]
[{"$f":"IF(ISBLANK(C956),\"-\",GenGuid())","v":"-"},"-"]
[{"$f":"IF(ISBLANK(C957),\"-\",GenGuid())","v":"-"},"-"]
[{"$f":"IF(ISBLANK(C958),\"-\",GenGuid())","v":"-"},"-"]
[{"$f":"IF(ISBLANK(C959),\"-\",GenGuid())","v":"-"},"-"]
[{"$f":"IF(ISBLANK(C960),\"-\",GenGuid())","v":"-"},"-"]
[{"$f":"IF(ISBLANK(C961),\"-\",GenGuid())","v":"-"},"-"]
[{"$f":"IF(ISBLANK(C962),\"-\",GenGuid())","v":"-"},"-"]
[{"$f":"IF(ISBLANK(C963),\"-\",GenGuid())","v":"-"},"-"]
[{"$f":"IF(ISBLANK(C964),\"-\",GenGuid())","v":"-"},"-"]
[{"$f":"IF(ISBLANK(C965),\"-\",GenGuid())","v":"-"},{"$f":"IF(ISBLANK(C965),\"-\",INDIRECT(\"PLOTS!A\"&MATCH(C965,PlotLabels)+4))","v":"-"}]
[{"$f":"IF(ISBLANK(C966),\"-\",GenGuid())","v":"-"},"-"]
[{"$f":"IF(ISBLANK(C967),\"-\",GenGuid())","v":"-"},"-"]
[{"$f":"IF(ISBLANK(C968),\"-\",GenGuid())","v":"-"},"-"]
[{"$f":"IF(ISBLANK(C969),\"-\",GenGuid())","v":"-"},"-"]
[{"$f":"IF(ISBLANK(C970),\"-\",GenGuid())","v":"-"},"-"]
[{"$f":"IF(ISBLANK(C971),\"-\",GenGuid())","v":"-"},"-"]
[{"$f":"IF(ISBLANK(C972),\"-\",GenGuid())","v":"-"},"-"]
[{"$f":"IF(ISBLANK(C973),\"-\",GenGuid())","v":"-"},"-"]
[{"$f":"IF(ISBLANK(C974),\"-\",GenGuid())","v":"-"},"-"]
[{"$f":"IF(ISBLANK(C975),\"-\",GenGuid())","v":"-"},"-"]
[{"$f":"IF(ISBLANK(C976),\"-\",GenGuid())","v":"-"},"-"]
[{"$f":"IF(ISBLANK(C977),\"-\",GenGuid())","v":"-"},"-"]
[{"$f":"IF(ISBLANK(C978),\"-\",GenGuid())","v":"-"},"-"]
[{"$f":"IF(ISBLANK(C979),\"-\",GenGuid())","v":"-"},"-"]
[{"$f":"IF(ISBLANK(C980),\"-\",GenGuid())","v":"-"},"-"]
[{"$f":"IF(ISBLANK(C981),\"-\",GenGuid())","v":"-"},"-"]
[{"$f":"IF(ISBLANK(C982),\"-\",GenGuid())","v":"-"},"-"]
[{"$f":"IF(ISBLANK(C983),\"-\",GenGuid())","v":"-"},"-"]
[{"$f":"IF(ISBLANK(C984),\"-\",GenGuid())","v":"-"},"-"]
[{"$f":"IF(ISBLANK(C985),\"-\",GenGuid())","v":"-"},"-"]
[{"$f":"IF(ISBLANK(C986),\"-\",GenGuid())","v":"-"},"-"]
[{"$f":"IF(ISBLANK(C987),\"-\",GenGuid())","v":"-"},"-"]
[{"$f":"IF(ISBLANK(C988),\"-\",GenGuid())","v":"-"},"-"]
[{"$f":"IF(ISBLANK(C989),\"-\",GenGuid())","v":"-"},"-"]
[{"$f":"IF(ISBLANK(C990),\"-\",GenGuid())","v":"-"},"-"]
[{"$f":"IF(ISBLANK(C991),\"-\",GenGuid())","v":"-"},"-"]
[{"$f":"IF(ISBLANK(C992),\"-\",GenGuid())","v":"-"},"-"]
[{"$f":"IF(ISBLANK(C993),\"-\",GenGuid())","v":"-"},"-"]
[{"$f":"IF(ISBLANK(C994),\"-\",GenGuid())","v":"-"},"-"]
[{"$f":"IF(ISBLANK(C995),\"-\",GenGuid())","v":"-"},"-"]
[{"$f":"IF(ISBLANK(C996),\"-\",GenGuid())","v":"-"},"-"]
[{"$f":"IF(ISBLANK(C997),\"-\",GenGuid())","v":"-"},"-"]
[{"$f":"IF(ISBLANK(C998),\"-\",GenGuid())","v":"-"},"-"]
[{"$f":"IF(ISBLANK(C999),\"-\",GenGuid())","v":"-"},"-"]
[{"$f":"IF(ISBLANK(C1000),\"-\",GenGuid())","v":"-"},"-"]
[{"$f":"IF(ISBLANK(C1001),\"-\",GenGuid())","v":"-"},"-"]
[{"$f":"IF(ISBLANK(C1002),\"-\",GenGuid())","v":"-"},"-"]
[{"$f":"IF(ISBLANK(C1003),\"-\",GenGuid())","v":"-"},"-"]
[{"$f":"IF(ISBLANK(C1004),\"-\",GenGuid())","v":"-"},"-"]
["To add more rows, copy from the previous line to ensure the proper formatting/formulas are in place."]

{"sheet":"PLOT_LATLONG","index":5,"n_rows":1005,"n_cols":7,"rows_kept":1005,"cut":false,"hidden":false,"merged":[]}
["PlotLatLongID","PlotID","PlotLabel","LocationType","Datum","Longitude","Latitude"]
["Name","Plot ID","Plot Label","Location Type","Datum","Longitude","Latitude"]
["Type",null,"Text","Text","Text","Long Integer","Long Integer"]
["Max Length",null,"50","2","5"]
[{"$f":"IF(ISBLANK(C5),\"-\",GenGuid())","v":"-"},{"$f":"IF(ISBLANK(C5),\"-\",INDIRECT(\"PLOTS!A\"&MATCH(C5,PlotLabels)+4))","v":"-"}]
[{"$f":"IF(ISBLANK(C6),\"-\",GenGuid())","v":"-"},"-"]
[{"$f":"IF(ISBLANK(C7),\"-\",GenGuid())","v":"-"},"-"]
[{"$f":"IF(ISBLANK(C8),\"-\",GenGuid())","v":"-"},"-"]
[{"$f":"IF(ISBLANK(C9),\"-\",GenGuid())","v":"-"},"-"]
[{"$f":"IF(ISBLANK(C10),\"-\",GenGuid())","v":"-"},"-"]
[{"$f":"IF(ISBLANK(C11),\"-\",GenGuid())","v":"-"},"-"]
[{"$f":"IF(ISBLANK(C12),\"-\",GenGuid())","v":"-"},"-"]
[{"$f":"IF(ISBLANK(C13),\"-\",GenGuid())","v":"-"},"-"]
[{"$f":"IF(ISBLANK(C14),\"-\",GenGuid())","v":"-"},"-"]
[{"$f":"IF(ISBLANK(C15),\"-\",GenGuid())","v":"-"},"-"]
[{"$f":"IF(ISBLANK(C16),\"-\",GenGuid())","v":"-"},"-"]
[{"$f":"IF(ISBLANK(C17),\"-\",GenGuid())","v":"-"},"-"]
[{"$f":"IF(ISBLANK(C18),\"-\",GenGuid())","v":"-"},"-"]
[{"$f":"IF(ISBLANK(C19),\"-\",GenGuid())","v":"-"},"-"]
[{"$f":"IF(ISBLANK(C20),\"-\",GenGuid())","v":"-"},"-"]
[{"$f":"IF(ISBLANK(C21),\"-\",GenGuid())","v":"-"},"-"]
[{"$f":"IF(ISBLANK(C22),\"-\",GenGuid())","v":"-"},"-"]
[{"$f":"IF(ISBLANK(C23),\"-\",GenGuid())","v":"-"},"-"]
[{"$f":"IF(ISBLANK(C24),\"-\",GenGuid())","v":"-"},"-"]
[{"$f":"IF(ISBLANK(C25),\"-\",GenGuid())","v":"-"},"-"]
[{"$f":"IF(ISBLANK(C26),\"-\",GenGuid())","v":"-"},"-"]
[{"$f":"IF(ISBLANK(C27),\"-\",GenGuid())","v":"-"},"-"]
[{"$f":"IF(ISBLANK(C28),\"-\",GenGuid())","v":"-"},"-"]
[{"$f":"IF(ISBLANK(C29),\"-\",GenGuid())","v":"-"},"-"]
[{"$f":"IF(ISBLANK(C30),\"-\",GenGuid())","v":"-"},"-"]
[{"$f":"IF(ISBLANK(C31),\"-\",GenGuid())","v":"-"},"-"]
[{"$f":"IF(ISBLANK(C32),\"-\",GenGuid())","v":"-"},"-"]
[{"$f":"IF(ISBLANK(C33),\"-\",GenGuid())","v":"-"},"-"]
[{"$f":"IF(ISBLANK(C34),\"-\",GenGuid())","v":"-"},"-"]
[{"$f":"IF(ISBLANK(C35),\"-\",GenGuid())","v":"-"},"-"]
[{"$f":"IF(ISBLANK(C36),\"-\",GenGuid())","v":"-"},"-"]
[{"$f":"IF(ISBLANK(C37),\"-\",GenGuid())","v":"-"},"-"]
[{"$f":"IF(ISBLANK(C38),\"-\",GenGuid())","v":"-"},"-"]
[{"$f":"IF(ISBLANK(C39),\"-\",GenGuid())","v":"-"},"-"]
[{"$f":"IF(ISBLANK(C40),\"-\",GenGuid())","v":"-"},"-"]
[{"$f":"IF(ISBLANK(C41),\"-\",GenGuid())","v":"-"},"-"]
[{"$f":"IF(ISBLANK(C42),\"-\",GenGuid())","v":"-"},"-"]
[{"$f":"IF(ISBLANK(C43),\"-\",GenGuid())","v":"-"},"-"]
[{"$f":"IF(ISBLANK(C44),\"-\",GenGuid())","v":"-"},"-"]
[{"$f":"IF(ISBLANK(C45),\"-\",GenGuid())","v":"-"},"-"]
[{"$f":"IF(ISBLANK(C46),\"-\",GenGuid())","v":"-"},"-"]
[{"$f":"IF(ISBLANK(C47),\"-\",GenGuid())","v":"-"},"-"]
[{"$f":"IF(ISBLANK(C48),\"-\",GenGuid())","v":"-"},"-"]
[{"$f":"IF(ISBLANK(C49),\"-\",GenGuid())","v":"-"},"-"]
[{"$f":"IF(ISBLANK(C50),\"-\",GenGuid())","v":"-"},"-"]
[{"$f":"IF(ISBLANK(C51),\"-\",GenGuid())","v":"-"},"-"]
[{"$f":"IF(ISBLANK(C52),\"-\",GenGuid())","v":"-"},"-"]
[{"$f":"IF(ISBLANK(C53),\"-\",GenGuid())","v":"-"},"-"]
[{"$f":"IF(ISBLANK(C54),\"-\",GenGuid())","v":"-"},"-"]
[{"$f":"IF(ISBLANK(C55),\"-\",GenGuid())","v":"-"},"-"]
[{"$f":"IF(ISBLANK(C56),\"-\",GenGuid())","v":"-"},"-"]
[{"$f":"IF(ISBLANK(C57),\"-\",GenGuid())","v":"-"},"-"]
[{"$f":"IF(ISBLANK(C58),\"-\",GenGuid())","v":"-"},"-"]
[{"$f":"IF(ISBLANK(C59),\"-\",GenGuid())","v":"-"},"-"]
[{"$f":"IF(ISBLANK(C60),\"-\",GenGuid())","v":"-"},"-"]
[{"$f":"IF(ISBLANK(C61),\"-\",GenGuid())","v":"-"},"-"]
[{"$f":"IF(ISBLANK(C62),\"-\",GenGuid())","v":"-"},"-"]
[{"$f":"IF(ISBLANK(C63),\"-\",GenGuid())","v":"-"},"-"]
[{"$f":"IF(ISBLANK(C64),\"-\",GenGuid())","v":"-"},"-"]
[{"$f":"IF(ISBLANK(C65),\"-\",GenGuid())","v":"-"},"-"]
[{"$f":"IF(ISBLANK(C66),\"-\",GenGuid())","v":"-"},"-"]
[{"$f":"IF(ISBLANK(C67),\"-\",GenGuid())","v":"-"},"-"]
[{"$f":"IF(ISBLANK(C68),\"-\",GenGuid())","v":"-"},"-"]
[{"$f":"IF(ISBLANK(C69),\"-\",GenGuid())","v":"-"},{"$f":"IF(ISBLANK(C69),\"-\",INDIRECT(\"PLOTS!A\"&MATCH(C69,PlotLabels)+4))","v":"-"}]
[{"$f":"IF(ISBLANK(C70),\"-\",GenGuid())","v":"-"},"-"]
[{"$f":"IF(ISBLANK(C71),\"-\",GenGuid())","v":"-"},"-"]
[{"$f":"IF(ISBLANK(C72),\"-\",GenGuid())","v":"-"},"-"]
[{"$f":"IF(ISBLANK(C73),\"-\",GenGuid())","v":"-"},"-"]
[{"$f":"IF(ISBLANK(C74),\"-\",GenGuid())","v":"-"},"-"]
[{"$f":"IF(ISBLANK(C75),\"-\",GenGuid())","v":"-"},"-"]
[{"$f":"IF(ISBLANK(C76),\"-\",GenGuid())","v":"-"},"-"]
[{"$f":"IF(ISBLANK(C77),\"-\",GenGuid())","v":"-"},"-"]
[{"$f":"IF(ISBLANK(C78),\"-\",GenGuid())","v":"-"},"-"]
[{"$f":"IF(ISBLANK(C79),\"-\",GenGuid())","v":"-"},"-"]
[{"$f":"IF(ISBLANK(C80),\"-\",GenGuid())","v":"-"},"-"]
[{"$f":"IF(ISBLANK(C81),\"-\",GenGuid())","v":"-"},"-"]
[{"$f":"IF(ISBLANK(C82),\"-\",GenGuid())","v":"-"},"-"]
[{"$f":"IF(ISBLANK(C83),\"-\",GenGuid())","v":"-"},"-"]
[{"$f":"IF(ISBLANK(C84),\"-\",GenGuid())","v":"-"},"-"]
[{"$f":"IF(ISBLANK(C85),\"-\",GenGuid())","v":"-"},"-"]
[{"$f":"IF(ISBLANK(C86),\"-\",GenGuid())","v":"-"},"-"]
[{"$f":"IF(ISBLANK(C87),\"-\",GenGuid())","v":"-"},"-"]
[{"$f":"IF(ISBLANK(C88),\"-\",GenGuid())","v":"-"},"-"]
[{"$f":"IF(ISBLANK(C89),\"-\",GenGuid())","v":"-"},"-"]
[{"$f":"IF(ISBLANK(C90),\"-\",GenGuid())","v":"-"},"-"]
[{"$f":"IF(ISBLANK(C91),\"-\",GenGuid())","v":"-"},"-"]
[{"$f":"IF(ISBLANK(C92),\"-\",GenGuid())","v":"-"},"-"]
[{"$f":"IF(ISBLANK(C93),\"-\",GenGuid())","v":"-"},"-"]
[{"$f":"IF(ISBLANK(C94),\"-\",GenGuid())","v":"-"},"-"]
[{"$f":"IF(ISBLANK(C95),\"-\",GenGuid())","v":"-"},"-"]
[{"$f":"IF(ISBLANK(C96),\"-\",GenGuid())","v":"-"},"-"]
[{"$f":"IF(ISBLANK(C97),\"-\",GenGuid())","v":"-"},"-"]
[{"$f":"IF(ISBLANK(C98),\"-\",GenGuid())","v":"-"},"-"]
[{"$f":"IF(ISBLANK(C99),\"-\",GenGuid())","v":"-"},"-"]
[{"$f":"IF(ISBLANK(C100),\"-\",GenGuid())","v":"-"},"-"]
[{"$f":"IF(ISBLANK(C101),\"-\",GenGuid())","v":"-"},"-"]
[{"$f":"IF(ISBLANK(C102),\"-\",GenGuid())","v":"-"},"-"]
[{"$f":"IF(ISBLANK(C103),\"-\",GenGuid())","v":"-"},"-"]
[{"$f":"IF(ISBLANK(C104),\"-\",GenGuid())","v":"-"},"-"]
[{"$f":"IF(ISBLANK(C105),\"-\",GenGuid())","v":"-"},"-"]
[{"$f":"IF(ISBLANK(C106),\"-\",GenGuid())","v":"-"},"-"]
[{"$f":"IF(ISBLANK(C107),\"-\",GenGuid())","v":"-"},"-"]
[{"$f":"IF(ISBLANK(C108),\"-\",GenGuid())","v":"-"},"-"]
[{"$f":"IF(ISBLANK(C109),\"-\",GenGuid())","v":"-"},"-"]
[{"$f":"IF(ISBLANK(C110),\"-\",GenGuid())","v":"-"},"-"]
[{"$f":"IF(ISBLANK(C111),\"-\",GenGuid())","v":"-"},"-"]
[{"$f":"IF(ISBLANK(C112),\"-\",GenGuid())","v":"-"},"-"]
[{"$f":"IF(ISBLANK(C113),\"-\",GenGuid())","v":"-"},"-"]
[{"$f":"IF(ISBLANK(C114),\"-\",GenGuid())","v":"-"},"-"]
[{"$f":"IF(ISBLANK(C115),\"-\",GenGuid())","v":"-"},"-"]
[{"$f":"IF(ISBLANK(C116),\"-\",GenGuid())","v":"-"},"-"]
[{"$f":"IF(ISBLANK(C117),\"-\",GenGuid())","v":"-"},"-"]
[{"$f":"IF(ISBLANK(C118),\"-\",GenGuid())","v":"-"},"-"]
[{"$f":"IF(ISBLANK(C119),\"-\",GenGuid())","v":"-"},"-"]
[{"$f":"IF(ISBLANK(C120),\"-\",GenGuid())","v":"-"},"-"]
[{"$f":"IF(ISBLANK(C121),\"-\",GenGuid())","v":"-"},"-"]
[{"$f":"IF(ISBLANK(C122),\"-\",GenGuid())","v":"-"},"-"]
[{"$f":"IF(ISBLANK(C123),\"-\",GenGuid())","v":"-"},"-"]
[{"$f":"IF(ISBLANK(C124),\"-\",GenGuid())","v":"-"},"-"]
[{"$f":"IF(ISBLANK(C125),\"-\",GenGuid())","v":"-"},"-"]
[{"$f":"IF(ISBLANK(C126),\"-\",GenGuid())","v":"-"},"-"]
[{"$f":"IF(ISBLANK(C127),\"-\",GenGuid())","v":"-"},"-"]
[{"$f":"IF(ISBLANK(C128),\"-\",GenGuid())","v":"-"},"-"]
[{"$f":"IF(ISBLANK(C129),\"-\",GenGuid())","v":"-"},"-"]
[{"$f":"IF(ISBLANK(C130),\"-\",GenGuid())","v":"-"},"-"]
[{"$f":"IF(ISBLANK(C131),\"-\",GenGuid())","v":"-"},"-"]
[{"$f":"IF(ISBLANK(C132),\"-\",GenGuid())","v":"-"},"-"]
[{"$f":"IF(ISBLANK(C133),\"-\",GenGuid())","v":"-"},{"$f":"IF(ISBLANK(C133),\"-\",INDIRECT(\"PLOTS!A\"&MATCH(C133,PlotLabels)+4))","v":"-"}]
[{"$f":"IF(ISBLANK(C134),\"-\",GenGuid())","v":"-"},"-"]
[{"$f":"IF(ISBLANK(C135),\"-\",GenGuid())","v":"-"},"-"]
[{"$f":"IF(ISBLANK(C136),\"-\",GenGuid())","v":"-"},"-"]
[{"$f":"IF(ISBLANK(C137),\"-\",GenGuid())","v":"-"},"-"]
[{"$f":"IF(ISBLANK(C138),\"-\",GenGuid())","v":"-"},"-"]
[{"$f":"IF(ISBLANK(C139),\"-\",GenGuid())","v":"-"},"-"]
[{"$f":"IF(ISBLANK(C140),\"-\",GenGuid())","v":"-"},"-"]
[{"$f":"IF(ISBLANK(C141),\"-\",GenGuid())","v":"-"},"-"]
[{"$f":"IF(ISBLANK(C142),\"-\",GenGuid())","v":"-"},"-"]
[{"$f":"IF(ISBLANK(C143),\"-\",GenGuid())","v":"-"},"-"]
[{"$f":"IF(ISBLANK(C144),\"-\",GenGuid())","v":"-"},"-"]
[{"$f":"IF(ISBLANK(C145),\"-\",GenGuid())","v":"-"},"-"]
[{"$f":"IF(ISBLANK(C146),\"-\",GenGuid())","v":"-"},"-"]
[{"$f":"IF(ISBLANK(C147),\"-\",GenGuid())","v":"-"},"-"]
[{"$f":"IF(ISBLANK(C148),\"-\",GenGuid())","v":"-"},"-"]
[{"$f":"IF(ISBLANK(C149),\"-\",GenGuid())","v":"-"},"-"]
[{"$f":"IF(ISBLANK(C150),\"-\",GenGuid())","v":"-"},"-"]
[{"$f":"IF(ISBLANK(C151),\"-\",GenGuid())","v":"-"},"-"]
[{"$f":"IF(ISBLANK(C152),\"-\",GenGuid())","v":"-"},"-"]
[{"$f":"IF(ISBLANK(C153),\"-\",GenGuid())","v":"-"},"-"]
[{"$f":"IF(ISBLANK(C154),\"-\",GenGuid())","v":"-"},"-"]
[{"$f":"IF(ISBLANK(C155),\"-\",GenGuid())","v":"-"},"-"]
[{"$f":"IF(ISBLANK(C156),\"-\",GenGuid())","v":"-"},"-"]
[{"$f":"IF(ISBLANK(C157),\"-\",GenGuid())","v":"-"},"-"]
[{"$f":"IF(ISBLANK(C158),\"-\",GenGuid())","v":"-"},"-"]
[{"$f":"IF(ISBLANK(C159),\"-\",GenGuid())","v":"-"},"-"]
[{"$f":"IF(ISBLANK(C160),\"-\",GenGuid())","v":"-"},"-"]
[{"$f":"IF(ISBLANK(C161),\"-\",GenGuid())","v":"-"},"-"]
[{"$f":"IF(ISBLANK(C162),\"-\",GenGuid())","v":"-"},"-"]
[{"$f":"IF(ISBLANK(C163),\"-\",GenGuid())","v":"-"},"-"]
[{"$f":"IF(ISBLANK(C164),\"-\",GenGuid())","v":"-"},"-"]
[{"$f":"IF(ISBLANK(C165),\"-\",GenGuid())","v":"-"},"-"]
[{"$f":"IF(ISBLANK(C166),\"-\",GenGuid())","v":"-"},"-"]
[{"$f":"IF(ISBLANK(C167),\"-\",GenGuid())","v":"-"},"-"]
[{"$f":"IF(ISBLANK(C168),\"-\",GenGuid())","v":"-"},"-"]
[{"$f":"IF(ISBLANK(C169),\"-\",GenGuid())","v":"-"},"-"]
[{"$f":"IF(ISBLANK(C170),\"-\",GenGuid())","v":"-"},"-"]
[{"$f":"IF(ISBLANK(C171),\"-\",GenGuid())","v":"-"},"-"]
[{"$f":"IF(ISBLANK(C172),\"-\",GenGuid())","v":"-"},"-"]
[{"$f":"IF(ISBLANK(C173),\"-\",GenGuid())","v":"-"},"-"]
[{"$f":"IF(ISBLANK(C174),\"-\",GenGuid())","v":"-"},"-"]
[{"$f":"IF(ISBLANK(C175),\"-\",GenGuid())","v":"-"},"-"]
[{"$f":"IF(ISBLANK(C176),\"-\",GenGuid())","v":"-"},"-"]
[{"$f":"IF(ISBLANK(C177),\"-\",GenGuid())","v":"-"},"-"]
[{"$f":"IF(ISBLANK(C178),\"-\",GenGuid())","v":"-"},"-"]
[{"$f":"IF(ISBLANK(C179),\"-\",GenGuid())","v":"-"},"-"]
[{"$f":"IF(ISBLANK(C180),\"-\",GenGuid())","v":"-"},"-"]
[{"$f":"IF(ISBLANK(C181),\"-\",GenGuid())","v":"-"},"-"]
[{"$f":"IF(ISBLANK(C182),\"-\",GenGuid())","v":"-"},"-"]
[{"$f":"IF(ISBLANK(C183),\"-\",GenGuid())","v":"-"},"-"]
[{"$f":"IF(ISBLANK(C184),\"-\",GenGuid())","v":"-"},"-"]
[{"$f":"IF(ISBLANK(C185),\"-\",GenGuid())","v":"-"},"-"]
[{"$f":"IF(ISBLANK(C186),\"-\",GenGuid())","v":"-"},"-"]
[{"$f":"IF(ISBLANK(C187),\"-\",GenGuid())","v":"-"},"-"]
[{"$f":"IF(ISBLANK(C188),\"-\",GenGuid())","v":"-"},"-"]
[{"$f":"IF(ISBLANK(C189),\"-\",GenGuid())","v":"-"},"-"]
[{"$f":"IF(ISBLANK(C190),\"-\",GenGuid())","v":"-"},"-"]
[{"$f":"IF(ISBLANK(C191),\"-\",GenGuid())","v":"-"},"-"]
[{"$f":"IF(ISBLANK(C192),\"-\",GenGuid())","v":"-"},"-"]
[{"$f":"IF(ISBLANK(C193),\"-\",GenGuid())","v":"-"},"-"]
[{"$f":"IF(ISBLANK(C194),\"-\",GenGuid())","v":"-"},"-"]
[{"$f":"IF(ISBLANK(C195),\"-\",GenGuid())","v":"-"},"-"]
[{"$f":"IF(ISBLANK(C196),\"-\",GenGuid())","v":"-"},"-"]
[{"$f":"IF(ISBLANK(C197),\"-\",GenGuid())","v":"-"},{"$f":"IF(ISBLANK(C197),\"-\",INDIRECT(\"PLOTS!A\"&MATCH(C197,PlotLabels)+4))","v":"-"}]
[{"$f":"IF(ISBLANK(C198),\"-\",GenGuid())","v":"-"},"-"]
[{"$f":"IF(ISBLANK(C199),\"-\",GenGuid())","v":"-"},"-"]
[{"$f":"IF(ISBLANK(C200),\"-\",GenGuid())","v":"-"},"-"]
[{"$f":"IF(ISBLANK(C201),\"-\",GenGuid())","v":"-"},"-"]
[{"$f":"IF(ISBLANK(C202),\"-\",GenGuid())","v":"-"},"-"]
[{"$f":"IF(ISBLANK(C203),\"-\",GenGuid())","v":"-"},"-"]
[{"$f":"IF(ISBLANK(C204),\"-\",GenGuid())","v":"-"},"-"]
[{"$f":"IF(ISBLANK(C205),\"-\",GenGuid())","v":"-"},"-"]
[{"$f":"IF(ISBLANK(C206),\"-\",GenGuid())","v":"-"},"-"]
[{"$f":"IF(ISBLANK(C207),\"-\",GenGuid())","v":"-"},"-"]
[{"$f":"IF(ISBLANK(C208),\"-\",GenGuid())","v":"-"},"-"]
[{"$f":"IF(ISBLANK(C209),\"-\",GenGuid())","v":"-"},"-"]
[{"$f":"IF(ISBLANK(C210),\"-\",GenGuid())","v":"-"},"-"]
[{"$f":"IF(ISBLANK(C211),\"-\",GenGuid())","v":"-"},"-"]
[{"$f":"IF(ISBLANK(C212),\"-\",GenGuid())","v":"-"},"-"]
[{"$f":"IF(ISBLANK(C213),\"-\",GenGuid())","v":"-"},"-"]
[{"$f":"IF(ISBLANK(C214),\"-\",GenGuid())","v":"-"},"-"]
[{"$f":"IF(ISBLANK(C215),\"-\",GenGuid())","v":"-"},"-"]
[{"$f":"IF(ISBLANK(C216),\"-\",GenGuid())","v":"-"},"-"]
[{"$f":"IF(ISBLANK(C217),\"-\",GenGuid())","v":"-"},"-"]
[{"$f":"IF(ISBLANK(C218),\"-\",GenGuid())","v":"-"},"-"]
[{"$f":"IF(ISBLANK(C219),\"-\",GenGuid())","v":"-"},"-"]
[{"$f":"IF(ISBLANK(C220),\"-\",GenGuid())","v":"-"},"-"]
[{"$f":"IF(ISBLANK(C221),\"-\",GenGuid())","v":"-"},"-"]
[{"$f":"IF(ISBLANK(C222),\"-\",GenGuid())","v":"-"},"-"]
[{"$f":"IF(ISBLANK(C223),\"-\",GenGuid())","v":"-"},"-"]
[{"$f":"IF(ISBLANK(C224),\"-\",GenGuid())","v":"-"},"-"]
[{"$f":"IF(ISBLANK(C225),\"-\",GenGuid())","v":"-"},"-"]
[{"$f":"IF(ISBLANK(C226),\"-\",GenGuid())","v":"-"},"-"]
[{"$f":"IF(ISBLANK(C227),\"-\",GenGuid())","v":"-"},"-"]
[{"$f":"IF(ISBLANK(C228),\"-\",GenGuid())","v":"-"},"-"]
[{"$f":"IF(ISBLANK(C229),\"-\",GenGuid())","v":"-"},"-"]
[{"$f":"IF(ISBLANK(C230),\"-\",GenGuid())","v":"-"},"-"]
[{"$f":"IF(ISBLANK(C231),\"-\",GenGuid())","v":"-"},"-"]
[{"$f":"IF(ISBLANK(C232),\"-\",GenGuid())","v":"-"},"-"]
[{"$f":"IF(ISBLANK(C233),\"-\",GenGuid())","v":"-"},"-"]
[{"$f":"IF(ISBLANK(C234),\"-\",GenGuid())","v":"-"},"-"]
[{"$f":"IF(ISBLANK(C235),\"-\",GenGuid())","v":"-"},"-"]
[{"$f":"IF(ISBLANK(C236),\"-\",GenGuid())","v":"-"},"-"]
[{"$f":"IF(ISBLANK(C237),\"-\",GenGuid())","v":"-"},"-"]
[{"$f":"IF(ISBLANK(C238),\"-\",GenGuid())","v":"-"},"-"]
[{"$f":"IF(ISBLANK(C239),\"-\",GenGuid())","v":"-"},"-"]
[{"$f":"IF(ISBLANK(C240),\"-\",GenGuid())","v":"-"},"-"]
[{"$f":"IF(ISBLANK(C241),\"-\",GenGuid())","v":"-"},"-"]
[{"$f":"IF(ISBLANK(C242),\"-\",GenGuid())","v":"-"},"-"]
[{"$f":"IF(ISBLANK(C243),\"-\",GenGuid())","v":"-"},"-"]
[{"$f":"IF(ISBLANK(C244),\"-\",GenGuid())","v":"-"},"-"]
[{"$f":"IF(ISBLANK(C245),\"-\",GenGuid())","v":"-"},"-"]
[{"$f":"IF(ISBLANK(C246),\"-\",GenGuid())","v":"-"},"-"]
[{"$f":"IF(ISBLANK(C247),\"-\",GenGuid())","v":"-"},"-"]
[{"$f":"IF(ISBLANK(C248),\"-\",GenGuid())","v":"-"},"-"]
[{"$f":"IF(ISBLANK(C249),\"-\",GenGuid())","v":"-"},"-"]
[{"$f":"IF(ISBLANK(C250),\"-\",GenGuid())","v":"-"},"-"]
[{"$f":"IF(ISBLANK(C251),\"-\",GenGuid())","v":"-"},"-"]
[{"$f":"IF(ISBLANK(C252),\"-\",GenGuid())","v":"-"},"-"]
[{"$f":"IF(ISBLANK(C253),\"-\",GenGuid())","v":"-"},"-"]
[{"$f":"IF(ISBLANK(C254),\"-\",GenGuid())","v":"-"},"-"]
[{"$f":"IF(ISBLANK(C255),\"-\",GenGuid())","v":"-"},"-"]
[{"$f":"IF(ISBLANK(C256),\"-\",GenGuid())","v":"-"},"-"]
[{"$f":"IF(ISBLANK(C257),\"-\",GenGuid())","v":"-"},"-"]
[{"$f":"IF(ISBLANK(C258),\"-\",GenGuid())","v":"-"},"-"]
[{"$f":"IF(ISBLANK(C259),\"-\",GenGuid())","v":"-"},"-"]
[{"$f":"IF(ISBLANK(C260),\"-\",GenGuid())","v":"-"},"-"]
[{"$f":"IF(ISBLANK(C261),\"-\",GenGuid())","v":"-"},{"$f":"IF(ISBLANK(C261),\"-\",INDIRECT(\"PLOTS!A\"&MATCH(C261,PlotLabels)+4))","v":"-"}]
[{"$f":"IF(ISBLANK(C262),\"-\",GenGuid())","v":"-"},"-"]
[{"$f":"IF(ISBLANK(C263),\"-\",GenGuid())","v":"-"},"-"]
[{"$f":"IF(ISBLANK(C264),\"-\",GenGuid())","v":"-"},"-"]
[{"$f":"IF(ISBLANK(C265),\"-\",GenGuid())","v":"-"},"-"]
[{"$f":"IF(ISBLANK(C266),\"-\",GenGuid())","v":"-"},"-"]
[{"$f":"IF(ISBLANK(C267),\"-\",GenGuid())","v":"-"},"-"]
[{"$f":"IF(ISBLANK(C268),\"-\",GenGuid())","v":"-"},"-"]
[{"$f":"IF(ISBLANK(C269),\"-\",GenGuid())","v":"-"},"-"]
[{"$f":"IF(ISBLANK(C270),\"-\",GenGuid())","v":"-"},"-"]
[{"$f":"IF(ISBLANK(C271),\"-\",GenGuid())","v":"-"},"-"]
[{"$f":"IF(ISBLANK(C272),\"-\",GenGuid())","v":"-"},"-"]
[{"$f":"IF(ISBLANK(C273),\"-\",GenGuid())","v":"-"},"-"]
[{"$f":"IF(ISBLANK(C274),\"-\",GenGuid())","v":"-"},"-"]
[{"$f":"IF(ISBLANK(C275),\"-\",GenGuid())","v":"-"},"-"]
[{"$f":"IF(ISBLANK(C276),\"-\",GenGuid())","v":"-"},"-"]
[{"$f":"IF(ISBLANK(C277),\"-\",GenGuid())","v":"-"},"-"]
[{"$f":"IF(ISBLANK(C278),\"-\",GenGuid())","v":"-"},"-"]
[{"$f":"IF(ISBLANK(C279),\"-\",GenGuid())","v":"-"},"-"]
[{"$f":"IF(ISBLANK(C280),\"-\",GenGuid())","v":"-"},"-"]
[{"$f":"IF(ISBLANK(C281),\"-\",GenGuid())","v":"-"},"-"]
[{"$f":"IF(ISBLANK(C282),\"-\",GenGuid())","v":"-"},"-"]
[{"$f":"IF(ISBLANK(C283),\"-\",GenGuid())","v":"-"},"-"]
[{"$f":"IF(ISBLANK(C284),\"-\",GenGuid())","v":"-"},"-"]
[{"$f":"IF(ISBLANK(C285),\"-\",GenGuid())","v":"-"},"-"]
[{"$f":"IF(ISBLANK(C286),\"-\",GenGuid())","v":"-"},"-"]
[{"$f":"IF(ISBLANK(C287),\"-\",GenGuid())","v":"-"},"-"]
[{"$f":"IF(ISBLANK(C288),\"-\",GenGuid())","v":"-"},"-"]
[{"$f":"IF(ISBLANK(C289),\"-\",GenGuid())","v":"-"},"-"]
[{"$f":"IF(ISBLANK(C290),\"-\",GenGuid())","v":"-"},"-"]
[{"$f":"IF(ISBLANK(C291),\"-\",GenGuid())","v":"-"},"-"]
[{"$f":"IF(ISBLANK(C292),\"-\",GenGuid())","v":"-"},"-"]
[{"$f":"IF(ISBLANK(C293),\"-\",GenGuid())","v":"-"},"-"]
[{"$f":"IF(ISBLANK(C294),\"-\",GenGuid())","v":"-"},"-"]
[{"$f":"IF(ISBLANK(C295),\"-\",GenGuid())","v":"-"},"-"]
[{"$f":"IF(ISBLANK(C296),\"-\",GenGuid())","v":"-"},"-"]
[{"$f":"IF(ISBLANK(C297),\"-\",GenGuid())","v":"-"},"-"]
[{"$f":"IF(ISBLANK(C298),\"-\",GenGuid())","v":"-"},"-"]
[{"$f":"IF(ISBLANK(C299),\"-\",GenGuid())","v":"-"},"-"]
[{"$f":"IF(ISBLANK(C300),\"-\",GenGuid())","v":"-"},"-"]
[{"$f":"IF(ISBLANK(C301),\"-\",GenGuid())","v":"-"},"-"]
[{"$f":"IF(ISBLANK(C302),\"-\",GenGuid())","v":"-"},"-"]
[{"$f":"IF(ISBLANK(C303),\"-\",GenGuid())","v":"-"},"-"]
[{"$f":"IF(ISBLANK(C304),\"-\",GenGuid())","v":"-"},"-"]
[{"$f":"IF(ISBLANK(C305),\"-\",GenGuid())","v":"-"},"-"]
[{"$f":"IF(ISBLANK(C306),\"-\",GenGuid())","v":"-"},"-"]
[{"$f":"IF(ISBLANK(C307),\"-\",GenGuid())","v":"-"},"-"]
[{"$f":"IF(ISBLANK(C308),\"-\",GenGuid())","v":"-"},"-"]
[{"$f":"IF(ISBLANK(C309),\"-\",GenGuid())","v":"-"},"-"]
[{"$f":"IF(ISBLANK(C310),\"-\",GenGuid())","v":"-"},"-"]
[{"$f":"IF(ISBLANK(C311),\"-\",GenGuid())","v":"-"},"-"]
[{"$f":"IF(ISBLANK(C312),\"-\",GenGuid())","v":"-"},"-"]
[{"$f":"IF(ISBLANK(C313),\"-\",GenGuid())","v":"-"},"-"]
[{"$f":"IF(ISBLANK(C314),\"-\",GenGuid())","v":"-"},"-"]
[{"$f":"IF(ISBLANK(C315),\"-\",GenGuid())","v":"-"},"-"]
[{"$f":"IF(ISBLANK(C316),\"-\",GenGuid())","v":"-"},"-"]
[{"$f":"IF(ISBLANK(C317),\"-\",GenGuid())","v":"-"},"-"]
[{"$f":"IF(ISBLANK(C318),\"-\",GenGuid())","v":"-"},"-"]
[{"$f":"IF(ISBLANK(C319),\"-\",GenGuid())","v":"-"},"-"]
[{"$f":"IF(ISBLANK(C320),\"-\",GenGuid())","v":"-"},"-"]
[{"$f":"IF(ISBLANK(C321),\"-\",GenGuid())","v":"-"},"-"]
[{"$f":"IF(ISBLANK(C322),\"-\",GenGuid())","v":"-"},"-"]
[{"$f":"IF(ISBLANK(C323),\"-\",GenGuid())","v":"-"},"-"]
[{"$f":"IF(ISBLANK(C324),\"-\",GenGuid())","v":"-"},"-"]
[{"$f":"IF(ISBLANK(C325),\"-\",GenGuid())","v":"-"},{"$f":"IF(ISBLANK(C325),\"-\",INDIRECT(\"PLOTS!A\"&MATCH(C325,PlotLabels)+4))","v":"-"}]
[{"$f":"IF(ISBLANK(C326),\"-\",GenGuid())","v":"-"},"-"]
[{"$f":"IF(ISBLANK(C327),\"-\",GenGuid())","v":"-"},"-"]
[{"$f":"IF(ISBLANK(C328),\"-\",GenGuid())","v":"-"},"-"]
[{"$f":"IF(ISBLANK(C329),\"-\",GenGuid())","v":"-"},"-"]
[{"$f":"IF(ISBLANK(C330),\"-\",GenGuid())","v":"-"},"-"]
[{"$f":"IF(ISBLANK(C331),\"-\",GenGuid())","v":"-"},"-"]
[{"$f":"IF(ISBLANK(C332),\"-\",GenGuid())","v":"-"},"-"]
[{"$f":"IF(ISBLANK(C333),\"-\",GenGuid())","v":"-"},"-"]
[{"$f":"IF(ISBLANK(C334),\"-\",GenGuid())","v":"-"},"-"]
[{"$f":"IF(ISBLANK(C335),\"-\",GenGuid())","v":"-"},"-"]
[{"$f":"IF(ISBLANK(C336),\"-\",GenGuid())","v":"-"},"-"]
[{"$f":"IF(ISBLANK(C337),\"-\",GenGuid())","v":"-"},"-"]
[{"$f":"IF(ISBLANK(C338),\"-\",GenGuid())","v":"-"},"-"]
[{"$f":"IF(ISBLANK(C339),\"-\",GenGuid())","v":"-"},"-"]
[{"$f":"IF(ISBLANK(C340),\"-\",GenGuid())","v":"-"},"-"]
[{"$f":"IF(ISBLANK(C341),\"-\",GenGuid())","v":"-"},"-"]
[{"$f":"IF(ISBLANK(C342),\"-\",GenGuid())","v":"-"},"-"]
[{"$f":"IF(ISBLANK(C343),\"-\",GenGuid())","v":"-"},"-"]
[{"$f":"IF(ISBLANK(C344),\"-\",GenGuid())","v":"-"},"-"]
[{"$f":"IF(ISBLANK(C345),\"-\",GenGuid())","v":"-"},"-"]
[{"$f":"IF(ISBLANK(C346),\"-\",GenGuid())","v":"-"},"-"]
[{"$f":"IF(ISBLANK(C347),\"-\",GenGuid())","v":"-"},"-"]
[{"$f":"IF(ISBLANK(C348),\"-\",GenGuid())","v":"-"},"-"]
[{"$f":"IF(ISBLANK(C349),\"-\",GenGuid())","v":"-"},"-"]
[{"$f":"IF(ISBLANK(C350),\"-\",GenGuid())","v":"-"},"-"]
[{"$f":"IF(ISBLANK(C351),\"-\",GenGuid())","v":"-"},"-"]
[{"$f":"IF(ISBLANK(C352),\"-\",GenGuid())","v":"-"},"-"]
[{"$f":"IF(ISBLANK(C353),\"-\",GenGuid())","v":"-"},"-"]
[{"$f":"IF(ISBLANK(C354),\"-\",GenGuid())","v":"-"},"-"]
[{"$f":"IF(ISBLANK(C355),\"-\",GenGuid())","v":"-"},"-"]
[{"$f":"IF(ISBLANK(C356),\"-\",GenGuid())","v":"-"},"-"]
[{"$f":"IF(ISBLANK(C357),\"-\",GenGuid())","v":"-"},"-"]
[{"$f":"IF(ISBLANK(C358),\"-\",GenGuid())","v":"-"},"-"]
[{"$f":"IF(ISBLANK(C359),\"-\",GenGuid())","v":"-"},"-"]
[{"$f":"IF(ISBLANK(C360),\"-\",GenGuid())","v":"-"},"-"]
[{"$f":"IF(ISBLANK(C361),\"-\",GenGuid())","v":"-"},"-"]
[{"$f":"IF(ISBLANK(C362),\"-\",GenGuid())","v":"-"},"-"]
[{"$f":"IF(ISBLANK(C363),\"-\",GenGuid())","v":"-"},"-"]
[{"$f":"IF(ISBLANK(C364),\"-\",GenGuid())","v":"-"},"-"]
[{"$f":"IF(ISBLANK(C365),\"-\",GenGuid())","v":"-"},"-"]
[{"$f":"IF(ISBLANK(C366),\"-\",GenGuid())","v":"-"},"-"]
[{"$f":"IF(ISBLANK(C367),\"-\",GenGuid())","v":"-"},"-"]
[{"$f":"IF(ISBLANK(C368),\"-\",GenGuid())","v":"-"},"-"]
[{"$f":"IF(ISBLANK(C369),\"-\",GenGuid())","v":"-"},"-"]
[{"$f":"IF(ISBLANK(C370),\"-\",GenGuid())","v":"-"},"-"]
[{"$f":"IF(ISBLANK(C371),\"-\",GenGuid())","v":"-"},"-"]
[{"$f":"IF(ISBLANK(C372),\"-\",GenGuid())","v":"-"},"-"]
[{"$f":"IF(ISBLANK(C373),\"-\",GenGuid())","v":"-"},"-"]
[{"$f":"IF(ISBLANK(C374),\"-\",GenGuid())","v":"-"},"-"]
[{"$f":"IF(ISBLANK(C375),\"-\",GenGuid())","v":"-"},"-"]
[{"$f":"IF(ISBLANK(C376),\"-\",GenGuid())","v":"-"},"-"]
[{"$f":"IF(ISBLANK(C377),\"-\",GenGuid())","v":"-"},"-"]
[{"$f":"IF(ISBLANK(C378),\"-\",GenGuid())","v":"-"},"-"]
[{"$f":"IF(ISBLANK(C379),\"-\",GenGuid())","v":"-"},"-"]
[{"$f":"IF(ISBLANK(C380),\"-\",GenGuid())","v":"-"},"-"]
[{"$f":"IF(ISBLANK(C381),\"-\",GenGuid())","v":"-"},"-"]
[{"$f":"IF(ISBLANK(C382),\"-\",GenGuid())","v":"-"},"-"]
[{"$f":"IF(ISBLANK(C383),\"-\",GenGuid())","v":"-"},"-"]
[{"$f":"IF(ISBLANK(C384),\"-\",GenGuid())","v":"-"},"-"]
[{"$f":"IF(ISBLANK(C385),\"-\",GenGuid())","v":"-"},"-"]
[{"$f":"IF(ISBLANK(C386),\"-\",GenGuid())","v":"-"},"-"]
[{"$f":"IF(ISBLANK(C387),\"-\",GenGuid())","v":"-"},"-"]
[{"$f":"IF(ISBLANK(C388),\"-\",GenGuid())","v":"-"},"-"]
[{"$f":"IF(ISBLANK(C389),\"-\",GenGuid())","v":"-"},{"$f":"IF(ISBLANK(C389),\"-\",INDIRECT(\"PLOTS!A\"&MATCH(C389,PlotLabels)+4))","v":"-"}]
[{"$f":"IF(ISBLANK(C390),\"-\",GenGuid())","v":"-"},"-"]
[{"$f":"IF(ISBLANK(C391),\"-\",GenGuid())","v":"-"},"-"]
[{"$f":"IF(ISBLANK(C392),\"-\",GenGuid())","v":"-"},"-"]
[{"$f":"IF(ISBLANK(C393),\"-\",GenGuid())","v":"-"},"-"]
[{"$f":"IF(ISBLANK(C394),\"-\",GenGuid())","v":"-"},"-"]
[{"$f":"IF(ISBLANK(C395),\"-\",GenGuid())","v":"-"},"-"]
[{"$f":"IF(ISBLANK(C396),\"-\",GenGuid())","v":"-"},"-"]
[{"$f":"IF(ISBLANK(C397),\"-\",GenGuid())","v":"-"},"-"]
[{"$f":"IF(ISBLANK(C398),\"-\",GenGuid())","v":"-"},"-"]
[{"$f":"IF(ISBLANK(C399),\"-\",GenGuid())","v":"-"},"-"]
[{"$f":"IF(ISBLANK(C400),\"-\",GenGuid())","v":"-"},"-"]
[{"$f":"IF(ISBLANK(C401),\"-\",GenGuid())","v":"-"},"-"]
[{"$f":"IF(ISBLANK(C402),\"-\",GenGuid())","v":"-"},"-"]
[{"$f":"IF(ISBLANK(C403),\"-\",GenGuid())","v":"-"},"-"]
[{"$f":"IF(ISBLANK(C404),\"-\",GenGuid())","v":"-"},"-"]
[{"$f":"IF(ISBLANK(C405),\"-\",GenGuid())","v":"-"},"-"]
[{"$f":"IF(ISBLANK(C406),\"-\",GenGuid())","v":"-"},"-"]
[{"$f":"IF(ISBLANK(C407),\"-\",GenGuid())","v":"-"},"-"]
[{"$f":"IF(ISBLANK(C408),\"-\",GenGuid())","v":"-"},"-"]
[{"$f":"IF(ISBLANK(C409),\"-\",GenGuid())","v":"-"},"-"]
[{"$f":"IF(ISBLANK(C410),\"-\",GenGuid())","v":"-"},"-"]
[{"$f":"IF(ISBLANK(C411),\"-\",GenGuid())","v":"-"},"-"]
[{"$f":"IF(ISBLANK(C412),\"-\",GenGuid())","v":"-"},"-"]
[{"$f":"IF(ISBLANK(C413),\"-\",GenGuid())","v":"-"},"-"]
[{"$f":"IF(ISBLANK(C414),\"-\",GenGuid())","v":"-"},"-"]
[{"$f":"IF(ISBLANK(C415),\"-\",GenGuid())","v":"-"},"-"]
[{"$f":"IF(ISBLANK(C416),\"-\",GenGuid())","v":"-"},"-"]
[{"$f":"IF(ISBLANK(C417),\"-\",GenGuid())","v":"-"},"-"]
[{"$f":"IF(ISBLANK(C418),\"-\",GenGuid())","v":"-"},"-"]
[{"$f":"IF(ISBLANK(C419),\"-\",GenGuid())","v":"-"},"-"]
[{"$f":"IF(ISBLANK(C420),\"-\",GenGuid())","v":"-"},"-"]
[{"$f":"IF(ISBLANK(C421),\"-\",GenGuid())","v":"-"},"-"]
[{"$f":"IF(ISBLANK(C422),\"-\",GenGuid())","v":"-"},"-"]
[{"$f":"IF(ISBLANK(C423),\"-\",GenGuid())","v":"-"},"-"]
[{"$f":"IF(ISBLANK(C424),\"-\",GenGuid())","v":"-"},"-"]
[{"$f":"IF(ISBLANK(C425),\"-\",GenGuid())","v":"-"},"-"]
[{"$f":"IF(ISBLANK(C426),\"-\",GenGuid())","v":"-"},"-"]
[{"$f":"IF(ISBLANK(C427),\"-\",GenGuid())","v":"-"},"-"]
[{"$f":"IF(ISBLANK(C428),\"-\",GenGuid())","v":"-"},"-"]
[{"$f":"IF(ISBLANK(C429),\"-\",GenGuid())","v":"-"},"-"]
[{"$f":"IF(ISBLANK(C430),\"-\",GenGuid())","v":"-"},"-"]
[{"$f":"IF(ISBLANK(C431),\"-\",GenGuid())","v":"-"},"-"]
[{"$f":"IF(ISBLANK(C432),\"-\",GenGuid())","v":"-"},"-"]
[{"$f":"IF(ISBLANK(C433),\"-\",GenGuid())","v":"-"},"-"]
[{"$f":"IF(ISBLANK(C434),\"-\",GenGuid())","v":"-"},"-"]
[{"$f":"IF(ISBLANK(C435),\"-\",GenGuid())","v":"-"},"-"]
[{"$f":"IF(ISBLANK(C436),\"-\",GenGuid())","v":"-"},"-"]
[{"$f":"IF(ISBLANK(C437),\"-\",GenGuid())","v":"-"},"-"]
[{"$f":"IF(ISBLANK(C438),\"-\",GenGuid())","v":"-"},"-"]
[{"$f":"IF(ISBLANK(C439),\"-\",GenGuid())","v":"-"},"-"]
[{"$f":"IF(ISBLANK(C440),\"-\",GenGuid())","v":"-"},"-"]
[{"$f":"IF(ISBLANK(C441),\"-\",GenGuid())","v":"-"},"-"]
[{"$f":"IF(ISBLANK(C442),\"-\",GenGuid())","v":"-"},"-"]
[{"$f":"IF(ISBLANK(C443),\"-\",GenGuid())","v":"-"},"-"]
[{"$f":"IF(ISBLANK(C444),\"-\",GenGuid())","v":"-"},"-"]
[{"$f":"IF(ISBLANK(C445),\"-\",GenGuid())","v":"-"},"-"]
[{"$f":"IF(ISBLANK(C446),\"-\",GenGuid())","v":"-"},"-"]
[{"$f":"IF(ISBLANK(C447),\"-\",GenGuid())","v":"-"},"-"]
[{"$f":"IF(ISBLANK(C448),\"-\",GenGuid())","v":"-"},"-"]
[{"$f":"IF(ISBLANK(C449),\"-\",GenGuid())","v":"-"},"-"]
[{"$f":"IF(ISBLANK(C450),\"-\",GenGuid())","v":"-"},"-"]
[{"$f":"IF(ISBLANK(C451),\"-\",GenGuid())","v":"-"},"-"]
[{"$f":"IF(ISBLANK(C452),\"-\",GenGuid())","v":"-"},"-"]
[{"$f":"IF(ISBLANK(C453),\"-\",GenGuid())","v":"-"},{"$f":"IF(ISBLANK(C453),\"-\",INDIRECT(\"PLOTS!A\"&MATCH(C453,PlotLabels)+4))","v":"-"}]
[{"$f":"IF(ISBLANK(C454),\"-\",GenGuid())","v":"-"},"-"]
[{"$f":"IF(ISBLANK(C455),\"-\",GenGuid())","v":"-"},"-"]
[{"$f":"IF(ISBLANK(C456),\"-\",GenGuid())","v":"-"},"-"]
[{"$f":"IF(ISBLANK(C457),\"-\",GenGuid())","v":"-"},"-"]
[{"$f":"IF(ISBLANK(C458),\"-\",GenGuid())","v":"-"},"-"]
[{"$f":"IF(ISBLANK(C459),\"-\",GenGuid())","v":"-"},"-"]
[{"$f":"IF(ISBLANK(C460),\"-\",GenGuid())","v":"-"},"-"]
[{"$f":"IF(ISBLANK(C461),\"-\",GenGuid())","v":"-"},"-"]
[{"$f":"IF(ISBLANK(C462),\"-\",GenGuid())","v":"-"},"-"]
[{"$f":"IF(ISBLANK(C463),\"-\",GenGuid())","v":"-"},"-"]
[{"$f":"IF(ISBLANK(C464),\"-\",GenGuid())","v":"-"},"-"]
[{"$f":"IF(ISBLANK(C465),\"-\",GenGuid())","v":"-"},"-"]
[{"$f":"IF(ISBLANK(C466),\"-\",GenGuid())","v":"-"},"-"]
[{"$f":"IF(ISBLANK(C467),\"-\",GenGuid())","v":"-"},"-"]
[{"$f":"IF(ISBLANK(C468),\"-\",GenGuid())","v":"-"},"-"]
[{"$f":"IF(ISBLANK(C469),\"-\",GenGuid())","v":"-"},"-"]
[{"$f":"IF(ISBLANK(C470),\"-\",GenGuid())","v":"-"},"-"]
[{"$f":"IF(ISBLANK(C471),\"-\",GenGuid())","v":"-"},"-"]
[{"$f":"IF(ISBLANK(C472),\"-\",GenGuid())","v":"-"},"-"]
[{"$f":"IF(ISBLANK(C473),\"-\",GenGuid())","v":"-"},"-"]
[{"$f":"IF(ISBLANK(C474),\"-\",GenGuid())","v":"-"},"-"]
[{"$f":"IF(ISBLANK(C475),\"-\",GenGuid())","v":"-"},"-"]
[{"$f":"IF(ISBLANK(C476),\"-\",GenGuid())","v":"-"},"-"]
[{"$f":"IF(ISBLANK(C477),\"-\",GenGuid())","v":"-"},"-"]
[{"$f":"IF(ISBLANK(C478),\"-\",GenGuid())","v":"-"},"-"]
[{"$f":"IF(ISBLANK(C479),\"-\",GenGuid())","v":"-"},"-"]
[{"$f":"IF(ISBLANK(C480),\"-\",GenGuid())","v":"-"},"-"]
[{"$f":"IF(ISBLANK(C481),\"-\",GenGuid())","v":"-"},"-"]
[{"$f":"IF(ISBLANK(C482),\"-\",GenGuid())","v":"-"},"-"]
[{"$f":"IF(ISBLANK(C483),\"-\",GenGuid())","v":"-"},"-"]
[{"$f":"IF(ISBLANK(C484),\"-\",GenGuid())","v":"-"},"-"]
[{"$f":"IF(ISBLANK(C485),\"-\",GenGuid())","v":"-"},"-"]
[{"$f":"IF(ISBLANK(C486),\"-\",GenGuid())","v":"-"},"-"]
[{"$f":"IF(ISBLANK(C487),\"-\",GenGuid())","v":"-"},"-"]
[{"$f":"IF(ISBLANK(C488),\"-\",GenGuid())","v":"-"},"-"]
[{"$f":"IF(ISBLANK(C489),\"-\",GenGuid())","v":"-"},"-"]
[{"$f":"IF(ISBLANK(C490),\"-\",GenGuid())","v":"-"},"-"]
[{"$f":"IF(ISBLANK(C491),\"-\",GenGuid())","v":"-"},"-"]
[{"$f":"IF(ISBLANK(C492),\"-\",GenGuid())","v":"-"},"-"]
[{"$f":"IF(ISBLANK(C493),\"-\",GenGuid())","v":"-"},"-"]
[{"$f":"IF(ISBLANK(C494),\"-\",GenGuid())","v":"-"},"-"]
[{"$f":"IF(ISBLANK(C495),\"-\",GenGuid())","v":"-"},"-"]
[{"$f":"IF(ISBLANK(C496),\"-\",GenGuid())","v":"-"},"-"]
[{"$f":"IF(ISBLANK(C497),\"-\",GenGuid())","v":"-"},"-"]
[{"$f":"IF(ISBLANK(C498),\"-\",GenGuid())","v":"-"},"-"]
[{"$f":"IF(ISBLANK(C499),\"-\",GenGuid())","v":"-"},"-"]
[{"$f":"IF(ISBLANK(C500),\"-\",GenGuid())","v":"-"},"-"]
[{"$f":"IF(ISBLANK(C501),\"-\",GenGuid())","v":"-"},"-"]
[{"$f":"IF(ISBLANK(C502),\"-\",GenGuid())","v":"-"},"-"]
[{"$f":"IF(ISBLANK(C503),\"-\",GenGuid())","v":"-"},"-"]
[{"$f":"IF(ISBLANK(C504),\"-\",GenGuid())","v":"-"},"-"]
[{"$f":"IF(ISBLANK(C505),\"-\",GenGuid())","v":"-"},"-"]
[{"$f":"IF(ISBLANK(C506),\"-\",GenGuid())","v":"-"},"-"]
[{"$f":"IF(ISBLANK(C507),\"-\",GenGuid())","v":"-"},"-"]
[{"$f":"IF(ISBLANK(C508),\"-\",GenGuid())","v":"-"},"-"]
[{"$f":"IF(ISBLANK(C509),\"-\",GenGuid())","v":"-"},"-"]
[{"$f":"IF(ISBLANK(C510),\"-\",GenGuid())","v":"-"},"-"]
[{"$f":"IF(ISBLANK(C511),\"-\",GenGuid())","v":"-"},"-"]
[{"$f":"IF(ISBLANK(C512),\"-\",GenGuid())","v":"-"},"-"]
[{"$f":"IF(ISBLANK(C513),\"-\",GenGuid())","v":"-"},"-"]
[{"$f":"IF(ISBLANK(C514),\"-\",GenGuid())","v":"-"},"-"]
[{"$f":"IF(ISBLANK(C515),\"-\",GenGuid())","v":"-"},"-"]
[{"$f":"IF(ISBLANK(C516),\"-\",GenGuid())","v":"-"},"-"]
[{"$f":"IF(ISBLANK(C517),\"-\",GenGuid())","v":"-"},{"$f":"IF(ISBLANK(C517),\"-\",INDIRECT(\"PLOTS!A\"&MATCH(C517,PlotLabels)+4))","v":"-"}]
[{"$f":"IF(ISBLANK(C518),\"-\",GenGuid())","v":"-"},"-"]
[{"$f":"IF(ISBLANK(C519),\"-\",GenGuid())","v":"-"},"-"]
[{"$f":"IF(ISBLANK(C520),\"-\",GenGuid())","v":"-"},"-"]
[{"$f":"IF(ISBLANK(C521),\"-\",GenGuid())","v":"-"},"-"]
[{"$f":"IF(ISBLANK(C522),\"-\",GenGuid())","v":"-"},"-"]
[{"$f":"IF(ISBLANK(C523),\"-\",GenGuid())","v":"-"},"-"]
[{"$f":"IF(ISBLANK(C524),\"-\",GenGuid())","v":"-"},"-"]
[{"$f":"IF(ISBLANK(C525),\"-\",GenGuid())","v":"-"},"-"]
[{"$f":"IF(ISBLANK(C526),\"-\",GenGuid())","v":"-"},"-"]
[{"$f":"IF(ISBLANK(C527),\"-\",GenGuid())","v":"-"},"-"]
[{"$f":"IF(ISBLANK(C528),\"-\",GenGuid())","v":"-"},"-"]
[{"$f":"IF(ISBLANK(C529),\"-\",GenGuid())","v":"-"},"-"]
[{"$f":"IF(ISBLANK(C530),\"-\",GenGuid())","v":"-"},"-"]
[{"$f":"IF(ISBLANK(C531),\"-\",GenGuid())","v":"-"},"-"]
[{"$f":"IF(ISBLANK(C532),\"-\",GenGuid())","v":"-"},"-"]
[{"$f":"IF(ISBLANK(C533),\"-\",GenGuid())","v":"-"},"-"]
[{"$f":"IF(ISBLANK(C534),\"-\",GenGuid())","v":"-"},"-"]
[{"$f":"IF(ISBLANK(C535),\"-\",GenGuid())","v":"-"},"-"]
[{"$f":"IF(ISBLANK(C536),\"-\",GenGuid())","v":"-"},"-"]
[{"$f":"IF(ISBLANK(C537),\"-\",GenGuid())","v":"-"},"-"]
[{"$f":"IF(ISBLANK(C538),\"-\",GenGuid())","v":"-"},"-"]
[{"$f":"IF(ISBLANK(C539),\"-\",GenGuid())","v":"-"},"-"]
[{"$f":"IF(ISBLANK(C540),\"-\",GenGuid())","v":"-"},"-"]
[{"$f":"IF(ISBLANK(C541),\"-\",GenGuid())","v":"-"},"-"]
[{"$f":"IF(ISBLANK(C542),\"-\",GenGuid())","v":"-"},"-"]
[{"$f":"IF(ISBLANK(C543),\"-\",GenGuid())","v":"-"},"-"]
[{"$f":"IF(ISBLANK(C544),\"-\",GenGuid())","v":"-"},"-"]
[{"$f":"IF(ISBLANK(C545),\"-\",GenGuid())","v":"-"},"-"]
[{"$f":"IF(ISBLANK(C546),\"-\",GenGuid())","v":"-"},"-"]
[{"$f":"IF(ISBLANK(C547),\"-\",GenGuid())","v":"-"},"-"]
[{"$f":"IF(ISBLANK(C548),\"-\",GenGuid())","v":"-"},"-"]
[{"$f":"IF(ISBLANK(C549),\"-\",GenGuid())","v":"-"},"-"]
[{"$f":"IF(ISBLANK(C550),\"-\",GenGuid())","v":"-"},"-"]
[{"$f":"IF(ISBLANK(C551),\"-\",GenGuid())","v":"-"},"-"]
[{"$f":"IF(ISBLANK(C552),\"-\",GenGuid())","v":"-"},"-"]
[{"$f":"IF(ISBLANK(C553),\"-\",GenGuid())","v":"-"},"-"]
[{"$f":"IF(ISBLANK(C554),\"-\",GenGuid())","v":"-"},"-"]
[{"$f":"IF(ISBLANK(C555),\"-\",GenGuid())","v":"-"},"-"]
[{"$f":"IF(ISBLANK(C556),\"-\",GenGuid())","v":"-"},"-"]
[{"$f":"IF(ISBLANK(C557),\"-\",GenGuid())","v":"-"},"-"]
[{"$f":"IF(ISBLANK(C558),\"-\",GenGuid())","v":"-"},"-"]
[{"$f":"IF(ISBLANK(C559),\"-\",GenGuid())","v":"-"},"-"]
[{"$f":"IF(ISBLANK(C560),\"-\",GenGuid())","v":"-"},"-"]
[{"$f":"IF(ISBLANK(C561),\"-\",GenGuid())","v":"-"},"-"]
[{"$f":"IF(ISBLANK(C562),\"-\",GenGuid())","v":"-"},"-"]
[{"$f":"IF(ISBLANK(C563),\"-\",GenGuid())","v":"-"},"-"]
[{"$f":"IF(ISBLANK(C564),\"-\",GenGuid())","v":"-"},"-"]
[{"$f":"IF(ISBLANK(C565),\"-\",GenGuid())","v":"-"},"-"]
[{"$f":"IF(ISBLANK(C566),\"-\",GenGuid())","v":"-"},"-"]
[{"$f":"IF(ISBLANK(C567),\"-\",GenGuid())","v":"-"},"-"]
[{"$f":"IF(ISBLANK(C568),\"-\",GenGuid())","v":"-"},"-"]
[{"$f":"IF(ISBLANK(C569),\"-\",GenGuid())","v":"-"},"-"]
[{"$f":"IF(ISBLANK(C570),\"-\",GenGuid())","v":"-"},"-"]
[{"$f":"IF(ISBLANK(C571),\"-\",GenGuid())","v":"-"},"-"]
[{"$f":"IF(ISBLANK(C572),\"-\",GenGuid())","v":"-"},"-"]
[{"$f":"IF(ISBLANK(C573),\"-\",GenGuid())","v":"-"},"-"]
[{"$f":"IF(ISBLANK(C574),\"-\",GenGuid())","v":"-"},"-"]
[{"$f":"IF(ISBLANK(C575),\"-\",GenGuid())","v":"-"},"-"]
[{"$f":"IF(ISBLANK(C576),\"-\",GenGuid())","v":"-"},"-"]
[{"$f":"IF(ISBLANK(C577),\"-\",GenGuid())","v":"-"},"-"]
[{"$f":"IF(ISBLANK(C578),\"-\",GenGuid())","v":"-"},"-"]
[{"$f":"IF(ISBLANK(C579),\"-\",GenGuid())","v":"-"},"-"]
[{"$f":"IF(ISBLANK(C580),\"-\",GenGuid())","v":"-"},"-"]
[{"$f":"IF(ISBLANK(C581),\"-\",GenGuid())","v":"-"},{"$f":"IF(ISBLANK(C581),\"-\",INDIRECT(\"PLOTS!A\"&MATCH(C581,PlotLabels)+4))","v":"-"}]
[{"$f":"IF(ISBLANK(C582),\"-\",GenGuid())","v":"-"},"-"]
[{"$f":"IF(ISBLANK(C583),\"-\",GenGuid())","v":"-"},"-"]
[{"$f":"IF(ISBLANK(C584),\"-\",GenGuid())","v":"-"},"-"]
[{"$f":"IF(ISBLANK(C585),\"-\",GenGuid())","v":"-"},"-"]
[{"$f":"IF(ISBLANK(C586),\"-\",GenGuid())","v":"-"},"-"]
[{"$f":"IF(ISBLANK(C587),\"-\",GenGuid())","v":"-"},"-"]
[{"$f":"IF(ISBLANK(C588),\"-\",GenGuid())","v":"-"},"-"]
[{"$f":"IF(ISBLANK(C589),\"-\",GenGuid())","v":"-"},"-"]
[{"$f":"IF(ISBLANK(C590),\"-\",GenGuid())","v":"-"},"-"]
[{"$f":"IF(ISBLANK(C591),\"-\",GenGuid())","v":"-"},"-"]
[{"$f":"IF(ISBLANK(C592),\"-\",GenGuid())","v":"-"},"-"]
[{"$f":"IF(ISBLANK(C593),\"-\",GenGuid())","v":"-"},"-"]
[{"$f":"IF(ISBLANK(C594),\"-\",GenGuid())","v":"-"},"-"]
[{"$f":"IF(ISBLANK(C595),\"-\",GenGuid())","v":"-"},"-"]
[{"$f":"IF(ISBLANK(C596),\"-\",GenGuid())","v":"-"},"-"]
[{"$f":"IF(ISBLANK(C597),\"-\",GenGuid())","v":"-"},"-"]
[{"$f":"IF(ISBLANK(C598),\"-\",GenGuid())","v":"-"},"-"]
[{"$f":"IF(ISBLANK(C599),\"-\",GenGuid())","v":"-"},"-"]
[{"$f":"IF(ISBLANK(C600),\"-\",GenGuid())","v":"-"},"-"]
[{"$f":"IF(ISBLANK(C601),\"-\",GenGuid())","v":"-"},"-"]
[{"$f":"IF(ISBLANK(C602),\"-\",GenGuid())","v":"-"},"-"]
[{"$f":"IF(ISBLANK(C603),\"-\",GenGuid())","v":"-"},"-"]
[{"$f":"IF(ISBLANK(C604),\"-\",GenGuid())","v":"-"},"-"]
[{"$f":"IF(ISBLANK(C605),\"-\",GenGuid())","v":"-"},"-"]
[{"$f":"IF(ISBLANK(C606),\"-\",GenGuid())","v":"-"},"-"]
[{"$f":"IF(ISBLANK(C607),\"-\",GenGuid())","v":"-"},"-"]
[{"$f":"IF(ISBLANK(C608),\"-\",GenGuid())","v":"-"},"-"]
[{"$f":"IF(ISBLANK(C609),\"-\",GenGuid())","v":"-"},"-"]
[{"$f":"IF(ISBLANK(C610),\"-\",GenGuid())","v":"-"},"-"]
[{"$f":"IF(ISBLANK(C611),\"-\",GenGuid())","v":"-"},"-"]
[{"$f":"IF(ISBLANK(C612),\"-\",GenGuid())","v":"-"},"-"]
[{"$f":"IF(ISBLANK(C613),\"-\",GenGuid())","v":"-"},"-"]
[{"$f":"IF(ISBLANK(C614),\"-\",GenGuid())","v":"-"},"-"]
[{"$f":"IF(ISBLANK(C615),\"-\",GenGuid())","v":"-"},"-"]
[{"$f":"IF(ISBLANK(C616),\"-\",GenGuid())","v":"-"},"-"]
[{"$f":"IF(ISBLANK(C617),\"-\",GenGuid())","v":"-"},"-"]
[{"$f":"IF(ISBLANK(C618),\"-\",GenGuid())","v":"-"},"-"]
[{"$f":"IF(ISBLANK(C619),\"-\",GenGuid())","v":"-"},"-"]
[{"$f":"IF(ISBLANK(C620),\"-\",GenGuid())","v":"-"},"-"]
[{"$f":"IF(ISBLANK(C621),\"-\",GenGuid())","v":"-"},"-"]
[{"$f":"IF(ISBLANK(C622),\"-\",GenGuid())","v":"-"},"-"]
[{"$f":"IF(ISBLANK(C623),\"-\",GenGuid())","v":"-"},"-"]
[{"$f":"IF(ISBLANK(C624),\"-\",GenGuid())","v":"-"},"-"]
[{"$f":"IF(ISBLANK(C625),\"-\",GenGuid())","v":"-"},"-"]
[{"$f":"IF(ISBLANK(C626),\"-\",GenGuid())","v":"-"},"-"]
[{"$f":"IF(ISBLANK(C627),\"-\",GenGuid())","v":"-"},"-"]
[{"$f":"IF(ISBLANK(C628),\"-\",GenGuid())","v":"-"},"-"]
[{"$f":"IF(ISBLANK(C629),\"-\",GenGuid())","v":"-"},"-"]
[{"$f":"IF(ISBLANK(C630),\"-\",GenGuid())","v":"-"},"-"]
[{"$f":"IF(ISBLANK(C631),\"-\",GenGuid())","v":"-"},"-"]
[{"$f":"IF(ISBLANK(C632),\"-\",GenGuid())","v":"-"},"-"]
[{"$f":"IF(ISBLANK(C633),\"-\",GenGuid())","v":"-"},"-"]
[{"$f":"IF(ISBLANK(C634),\"-\",GenGuid())","v":"-"},"-"]
[{"$f":"IF(ISBLANK(C635),\"-\",GenGuid())","v":"-"},"-"]
[{"$f":"IF(ISBLANK(C636),\"-\",GenGuid())","v":"-"},"-"]
[{"$f":"IF(ISBLANK(C637),\"-\",GenGuid())","v":"-"},"-"]
[{"$f":"IF(ISBLANK(C638),\"-\",GenGuid())","v":"-"},"-"]
[{"$f":"IF(ISBLANK(C639),\"-\",GenGuid())","v":"-"},"-"]
[{"$f":"IF(ISBLANK(C640),\"-\",GenGuid())","v":"-"},"-"]
[{"$f":"IF(ISBLANK(C641),\"-\",GenGuid())","v":"-"},"-"]
[{"$f":"IF(ISBLANK(C642),\"-\",GenGuid())","v":"-"},"-"]
[{"$f":"IF(ISBLANK(C643),\"-\",GenGuid())","v":"-"},"-"]
[{"$f":"IF(ISBLANK(C644),\"-\",GenGuid())","v":"-"},"-"]
[{"$f":"IF(ISBLANK(C645),\"-\",GenGuid())","v":"-"},{"$f":"IF(ISBLANK(C645),\"-\",INDIRECT(\"PLOTS!A\"&MATCH(C645,PlotLabels)+4))","v":"-"}]
[{"$f":"IF(ISBLANK(C646),\"-\",GenGuid())","v":"-"},"-"]
[{"$f":"IF(ISBLANK(C647),\"-\",GenGuid())","v":"-"},"-"]
[{"$f":"IF(ISBLANK(C648),\"-\",GenGuid())","v":"-"},"-"]
[{"$f":"IF(ISBLANK(C649),\"-\",GenGuid())","v":"-"},"-"]
[{"$f":"IF(ISBLANK(C650),\"-\",GenGuid())","v":"-"},"-"]
[{"$f":"IF(ISBLANK(C651),\"-\",GenGuid())","v":"-"},"-"]
[{"$f":"IF(ISBLANK(C652),\"-\",GenGuid())","v":"-"},"-"]
[{"$f":"IF(ISBLANK(C653),\"-\",GenGuid())","v":"-"},"-"]
[{"$f":"IF(ISBLANK(C654),\"-\",GenGuid())","v":"-"},"-"]
[{"$f":"IF(ISBLANK(C655),\"-\",GenGuid())","v":"-"},"-"]
[{"$f":"IF(ISBLANK(C656),\"-\",GenGuid())","v":"-"},"-"]
[{"$f":"IF(ISBLANK(C657),\"-\",GenGuid())","v":"-"},"-"]
[{"$f":"IF(ISBLANK(C658),\"-\",GenGuid())","v":"-"},"-"]
[{"$f":"IF(ISBLANK(C659),\"-\",GenGuid())","v":"-"},"-"]
[{"$f":"IF(ISBLANK(C660),\"-\",GenGuid())","v":"-"},"-"]
[{"$f":"IF(ISBLANK(C661),\"-\",GenGuid())","v":"-"},"-"]
[{"$f":"IF(ISBLANK(C662),\"-\",GenGuid())","v":"-"},"-"]
[{"$f":"IF(ISBLANK(C663),\"-\",GenGuid())","v":"-"},"-"]
[{"$f":"IF(ISBLANK(C664),\"-\",GenGuid())","v":"-"},"-"]
[{"$f":"IF(ISBLANK(C665),\"-\",GenGuid())","v":"-"},"-"]
[{"$f":"IF(ISBLANK(C666),\"-\",GenGuid())","v":"-"},"-"]
[{"$f":"IF(ISBLANK(C667),\"-\",GenGuid())","v":"-"},"-"]
[{"$f":"IF(ISBLANK(C668),\"-\",GenGuid())","v":"-"},"-"]
[{"$f":"IF(ISBLANK(C669),\"-\",GenGuid())","v":"-"},"-"]
[{"$f":"IF(ISBLANK(C670),\"-\",GenGuid())","v":"-"},"-"]
[{"$f":"IF(ISBLANK(C671),\"-\",GenGuid())","v":"-"},"-"]
[{"$f":"IF(ISBLANK(C672),\"-\",GenGuid())","v":"-"},"-"]
[{"$f":"IF(ISBLANK(C673),\"-\",GenGuid())","v":"-"},"-"]
[{"$f":"IF(ISBLANK(C674),\"-\",GenGuid())","v":"-"},"-"]
[{"$f":"IF(ISBLANK(C675),\"-\",GenGuid())","v":"-"},"-"]
[{"$f":"IF(ISBLANK(C676),\"-\",GenGuid())","v":"-"},"-"]
[{"$f":"IF(ISBLANK(C677),\"-\",GenGuid())","v":"-"},"-"]
[{"$f":"IF(ISBLANK(C678),\"-\",GenGuid())","v":"-"},"-"]
[{"$f":"IF(ISBLANK(C679),\"-\",GenGuid())","v":"-"},"-"]
[{"$f":"IF(ISBLANK(C680),\"-\",GenGuid())","v":"-"},"-"]
[{"$f":"IF(ISBLANK(C681),\"-\",GenGuid())","v":"-"},"-"]
[{"$f":"IF(ISBLANK(C682),\"-\",GenGuid())","v":"-"},"-"]
[{"$f":"IF(ISBLANK(C683),\"-\",GenGuid())","v":"-"},"-"]
[{"$f":"IF(ISBLANK(C684),\"-\",GenGuid())","v":"-"},"-"]
[{"$f":"IF(ISBLANK(C685),\"-\",GenGuid())","v":"-"},"-"]
[{"$f":"IF(ISBLANK(C686),\"-\",GenGuid())","v":"-"},"-"]
[{"$f":"IF(ISBLANK(C687),\"-\",GenGuid())","v":"-"},"-"]
[{"$f":"IF(ISBLANK(C688),\"-\",GenGuid())","v":"-"},"-"]
[{"$f":"IF(ISBLANK(C689),\"-\",GenGuid())","v":"-"},"-"]
[{"$f":"IF(ISBLANK(C690),\"-\",GenGuid())","v":"-"},"-"]
[{"$f":"IF(ISBLANK(C691),\"-\",GenGuid())","v":"-"},"-"]
[{"$f":"IF(ISBLANK(C692),\"-\",GenGuid())","v":"-"},"-"]
[{"$f":"IF(ISBLANK(C693),\"-\",GenGuid())","v":"-"},"-"]
[{"$f":"IF(ISBLANK(C694),\"-\",GenGuid())","v":"-"},"-"]
[{"$f":"IF(ISBLANK(C695),\"-\",GenGuid())","v":"-"},"-"]
[{"$f":"IF(ISBLANK(C696),\"-\",GenGuid())","v":"-"},"-"]
[{"$f":"IF(ISBLANK(C697),\"-\",GenGuid())","v":"-"},"-"]
[{"$f":"IF(ISBLANK(C698),\"-\",GenGuid())","v":"-"},"-"]
[{"$f":"IF(ISBLANK(C699),\"-\",GenGuid())","v":"-"},"-"]
[{"$f":"IF(ISBLANK(C700),\"-\",GenGuid())","v":"-"},"-"]
[{"$f":"IF(ISBLANK(C701),\"-\",GenGuid())","v":"-"},"-"]
[{"$f":"IF(ISBLANK(C702),\"-\",GenGuid())","v":"-"},"-"]
[{"$f":"IF(ISBLANK(C703),\"-\",GenGuid())","v":"-"},"-"]
[{"$f":"IF(ISBLANK(C704),\"-\",GenGuid())","v":"-"},"-"]
[{"$f":"IF(ISBLANK(C705),\"-\",GenGuid())","v":"-"},"-"]
[{"$f":"IF(ISBLANK(C706),\"-\",GenGuid())","v":"-"},"-"]
[{"$f":"IF(ISBLANK(C707),\"-\",GenGuid())","v":"-"},"-"]
[{"$f":"IF(ISBLANK(C708),\"-\",GenGuid())","v":"-"},"-"]
[{"$f":"IF(ISBLANK(C709),\"-\",GenGuid())","v":"-"},{"$f":"IF(ISBLANK(C709),\"-\",INDIRECT(\"PLOTS!A\"&MATCH(C709,PlotLabels)+4))","v":"-"}]
[{"$f":"IF(ISBLANK(C710),\"-\",GenGuid())","v":"-"},"-"]
[{"$f":"IF(ISBLANK(C711),\"-\",GenGuid())","v":"-"},"-"]
[{"$f":"IF(ISBLANK(C712),\"-\",GenGuid())","v":"-"},"-"]
[{"$f":"IF(ISBLANK(C713),\"-\",GenGuid())","v":"-"},"-"]
[{"$f":"IF(ISBLANK(C714),\"-\",GenGuid())","v":"-"},"-"]
[{"$f":"IF(ISBLANK(C715),\"-\",GenGuid())","v":"-"},"-"]
[{"$f":"IF(ISBLANK(C716),\"-\",GenGuid())","v":"-"},"-"]
[{"$f":"IF(ISBLANK(C717),\"-\",GenGuid())","v":"-"},"-"]
[{"$f":"IF(ISBLANK(C718),\"-\",GenGuid())","v":"-"},"-"]
[{"$f":"IF(ISBLANK(C719),\"-\",GenGuid())","v":"-"},"-"]
[{"$f":"IF(ISBLANK(C720),\"-\",GenGuid())","v":"-"},"-"]
[{"$f":"IF(ISBLANK(C721),\"-\",GenGuid())","v":"-"},"-"]
[{"$f":"IF(ISBLANK(C722),\"-\",GenGuid())","v":"-"},"-"]
[{"$f":"IF(ISBLANK(C723),\"-\",GenGuid())","v":"-"},"-"]
[{"$f":"IF(ISBLANK(C724),\"-\",GenGuid())","v":"-"},"-"]
[{"$f":"IF(ISBLANK(C725),\"-\",GenGuid())","v":"-"},"-"]
[{"$f":"IF(ISBLANK(C726),\"-\",GenGuid())","v":"-"},"-"]
[{"$f":"IF(ISBLANK(C727),\"-\",GenGuid())","v":"-"},"-"]
[{"$f":"IF(ISBLANK(C728),\"-\",GenGuid())","v":"-"},"-"]
[{"$f":"IF(ISBLANK(C729),\"-\",GenGuid())","v":"-"},"-"]
[{"$f":"IF(ISBLANK(C730),\"-\",GenGuid())","v":"-"},"-"]
[{"$f":"IF(ISBLANK(C731),\"-\",GenGuid())","v":"-"},"-"]
[{"$f":"IF(ISBLANK(C732),\"-\",GenGuid())","v":"-"},"-"]
[{"$f":"IF(ISBLANK(C733),\"-\",GenGuid())","v":"-"},"-"]
[{"$f":"IF(ISBLANK(C734),\"-\",GenGuid())","v":"-"},"-"]
[{"$f":"IF(ISBLANK(C735),\"-\",GenGuid())","v":"-"},"-"]
[{"$f":"IF(ISBLANK(C736),\"-\",GenGuid())","v":"-"},"-"]
[{"$f":"IF(ISBLANK(C737),\"-\",GenGuid())","v":"-"},"-"]
[{"$f":"IF(ISBLANK(C738),\"-\",GenGuid())","v":"-"},"-"]
[{"$f":"IF(ISBLANK(C739),\"-\",GenGuid())","v":"-"},"-"]
[{"$f":"IF(ISBLANK(C740),\"-\",GenGuid())","v":"-"},"-"]
[{"$f":"IF(ISBLANK(C741),\"-\",GenGuid())","v":"-"},"-"]
[{"$f":"IF(ISBLANK(C742),\"-\",GenGuid())","v":"-"},"-"]
[{"$f":"IF(ISBLANK(C743),\"-\",GenGuid())","v":"-"},"-"]
[{"$f":"IF(ISBLANK(C744),\"-\",GenGuid())","v":"-"},"-"]
[{"$f":"IF(ISBLANK(C745),\"-\",GenGuid())","v":"-"},"-"]
[{"$f":"IF(ISBLANK(C746),\"-\",GenGuid())","v":"-"},"-"]
[{"$f":"IF(ISBLANK(C747),\"-\",GenGuid())","v":"-"},"-"]
[{"$f":"IF(ISBLANK(C748),\"-\",GenGuid())","v":"-"},"-"]
[{"$f":"IF(ISBLANK(C749),\"-\",GenGuid())","v":"-"},"-"]
[{"$f":"IF(ISBLANK(C750),\"-\",GenGuid())","v":"-"},"-"]
[{"$f":"IF(ISBLANK(C751),\"-\",GenGuid())","v":"-"},"-"]
[{"$f":"IF(ISBLANK(C752),\"-\",GenGuid())","v":"-"},"-"]
[{"$f":"IF(ISBLANK(C753),\"-\",GenGuid())","v":"-"},"-"]
[{"$f":"IF(ISBLANK(C754),\"-\",GenGuid())","v":"-"},"-"]
[{"$f":"IF(ISBLANK(C755),\"-\",GenGuid())","v":"-"},"-"]
[{"$f":"IF(ISBLANK(C756),\"-\",GenGuid())","v":"-"},"-"]
[{"$f":"IF(ISBLANK(C757),\"-\",GenGuid())","v":"-"},"-"]
[{"$f":"IF(ISBLANK(C758),\"-\",GenGuid())","v":"-"},"-"]
[{"$f":"IF(ISBLANK(C759),\"-\",GenGuid())","v":"-"},"-"]
[{"$f":"IF(ISBLANK(C760),\"-\",GenGuid())","v":"-"},"-"]
[{"$f":"IF(ISBLANK(C761),\"-\",GenGuid())","v":"-"},"-"]
[{"$f":"IF(ISBLANK(C762),\"-\",GenGuid())","v":"-"},"-"]
[{"$f":"IF(ISBLANK(C763),\"-\",GenGuid())","v":"-"},"-"]
[{"$f":"IF(ISBLANK(C764),\"-\",GenGuid())","v":"-"},"-"]
[{"$f":"IF(ISBLANK(C765),\"-\",GenGuid())","v":"-"},"-"]
[{"$f":"IF(ISBLANK(C766),\"-\",GenGuid())","v":"-"},"-"]
[{"$f":"IF(ISBLANK(C767),\"-\",GenGuid())","v":"-"},"-"]
[{"$f":"IF(ISBLANK(C768),\"-\",GenGuid())","v":"-"},"-"]
[{"$f":"IF(ISBLANK(C769),\"-\",GenGuid())","v":"-"},"-"]
[{"$f":"IF(ISBLANK(C770),\"-\",GenGuid())","v":"-"},"-"]
[{"$f":"IF(ISBLANK(C771),\"-\",GenGuid())","v":"-"},"-"]
[{"$f":"IF(ISBLANK(C772),\"-\",GenGuid())","v":"-"},"-"]
[{"$f":"IF(ISBLANK(C773),\"-\",GenGuid())","v":"-"},{"$f":"IF(ISBLANK(C773),\"-\",INDIRECT(\"PLOTS!A\"&MATCH(C773,PlotLabels)+4))","v":"-"}]
[{"$f":"IF(ISBLANK(C774),\"-\",GenGuid())","v":"-"},"-"]
[{"$f":"IF(ISBLANK(C775),\"-\",GenGuid())","v":"-"},"-"]
[{"$f":"IF(ISBLANK(C776),\"-\",GenGuid())","v":"-"},"-"]
[{"$f":"IF(ISBLANK(C777),\"-\",GenGuid())","v":"-"},"-"]
[{"$f":"IF(ISBLANK(C778),\"-\",GenGuid())","v":"-"},"-"]
[{"$f":"IF(ISBLANK(C779),\"-\",GenGuid())","v":"-"},"-"]
[{"$f":"IF(ISBLANK(C780),\"-\",GenGuid())","v":"-"},"-"]
[{"$f":"IF(ISBLANK(C781),\"-\",GenGuid())","v":"-"},"-"]
[{"$f":"IF(ISBLANK(C782),\"-\",GenGuid())","v":"-"},"-"]
[{"$f":"IF(ISBLANK(C783),\"-\",GenGuid())","v":"-"},"-"]
[{"$f":"IF(ISBLANK(C784),\"-\",GenGuid())","v":"-"},"-"]
[{"$f":"IF(ISBLANK(C785),\"-\",GenGuid())","v":"-"},"-"]
[{"$f":"IF(ISBLANK(C786),\"-\",GenGuid())","v":"-"},"-"]
[{"$f":"IF(ISBLANK(C787),\"-\",GenGuid())","v":"-"},"-"]
[{"$f":"IF(ISBLANK(C788),\"-\",GenGuid())","v":"-"},"-"]
[{"$f":"IF(ISBLANK(C789),\"-\",GenGuid())","v":"-"},"-"]
[{"$f":"IF(ISBLANK(C790),\"-\",GenGuid())","v":"-"},"-"]
[{"$f":"IF(ISBLANK(C791),\"-\",GenGuid())","v":"-"},"-"]
[{"$f":"IF(ISBLANK(C792),\"-\",GenGuid())","v":"-"},"-"]
[{"$f":"IF(ISBLANK(C793),\"-\",GenGuid())","v":"-"},"-"]
[{"$f":"IF(ISBLANK(C794),\"-\",GenGuid())","v":"-"},"-"]
[{"$f":"IF(ISBLANK(C795),\"-\",GenGuid())","v":"-"},"-"]
[{"$f":"IF(ISBLANK(C796),\"-\",GenGuid())","v":"-"},"-"]
[{"$f":"IF(ISBLANK(C797),\"-\",GenGuid())","v":"-"},"-"]
[{"$f":"IF(ISBLANK(C798),\"-\",GenGuid())","v":"-"},"-"]
[{"$f":"IF(ISBLANK(C799),\"-\",GenGuid())","v":"-"},"-"]
[{"$f":"IF(ISBLANK(C800),\"-\",GenGuid())","v":"-"},"-"]
[{"$f":"IF(ISBLANK(C801),\"-\",GenGuid())","v":"-"},"-"]
[{"$f":"IF(ISBLANK(C802),\"-\",GenGuid())","v":"-"},"-"]
[{"$f":"IF(ISBLANK(C803),\"-\",GenGuid())","v":"-"},"-"]
[{"$f":"IF(ISBLANK(C804),\"-\",GenGuid())","v":"-"},"-"]
[{"$f":"IF(ISBLANK(C805),\"-\",GenGuid())","v":"-"},"-"]
[{"$f":"IF(ISBLANK(C806),\"-\",GenGuid())","v":"-"},"-"]
[{"$f":"IF(ISBLANK(C807),\"-\",GenGuid())","v":"-"},"-"]
[{"$f":"IF(ISBLANK(C808),\"-\",GenGuid())","v":"-"},"-"]
[{"$f":"IF(ISBLANK(C809),\"-\",GenGuid())","v":"-"},"-"]
[{"$f":"IF(ISBLANK(C810),\"-\",GenGuid())","v":"-"},"-"]
[{"$f":"IF(ISBLANK(C811),\"-\",GenGuid())","v":"-"},"-"]
[{"$f":"IF(ISBLANK(C812),\"-\",GenGuid())","v":"-"},"-"]
[{"$f":"IF(ISBLANK(C813),\"-\",GenGuid())","v":"-"},"-"]
[{"$f":"IF(ISBLANK(C814),\"-\",GenGuid())","v":"-"},"-"]
[{"$f":"IF(ISBLANK(C815),\"-\",GenGuid())","v":"-"},"-"]
[{"$f":"IF(ISBLANK(C816),\"-\",GenGuid())","v":"-"},"-"]
[{"$f":"IF(ISBLANK(C817),\"-\",GenGuid())","v":"-"},"-"]
[{"$f":"IF(ISBLANK(C818),\"-\",GenGuid())","v":"-"},"-"]
[{"$f":"IF(ISBLANK(C819),\"-\",GenGuid())","v":"-"},"-"]
[{"$f":"IF(ISBLANK(C820),\"-\",GenGuid())","v":"-"},"-"]
[{"$f":"IF(ISBLANK(C821),\"-\",GenGuid())","v":"-"},"-"]
[{"$f":"IF(ISBLANK(C822),\"-\",GenGuid())","v":"-"},"-"]
[{"$f":"IF(ISBLANK(C823),\"-\",GenGuid())","v":"-"},"-"]
[{"$f":"IF(ISBLANK(C824),\"-\",GenGuid())","v":"-"},"-"]
[{"$f":"IF(ISBLANK(C825),\"-\",GenGuid())","v":"-"},"-"]
[{"$f":"IF(ISBLANK(C826),\"-\",GenGuid())","v":"-"},"-"]
[{"$f":"IF(ISBLANK(C827),\"-\",GenGuid())","v":"-"},"-"]
[{"$f":"IF(ISBLANK(C828),\"-\",GenGuid())","v":"-"},"-"]
[{"$f":"IF(ISBLANK(C829),\"-\",GenGuid())","v":"-"},"-"]
[{"$f":"IF(ISBLANK(C830),\"-\",GenGuid())","v":"-"},"-"]
[{"$f":"IF(ISBLANK(C831),\"-\",GenGuid())","v":"-"},"-"]
[{"$f":"IF(ISBLANK(C832),\"-\",GenGuid())","v":"-"},"-"]
[{"$f":"IF(ISBLANK(C833),\"-\",GenGuid())","v":"-"},"-"]
[{"$f":"IF(ISBLANK(C834),\"-\",GenGuid())","v":"-"},"-"]
[{"$f":"IF(ISBLANK(C835),\"-\",GenGuid())","v":"-"},"-"]
[{"$f":"IF(ISBLANK(C836),\"-\",GenGuid())","v":"-"},"-"]
[{"$f":"IF(ISBLANK(C837),\"-\",GenGuid())","v":"-"},{"$f":"IF(ISBLANK(C837),\"-\",INDIRECT(\"PLOTS!A\"&MATCH(C837,PlotLabels)+4))","v":"-"}]
[{"$f":"IF(ISBLANK(C838),\"-\",GenGuid())","v":"-"},"-"]
[{"$f":"IF(ISBLANK(C839),\"-\",GenGuid())","v":"-"},"-"]
[{"$f":"IF(ISBLANK(C840),\"-\",GenGuid())","v":"-"},"-"]
[{"$f":"IF(ISBLANK(C841),\"-\",GenGuid())","v":"-"},"-"]
[{"$f":"IF(ISBLANK(C842),\"-\",GenGuid())","v":"-"},"-"]
[{"$f":"IF(ISBLANK(C843),\"-\",GenGuid())","v":"-"},"-"]
[{"$f":"IF(ISBLANK(C844),\"-\",GenGuid())","v":"-"},"-"]
[{"$f":"IF(ISBLANK(C845),\"-\",GenGuid())","v":"-"},"-"]
[{"$f":"IF(ISBLANK(C846),\"-\",GenGuid())","v":"-"},"-"]
[{"$f":"IF(ISBLANK(C847),\"-\",GenGuid())","v":"-"},"-"]
[{"$f":"IF(ISBLANK(C848),\"-\",GenGuid())","v":"-"},"-"]
[{"$f":"IF(ISBLANK(C849),\"-\",GenGuid())","v":"-"},"-"]
[{"$f":"IF(ISBLANK(C850),\"-\",GenGuid())","v":"-"},"-"]
[{"$f":"IF(ISBLANK(C851),\"-\",GenGuid())","v":"-"},"-"]
[{"$f":"IF(ISBLANK(C852),\"-\",GenGuid())","v":"-"},"-"]
[{"$f":"IF(ISBLANK(C853),\"-\",GenGuid())","v":"-"},"-"]
[{"$f":"IF(ISBLANK(C854),\"-\",GenGuid())","v":"-"},"-"]
[{"$f":"IF(ISBLANK(C855),\"-\",GenGuid())","v":"-"},"-"]
[{"$f":"IF(ISBLANK(C856),\"-\",GenGuid())","v":"-"},"-"]
[{"$f":"IF(ISBLANK(C857),\"-\",GenGuid())","v":"-"},"-"]
[{"$f":"IF(ISBLANK(C858),\"-\",GenGuid())","v":"-"},"-"]
[{"$f":"IF(ISBLANK(C859),\"-\",GenGuid())","v":"-"},"-"]
[{"$f":"IF(ISBLANK(C860),\"-\",GenGuid())","v":"-"},"-"]
[{"$f":"IF(ISBLANK(C861),\"-\",GenGuid())","v":"-"},"-"]
[{"$f":"IF(ISBLANK(C862),\"-\",GenGuid())","v":"-"},"-"]
[{"$f":"IF(ISBLANK(C863),\"-\",GenGuid())","v":"-"},"-"]
[{"$f":"IF(ISBLANK(C864),\"-\",GenGuid())","v":"-"},"-"]
[{"$f":"IF(ISBLANK(C865),\"-\",GenGuid())","v":"-"},"-"]
[{"$f":"IF(ISBLANK(C866),\"-\",GenGuid())","v":"-"},"-"]
[{"$f":"IF(ISBLANK(C867),\"-\",GenGuid())","v":"-"},"-"]
[{"$f":"IF(ISBLANK(C868),\"-\",GenGuid())","v":"-"},"-"]
[{"$f":"IF(ISBLANK(C869),\"-\",GenGuid())","v":"-"},"-"]
[{"$f":"IF(ISBLANK(C870),\"-\",GenGuid())","v":"-"},"-"]
[{"$f":"IF(ISBLANK(C871),\"-\",GenGuid())","v":"-"},"-"]
[{"$f":"IF(ISBLANK(C872),\"-\",GenGuid())","v":"-"},"-"]
[{"$f":"IF(ISBLANK(C873),\"-\",GenGuid())","v":"-"},"-"]
[{"$f":"IF(ISBLANK(C874),\"-\",GenGuid())","v":"-"},"-"]
[{"$f":"IF(ISBLANK(C875),\"-\",GenGuid())","v":"-"},"-"]
[{"$f":"IF(ISBLANK(C876),\"-\",GenGuid())","v":"-"},"-"]
[{"$f":"IF(ISBLANK(C877),\"-\",GenGuid())","v":"-"},"-"]
[{"$f":"IF(ISBLANK(C878),\"-\",GenGuid())","v":"-"},"-"]
[{"$f":"IF(ISBLANK(C879),\"-\",GenGuid())","v":"-"},"-"]
[{"$f":"IF(ISBLANK(C880),\"-\",GenGuid())","v":"-"},"-"]
[{"$f":"IF(ISBLANK(C881),\"-\",GenGuid())","v":"-"},"-"]
[{"$f":"IF(ISBLANK(C882),\"-\",GenGuid())","v":"-"},"-"]
[{"$f":"IF(ISBLANK(C883),\"-\",GenGuid())","v":"-"},"-"]
[{"$f":"IF(ISBLANK(C884),\"-\",GenGuid())","v":"-"},"-"]
[{"$f":"IF(ISBLANK(C885),\"-\",GenGuid())","v":"-"},"-"]
[{"$f":"IF(ISBLANK(C886),\"-\",GenGuid())","v":"-"},"-"]
[{"$f":"IF(ISBLANK(C887),\"-\",GenGuid())","v":"-"},"-"]
[{"$f":"IF(ISBLANK(C888),\"-\",GenGuid())","v":"-"},"-"]
[{"$f":"IF(ISBLANK(C889),\"-\",GenGuid())","v":"-"},"-"]
[{"$f":"IF(ISBLANK(C890),\"-\",GenGuid())","v":"-"},"-"]
[{"$f":"IF(ISBLANK(C891),\"-\",GenGuid())","v":"-"},"-"]
[{"$f":"IF(ISBLANK(C892),\"-\",GenGuid())","v":"-"},"-"]
[{"$f":"IF(ISBLANK(C893),\"-\",GenGuid())","v":"-"},"-"]
[{"$f":"IF(ISBLANK(C894),\"-\",GenGuid())","v":"-"},"-"]
[{"$f":"IF(ISBLANK(C895),\"-\",GenGuid())","v":"-"},"-"]
[{"$f":"IF(ISBLANK(C896),\"-\",GenGuid())","v":"-"},"-"]
[{"$f":"IF(ISBLANK(C897),\"-\",GenGuid())","v":"-"},"-"]
[{"$f":"IF(ISBLANK(C898),\"-\",GenGuid())","v":"-"},"-"]
[{"$f":"IF(ISBLANK(C899),\"-\",GenGuid())","v":"-"},"-"]
[{"$f":"IF(ISBLANK(C900),\"-\",GenGuid())","v":"-"},"-"]
[{"$f":"IF(ISBLANK(C901),\"-\",GenGuid())","v":"-"},{"$f":"IF(ISBLANK(C901),\"-\",INDIRECT(\"PLOTS!A\"&MATCH(C901,PlotLabels)+4))","v":"-"}]
[{"$f":"IF(ISBLANK(C902),\"-\",GenGuid())","v":"-"},"-"]
[{"$f":"IF(ISBLANK(C903),\"-\",GenGuid())","v":"-"},"-"]
[{"$f":"IF(ISBLANK(C904),\"-\",GenGuid())","v":"-"},"-"]
[{"$f":"IF(ISBLANK(C905),\"-\",GenGuid())","v":"-"},"-"]
[{"$f":"IF(ISBLANK(C906),\"-\",GenGuid())","v":"-"},"-"]
[{"$f":"IF(ISBLANK(C907),\"-\",GenGuid())","v":"-"},"-"]
[{"$f":"IF(ISBLANK(C908),\"-\",GenGuid())","v":"-"},"-"]
[{"$f":"IF(ISBLANK(C909),\"-\",GenGuid())","v":"-"},"-"]
[{"$f":"IF(ISBLANK(C910),\"-\",GenGuid())","v":"-"},"-"]
[{"$f":"IF(ISBLANK(C911),\"-\",GenGuid())","v":"-"},"-"]
[{"$f":"IF(ISBLANK(C912),\"-\",GenGuid())","v":"-"},"-"]
[{"$f":"IF(ISBLANK(C913),\"-\",GenGuid())","v":"-"},"-"]
[{"$f":"IF(ISBLANK(C914),\"-\",GenGuid())","v":"-"},"-"]
[{"$f":"IF(ISBLANK(C915),\"-\",GenGuid())","v":"-"},"-"]
[{"$f":"IF(ISBLANK(C916),\"-\",GenGuid())","v":"-"},"-"]
[{"$f":"IF(ISBLANK(C917),\"-\",GenGuid())","v":"-"},"-"]
[{"$f":"IF(ISBLANK(C918),\"-\",GenGuid())","v":"-"},"-"]
[{"$f":"IF(ISBLANK(C919),\"-\",GenGuid())","v":"-"},"-"]
[{"$f":"IF(ISBLANK(C920),\"-\",GenGuid())","v":"-"},"-"]
[{"$f":"IF(ISBLANK(C921),\"-\",GenGuid())","v":"-"},"-"]
[{"$f":"IF(ISBLANK(C922),\"-\",GenGuid())","v":"-"},"-"]
[{"$f":"IF(ISBLANK(C923),\"-\",GenGuid())","v":"-"},"-"]
[{"$f":"IF(ISBLANK(C924),\"-\",GenGuid())","v":"-"},"-"]
[{"$f":"IF(ISBLANK(C925),\"-\",GenGuid())","v":"-"},"-"]
[{"$f":"IF(ISBLANK(C926),\"-\",GenGuid())","v":"-"},"-"]
[{"$f":"IF(ISBLANK(C927),\"-\",GenGuid())","v":"-"},"-"]
[{"$f":"IF(ISBLANK(C928),\"-\",GenGuid())","v":"-"},"-"]
[{"$f":"IF(ISBLANK(C929),\"-\",GenGuid())","v":"-"},"-"]
[{"$f":"IF(ISBLANK(C930),\"-\",GenGuid())","v":"-"},"-"]
[{"$f":"IF(ISBLANK(C931),\"-\",GenGuid())","v":"-"},"-"]
[{"$f":"IF(ISBLANK(C932),\"-\",GenGuid())","v":"-"},"-"]
[{"$f":"IF(ISBLANK(C933),\"-\",GenGuid())","v":"-"},"-"]
[{"$f":"IF(ISBLANK(C934),\"-\",GenGuid())","v":"-"},"-"]
[{"$f":"IF(ISBLANK(C935),\"-\",GenGuid())","v":"-"},"-"]
[{"$f":"IF(ISBLANK(C936),\"-\",GenGuid())","v":"-"},"-"]
[{"$f":"IF(ISBLANK(C937),\"-\",GenGuid())","v":"-"},"-"]
[{"$f":"IF(ISBLANK(C938),\"-\",GenGuid())","v":"-"},"-"]
[{"$f":"IF(ISBLANK(C939),\"-\",GenGuid())","v":"-"},"-"]
[{"$f":"IF(ISBLANK(C940),\"-\",GenGuid())","v":"-"},"-"]
[{"$f":"IF(ISBLANK(C941),\"-\",GenGuid())","v":"-"},"-"]
[{"$f":"IF(ISBLANK(C942),\"-\",GenGuid())","v":"-"},"-"]
[{"$f":"IF(ISBLANK(C943),\"-\",GenGuid())","v":"-"},"-"]
[{"$f":"IF(ISBLANK(C944),\"-\",GenGuid())","v":"-"},"-"]
[{"$f":"IF(ISBLANK(C945),\"-\",GenGuid())","v":"-"},"-"]
[{"$f":"IF(ISBLANK(C946),\"-\",GenGuid())","v":"-"},"-"]
[{"$f":"IF(ISBLANK(C947),\"-\",GenGuid())","v":"-"},"-"]
[{"$f":"IF(ISBLANK(C948),\"-\",GenGuid())","v":"-"},"-"]
[{"$f":"IF(ISBLANK(C949),\"-\",GenGuid())","v":"-"},"-"]
[{"$f":"IF(ISBLANK(C950),\"-\",GenGuid())","v":"-"},"-"]
[{"$f":"IF(ISBLANK(C951),\"-\",GenGuid())","v":"-"},"-"]
[{"$f":"IF(ISBLANK(C952),\"-\",GenGuid())","v":"-"},"-"]
[{"$f":"IF(ISBLANK(C953),\"-\",GenGuid())","v":"-"},"-"]
[{"$f":"IF(ISBLANK(C954),\"-\",GenGuid())","v":"-"},"-"]
[{"$f":"IF(ISBLANK(C955),\"-\",GenGuid())","v":"-"},"-"]
[{"$f":"IF(ISBLANK(C956),\"-\",GenGuid())","v":"-"},"-"]
[{"$f":"IF(ISBLANK(C957),\"-\",GenGuid())","v":"-"},"-"]
[{"$f":"IF(ISBLANK(C958),\"-\",GenGuid())","v":"-"},"-"]
[{"$f":"IF(ISBLANK(C959),\"-\",GenGuid())","v":"-"},"-"]
[{"$f":"IF(ISBLANK(C960),\"-\",GenGuid())","v":"-"},"-"]
[{"$f":"IF(ISBLANK(C961),\"-\",GenGuid())","v":"-"},"-"]
[{"$f":"IF(ISBLANK(C962),\"-\",GenGuid())","v":"-"},"-"]
[{"$f":"IF(ISBLANK(C963),\"-\",GenGuid())","v":"-"},"-"]
[{"$f":"IF(ISBLANK(C964),\"-\",GenGuid())","v":"-"},"-"]
[{"$f":"IF(ISBLANK(C965),\"-\",GenGuid())","v":"-"},{"$f":"IF(ISBLANK(C965),\"-\",INDIRECT(\"PLOTS!A\"&MATCH(C965,PlotLabels)+4))","v":"-"}]
[{"$f":"IF(ISBLANK(C966),\"-\",GenGuid())","v":"-"},"-"]
[{"$f":"IF(ISBLANK(C967),\"-\",GenGuid())","v":"-"},"-"]
[{"$f":"IF(ISBLANK(C968),\"-\",GenGuid())","v":"-"},"-"]
[{"$f":"IF(ISBLANK(C969),\"-\",GenGuid())","v":"-"},"-"]
[{"$f":"IF(ISBLANK(C970),\"-\",GenGuid())","v":"-"},"-"]
[{"$f":"IF(ISBLANK(C971),\"-\",GenGuid())","v":"-"},"-"]
[{"$f":"IF(ISBLANK(C972),\"-\",GenGuid())","v":"-"},"-"]
[{"$f":"IF(ISBLANK(C973),\"-\",GenGuid())","v":"-"},"-"]
[{"$f":"IF(ISBLANK(C974),\"-\",GenGuid())","v":"-"},"-"]
[{"$f":"IF(ISBLANK(C975),\"-\",GenGuid())","v":"-"},"-"]
[{"$f":"IF(ISBLANK(C976),\"-\",GenGuid())","v":"-"},"-"]
[{"$f":"IF(ISBLANK(C977),\"-\",GenGuid())","v":"-"},"-"]
[{"$f":"IF(ISBLANK(C978),\"-\",GenGuid())","v":"-"},"-"]
[{"$f":"IF(ISBLANK(C979),\"-\",GenGuid())","v":"-"},"-"]
[{"$f":"IF(ISBLANK(C980),\"-\",GenGuid())","v":"-"},"-"]
[{"$f":"IF(ISBLANK(C981),\"-\",GenGuid())","v":"-"},"-"]
[{"$f":"IF(ISBLANK(C982),\"-\",GenGuid())","v":"-"},"-"]
[{"$f":"IF(ISBLANK(C983),\"-\",GenGuid())","v":"-"},"-"]
[{"$f":"IF(ISBLANK(C984),\"-\",GenGuid())","v":"-"},"-"]
[{"$f":"IF(ISBLANK(C985),\"-\",GenGuid())","v":"-"},"-"]
[{"$f":"IF(ISBLANK(C986),\"-\",GenGuid())","v":"-"},"-"]
[{"$f":"IF(ISBLANK(C987),\"-\",GenGuid())","v":"-"},"-"]
[{"$f":"IF(ISBLANK(C988),\"-\",GenGuid())","v":"-"},"-"]
[{"$f":"IF(ISBLANK(C989),\"-\",GenGuid())","v":"-"},"-"]
[{"$f":"IF(ISBLANK(C990),\"-\",GenGuid())","v":"-"},"-"]
[{"$f":"IF(ISBLANK(C991),\"-\",GenGuid())","v":"-"},"-"]
[{"$f":"IF(ISBLANK(C992),\"-\",GenGuid())","v":"-"},"-"]
[{"$f":"IF(ISBLANK(C993),\"-\",GenGuid())","v":"-"},"-"]
[{"$f":"IF(ISBLANK(C994),\"-\",GenGuid())","v":"-"},"-"]
[{"$f":"IF(ISBLANK(C995),\"-\",GenGuid())","v":"-"},"-"]
[{"$f":"IF(ISBLANK(C996),\"-\",GenGuid())","v":"-"},"-"]
[{"$f":"IF(ISBLANK(C997),\"-\",GenGuid())","v":"-"},"-"]
[{"$f":"IF(ISBLANK(C998),\"-\",GenGuid())","v":"-"},"-"]
[{"$f":"IF(ISBLANK(C999),\"-\",GenGuid())","v":"-"},"-"]
[{"$f":"IF(ISBLANK(C1000),\"-\",GenGuid())","v":"-"},"-"]
[{"$f":"IF(ISBLANK(C1001),\"-\",GenGuid())","v":"-"},"-"]
[{"$f":"IF(ISBLANK(C1002),\"-\",GenGuid())","v":"-"},"-"]
[{"$f":"IF(ISBLANK(C1003),\"-\",GenGuid())","v":"-"},"-"]
[{"$f":"IF(ISBLANK(C1004),\"-\",GenGuid())","v":"-"},"-"]
["To add more rows, copy from the previous line to ensure the proper formatting/formulas are in place."]

{"sheet":"PLOT_LEGAL","index":6,"n_rows":1005,"n_cols":9,"rows_kept":1005,"cut":false,"hidden":false,"merged":[]}
["PlotLatLongID","PlotID","PlotLabel","LSD","QSec","Sec","Twp","Rge","Mer"]
["Name","Plot ID","Plot Label","Legal Sub-Division","Quarter Section","Section","Township","Range","Meridian"]
["Type",null,"Text","Integer","Text","Integer","Text","Text","Integer"]
["Max Length",null,"50",null,"2",null,"3","3"]
[{"$f":"IF(ISBLANK(C5),\"-\",GenGuid())","v":"-"},{"$f":"IF(ISBLANK(C5),\"-\",INDIRECT(\"PLOTS!A\"&MATCH(C5,PlotLabels)+4))","v":"-"}]
[{"$f":"IF(ISBLANK(C6),\"-\",GenGuid())","v":"-"},"-"]
["-","-"]
["-","-"]
["-","-"]
["-","-"]
["-","-"]
["-","-"]
["-","-"]
["-","-"]
["-","-"]
["-","-"]
["-","-"]
["-","-"]
["-","-"]
["-","-"]
["-","-"]
["-","-"]
["-","-"]
["-","-"]
["-","-"]
["-","-"]
["-","-"]
["-","-"]
["-","-"]
["-","-"]
["-","-"]
["-","-"]
["-","-"]
["-","-"]
["-","-"]
["-","-"]
["-","-"]
["-","-"]
["-","-"]
["-","-"]
["-","-"]
["-","-"]
["-","-"]
["-","-"]
["-","-"]
["-","-"]
["-","-"]
["-","-"]
["-","-"]
["-","-"]
["-","-"]
["-","-"]
["-","-"]
["-","-"]
["-","-"]
["-","-"]
["-","-"]
["-","-"]
["-","-"]
["-","-"]
["-","-"]
["-","-"]
["-","-"]
["-","-"]
["-","-"]
["-","-"]
["-","-"]
["-","-"]
["-",{"$f":"IF(ISBLANK(C69),\"-\",INDIRECT(\"PLOTS!A\"&MATCH(C69,PlotLabels)+4))","v":"-"}]
[{"$f":"IF(ISBLANK(C70),\"-\",GenGuid())","v":"-"},"-"]
["-","-"]
["-","-"]
["-","-"]
["-","-"]
["-","-"]
["-","-"]
["-","-"]
["-","-"]
["-","-"]
["-","-"]
["-","-"]
["-","-"]
["-","-"]
["-","-"]
["-","-"]
["-","-"]
["-","-"]
["-","-"]
["-","-"]
["-","-"]
["-","-"]
["-","-"]
["-","-"]
["-","-"]
["-","-"]
["-","-"]
["-","-"]
["-","-"]
["-","-"]
["-","-"]
["-","-"]
["-","-"]
["-","-"]
["-","-"]
["-","-"]
["-","-"]
["-","-"]
["-","-"]
["-","-"]
["-","-"]
["-","-"]
["-","-"]
["-","-"]
["-","-"]
["-","-"]
["-","-"]
["-","-"]
["-","-"]
["-","-"]
["-","-"]
["-","-"]
["-","-"]
["-","-"]
["-","-"]
["-","-"]
["-","-"]
["-","-"]
["-","-"]
["-","-"]
["-","-"]
["-","-"]
["-","-"]
["-",{"$f":"IF(ISBLANK(C133),\"-\",INDIRECT(\"PLOTS!A\"&MATCH(C133,PlotLabels)+4))","v":"-"}]
[{"$f":"IF(ISBLANK(C134),\"-\",GenGuid())","v":"-"},"-"]
["-","-"]
["-","-"]
["-","-"]
["-","-"]
["-","-"]
["-","-"]
["-","-"]
["-","-"]
["-","-"]
["-","-"]
["-","-"]
["-","-"]
["-","-"]
["-","-"]
["-","-"]
["-","-"]
["-","-"]
["-","-"]
["-","-"]
["-","-"]
["-","-"]
["-","-"]
["-","-"]
["-","-"]
["-","-"]
["-","-"]
["-","-"]
["-","-"]
["-","-"]
["-","-"]
["-","-"]
["-","-"]
["-","-"]
["-","-"]
["-","-"]
["-","-"]
["-","-"]
["-","-"]
["-","-"]
["-","-"]
["-","-"]
["-","-"]
["-","-"]
["-","-"]
["-","-"]
["-","-"]
["-","-"]
["-","-"]
["-","-"]
["-","-"]
["-","-"]
["-","-"]
["-","-"]
["-","-"]
["-","-"]
["-","-"]
["-","-"]
["-","-"]
["-","-"]
["-","-"]
["-","-"]
["-","-"]
["-",{"$f":"IF(ISBLANK(C197),\"-\",INDIRECT(\"PLOTS!A\"&MATCH(C197,PlotLabels)+4))","v":"-"}]
[{"$f":"IF(ISBLANK(C198),\"-\",GenGuid())","v":"-"},"-"]
["-","-"]
["-","-"]
["-","-"]
["-","-"]
["-","-"]
["-","-"]
["-","-"]
["-","-"]
["-","-"]
["-","-"]
["-","-"]
["-","-"]
["-","-"]
["-","-"]
["-","-"]
["-","-"]
["-","-"]
["-","-"]
["-","-"]
["-","-"]
["-","-"]
["-","-"]
["-","-"]
["-","-"]
["-","-"]
["-","-"]
["-","-"]
["-","-"]
["-","-"]
["-","-"]
["-","-"]
["-","-"]
["-","-"]
["-","-"]
["-","-"]
["-","-"]
["-","-"]
["-","-"]
["-","-"]
["-","-"]
["-","-"]
["-","-"]
["-","-"]
["-","-"]
["-","-"]
["-","-"]
["-","-"]
["-","-"]
["-","-"]
["-","-"]
["-","-"]
["-","-"]
["-","-"]
["-","-"]
["-","-"]
["-","-"]
["-","-"]
["-","-"]
["-","-"]
["-","-"]
["-","-"]
["-","-"]
["-",{"$f":"IF(ISBLANK(C261),\"-\",INDIRECT(\"PLOTS!A\"&MATCH(C261,PlotLabels)+4))","v":"-"}]
[{"$f":"IF(ISBLANK(C262),\"-\",GenGuid())","v":"-"},"-"]
["-","-"]
["-","-"]
["-","-"]
["-","-"]
["-","-"]
["-","-"]
["-","-"]
["-","-"]
["-","-"]
["-","-"]
["-","-"]
["-","-"]
["-","-"]
["-","-"]
["-","-"]
["-","-"]
["-","-"]
["-","-"]
["-","-"]
["-","-"]
["-","-"]
["-","-"]
["-","-"]
["-","-"]
["-","-"]
["-","-"]
["-","-"]
["-","-"]
["-","-"]
["-","-"]
["-","-"]
["-","-"]
["-","-"]
["-","-"]
["-","-"]
["-","-"]
["-","-"]
["-","-"]
["-","-"]
["-","-"]
["-","-"]
["-","-"]
["-","-"]
["-","-"]
["-","-"]
["-","-"]
["-","-"]
["-","-"]
["-","-"]
["-","-"]
["-","-"]
["-","-"]
["-","-"]
["-","-"]
["-","-"]
["-","-"]
["-","-"]
["-","-"]
["-","-"]
["-","-"]
["-","-"]
["-","-"]
["-",{"$f":"IF(ISBLANK(C325),\"-\",INDIRECT(\"PLOTS!A\"&MATCH(C325,PlotLabels)+4))","v":"-"}]
[{"$f":"IF(ISBLANK(C326),\"-\",GenGuid())","v":"-"},"-"]
["-","-"]
["-","-"]
["-","-"]
["-","-"]
["-","-"]
["-","-"]
["-","-"]
["-","-"]
["-","-"]
["-","-"]
["-","-"]
["-","-"]
["-","-"]
["-","-"]
["-","-"]
["-","-"]
["-","-"]
["-","-"]
["-","-"]
["-","-"]
["-","-"]
["-","-"]
["-","-"]
["-","-"]
["-","-"]
["-","-"]
["-","-"]
["-","-"]
["-","-"]
["-","-"]
["-","-"]
["-","-"]
["-","-"]
["-","-"]
["-","-"]
["-","-"]
["-","-"]
["-","-"]
["-","-"]
["-","-"]
["-","-"]
["-","-"]
["-","-"]
["-","-"]
["-","-"]
["-","-"]
["-","-"]
["-","-"]
["-","-"]
["-","-"]
["-","-"]
["-","-"]
["-","-"]
["-","-"]
["-","-"]
["-","-"]
["-","-"]
["-","-"]
["-","-"]
["-","-"]
["-","-"]
["-","-"]
["-",{"$f":"IF(ISBLANK(C389),\"-\",INDIRECT(\"PLOTS!A\"&MATCH(C389,PlotLabels)+4))","v":"-"}]
[{"$f":"IF(ISBLANK(C390),\"-\",GenGuid())","v":"-"},"-"]
["-","-"]
["-","-"]
["-","-"]
["-","-"]
["-","-"]
["-","-"]
["-","-"]
["-","-"]
["-","-"]
["-","-"]
["-","-"]
["-","-"]
["-","-"]
["-","-"]
["-","-"]
["-","-"]
["-","-"]
["-","-"]
["-","-"]
["-","-"]
["-","-"]
["-","-"]
["-","-"]
["-","-"]
["-","-"]
["-","-"]
["-","-"]
["-","-"]
["-","-"]
["-","-"]
["-","-"]
["-","-"]
["-","-"]
["-","-"]
["-","-"]
["-","-"]
["-","-"]
["-","-"]
["-","-"]
["-","-"]
["-","-"]
["-","-"]
["-","-"]
["-","-"]
["-","-"]
["-","-"]
["-","-"]
["-","-"]
["-","-"]
["-","-"]
["-","-"]
["-","-"]
["-","-"]
["-","-"]
["-","-"]
["-","-"]
["-","-"]
["-","-"]
["-","-"]
["-","-"]
["-","-"]
["-","-"]
["-",{"$f":"IF(ISBLANK(C453),\"-\",INDIRECT(\"PLOTS!A\"&MATCH(C453,PlotLabels)+4))","v":"-"}]
[{"$f":"IF(ISBLANK(C454),\"-\",GenGuid())","v":"-"},"-"]
["-","-"]
["-","-"]
["-","-"]
["-","-"]
["-","-"]
["-","-"]
["-","-"]
["-","-"]
["-","-"]
["-","-"]
["-","-"]
["-","-"]
["-","-"]
["-","-"]
["-","-"]
["-","-"]
["-","-"]
["-","-"]
["-","-"]
["-","-"]
["-","-"]
["-","-"]
["-","-"]
["-","-"]
["-","-"]
["-","-"]
["-","-"]
["-","-"]
["-","-"]
["-","-"]
["-","-"]
["-","-"]
["-","-"]
["-","-"]
["-","-"]
["-","-"]
["-","-"]
["-","-"]
["-","-"]
["-","-"]
["-","-"]
["-","-"]
["-","-"]
["-","-"]
["-","-"]
["-","-"]
["-","-"]
["-","-"]
["-","-"]
["-","-"]
["-","-"]
["-","-"]
["-","-"]
["-","-"]
["-","-"]
["-","-"]
["-","-"]
["-","-"]
["-","-"]
["-","-"]
["-","-"]
["-","-"]
["-",{"$f":"IF(ISBLANK(C517),\"-\",INDIRECT(\"PLOTS!A\"&MATCH(C517,PlotLabels)+4))","v":"-"}]
[{"$f":"IF(ISBLANK(C518),\"-\",GenGuid())","v":"-"},"-"]
["-","-"]
["-","-"]
["-","-"]
["-","-"]
["-","-"]
["-","-"]
["-","-"]
["-","-"]
["-","-"]
["-","-"]
["-","-"]
["-","-"]
["-","-"]
["-","-"]
["-","-"]
["-","-"]
["-","-"]
["-","-"]
["-","-"]
["-","-"]
["-","-"]
["-","-"]
["-","-"]
["-","-"]
["-","-"]
["-","-"]
["-","-"]
["-","-"]
["-","-"]
["-","-"]
["-","-"]
["-","-"]
["-","-"]
["-","-"]
["-","-"]
["-","-"]
["-","-"]
["-","-"]
["-","-"]
["-","-"]
["-","-"]
["-","-"]
["-","-"]
["-","-"]
["-","-"]
["-","-"]
["-","-"]
["-","-"]
["-","-"]
["-","-"]
["-","-"]
["-","-"]
["-","-"]
["-","-"]
["-","-"]
["-","-"]
["-","-"]
["-","-"]
["-","-"]
["-","-"]
["-","-"]
["-","-"]
["-",{"$f":"IF(ISBLANK(C581),\"-\",INDIRECT(\"PLOTS!A\"&MATCH(C581,PlotLabels)+4))","v":"-"}]
[{"$f":"IF(ISBLANK(C582),\"-\",GenGuid())","v":"-"},"-"]
["-","-"]
["-","-"]
["-","-"]
["-","-"]
["-","-"]
["-","-"]
["-","-"]
["-","-"]
["-","-"]
["-","-"]
["-","-"]
["-","-"]
["-","-"]
["-","-"]
["-","-"]
["-","-"]
["-","-"]
["-","-"]
["-","-"]
["-","-"]
["-","-"]
["-","-"]
["-","-"]
["-","-"]
["-","-"]
["-","-"]
["-","-"]
["-","-"]
["-","-"]
["-","-"]
["-","-"]
["-","-"]
["-","-"]
["-","-"]
["-","-"]
["-","-"]
["-","-"]
["-","-"]
["-","-"]
["-","-"]
["-","-"]
["-","-"]
["-","-"]
["-","-"]
["-","-"]
["-","-"]
["-","-"]
["-","-"]
["-","-"]
["-","-"]
["-","-"]
["-","-"]
["-","-"]
["-","-"]
["-","-"]
["-","-"]
["-","-"]
["-","-"]
["-","-"]
["-","-"]
["-","-"]
["-","-"]
["-",{"$f":"IF(ISBLANK(C645),\"-\",INDIRECT(\"PLOTS!A\"&MATCH(C645,PlotLabels)+4))","v":"-"}]
[{"$f":"IF(ISBLANK(C646),\"-\",GenGuid())","v":"-"},"-"]
["-","-"]
["-","-"]
["-","-"]
["-","-"]
["-","-"]
["-","-"]
["-","-"]
["-","-"]
["-","-"]
["-","-"]
["-","-"]
["-","-"]
["-","-"]
["-","-"]
["-","-"]
["-","-"]
["-","-"]
["-","-"]
["-","-"]
["-","-"]
["-","-"]
["-","-"]
["-","-"]
["-","-"]
["-","-"]
["-","-"]
["-","-"]
["-","-"]
["-","-"]
["-","-"]
["-","-"]
["-","-"]
["-","-"]
["-","-"]
["-","-"]
["-","-"]
["-","-"]
["-","-"]
["-","-"]
["-","-"]
["-","-"]
["-","-"]
["-","-"]
["-","-"]
["-","-"]
["-","-"]
["-","-"]
["-","-"]
["-","-"]
["-","-"]
["-","-"]
["-","-"]
["-","-"]
["-","-"]
["-","-"]
["-","-"]
["-","-"]
["-","-"]
["-","-"]
["-","-"]
["-","-"]
["-","-"]
["-",{"$f":"IF(ISBLANK(C709),\"-\",INDIRECT(\"PLOTS!A\"&MATCH(C709,PlotLabels)+4))","v":"-"}]
[{"$f":"IF(ISBLANK(C710),\"-\",GenGuid())","v":"-"},"-"]
["-","-"]
["-","-"]
["-","-"]
["-","-"]
["-","-"]
["-","-"]
["-","-"]
["-","-"]
["-","-"]
["-","-"]
["-","-"]
["-","-"]
["-","-"]
["-","-"]
["-","-"]
["-","-"]
["-","-"]
["-","-"]
["-","-"]
["-","-"]
["-","-"]
["-","-"]
["-","-"]
["-","-"]
["-","-"]
["-","-"]
["-","-"]
["-","-"]
["-","-"]
["-","-"]
["-","-"]
["-","-"]
["-","-"]
["-","-"]
["-","-"]
["-","-"]
["-","-"]
["-","-"]
["-","-"]
["-","-"]
["-","-"]
["-","-"]
["-","-"]
["-","-"]
["-","-"]
["-","-"]
["-","-"]
["-","-"]
["-","-"]
["-","-"]
["-","-"]
["-","-"]
["-","-"]
["-","-"]
["-","-"]
["-","-"]
["-","-"]
["-","-"]
["-","-"]
["-","-"]
["-","-"]
["-","-"]
["-",{"$f":"IF(ISBLANK(C773),\"-\",INDIRECT(\"PLOTS!A\"&MATCH(C773,PlotLabels)+4))","v":"-"}]
[{"$f":"IF(ISBLANK(C774),\"-\",GenGuid())","v":"-"},"-"]
["-","-"]
["-","-"]
["-","-"]
["-","-"]
["-","-"]
["-","-"]
["-","-"]
["-","-"]
["-","-"]
["-","-"]
["-","-"]
["-","-"]
["-","-"]
["-","-"]
["-","-"]
["-","-"]
["-","-"]
["-","-"]
["-","-"]
["-","-"]
["-","-"]
["-","-"]
["-","-"]
["-","-"]
["-","-"]
["-","-"]
["-","-"]
["-","-"]
["-","-"]
["-","-"]
["-","-"]
["-","-"]
["-","-"]
["-","-"]
["-","-"]
["-","-"]
["-","-"]
["-","-"]
["-","-"]
["-","-"]
["-","-"]
["-","-"]
["-","-"]
["-","-"]
["-","-"]
["-","-"]
["-","-"]
["-","-"]
["-","-"]
["-","-"]
["-","-"]
["-","-"]
["-","-"]
["-","-"]
["-","-"]
["-","-"]
["-","-"]
["-","-"]
["-","-"]
["-","-"]
["-","-"]
["-","-"]
["-",{"$f":"IF(ISBLANK(C837),\"-\",INDIRECT(\"PLOTS!A\"&MATCH(C837,PlotLabels)+4))","v":"-"}]
[{"$f":"IF(ISBLANK(C838),\"-\",GenGuid())","v":"-"},"-"]
["-","-"]
["-","-"]
["-","-"]
["-","-"]
["-","-"]
["-","-"]
["-","-"]
["-","-"]
["-","-"]
["-","-"]
["-","-"]
["-","-"]
["-","-"]
["-","-"]
["-","-"]
["-","-"]
["-","-"]
["-","-"]
["-","-"]
["-","-"]
["-","-"]
["-","-"]
["-","-"]
["-","-"]
["-","-"]
["-","-"]
["-","-"]
["-","-"]
["-","-"]
["-","-"]
["-","-"]
["-","-"]
["-","-"]
["-","-"]
["-","-"]
["-","-"]
["-","-"]
["-","-"]
["-","-"]
["-","-"]
["-","-"]
["-","-"]
["-","-"]
["-","-"]
["-","-"]
["-","-"]
["-","-"]
["-","-"]
["-","-"]
["-","-"]
["-","-"]
["-","-"]
["-","-"]
["-","-"]
["-","-"]
["-","-"]
["-","-"]
["-","-"]
["-","-"]
["-","-"]
["-","-"]
["-","-"]
["-",{"$f":"IF(ISBLANK(C901),\"-\",INDIRECT(\"PLOTS!A\"&MATCH(C901,PlotLabels)+4))","v":"-"}]
[{"$f":"IF(ISBLANK(C902),\"-\",GenGuid())","v":"-"},"-"]
["-","-"]
["-","-"]
["-","-"]
["-","-"]
["-","-"]
["-","-"]
["-","-"]
["-","-"]
["-","-"]
["-","-"]
["-","-"]
["-","-"]
["-","-"]
["-","-"]
["-","-"]
["-","-"]
["-","-"]
["-","-"]
["-","-"]
["-","-"]
["-","-"]
["-","-"]
["-","-"]
["-","-"]
["-","-"]
["-","-"]
["-","-"]
["-","-"]
["-","-"]
["-","-"]
["-","-"]
["-","-"]
["-","-"]
["-","-"]
["-","-"]
["-","-"]
["-","-"]
["-","-"]
["-","-"]
["-","-"]
["-","-"]
["-","-"]
["-","-"]
["-","-"]
["-","-"]
["-","-"]
["-","-"]
["-","-"]
["-","-"]
["-","-"]
["-","-"]
["-","-"]
["-","-"]
["-","-"]
["-","-"]
["-","-"]
["-","-"]
["-","-"]
["-","-"]
["-","-"]
["-","-"]
["-","-"]
["-",{"$f":"IF(ISBLANK(C965),\"-\",INDIRECT(\"PLOTS!A\"&MATCH(C965,PlotLabels)+4))","v":"-"}]
[{"$f":"IF(ISBLANK(C966),\"-\",GenGuid())","v":"-"},"-"]
[{"$f":"IF(ISBLANK(C967),\"-\",GenGuid())","v":"-"},"-"]
[{"$f":"IF(ISBLANK(C968),\"-\",GenGuid())","v":"-"},"-"]
[{"$f":"IF(ISBLANK(C969),\"-\",GenGuid())","v":"-"},"-"]
[{"$f":"IF(ISBLANK(C970),\"-\",GenGuid())","v":"-"},"-"]
[{"$f":"IF(ISBLANK(C971),\"-\",GenGuid())","v":"-"},"-"]
[{"$f":"IF(ISBLANK(C972),\"-\",GenGuid())","v":"-"},"-"]
[{"$f":"IF(ISBLANK(C973),\"-\",GenGuid())","v":"-"},"-"]
[{"$f":"IF(ISBLANK(C974),\"-\",GenGuid())","v":"-"},"-"]
[{"$f":"IF(ISBLANK(C975),\"-\",GenGuid())","v":"-"},"-"]
[{"$f":"IF(ISBLANK(C976),\"-\",GenGuid())","v":"-"},"-"]
[{"$f":"IF(ISBLANK(C977),\"-\",GenGuid())","v":"-"},"-"]
[{"$f":"IF(ISBLANK(C978),\"-\",GenGuid())","v":"-"},"-"]
[{"$f":"IF(ISBLANK(C979),\"-\",GenGuid())","v":"-"},"-"]
[{"$f":"IF(ISBLANK(C980),\"-\",GenGuid())","v":"-"},"-"]
[{"$f":"IF(ISBLANK(C981),\"-\",GenGuid())","v":"-"},"-"]
[{"$f":"IF(ISBLANK(C982),\"-\",GenGuid())","v":"-"},"-"]
[{"$f":"IF(ISBLANK(C983),\"-\",GenGuid())","v":"-"},"-"]
[{"$f":"IF(ISBLANK(C984),\"-\",GenGuid())","v":"-"},"-"]
[{"$f":"IF(ISBLANK(C985),\"-\",GenGuid())","v":"-"},"-"]
[{"$f":"IF(ISBLANK(C986),\"-\",GenGuid())","v":"-"},"-"]
[{"$f":"IF(ISBLANK(C987),\"-\",GenGuid())","v":"-"},"-"]
[{"$f":"IF(ISBLANK(C988),\"-\",GenGuid())","v":"-"},"-"]
[{"$f":"IF(ISBLANK(C989),\"-\",GenGuid())","v":"-"},"-"]
[{"$f":"IF(ISBLANK(C990),\"-\",GenGuid())","v":"-"},"-"]
[{"$f":"IF(ISBLANK(C991),\"-\",GenGuid())","v":"-"},"-"]
[{"$f":"IF(ISBLANK(C992),\"-\",GenGuid())","v":"-"},"-"]
[{"$f":"IF(ISBLANK(C993),\"-\",GenGuid())","v":"-"},"-"]
[{"$f":"IF(ISBLANK(C994),\"-\",GenGuid())","v":"-"},"-"]
[{"$f":"IF(ISBLANK(C995),\"-\",GenGuid())","v":"-"},"-"]
[{"$f":"IF(ISBLANK(C996),\"-\",GenGuid())","v":"-"},"-"]
[{"$f":"IF(ISBLANK(C997),\"-\",GenGuid())","v":"-"},"-"]
[{"$f":"IF(ISBLANK(C998),\"-\",GenGuid())","v":"-"},"-"]
[{"$f":"IF(ISBLANK(C999),\"-\",GenGuid())","v":"-"},"-"]
[{"$f":"IF(ISBLANK(C1000),\"-\",GenGuid())","v":"-"},"-"]
[{"$f":"IF(ISBLANK(C1001),\"-\",GenGuid())","v":"-"},"-"]
[{"$f":"IF(ISBLANK(C1002),\"-\",GenGuid())","v":"-"},"-"]
[{"$f":"IF(ISBLANK(C1003),\"-\",GenGuid())","v":"-"},"-"]
[{"$f":"IF(ISBLANK(C1004),\"-\",GenGuid())","v":"-"},"-"]
["To add more rows, copy from the previous line to ensure the proper formatting/formulas are in place."]

{"sheet":"PLOT_DIMENSIONS","index":7,"n_rows":1005,"n_cols":5,"rows_kept":1005,"cut":false,"hidden":false,"merged":[]}
["DB Field","PlotID","PlotLabel","DimensionType","Measurement"]
["Name","Plot ID","Plot Label","Dimension Type","Measurement"]
["Type",null,"Text","Text","Single"]
["Max Length",null,"50","2","4"]
[{"$f":"IF(ISBLANK(C5),\"-\",GenGuid())","v":"-"},{"$f":"IF(ISBLANK(C5),\"-\",INDIRECT(\"PLOTS!A\"&MATCH(C5,PlotLabels)+4))","v":"-"}]
[{"$f":"IF(ISBLANK(C6),\"-\",GenGuid())","v":"-"},"-"]
[{"$f":"IF(ISBLANK(C7),\"-\",GenGuid())","v":"-"},"-"]
[{"$f":"IF(ISBLANK(C8),\"-\",GenGuid())","v":"-"},"-"]
[{"$f":"IF(ISBLANK(C9),\"-\",GenGuid())","v":"-"},"-"]
[{"$f":"IF(ISBLANK(C10),\"-\",GenGuid())","v":"-"},"-"]
[{"$f":"IF(ISBLANK(C11),\"-\",GenGuid())","v":"-"},"-"]
[{"$f":"IF(ISBLANK(C12),\"-\",GenGuid())","v":"-"},"-"]
[{"$f":"IF(ISBLANK(C13),\"-\",GenGuid())","v":"-"},"-"]
[{"$f":"IF(ISBLANK(C14),\"-\",GenGuid())","v":"-"},"-"]
[{"$f":"IF(ISBLANK(C15),\"-\",GenGuid())","v":"-"},"-"]
[{"$f":"IF(ISBLANK(C16),\"-\",GenGuid())","v":"-"},"-"]
[{"$f":"IF(ISBLANK(C17),\"-\",GenGuid())","v":"-"},"-"]
[{"$f":"IF(ISBLANK(C18),\"-\",GenGuid())","v":"-"},"-"]
[{"$f":"IF(ISBLANK(C19),\"-\",GenGuid())","v":"-"},"-"]
[{"$f":"IF(ISBLANK(C20),\"-\",GenGuid())","v":"-"},"-"]
[{"$f":"IF(ISBLANK(C21),\"-\",GenGuid())","v":"-"},"-"]
[{"$f":"IF(ISBLANK(C22),\"-\",GenGuid())","v":"-"},"-"]
[{"$f":"IF(ISBLANK(C23),\"-\",GenGuid())","v":"-"},"-"]
[{"$f":"IF(ISBLANK(C24),\"-\",GenGuid())","v":"-"},"-"]
[{"$f":"IF(ISBLANK(C25),\"-\",GenGuid())","v":"-"},"-"]
[{"$f":"IF(ISBLANK(C26),\"-\",GenGuid())","v":"-"},"-"]
[{"$f":"IF(ISBLANK(C27),\"-\",GenGuid())","v":"-"},"-"]
[{"$f":"IF(ISBLANK(C28),\"-\",GenGuid())","v":"-"},"-"]
[{"$f":"IF(ISBLANK(C29),\"-\",GenGuid())","v":"-"},"-"]
[{"$f":"IF(ISBLANK(C30),\"-\",GenGuid())","v":"-"},"-"]
[{"$f":"IF(ISBLANK(C31),\"-\",GenGuid())","v":"-"},"-"]
[{"$f":"IF(ISBLANK(C32),\"-\",GenGuid())","v":"-"},"-"]
[{"$f":"IF(ISBLANK(C33),\"-\",GenGuid())","v":"-"},"-"]
[{"$f":"IF(ISBLANK(C34),\"-\",GenGuid())","v":"-"},"-"]
[{"$f":"IF(ISBLANK(C35),\"-\",GenGuid())","v":"-"},"-"]
[{"$f":"IF(ISBLANK(C36),\"-\",GenGuid())","v":"-"},"-"]
[{"$f":"IF(ISBLANK(C37),\"-\",GenGuid())","v":"-"},"-"]
[{"$f":"IF(ISBLANK(C38),\"-\",GenGuid())","v":"-"},"-"]
[{"$f":"IF(ISBLANK(C39),\"-\",GenGuid())","v":"-"},"-"]
[{"$f":"IF(ISBLANK(C40),\"-\",GenGuid())","v":"-"},"-"]
[{"$f":"IF(ISBLANK(C41),\"-\",GenGuid())","v":"-"},"-"]
[{"$f":"IF(ISBLANK(C42),\"-\",GenGuid())","v":"-"},"-"]
[{"$f":"IF(ISBLANK(C43),\"-\",GenGuid())","v":"-"},"-"]
[{"$f":"IF(ISBLANK(C44),\"-\",GenGuid())","v":"-"},"-"]
[{"$f":"IF(ISBLANK(C45),\"-\",GenGuid())","v":"-"},"-"]
[{"$f":"IF(ISBLANK(C46),\"-\",GenGuid())","v":"-"},"-"]
[{"$f":"IF(ISBLANK(C47),\"-\",GenGuid())","v":"-"},"-"]
[{"$f":"IF(ISBLANK(C48),\"-\",GenGuid())","v":"-"},"-"]
[{"$f":"IF(ISBLANK(C49),\"-\",GenGuid())","v":"-"},"-"]
[{"$f":"IF(ISBLANK(C50),\"-\",GenGuid())","v":"-"},"-"]
[{"$f":"IF(ISBLANK(C51),\"-\",GenGuid())","v":"-"},"-"]
[{"$f":"IF(ISBLANK(C52),\"-\",GenGuid())","v":"-"},"-"]
[{"$f":"IF(ISBLANK(C53),\"-\",GenGuid())","v":"-"},"-"]
[{"$f":"IF(ISBLANK(C54),\"-\",GenGuid())","v":"-"},"-"]
[{"$f":"IF(ISBLANK(C55),\"-\",GenGuid())","v":"-"},"-"]
[{"$f":"IF(ISBLANK(C56),\"-\",GenGuid())","v":"-"},"-"]
[{"$f":"IF(ISBLANK(C57),\"-\",GenGuid())","v":"-"},"-"]
[{"$f":"IF(ISBLANK(C58),\"-\",GenGuid())","v":"-"},"-"]
[{"$f":"IF(ISBLANK(C59),\"-\",GenGuid())","v":"-"},"-"]
[{"$f":"IF(ISBLANK(C60),\"-\",GenGuid())","v":"-"},"-"]
[{"$f":"IF(ISBLANK(C61),\"-\",GenGuid())","v":"-"},"-"]
[{"$f":"IF(ISBLANK(C62),\"-\",GenGuid())","v":"-"},"-"]
[{"$f":"IF(ISBLANK(C63),\"-\",GenGuid())","v":"-"},"-"]
[{"$f":"IF(ISBLANK(C64),\"-\",GenGuid())","v":"-"},"-"]
[{"$f":"IF(ISBLANK(C65),\"-\",GenGuid())","v":"-"},"-"]
[{"$f":"IF(ISBLANK(C66),\"-\",GenGuid())","v":"-"},"-"]
[{"$f":"IF(ISBLANK(C67),\"-\",GenGuid())","v":"-"},"-"]
[{"$f":"IF(ISBLANK(C68),\"-\",GenGuid())","v":"-"},"-"]
[{"$f":"IF(ISBLANK(C69),\"-\",GenGuid())","v":"-"},{"$f":"IF(ISBLANK(C69),\"-\",INDIRECT(\"PLOTS!A\"&MATCH(C69,PlotLabels)+4))","v":"-"}]
[{"$f":"IF(ISBLANK(C70),\"-\",GenGuid())","v":"-"},"-"]
[{"$f":"IF(ISBLANK(C71),\"-\",GenGuid())","v":"-"},"-"]
[{"$f":"IF(ISBLANK(C72),\"-\",GenGuid())","v":"-"},"-"]
[{"$f":"IF(ISBLANK(C73),\"-\",GenGuid())","v":"-"},"-"]
[{"$f":"IF(ISBLANK(C74),\"-\",GenGuid())","v":"-"},"-"]
[{"$f":"IF(ISBLANK(C75),\"-\",GenGuid())","v":"-"},"-"]
[{"$f":"IF(ISBLANK(C76),\"-\",GenGuid())","v":"-"},"-"]
[{"$f":"IF(ISBLANK(C77),\"-\",GenGuid())","v":"-"},"-"]
[{"$f":"IF(ISBLANK(C78),\"-\",GenGuid())","v":"-"},"-"]
[{"$f":"IF(ISBLANK(C79),\"-\",GenGuid())","v":"-"},"-"]
[{"$f":"IF(ISBLANK(C80),\"-\",GenGuid())","v":"-"},"-"]
[{"$f":"IF(ISBLANK(C81),\"-\",GenGuid())","v":"-"},"-"]
[{"$f":"IF(ISBLANK(C82),\"-\",GenGuid())","v":"-"},"-"]
[{"$f":"IF(ISBLANK(C83),\"-\",GenGuid())","v":"-"},"-"]
[{"$f":"IF(ISBLANK(C84),\"-\",GenGuid())","v":"-"},"-"]
[{"$f":"IF(ISBLANK(C85),\"-\",GenGuid())","v":"-"},"-"]
[{"$f":"IF(ISBLANK(C86),\"-\",GenGuid())","v":"-"},"-"]
[{"$f":"IF(ISBLANK(C87),\"-\",GenGuid())","v":"-"},"-"]
[{"$f":"IF(ISBLANK(C88),\"-\",GenGuid())","v":"-"},"-"]
[{"$f":"IF(ISBLANK(C89),\"-\",GenGuid())","v":"-"},"-"]
[{"$f":"IF(ISBLANK(C90),\"-\",GenGuid())","v":"-"},"-"]
[{"$f":"IF(ISBLANK(C91),\"-\",GenGuid())","v":"-"},"-"]
[{"$f":"IF(ISBLANK(C92),\"-\",GenGuid())","v":"-"},"-"]
[{"$f":"IF(ISBLANK(C93),\"-\",GenGuid())","v":"-"},"-"]
[{"$f":"IF(ISBLANK(C94),\"-\",GenGuid())","v":"-"},"-"]
[{"$f":"IF(ISBLANK(C95),\"-\",GenGuid())","v":"-"},"-"]
[{"$f":"IF(ISBLANK(C96),\"-\",GenGuid())","v":"-"},"-"]
[{"$f":"IF(ISBLANK(C97),\"-\",GenGuid())","v":"-"},"-"]
[{"$f":"IF(ISBLANK(C98),\"-\",GenGuid())","v":"-"},"-"]
[{"$f":"IF(ISBLANK(C99),\"-\",GenGuid())","v":"-"},"-"]
[{"$f":"IF(ISBLANK(C100),\"-\",GenGuid())","v":"-"},"-"]
[{"$f":"IF(ISBLANK(C101),\"-\",GenGuid())","v":"-"},"-"]
[{"$f":"IF(ISBLANK(C102),\"-\",GenGuid())","v":"-"},"-"]
[{"$f":"IF(ISBLANK(C103),\"-\",GenGuid())","v":"-"},"-"]
[{"$f":"IF(ISBLANK(C104),\"-\",GenGuid())","v":"-"},"-"]
[{"$f":"IF(ISBLANK(C105),\"-\",GenGuid())","v":"-"},"-"]
[{"$f":"IF(ISBLANK(C106),\"-\",GenGuid())","v":"-"},"-"]
[{"$f":"IF(ISBLANK(C107),\"-\",GenGuid())","v":"-"},"-"]
[{"$f":"IF(ISBLANK(C108),\"-\",GenGuid())","v":"-"},"-"]
[{"$f":"IF(ISBLANK(C109),\"-\",GenGuid())","v":"-"},"-"]
[{"$f":"IF(ISBLANK(C110),\"-\",GenGuid())","v":"-"},"-"]
[{"$f":"IF(ISBLANK(C111),\"-\",GenGuid())","v":"-"},"-"]
[{"$f":"IF(ISBLANK(C112),\"-\",GenGuid())","v":"-"},"-"]
[{"$f":"IF(ISBLANK(C113),\"-\",GenGuid())","v":"-"},"-"]
[{"$f":"IF(ISBLANK(C114),\"-\",GenGuid())","v":"-"},"-"]
[{"$f":"IF(ISBLANK(C115),\"-\",GenGuid())","v":"-"},"-"]
[{"$f":"IF(ISBLANK(C116),\"-\",GenGuid())","v":"-"},"-"]
[{"$f":"IF(ISBLANK(C117),\"-\",GenGuid())","v":"-"},"-"]
[{"$f":"IF(ISBLANK(C118),\"-\",GenGuid())","v":"-"},"-"]
[{"$f":"IF(ISBLANK(C119),\"-\",GenGuid())","v":"-"},"-"]
[{"$f":"IF(ISBLANK(C120),\"-\",GenGuid())","v":"-"},"-"]
[{"$f":"IF(ISBLANK(C121),\"-\",GenGuid())","v":"-"},"-"]
[{"$f":"IF(ISBLANK(C122),\"-\",GenGuid())","v":"-"},"-"]
[{"$f":"IF(ISBLANK(C123),\"-\",GenGuid())","v":"-"},"-"]
[{"$f":"IF(ISBLANK(C124),\"-\",GenGuid())","v":"-"},"-"]
[{"$f":"IF(ISBLANK(C125),\"-\",GenGuid())","v":"-"},"-"]
[{"$f":"IF(ISBLANK(C126),\"-\",GenGuid())","v":"-"},"-"]
[{"$f":"IF(ISBLANK(C127),\"-\",GenGuid())","v":"-"},"-"]
[{"$f":"IF(ISBLANK(C128),\"-\",GenGuid())","v":"-"},"-"]
[{"$f":"IF(ISBLANK(C129),\"-\",GenGuid())","v":"-"},"-"]
[{"$f":"IF(ISBLANK(C130),\"-\",GenGuid())","v":"-"},"-"]
[{"$f":"IF(ISBLANK(C131),\"-\",GenGuid())","v":"-"},"-"]
[{"$f":"IF(ISBLANK(C132),\"-\",GenGuid())","v":"-"},"-"]
[{"$f":"IF(ISBLANK(C133),\"-\",GenGuid())","v":"-"},{"$f":"IF(ISBLANK(C133),\"-\",INDIRECT(\"PLOTS!A\"&MATCH(C133,PlotLabels)+4))","v":"-"}]
[{"$f":"IF(ISBLANK(C134),\"-\",GenGuid())","v":"-"},"-"]
[{"$f":"IF(ISBLANK(C135),\"-\",GenGuid())","v":"-"},"-"]
[{"$f":"IF(ISBLANK(C136),\"-\",GenGuid())","v":"-"},"-"]
[{"$f":"IF(ISBLANK(C137),\"-\",GenGuid())","v":"-"},"-"]
[{"$f":"IF(ISBLANK(C138),\"-\",GenGuid())","v":"-"},"-"]
[{"$f":"IF(ISBLANK(C139),\"-\",GenGuid())","v":"-"},"-"]
[{"$f":"IF(ISBLANK(C140),\"-\",GenGuid())","v":"-"},"-"]
[{"$f":"IF(ISBLANK(C141),\"-\",GenGuid())","v":"-"},"-"]
[{"$f":"IF(ISBLANK(C142),\"-\",GenGuid())","v":"-"},"-"]
[{"$f":"IF(ISBLANK(C143),\"-\",GenGuid())","v":"-"},"-"]
[{"$f":"IF(ISBLANK(C144),\"-\",GenGuid())","v":"-"},"-"]
[{"$f":"IF(ISBLANK(C145),\"-\",GenGuid())","v":"-"},"-"]
[{"$f":"IF(ISBLANK(C146),\"-\",GenGuid())","v":"-"},"-"]
[{"$f":"IF(ISBLANK(C147),\"-\",GenGuid())","v":"-"},"-"]
[{"$f":"IF(ISBLANK(C148),\"-\",GenGuid())","v":"-"},"-"]
[{"$f":"IF(ISBLANK(C149),\"-\",GenGuid())","v":"-"},"-"]
[{"$f":"IF(ISBLANK(C150),\"-\",GenGuid())","v":"-"},"-"]
[{"$f":"IF(ISBLANK(C151),\"-\",GenGuid())","v":"-"},"-"]
[{"$f":"IF(ISBLANK(C152),\"-\",GenGuid())","v":"-"},"-"]
[{"$f":"IF(ISBLANK(C153),\"-\",GenGuid())","v":"-"},"-"]
[{"$f":"IF(ISBLANK(C154),\"-\",GenGuid())","v":"-"},"-"]
[{"$f":"IF(ISBLANK(C155),\"-\",GenGuid())","v":"-"},"-"]
[{"$f":"IF(ISBLANK(C156),\"-\",GenGuid())","v":"-"},"-"]
[{"$f":"IF(ISBLANK(C157),\"-\",GenGuid())","v":"-"},"-"]
[{"$f":"IF(ISBLANK(C158),\"-\",GenGuid())","v":"-"},"-"]
[{"$f":"IF(ISBLANK(C159),\"-\",GenGuid())","v":"-"},"-"]
[{"$f":"IF(ISBLANK(C160),\"-\",GenGuid())","v":"-"},"-"]
[{"$f":"IF(ISBLANK(C161),\"-\",GenGuid())","v":"-"},"-"]
[{"$f":"IF(ISBLANK(C162),\"-\",GenGuid())","v":"-"},"-"]
[{"$f":"IF(ISBLANK(C163),\"-\",GenGuid())","v":"-"},"-"]
[{"$f":"IF(ISBLANK(C164),\"-\",GenGuid())","v":"-"},"-"]
[{"$f":"IF(ISBLANK(C165),\"-\",GenGuid())","v":"-"},"-"]
[{"$f":"IF(ISBLANK(C166),\"-\",GenGuid())","v":"-"},"-"]
[{"$f":"IF(ISBLANK(C167),\"-\",GenGuid())","v":"-"},"-"]
[{"$f":"IF(ISBLANK(C168),\"-\",GenGuid())","v":"-"},"-"]
[{"$f":"IF(ISBLANK(C169),\"-\",GenGuid())","v":"-"},"-"]
[{"$f":"IF(ISBLANK(C170),\"-\",GenGuid())","v":"-"},"-"]
[{"$f":"IF(ISBLANK(C171),\"-\",GenGuid())","v":"-"},"-"]
[{"$f":"IF(ISBLANK(C172),\"-\",GenGuid())","v":"-"},"-"]
[{"$f":"IF(ISBLANK(C173),\"-\",GenGuid())","v":"-"},"-"]
[{"$f":"IF(ISBLANK(C174),\"-\",GenGuid())","v":"-"},"-"]
[{"$f":"IF(ISBLANK(C175),\"-\",GenGuid())","v":"-"},"-"]
[{"$f":"IF(ISBLANK(C176),\"-\",GenGuid())","v":"-"},"-"]
[{"$f":"IF(ISBLANK(C177),\"-\",GenGuid())","v":"-"},"-"]
[{"$f":"IF(ISBLANK(C178),\"-\",GenGuid())","v":"-"},"-"]
[{"$f":"IF(ISBLANK(C179),\"-\",GenGuid())","v":"-"},"-"]
[{"$f":"IF(ISBLANK(C180),\"-\",GenGuid())","v":"-"},"-"]
[{"$f":"IF(ISBLANK(C181),\"-\",GenGuid())","v":"-"},"-"]
[{"$f":"IF(ISBLANK(C182),\"-\",GenGuid())","v":"-"},"-"]
[{"$f":"IF(ISBLANK(C183),\"-\",GenGuid())","v":"-"},"-"]
[{"$f":"IF(ISBLANK(C184),\"-\",GenGuid())","v":"-"},"-"]
[{"$f":"IF(ISBLANK(C185),\"-\",GenGuid())","v":"-"},"-"]
[{"$f":"IF(ISBLANK(C186),\"-\",GenGuid())","v":"-"},"-"]
[{"$f":"IF(ISBLANK(C187),\"-\",GenGuid())","v":"-"},"-"]
[{"$f":"IF(ISBLANK(C188),\"-\",GenGuid())","v":"-"},"-"]
[{"$f":"IF(ISBLANK(C189),\"-\",GenGuid())","v":"-"},"-"]
[{"$f":"IF(ISBLANK(C190),\"-\",GenGuid())","v":"-"},"-"]
[{"$f":"IF(ISBLANK(C191),\"-\",GenGuid())","v":"-"},"-"]
[{"$f":"IF(ISBLANK(C192),\"-\",GenGuid())","v":"-"},"-"]
[{"$f":"IF(ISBLANK(C193),\"-\",GenGuid())","v":"-"},"-"]
[{"$f":"IF(ISBLANK(C194),\"-\",GenGuid())","v":"-"},"-"]
[{"$f":"IF(ISBLANK(C195),\"-\",GenGuid())","v":"-"},"-"]
[{"$f":"IF(ISBLANK(C196),\"-\",GenGuid())","v":"-"},"-"]
[{"$f":"IF(ISBLANK(C197),\"-\",GenGuid())","v":"-"},{"$f":"IF(ISBLANK(C197),\"-\",INDIRECT(\"PLOTS!A\"&MATCH(C197,PlotLabels)+4))","v":"-"}]
[{"$f":"IF(ISBLANK(C198),\"-\",GenGuid())","v":"-"},"-"]
[{"$f":"IF(ISBLANK(C199),\"-\",GenGuid())","v":"-"},"-"]
[{"$f":"IF(ISBLANK(C200),\"-\",GenGuid())","v":"-"},"-"]
[{"$f":"IF(ISBLANK(C201),\"-\",GenGuid())","v":"-"},"-"]
[{"$f":"IF(ISBLANK(C202),\"-\",GenGuid())","v":"-"},"-"]
[{"$f":"IF(ISBLANK(C203),\"-\",GenGuid())","v":"-"},"-"]
[{"$f":"IF(ISBLANK(C204),\"-\",GenGuid())","v":"-"},"-"]
[{"$f":"IF(ISBLANK(C205),\"-\",GenGuid())","v":"-"},"-"]
[{"$f":"IF(ISBLANK(C206),\"-\",GenGuid())","v":"-"},"-"]
[{"$f":"IF(ISBLANK(C207),\"-\",GenGuid())","v":"-"},"-"]
[{"$f":"IF(ISBLANK(C208),\"-\",GenGuid())","v":"-"},"-"]
[{"$f":"IF(ISBLANK(C209),\"-\",GenGuid())","v":"-"},"-"]
[{"$f":"IF(ISBLANK(C210),\"-\",GenGuid())","v":"-"},"-"]
[{"$f":"IF(ISBLANK(C211),\"-\",GenGuid())","v":"-"},"-"]
[{"$f":"IF(ISBLANK(C212),\"-\",GenGuid())","v":"-"},"-"]
[{"$f":"IF(ISBLANK(C213),\"-\",GenGuid())","v":"-"},"-"]
[{"$f":"IF(ISBLANK(C214),\"-\",GenGuid())","v":"-"},"-"]
[{"$f":"IF(ISBLANK(C215),\"-\",GenGuid())","v":"-"},"-"]
[{"$f":"IF(ISBLANK(C216),\"-\",GenGuid())","v":"-"},"-"]
[{"$f":"IF(ISBLANK(C217),\"-\",GenGuid())","v":"-"},"-"]
[{"$f":"IF(ISBLANK(C218),\"-\",GenGuid())","v":"-"},"-"]
[{"$f":"IF(ISBLANK(C219),\"-\",GenGuid())","v":"-"},"-"]
[{"$f":"IF(ISBLANK(C220),\"-\",GenGuid())","v":"-"},"-"]
[{"$f":"IF(ISBLANK(C221),\"-\",GenGuid())","v":"-"},"-"]
[{"$f":"IF(ISBLANK(C222),\"-\",GenGuid())","v":"-"},"-"]
[{"$f":"IF(ISBLANK(C223),\"-\",GenGuid())","v":"-"},"-"]
[{"$f":"IF(ISBLANK(C224),\"-\",GenGuid())","v":"-"},"-"]
[{"$f":"IF(ISBLANK(C225),\"-\",GenGuid())","v":"-"},"-"]
[{"$f":"IF(ISBLANK(C226),\"-\",GenGuid())","v":"-"},"-"]
[{"$f":"IF(ISBLANK(C227),\"-\",GenGuid())","v":"-"},"-"]
[{"$f":"IF(ISBLANK(C228),\"-\",GenGuid())","v":"-"},"-"]
[{"$f":"IF(ISBLANK(C229),\"-\",GenGuid())","v":"-"},"-"]
[{"$f":"IF(ISBLANK(C230),\"-\",GenGuid())","v":"-"},"-"]
[{"$f":"IF(ISBLANK(C231),\"-\",GenGuid())","v":"-"},"-"]
[{"$f":"IF(ISBLANK(C232),\"-\",GenGuid())","v":"-"},"-"]
[{"$f":"IF(ISBLANK(C233),\"-\",GenGuid())","v":"-"},"-"]
[{"$f":"IF(ISBLANK(C234),\"-\",GenGuid())","v":"-"},"-"]
[{"$f":"IF(ISBLANK(C235),\"-\",GenGuid())","v":"-"},"-"]
[{"$f":"IF(ISBLANK(C236),\"-\",GenGuid())","v":"-"},"-"]
[{"$f":"IF(ISBLANK(C237),\"-\",GenGuid())","v":"-"},"-"]
[{"$f":"IF(ISBLANK(C238),\"-\",GenGuid())","v":"-"},"-"]
[{"$f":"IF(ISBLANK(C239),\"-\",GenGuid())","v":"-"},"-"]
[{"$f":"IF(ISBLANK(C240),\"-\",GenGuid())","v":"-"},"-"]
[{"$f":"IF(ISBLANK(C241),\"-\",GenGuid())","v":"-"},"-"]
[{"$f":"IF(ISBLANK(C242),\"-\",GenGuid())","v":"-"},"-"]
[{"$f":"IF(ISBLANK(C243),\"-\",GenGuid())","v":"-"},"-"]
[{"$f":"IF(ISBLANK(C244),\"-\",GenGuid())","v":"-"},"-"]
[{"$f":"IF(ISBLANK(C245),\"-\",GenGuid())","v":"-"},"-"]
[{"$f":"IF(ISBLANK(C246),\"-\",GenGuid())","v":"-"},"-"]
[{"$f":"IF(ISBLANK(C247),\"-\",GenGuid())","v":"-"},"-"]
[{"$f":"IF(ISBLANK(C248),\"-\",GenGuid())","v":"-"},"-"]
[{"$f":"IF(ISBLANK(C249),\"-\",GenGuid())","v":"-"},"-"]
[{"$f":"IF(ISBLANK(C250),\"-\",GenGuid())","v":"-"},"-"]
[{"$f":"IF(ISBLANK(C251),\"-\",GenGuid())","v":"-"},"-"]
[{"$f":"IF(ISBLANK(C252),\"-\",GenGuid())","v":"-"},"-"]
[{"$f":"IF(ISBLANK(C253),\"-\",GenGuid())","v":"-"},"-"]
[{"$f":"IF(ISBLANK(C254),\"-\",GenGuid())","v":"-"},"-"]
[{"$f":"IF(ISBLANK(C255),\"-\",GenGuid())","v":"-"},"-"]
[{"$f":"IF(ISBLANK(C256),\"-\",GenGuid())","v":"-"},"-"]
[{"$f":"IF(ISBLANK(C257),\"-\",GenGuid())","v":"-"},"-"]
[{"$f":"IF(ISBLANK(C258),\"-\",GenGuid())","v":"-"},"-"]
[{"$f":"IF(ISBLANK(C259),\"-\",GenGuid())","v":"-"},"-"]
[{"$f":"IF(ISBLANK(C260),\"-\",GenGuid())","v":"-"},"-"]
[{"$f":"IF(ISBLANK(C261),\"-\",GenGuid())","v":"-"},{"$f":"IF(ISBLANK(C261),\"-\",INDIRECT(\"PLOTS!A\"&MATCH(C261,PlotLabels)+4))","v":"-"}]
[{"$f":"IF(ISBLANK(C262),\"-\",GenGuid())","v":"-"},"-"]
[{"$f":"IF(ISBLANK(C263),\"-\",GenGuid())","v":"-"},"-"]
[{"$f":"IF(ISBLANK(C264),\"-\",GenGuid())","v":"-"},"-"]
[{"$f":"IF(ISBLANK(C265),\"-\",GenGuid())","v":"-"},"-"]
[{"$f":"IF(ISBLANK(C266),\"-\",GenGuid())","v":"-"},"-"]
[{"$f":"IF(ISBLANK(C267),\"-\",GenGuid())","v":"-"},"-"]
[{"$f":"IF(ISBLANK(C268),\"-\",GenGuid())","v":"-"},"-"]
[{"$f":"IF(ISBLANK(C269),\"-\",GenGuid())","v":"-"},"-"]
[{"$f":"IF(ISBLANK(C270),\"-\",GenGuid())","v":"-"},"-"]
[{"$f":"IF(ISBLANK(C271),\"-\",GenGuid())","v":"-"},"-"]
[{"$f":"IF(ISBLANK(C272),\"-\",GenGuid())","v":"-"},"-"]
[{"$f":"IF(ISBLANK(C273),\"-\",GenGuid())","v":"-"},"-"]
[{"$f":"IF(ISBLANK(C274),\"-\",GenGuid())","v":"-"},"-"]
[{"$f":"IF(ISBLANK(C275),\"-\",GenGuid())","v":"-"},"-"]
[{"$f":"IF(ISBLANK(C276),\"-\",GenGuid())","v":"-"},"-"]
[{"$f":"IF(ISBLANK(C277),\"-\",GenGuid())","v":"-"},"-"]
[{"$f":"IF(ISBLANK(C278),\"-\",GenGuid())","v":"-"},"-"]
[{"$f":"IF(ISBLANK(C279),\"-\",GenGuid())","v":"-"},"-"]
[{"$f":"IF(ISBLANK(C280),\"-\",GenGuid())","v":"-"},"-"]
[{"$f":"IF(ISBLANK(C281),\"-\",GenGuid())","v":"-"},"-"]
[{"$f":"IF(ISBLANK(C282),\"-\",GenGuid())","v":"-"},"-"]
[{"$f":"IF(ISBLANK(C283),\"-\",GenGuid())","v":"-"},"-"]
[{"$f":"IF(ISBLANK(C284),\"-\",GenGuid())","v":"-"},"-"]
[{"$f":"IF(ISBLANK(C285),\"-\",GenGuid())","v":"-"},"-"]
[{"$f":"IF(ISBLANK(C286),\"-\",GenGuid())","v":"-"},"-"]
[{"$f":"IF(ISBLANK(C287),\"-\",GenGuid())","v":"-"},"-"]
[{"$f":"IF(ISBLANK(C288),\"-\",GenGuid())","v":"-"},"-"]
[{"$f":"IF(ISBLANK(C289),\"-\",GenGuid())","v":"-"},"-"]
[{"$f":"IF(ISBLANK(C290),\"-\",GenGuid())","v":"-"},"-"]
[{"$f":"IF(ISBLANK(C291),\"-\",GenGuid())","v":"-"},"-"]
[{"$f":"IF(ISBLANK(C292),\"-\",GenGuid())","v":"-"},"-"]
[{"$f":"IF(ISBLANK(C293),\"-\",GenGuid())","v":"-"},"-"]
[{"$f":"IF(ISBLANK(C294),\"-\",GenGuid())","v":"-"},"-"]
[{"$f":"IF(ISBLANK(C295),\"-\",GenGuid())","v":"-"},"-"]
[{"$f":"IF(ISBLANK(C296),\"-\",GenGuid())","v":"-"},"-"]
[{"$f":"IF(ISBLANK(C297),\"-\",GenGuid())","v":"-"},"-"]
[{"$f":"IF(ISBLANK(C298),\"-\",GenGuid())","v":"-"},"-"]
[{"$f":"IF(ISBLANK(C299),\"-\",GenGuid())","v":"-"},"-"]
[{"$f":"IF(ISBLANK(C300),\"-\",GenGuid())","v":"-"},"-"]
[{"$f":"IF(ISBLANK(C301),\"-\",GenGuid())","v":"-"},"-"]
[{"$f":"IF(ISBLANK(C302),\"-\",GenGuid())","v":"-"},"-"]
[{"$f":"IF(ISBLANK(C303),\"-\",GenGuid())","v":"-"},"-"]
[{"$f":"IF(ISBLANK(C304),\"-\",GenGuid())","v":"-"},"-"]
[{"$f":"IF(ISBLANK(C305),\"-\",GenGuid())","v":"-"},"-"]
[{"$f":"IF(ISBLANK(C306),\"-\",GenGuid())","v":"-"},"-"]
[{"$f":"IF(ISBLANK(C307),\"-\",GenGuid())","v":"-"},"-"]
[{"$f":"IF(ISBLANK(C308),\"-\",GenGuid())","v":"-"},"-"]
[{"$f":"IF(ISBLANK(C309),\"-\",GenGuid())","v":"-"},"-"]
[{"$f":"IF(ISBLANK(C310),\"-\",GenGuid())","v":"-"},"-"]
[{"$f":"IF(ISBLANK(C311),\"-\",GenGuid())","v":"-"},"-"]
[{"$f":"IF(ISBLANK(C312),\"-\",GenGuid())","v":"-"},"-"]
[{"$f":"IF(ISBLANK(C313),\"-\",GenGuid())","v":"-"},"-"]
[{"$f":"IF(ISBLANK(C314),\"-\",GenGuid())","v":"-"},"-"]
[{"$f":"IF(ISBLANK(C315),\"-\",GenGuid())","v":"-"},"-"]
[{"$f":"IF(ISBLANK(C316),\"-\",GenGuid())","v":"-"},"-"]
[{"$f":"IF(ISBLANK(C317),\"-\",GenGuid())","v":"-"},"-"]
[{"$f":"IF(ISBLANK(C318),\"-\",GenGuid())","v":"-"},"-"]
[{"$f":"IF(ISBLANK(C319),\"-\",GenGuid())","v":"-"},"-"]
[{"$f":"IF(ISBLANK(C320),\"-\",GenGuid())","v":"-"},"-"]
[{"$f":"IF(ISBLANK(C321),\"-\",GenGuid())","v":"-"},"-"]
[{"$f":"IF(ISBLANK(C322),\"-\",GenGuid())","v":"-"},"-"]
[{"$f":"IF(ISBLANK(C323),\"-\",GenGuid())","v":"-"},"-"]
[{"$f":"IF(ISBLANK(C324),\"-\",GenGuid())","v":"-"},"-"]
[{"$f":"IF(ISBLANK(C325),\"-\",GenGuid())","v":"-"},{"$f":"IF(ISBLANK(C325),\"-\",INDIRECT(\"PLOTS!A\"&MATCH(C325,PlotLabels)+4))","v":"-"}]
[{"$f":"IF(ISBLANK(C326),\"-\",GenGuid())","v":"-"},"-"]
[{"$f":"IF(ISBLANK(C327),\"-\",GenGuid())","v":"-"},"-"]
[{"$f":"IF(ISBLANK(C328),\"-\",GenGuid())","v":"-"},"-"]
[{"$f":"IF(ISBLANK(C329),\"-\",GenGuid())","v":"-"},"-"]
[{"$f":"IF(ISBLANK(C330),\"-\",GenGuid())","v":"-"},"-"]
[{"$f":"IF(ISBLANK(C331),\"-\",GenGuid())","v":"-"},"-"]
[{"$f":"IF(ISBLANK(C332),\"-\",GenGuid())","v":"-"},"-"]
[{"$f":"IF(ISBLANK(C333),\"-\",GenGuid())","v":"-"},"-"]
[{"$f":"IF(ISBLANK(C334),\"-\",GenGuid())","v":"-"},"-"]
[{"$f":"IF(ISBLANK(C335),\"-\",GenGuid())","v":"-"},"-"]
[{"$f":"IF(ISBLANK(C336),\"-\",GenGuid())","v":"-"},"-"]
[{"$f":"IF(ISBLANK(C337),\"-\",GenGuid())","v":"-"},"-"]
[{"$f":"IF(ISBLANK(C338),\"-\",GenGuid())","v":"-"},"-"]
[{"$f":"IF(ISBLANK(C339),\"-\",GenGuid())","v":"-"},"-"]
[{"$f":"IF(ISBLANK(C340),\"-\",GenGuid())","v":"-"},"-"]
[{"$f":"IF(ISBLANK(C341),\"-\",GenGuid())","v":"-"},"-"]
[{"$f":"IF(ISBLANK(C342),\"-\",GenGuid())","v":"-"},"-"]
[{"$f":"IF(ISBLANK(C343),\"-\",GenGuid())","v":"-"},"-"]
[{"$f":"IF(ISBLANK(C344),\"-\",GenGuid())","v":"-"},"-"]
[{"$f":"IF(ISBLANK(C345),\"-\",GenGuid())","v":"-"},"-"]
[{"$f":"IF(ISBLANK(C346),\"-\",GenGuid())","v":"-"},"-"]
[{"$f":"IF(ISBLANK(C347),\"-\",GenGuid())","v":"-"},"-"]
[{"$f":"IF(ISBLANK(C348),\"-\",GenGuid())","v":"-"},"-"]
[{"$f":"IF(ISBLANK(C349),\"-\",GenGuid())","v":"-"},"-"]
[{"$f":"IF(ISBLANK(C350),\"-\",GenGuid())","v":"-"},"-"]
[{"$f":"IF(ISBLANK(C351),\"-\",GenGuid())","v":"-"},"-"]
[{"$f":"IF(ISBLANK(C352),\"-\",GenGuid())","v":"-"},"-"]
[{"$f":"IF(ISBLANK(C353),\"-\",GenGuid())","v":"-"},"-"]
[{"$f":"IF(ISBLANK(C354),\"-\",GenGuid())","v":"-"},"-"]
[{"$f":"IF(ISBLANK(C355),\"-\",GenGuid())","v":"-"},"-"]
[{"$f":"IF(ISBLANK(C356),\"-\",GenGuid())","v":"-"},"-"]
[{"$f":"IF(ISBLANK(C357),\"-\",GenGuid())","v":"-"},"-"]
[{"$f":"IF(ISBLANK(C358),\"-\",GenGuid())","v":"-"},"-"]
[{"$f":"IF(ISBLANK(C359),\"-\",GenGuid())","v":"-"},"-"]
[{"$f":"IF(ISBLANK(C360),\"-\",GenGuid())","v":"-"},"-"]
[{"$f":"IF(ISBLANK(C361),\"-\",GenGuid())","v":"-"},"-"]
[{"$f":"IF(ISBLANK(C362),\"-\",GenGuid())","v":"-"},"-"]
[{"$f":"IF(ISBLANK(C363),\"-\",GenGuid())","v":"-"},"-"]
[{"$f":"IF(ISBLANK(C364),\"-\",GenGuid())","v":"-"},"-"]
[{"$f":"IF(ISBLANK(C365),\"-\",GenGuid())","v":"-"},"-"]
[{"$f":"IF(ISBLANK(C366),\"-\",GenGuid())","v":"-"},"-"]
[{"$f":"IF(ISBLANK(C367),\"-\",GenGuid())","v":"-"},"-"]
[{"$f":"IF(ISBLANK(C368),\"-\",GenGuid())","v":"-"},"-"]
[{"$f":"IF(ISBLANK(C369),\"-\",GenGuid())","v":"-"},"-"]
[{"$f":"IF(ISBLANK(C370),\"-\",GenGuid())","v":"-"},"-"]
[{"$f":"IF(ISBLANK(C371),\"-\",GenGuid())","v":"-"},"-"]
[{"$f":"IF(ISBLANK(C372),\"-\",GenGuid())","v":"-"},"-"]
[{"$f":"IF(ISBLANK(C373),\"-\",GenGuid())","v":"-"},"-"]
[{"$f":"IF(ISBLANK(C374),\"-\",GenGuid())","v":"-"},"-"]
[{"$f":"IF(ISBLANK(C375),\"-\",GenGuid())","v":"-"},"-"]
[{"$f":"IF(ISBLANK(C376),\"-\",GenGuid())","v":"-"},"-"]
[{"$f":"IF(ISBLANK(C377),\"-\",GenGuid())","v":"-"},"-"]
[{"$f":"IF(ISBLANK(C378),\"-\",GenGuid())","v":"-"},"-"]
[{"$f":"IF(ISBLANK(C379),\"-\",GenGuid())","v":"-"},"-"]
[{"$f":"IF(ISBLANK(C380),\"-\",GenGuid())","v":"-"},"-"]
[{"$f":"IF(ISBLANK(C381),\"-\",GenGuid())","v":"-"},"-"]
[{"$f":"IF(ISBLANK(C382),\"-\",GenGuid())","v":"-"},"-"]
[{"$f":"IF(ISBLANK(C383),\"-\",GenGuid())","v":"-"},"-"]
[{"$f":"IF(ISBLANK(C384),\"-\",GenGuid())","v":"-"},"-"]
[{"$f":"IF(ISBLANK(C385),\"-\",GenGuid())","v":"-"},"-"]
[{"$f":"IF(ISBLANK(C386),\"-\",GenGuid())","v":"-"},"-"]
[{"$f":"IF(ISBLANK(C387),\"-\",GenGuid())","v":"-"},"-"]
[{"$f":"IF(ISBLANK(C388),\"-\",GenGuid())","v":"-"},"-"]
[{"$f":"IF(ISBLANK(C389),\"-\",GenGuid())","v":"-"},{"$f":"IF(ISBLANK(C389),\"-\",INDIRECT(\"PLOTS!A\"&MATCH(C389,PlotLabels)+4))","v":"-"}]
[{"$f":"IF(ISBLANK(C390),\"-\",GenGuid())","v":"-"},"-"]
[{"$f":"IF(ISBLANK(C391),\"-\",GenGuid())","v":"-"},"-"]
[{"$f":"IF(ISBLANK(C392),\"-\",GenGuid())","v":"-"},"-"]
[{"$f":"IF(ISBLANK(C393),\"-\",GenGuid())","v":"-"},"-"]
[{"$f":"IF(ISBLANK(C394),\"-\",GenGuid())","v":"-"},"-"]
[{"$f":"IF(ISBLANK(C395),\"-\",GenGuid())","v":"-"},"-"]
[{"$f":"IF(ISBLANK(C396),\"-\",GenGuid())","v":"-"},"-"]
[{"$f":"IF(ISBLANK(C397),\"-\",GenGuid())","v":"-"},"-"]
[{"$f":"IF(ISBLANK(C398),\"-\",GenGuid())","v":"-"},"-"]
[{"$f":"IF(ISBLANK(C399),\"-\",GenGuid())","v":"-"},"-"]
[{"$f":"IF(ISBLANK(C400),\"-\",GenGuid())","v":"-"},"-"]
[{"$f":"IF(ISBLANK(C401),\"-\",GenGuid())","v":"-"},"-"]
[{"$f":"IF(ISBLANK(C402),\"-\",GenGuid())","v":"-"},"-"]
[{"$f":"IF(ISBLANK(C403),\"-\",GenGuid())","v":"-"},"-"]
[{"$f":"IF(ISBLANK(C404),\"-\",GenGuid())","v":"-"},"-"]
[{"$f":"IF(ISBLANK(C405),\"-\",GenGuid())","v":"-"},"-"]
[{"$f":"IF(ISBLANK(C406),\"-\",GenGuid())","v":"-"},"-"]
[{"$f":"IF(ISBLANK(C407),\"-\",GenGuid())","v":"-"},"-"]
[{"$f":"IF(ISBLANK(C408),\"-\",GenGuid())","v":"-"},"-"]
[{"$f":"IF(ISBLANK(C409),\"-\",GenGuid())","v":"-"},"-"]
[{"$f":"IF(ISBLANK(C410),\"-\",GenGuid())","v":"-"},"-"]
[{"$f":"IF(ISBLANK(C411),\"-\",GenGuid())","v":"-"},"-"]
[{"$f":"IF(ISBLANK(C412),\"-\",GenGuid())","v":"-"},"-"]
[{"$f":"IF(ISBLANK(C413),\"-\",GenGuid())","v":"-"},"-"]
[{"$f":"IF(ISBLANK(C414),\"-\",GenGuid())","v":"-"},"-"]
[{"$f":"IF(ISBLANK(C415),\"-\",GenGuid())","v":"-"},"-"]
[{"$f":"IF(ISBLANK(C416),\"-\",GenGuid())","v":"-"},"-"]
[{"$f":"IF(ISBLANK(C417),\"-\",GenGuid())","v":"-"},"-"]
[{"$f":"IF(ISBLANK(C418),\"-\",GenGuid())","v":"-"},"-"]
[{"$f":"IF(ISBLANK(C419),\"-\",GenGuid())","v":"-"},"-"]
[{"$f":"IF(ISBLANK(C420),\"-\",GenGuid())","v":"-"},"-"]
[{"$f":"IF(ISBLANK(C421),\"-\",GenGuid())","v":"-"},"-"]
[{"$f":"IF(ISBLANK(C422),\"-\",GenGuid())","v":"-"},"-"]
[{"$f":"IF(ISBLANK(C423),\"-\",GenGuid())","v":"-"},"-"]
[{"$f":"IF(ISBLANK(C424),\"-\",GenGuid())","v":"-"},"-"]
[{"$f":"IF(ISBLANK(C425),\"-\",GenGuid())","v":"-"},"-"]
[{"$f":"IF(ISBLANK(C426),\"-\",GenGuid())","v":"-"},"-"]
[{"$f":"IF(ISBLANK(C427),\"-\",GenGuid())","v":"-"},"-"]
[{"$f":"IF(ISBLANK(C428),\"-\",GenGuid())","v":"-"},"-"]
[{"$f":"IF(ISBLANK(C429),\"-\",GenGuid())","v":"-"},"-"]
[{"$f":"IF(ISBLANK(C430),\"-\",GenGuid())","v":"-"},"-"]
[{"$f":"IF(ISBLANK(C431),\"-\",GenGuid())","v":"-"},"-"]
[{"$f":"IF(ISBLANK(C432),\"-\",GenGuid())","v":"-"},"-"]
[{"$f":"IF(ISBLANK(C433),\"-\",GenGuid())","v":"-"},"-"]
[{"$f":"IF(ISBLANK(C434),\"-\",GenGuid())","v":"-"},"-"]
[{"$f":"IF(ISBLANK(C435),\"-\",GenGuid())","v":"-"},"-"]
[{"$f":"IF(ISBLANK(C436),\"-\",GenGuid())","v":"-"},"-"]
[{"$f":"IF(ISBLANK(C437),\"-\",GenGuid())","v":"-"},"-"]
[{"$f":"IF(ISBLANK(C438),\"-\",GenGuid())","v":"-"},"-"]
[{"$f":"IF(ISBLANK(C439),\"-\",GenGuid())","v":"-"},"-"]
[{"$f":"IF(ISBLANK(C440),\"-\",GenGuid())","v":"-"},"-"]
[{"$f":"IF(ISBLANK(C441),\"-\",GenGuid())","v":"-"},"-"]
[{"$f":"IF(ISBLANK(C442),\"-\",GenGuid())","v":"-"},"-"]
[{"$f":"IF(ISBLANK(C443),\"-\",GenGuid())","v":"-"},"-"]
[{"$f":"IF(ISBLANK(C444),\"-\",GenGuid())","v":"-"},"-"]
[{"$f":"IF(ISBLANK(C445),\"-\",GenGuid())","v":"-"},"-"]
[{"$f":"IF(ISBLANK(C446),\"-\",GenGuid())","v":"-"},"-"]
[{"$f":"IF(ISBLANK(C447),\"-\",GenGuid())","v":"-"},"-"]
[{"$f":"IF(ISBLANK(C448),\"-\",GenGuid())","v":"-"},"-"]
[{"$f":"IF(ISBLANK(C449),\"-\",GenGuid())","v":"-"},"-"]
[{"$f":"IF(ISBLANK(C450),\"-\",GenGuid())","v":"-"},"-"]
[{"$f":"IF(ISBLANK(C451),\"-\",GenGuid())","v":"-"},"-"]
[{"$f":"IF(ISBLANK(C452),\"-\",GenGuid())","v":"-"},"-"]
[{"$f":"IF(ISBLANK(C453),\"-\",GenGuid())","v":"-"},{"$f":"IF(ISBLANK(C453),\"-\",INDIRECT(\"PLOTS!A\"&MATCH(C453,PlotLabels)+4))","v":"-"}]
[{"$f":"IF(ISBLANK(C454),\"-\",GenGuid())","v":"-"},"-"]
[{"$f":"IF(ISBLANK(C455),\"-\",GenGuid())","v":"-"},"-"]
[{"$f":"IF(ISBLANK(C456),\"-\",GenGuid())","v":"-"},"-"]
[{"$f":"IF(ISBLANK(C457),\"-\",GenGuid())","v":"-"},"-"]
[{"$f":"IF(ISBLANK(C458),\"-\",GenGuid())","v":"-"},"-"]
[{"$f":"IF(ISBLANK(C459),\"-\",GenGuid())","v":"-"},"-"]
[{"$f":"IF(ISBLANK(C460),\"-\",GenGuid())","v":"-"},"-"]
[{"$f":"IF(ISBLANK(C461),\"-\",GenGuid())","v":"-"},"-"]
[{"$f":"IF(ISBLANK(C462),\"-\",GenGuid())","v":"-"},"-"]
[{"$f":"IF(ISBLANK(C463),\"-\",GenGuid())","v":"-"},"-"]
[{"$f":"IF(ISBLANK(C464),\"-\",GenGuid())","v":"-"},"-"]
[{"$f":"IF(ISBLANK(C465),\"-\",GenGuid())","v":"-"},"-"]
[{"$f":"IF(ISBLANK(C466),\"-\",GenGuid())","v":"-"},"-"]
[{"$f":"IF(ISBLANK(C467),\"-\",GenGuid())","v":"-"},"-"]
[{"$f":"IF(ISBLANK(C468),\"-\",GenGuid())","v":"-"},"-"]
[{"$f":"IF(ISBLANK(C469),\"-\",GenGuid())","v":"-"},"-"]
[{"$f":"IF(ISBLANK(C470),\"-\",GenGuid())","v":"-"},"-"]
[{"$f":"IF(ISBLANK(C471),\"-\",GenGuid())","v":"-"},"-"]
[{"$f":"IF(ISBLANK(C472),\"-\",GenGuid())","v":"-"},"-"]
[{"$f":"IF(ISBLANK(C473),\"-\",GenGuid())","v":"-"},"-"]
[{"$f":"IF(ISBLANK(C474),\"-\",GenGuid())","v":"-"},"-"]
[{"$f":"IF(ISBLANK(C475),\"-\",GenGuid())","v":"-"},"-"]
[{"$f":"IF(ISBLANK(C476),\"-\",GenGuid())","v":"-"},"-"]
[{"$f":"IF(ISBLANK(C477),\"-\",GenGuid())","v":"-"},"-"]
[{"$f":"IF(ISBLANK(C478),\"-\",GenGuid())","v":"-"},"-"]
[{"$f":"IF(ISBLANK(C479),\"-\",GenGuid())","v":"-"},"-"]
[{"$f":"IF(ISBLANK(C480),\"-\",GenGuid())","v":"-"},"-"]
[{"$f":"IF(ISBLANK(C481),\"-\",GenGuid())","v":"-"},"-"]
[{"$f":"IF(ISBLANK(C482),\"-\",GenGuid())","v":"-"},"-"]
[{"$f":"IF(ISBLANK(C483),\"-\",GenGuid())","v":"-"},"-"]
[{"$f":"IF(ISBLANK(C484),\"-\",GenGuid())","v":"-"},"-"]
[{"$f":"IF(ISBLANK(C485),\"-\",GenGuid())","v":"-"},"-"]
[{"$f":"IF(ISBLANK(C486),\"-\",GenGuid())","v":"-"},"-"]
[{"$f":"IF(ISBLANK(C487),\"-\",GenGuid())","v":"-"},"-"]
[{"$f":"IF(ISBLANK(C488),\"-\",GenGuid())","v":"-"},"-"]
[{"$f":"IF(ISBLANK(C489),\"-\",GenGuid())","v":"-"},"-"]
[{"$f":"IF(ISBLANK(C490),\"-\",GenGuid())","v":"-"},"-"]
[{"$f":"IF(ISBLANK(C491),\"-\",GenGuid())","v":"-"},"-"]
[{"$f":"IF(ISBLANK(C492),\"-\",GenGuid())","v":"-"},"-"]
[{"$f":"IF(ISBLANK(C493),\"-\",GenGuid())","v":"-"},"-"]
[{"$f":"IF(ISBLANK(C494),\"-\",GenGuid())","v":"-"},"-"]
[{"$f":"IF(ISBLANK(C495),\"-\",GenGuid())","v":"-"},"-"]
[{"$f":"IF(ISBLANK(C496),\"-\",GenGuid())","v":"-"},"-"]
[{"$f":"IF(ISBLANK(C497),\"-\",GenGuid())","v":"-"},"-"]
[{"$f":"IF(ISBLANK(C498),\"-\",GenGuid())","v":"-"},"-"]
[{"$f":"IF(ISBLANK(C499),\"-\",GenGuid())","v":"-"},"-"]
[{"$f":"IF(ISBLANK(C500),\"-\",GenGuid())","v":"-"},"-"]
[{"$f":"IF(ISBLANK(C501),\"-\",GenGuid())","v":"-"},"-"]
[{"$f":"IF(ISBLANK(C502),\"-\",GenGuid())","v":"-"},"-"]
[{"$f":"IF(ISBLANK(C503),\"-\",GenGuid())","v":"-"},"-"]
[{"$f":"IF(ISBLANK(C504),\"-\",GenGuid())","v":"-"},"-"]
[{"$f":"IF(ISBLANK(C505),\"-\",GenGuid())","v":"-"},"-"]
[{"$f":"IF(ISBLANK(C506),\"-\",GenGuid())","v":"-"},"-"]
[{"$f":"IF(ISBLANK(C507),\"-\",GenGuid())","v":"-"},"-"]
[{"$f":"IF(ISBLANK(C508),\"-\",GenGuid())","v":"-"},"-"]
[{"$f":"IF(ISBLANK(C509),\"-\",GenGuid())","v":"-"},"-"]
[{"$f":"IF(ISBLANK(C510),\"-\",GenGuid())","v":"-"},"-"]
[{"$f":"IF(ISBLANK(C511),\"-\",GenGuid())","v":"-"},"-"]
[{"$f":"IF(ISBLANK(C512),\"-\",GenGuid())","v":"-"},"-"]
[{"$f":"IF(ISBLANK(C513),\"-\",GenGuid())","v":"-"},"-"]
[{"$f":"IF(ISBLANK(C514),\"-\",GenGuid())","v":"-"},"-"]
[{"$f":"IF(ISBLANK(C515),\"-\",GenGuid())","v":"-"},"-"]
[{"$f":"IF(ISBLANK(C516),\"-\",GenGuid())","v":"-"},"-"]
[{"$f":"IF(ISBLANK(C517),\"-\",GenGuid())","v":"-"},{"$f":"IF(ISBLANK(C517),\"-\",INDIRECT(\"PLOTS!A\"&MATCH(C517,PlotLabels)+4))","v":"-"}]
[{"$f":"IF(ISBLANK(C518),\"-\",GenGuid())","v":"-"},"-"]
[{"$f":"IF(ISBLANK(C519),\"-\",GenGuid())","v":"-"},"-"]
[{"$f":"IF(ISBLANK(C520),\"-\",GenGuid())","v":"-"},"-"]
[{"$f":"IF(ISBLANK(C521),\"-\",GenGuid())","v":"-"},"-"]
[{"$f":"IF(ISBLANK(C522),\"-\",GenGuid())","v":"-"},"-"]
[{"$f":"IF(ISBLANK(C523),\"-\",GenGuid())","v":"-"},"-"]
[{"$f":"IF(ISBLANK(C524),\"-\",GenGuid())","v":"-"},"-"]
[{"$f":"IF(ISBLANK(C525),\"-\",GenGuid())","v":"-"},"-"]
[{"$f":"IF(ISBLANK(C526),\"-\",GenGuid())","v":"-"},"-"]
[{"$f":"IF(ISBLANK(C527),\"-\",GenGuid())","v":"-"},"-"]
[{"$f":"IF(ISBLANK(C528),\"-\",GenGuid())","v":"-"},"-"]
[{"$f":"IF(ISBLANK(C529),\"-\",GenGuid())","v":"-"},"-"]
[{"$f":"IF(ISBLANK(C530),\"-\",GenGuid())","v":"-"},"-"]
[{"$f":"IF(ISBLANK(C531),\"-\",GenGuid())","v":"-"},"-"]
[{"$f":"IF(ISBLANK(C532),\"-\",GenGuid())","v":"-"},"-"]
[{"$f":"IF(ISBLANK(C533),\"-\",GenGuid())","v":"-"},"-"]
[{"$f":"IF(ISBLANK(C534),\"-\",GenGuid())","v":"-"},"-"]
[{"$f":"IF(ISBLANK(C535),\"-\",GenGuid())","v":"-"},"-"]
[{"$f":"IF(ISBLANK(C536),\"-\",GenGuid())","v":"-"},"-"]
[{"$f":"IF(ISBLANK(C537),\"-\",GenGuid())","v":"-"},"-"]
[{"$f":"IF(ISBLANK(C538),\"-\",GenGuid())","v":"-"},"-"]
[{"$f":"IF(ISBLANK(C539),\"-\",GenGuid())","v":"-"},"-"]
[{"$f":"IF(ISBLANK(C540),\"-\",GenGuid())","v":"-"},"-"]
[{"$f":"IF(ISBLANK(C541),\"-\",GenGuid())","v":"-"},"-"]
[{"$f":"IF(ISBLANK(C542),\"-\",GenGuid())","v":"-"},"-"]
[{"$f":"IF(ISBLANK(C543),\"-\",GenGuid())","v":"-"},"-"]
[{"$f":"IF(ISBLANK(C544),\"-\",GenGuid())","v":"-"},"-"]
[{"$f":"IF(ISBLANK(C545),\"-\",GenGuid())","v":"-"},"-"]
[{"$f":"IF(ISBLANK(C546),\"-\",GenGuid())","v":"-"},"-"]
[{"$f":"IF(ISBLANK(C547),\"-\",GenGuid())","v":"-"},"-"]
[{"$f":"IF(ISBLANK(C548),\"-\",GenGuid())","v":"-"},"-"]
[{"$f":"IF(ISBLANK(C549),\"-\",GenGuid())","v":"-"},"-"]
[{"$f":"IF(ISBLANK(C550),\"-\",GenGuid())","v":"-"},"-"]
[{"$f":"IF(ISBLANK(C551),\"-\",GenGuid())","v":"-"},"-"]
[{"$f":"IF(ISBLANK(C552),\"-\",GenGuid())","v":"-"},"-"]
[{"$f":"IF(ISBLANK(C553),\"-\",GenGuid())","v":"-"},"-"]
[{"$f":"IF(ISBLANK(C554),\"-\",GenGuid())","v":"-"},"-"]
[{"$f":"IF(ISBLANK(C555),\"-\",GenGuid())","v":"-"},"-"]
[{"$f":"IF(ISBLANK(C556),\"-\",GenGuid())","v":"-"},"-"]
[{"$f":"IF(ISBLANK(C557),\"-\",GenGuid())","v":"-"},"-"]
[{"$f":"IF(ISBLANK(C558),\"-\",GenGuid())","v":"-"},"-"]
[{"$f":"IF(ISBLANK(C559),\"-\",GenGuid())","v":"-"},"-"]
[{"$f":"IF(ISBLANK(C560),\"-\",GenGuid())","v":"-"},"-"]
[{"$f":"IF(ISBLANK(C561),\"-\",GenGuid())","v":"-"},"-"]
[{"$f":"IF(ISBLANK(C562),\"-\",GenGuid())","v":"-"},"-"]
[{"$f":"IF(ISBLANK(C563),\"-\",GenGuid())","v":"-"},"-"]
[{"$f":"IF(ISBLANK(C564),\"-\",GenGuid())","v":"-"},"-"]
[{"$f":"IF(ISBLANK(C565),\"-\",GenGuid())","v":"-"},"-"]
[{"$f":"IF(ISBLANK(C566),\"-\",GenGuid())","v":"-"},"-"]
[{"$f":"IF(ISBLANK(C567),\"-\",GenGuid())","v":"-"},"-"]
[{"$f":"IF(ISBLANK(C568),\"-\",GenGuid())","v":"-"},"-"]
[{"$f":"IF(ISBLANK(C569),\"-\",GenGuid())","v":"-"},"-"]
[{"$f":"IF(ISBLANK(C570),\"-\",GenGuid())","v":"-"},"-"]
[{"$f":"IF(ISBLANK(C571),\"-\",GenGuid())","v":"-"},"-"]
[{"$f":"IF(ISBLANK(C572),\"-\",GenGuid())","v":"-"},"-"]
[{"$f":"IF(ISBLANK(C573),\"-\",GenGuid())","v":"-"},"-"]
[{"$f":"IF(ISBLANK(C574),\"-\",GenGuid())","v":"-"},"-"]
[{"$f":"IF(ISBLANK(C575),\"-\",GenGuid())","v":"-"},"-"]
[{"$f":"IF(ISBLANK(C576),\"-\",GenGuid())","v":"-"},"-"]
[{"$f":"IF(ISBLANK(C577),\"-\",GenGuid())","v":"-"},"-"]
[{"$f":"IF(ISBLANK(C578),\"-\",GenGuid())","v":"-"},"-"]
[{"$f":"IF(ISBLANK(C579),\"-\",GenGuid())","v":"-"},"-"]
[{"$f":"IF(ISBLANK(C580),\"-\",GenGuid())","v":"-"},"-"]
[{"$f":"IF(ISBLANK(C581),\"-\",GenGuid())","v":"-"},{"$f":"IF(ISBLANK(C581),\"-\",INDIRECT(\"PLOTS!A\"&MATCH(C581,PlotLabels)+4))","v":"-"}]
[{"$f":"IF(ISBLANK(C582),\"-\",GenGuid())","v":"-"},"-"]
[{"$f":"IF(ISBLANK(C583),\"-\",GenGuid())","v":"-"},"-"]
[{"$f":"IF(ISBLANK(C584),\"-\",GenGuid())","v":"-"},"-"]
[{"$f":"IF(ISBLANK(C585),\"-\",GenGuid())","v":"-"},"-"]
[{"$f":"IF(ISBLANK(C586),\"-\",GenGuid())","v":"-"},"-"]
[{"$f":"IF(ISBLANK(C587),\"-\",GenGuid())","v":"-"},"-"]
[{"$f":"IF(ISBLANK(C588),\"-\",GenGuid())","v":"-"},"-"]
[{"$f":"IF(ISBLANK(C589),\"-\",GenGuid())","v":"-"},"-"]
[{"$f":"IF(ISBLANK(C590),\"-\",GenGuid())","v":"-"},"-"]
[{"$f":"IF(ISBLANK(C591),\"-\",GenGuid())","v":"-"},"-"]
[{"$f":"IF(ISBLANK(C592),\"-\",GenGuid())","v":"-"},"-"]
[{"$f":"IF(ISBLANK(C593),\"-\",GenGuid())","v":"-"},"-"]
[{"$f":"IF(ISBLANK(C594),\"-\",GenGuid())","v":"-"},"-"]
[{"$f":"IF(ISBLANK(C595),\"-\",GenGuid())","v":"-"},"-"]
[{"$f":"IF(ISBLANK(C596),\"-\",GenGuid())","v":"-"},"-"]
[{"$f":"IF(ISBLANK(C597),\"-\",GenGuid())","v":"-"},"-"]
[{"$f":"IF(ISBLANK(C598),\"-\",GenGuid())","v":"-"},"-"]
[{"$f":"IF(ISBLANK(C599),\"-\",GenGuid())","v":"-"},"-"]
[{"$f":"IF(ISBLANK(C600),\"-\",GenGuid())","v":"-"},"-"]
[{"$f":"IF(ISBLANK(C601),\"-\",GenGuid())","v":"-"},"-"]
[{"$f":"IF(ISBLANK(C602),\"-\",GenGuid())","v":"-"},"-"]
[{"$f":"IF(ISBLANK(C603),\"-\",GenGuid())","v":"-"},"-"]
[{"$f":"IF(ISBLANK(C604),\"-\",GenGuid())","v":"-"},"-"]
[{"$f":"IF(ISBLANK(C605),\"-\",GenGuid())","v":"-"},"-"]
[{"$f":"IF(ISBLANK(C606),\"-\",GenGuid())","v":"-"},"-"]
[{"$f":"IF(ISBLANK(C607),\"-\",GenGuid())","v":"-"},"-"]
[{"$f":"IF(ISBLANK(C608),\"-\",GenGuid())","v":"-"},"-"]
[{"$f":"IF(ISBLANK(C609),\"-\",GenGuid())","v":"-"},"-"]
[{"$f":"IF(ISBLANK(C610),\"-\",GenGuid())","v":"-"},"-"]
[{"$f":"IF(ISBLANK(C611),\"-\",GenGuid())","v":"-"},"-"]
[{"$f":"IF(ISBLANK(C612),\"-\",GenGuid())","v":"-"},"-"]
[{"$f":"IF(ISBLANK(C613),\"-\",GenGuid())","v":"-"},"-"]
[{"$f":"IF(ISBLANK(C614),\"-\",GenGuid())","v":"-"},"-"]
[{"$f":"IF(ISBLANK(C615),\"-\",GenGuid())","v":"-"},"-"]
[{"$f":"IF(ISBLANK(C616),\"-\",GenGuid())","v":"-"},"-"]
[{"$f":"IF(ISBLANK(C617),\"-\",GenGuid())","v":"-"},"-"]
[{"$f":"IF(ISBLANK(C618),\"-\",GenGuid())","v":"-"},"-"]
[{"$f":"IF(ISBLANK(C619),\"-\",GenGuid())","v":"-"},"-"]
[{"$f":"IF(ISBLANK(C620),\"-\",GenGuid())","v":"-"},"-"]
[{"$f":"IF(ISBLANK(C621),\"-\",GenGuid())","v":"-"},"-"]
[{"$f":"IF(ISBLANK(C622),\"-\",GenGuid())","v":"-"},"-"]
[{"$f":"IF(ISBLANK(C623),\"-\",GenGuid())","v":"-"},"-"]
[{"$f":"IF(ISBLANK(C624),\"-\",GenGuid())","v":"-"},"-"]
[{"$f":"IF(ISBLANK(C625),\"-\",GenGuid())","v":"-"},"-"]
[{"$f":"IF(ISBLANK(C626),\"-\",GenGuid())","v":"-"},"-"]
[{"$f":"IF(ISBLANK(C627),\"-\",GenGuid())","v":"-"},"-"]
[{"$f":"IF(ISBLANK(C628),\"-\",GenGuid())","v":"-"},"-"]
[{"$f":"IF(ISBLANK(C629),\"-\",GenGuid())","v":"-"},"-"]
[{"$f":"IF(ISBLANK(C630),\"-\",GenGuid())","v":"-"},"-"]
[{"$f":"IF(ISBLANK(C631),\"-\",GenGuid())","v":"-"},"-"]
[{"$f":"IF(ISBLANK(C632),\"-\",GenGuid())","v":"-"},"-"]
[{"$f":"IF(ISBLANK(C633),\"-\",GenGuid())","v":"-"},"-"]
[{"$f":"IF(ISBLANK(C634),\"-\",GenGuid())","v":"-"},"-"]
[{"$f":"IF(ISBLANK(C635),\"-\",GenGuid())","v":"-"},"-"]
[{"$f":"IF(ISBLANK(C636),\"-\",GenGuid())","v":"-"},"-"]
[{"$f":"IF(ISBLANK(C637),\"-\",GenGuid())","v":"-"},"-"]
[{"$f":"IF(ISBLANK(C638),\"-\",GenGuid())","v":"-"},"-"]
[{"$f":"IF(ISBLANK(C639),\"-\",GenGuid())","v":"-"},"-"]
[{"$f":"IF(ISBLANK(C640),\"-\",GenGuid())","v":"-"},"-"]
[{"$f":"IF(ISBLANK(C641),\"-\",GenGuid())","v":"-"},"-"]
[{"$f":"IF(ISBLANK(C642),\"-\",GenGuid())","v":"-"},"-"]
[{"$f":"IF(ISBLANK(C643),\"-\",GenGuid())","v":"-"},"-"]
[{"$f":"IF(ISBLANK(C644),\"-\",GenGuid())","v":"-"},"-"]
[{"$f":"IF(ISBLANK(C645),\"-\",GenGuid())","v":"-"},{"$f":"IF(ISBLANK(C645),\"-\",INDIRECT(\"PLOTS!A\"&MATCH(C645,PlotLabels)+4))","v":"-"}]
[{"$f":"IF(ISBLANK(C646),\"-\",GenGuid())","v":"-"},"-"]
[{"$f":"IF(ISBLANK(C647),\"-\",GenGuid())","v":"-"},"-"]
[{"$f":"IF(ISBLANK(C648),\"-\",GenGuid())","v":"-"},"-"]
[{"$f":"IF(ISBLANK(C649),\"-\",GenGuid())","v":"-"},"-"]
[{"$f":"IF(ISBLANK(C650),\"-\",GenGuid())","v":"-"},"-"]
[{"$f":"IF(ISBLANK(C651),\"-\",GenGuid())","v":"-"},"-"]
[{"$f":"IF(ISBLANK(C652),\"-\",GenGuid())","v":"-"},"-"]
[{"$f":"IF(ISBLANK(C653),\"-\",GenGuid())","v":"-"},"-"]
[{"$f":"IF(ISBLANK(C654),\"-\",GenGuid())","v":"-"},"-"]
[{"$f":"IF(ISBLANK(C655),\"-\",GenGuid())","v":"-"},"-"]
[{"$f":"IF(ISBLANK(C656),\"-\",GenGuid())","v":"-"},"-"]
[{"$f":"IF(ISBLANK(C657),\"-\",GenGuid())","v":"-"},"-"]
[{"$f":"IF(ISBLANK(C658),\"-\",GenGuid())","v":"-"},"-"]
[{"$f":"IF(ISBLANK(C659),\"-\",GenGuid())","v":"-"},"-"]
[{"$f":"IF(ISBLANK(C660),\"-\",GenGuid())","v":"-"},"-"]
[{"$f":"IF(ISBLANK(C661),\"-\",GenGuid())","v":"-"},"-"]
[{"$f":"IF(ISBLANK(C662),\"-\",GenGuid())","v":"-"},"-"]
[{"$f":"IF(ISBLANK(C663),\"-\",GenGuid())","v":"-"},"-"]
[{"$f":"IF(ISBLANK(C664),\"-\",GenGuid())","v":"-"},"-"]
[{"$f":"IF(ISBLANK(C665),\"-\",GenGuid())","v":"-"},"-"]
[{"$f":"IF(ISBLANK(C666),\"-\",GenGuid())","v":"-"},"-"]
[{"$f":"IF(ISBLANK(C667),\"-\",GenGuid())","v":"-"},"-"]
[{"$f":"IF(ISBLANK(C668),\"-\",GenGuid())","v":"-"},"-"]
[{"$f":"IF(ISBLANK(C669),\"-\",GenGuid())","v":"-"},"-"]
[{"$f":"IF(ISBLANK(C670),\"-\",GenGuid())","v":"-"},"-"]
[{"$f":"IF(ISBLANK(C671),\"-\",GenGuid())","v":"-"},"-"]
[{"$f":"IF(ISBLANK(C672),\"-\",GenGuid())","v":"-"},"-"]
[{"$f":"IF(ISBLANK(C673),\"-\",GenGuid())","v":"-"},"-"]
[{"$f":"IF(ISBLANK(C674),\"-\",GenGuid())","v":"-"},"-"]
[{"$f":"IF(ISBLANK(C675),\"-\",GenGuid())","v":"-"},"-"]
[{"$f":"IF(ISBLANK(C676),\"-\",GenGuid())","v":"-"},"-"]
[{"$f":"IF(ISBLANK(C677),\"-\",GenGuid())","v":"-"},"-"]
[{"$f":"IF(ISBLANK(C678),\"-\",GenGuid())","v":"-"},"-"]
[{"$f":"IF(ISBLANK(C679),\"-\",GenGuid())","v":"-"},"-"]
[{"$f":"IF(ISBLANK(C680),\"-\",GenGuid())","v":"-"},"-"]
[{"$f":"IF(ISBLANK(C681),\"-\",GenGuid())","v":"-"},"-"]
[{"$f":"IF(ISBLANK(C682),\"-\",GenGuid())","v":"-"},"-"]
[{"$f":"IF(ISBLANK(C683),\"-\",GenGuid())","v":"-"},"-"]
[{"$f":"IF(ISBLANK(C684),\"-\",GenGuid())","v":"-"},"-"]
[{"$f":"IF(ISBLANK(C685),\"-\",GenGuid())","v":"-"},"-"]
[{"$f":"IF(ISBLANK(C686),\"-\",GenGuid())","v":"-"},"-"]
[{"$f":"IF(ISBLANK(C687),\"-\",GenGuid())","v":"-"},"-"]
[{"$f":"IF(ISBLANK(C688),\"-\",GenGuid())","v":"-"},"-"]
[{"$f":"IF(ISBLANK(C689),\"-\",GenGuid())","v":"-"},"-"]
[{"$f":"IF(ISBLANK(C690),\"-\",GenGuid())","v":"-"},"-"]
[{"$f":"IF(ISBLANK(C691),\"-\",GenGuid())","v":"-"},"-"]
[{"$f":"IF(ISBLANK(C692),\"-\",GenGuid())","v":"-"},"-"]
[{"$f":"IF(ISBLANK(C693),\"-\",GenGuid())","v":"-"},"-"]
[{"$f":"IF(ISBLANK(C694),\"-\",GenGuid())","v":"-"},"-"]
[{"$f":"IF(ISBLANK(C695),\"-\",GenGuid())","v":"-"},"-"]
[{"$f":"IF(ISBLANK(C696),\"-\",GenGuid())","v":"-"},"-"]
[{"$f":"IF(ISBLANK(C697),\"-\",GenGuid())","v":"-"},"-"]
[{"$f":"IF(ISBLANK(C698),\"-\",GenGuid())","v":"-"},"-"]
[{"$f":"IF(ISBLANK(C699),\"-\",GenGuid())","v":"-"},"-"]
[{"$f":"IF(ISBLANK(C700),\"-\",GenGuid())","v":"-"},"-"]
[{"$f":"IF(ISBLANK(C701),\"-\",GenGuid())","v":"-"},"-"]
[{"$f":"IF(ISBLANK(C702),\"-\",GenGuid())","v":"-"},"-"]
[{"$f":"IF(ISBLANK(C703),\"-\",GenGuid())","v":"-"},"-"]
[{"$f":"IF(ISBLANK(C704),\"-\",GenGuid())","v":"-"},"-"]
[{"$f":"IF(ISBLANK(C705),\"-\",GenGuid())","v":"-"},"-"]
[{"$f":"IF(ISBLANK(C706),\"-\",GenGuid())","v":"-"},"-"]
[{"$f":"IF(ISBLANK(C707),\"-\",GenGuid())","v":"-"},"-"]
[{"$f":"IF(ISBLANK(C708),\"-\",GenGuid())","v":"-"},"-"]
[{"$f":"IF(ISBLANK(C709),\"-\",GenGuid())","v":"-"},{"$f":"IF(ISBLANK(C709),\"-\",INDIRECT(\"PLOTS!A\"&MATCH(C709,PlotLabels)+4))","v":"-"}]
[{"$f":"IF(ISBLANK(C710),\"-\",GenGuid())","v":"-"},"-"]
[{"$f":"IF(ISBLANK(C711),\"-\",GenGuid())","v":"-"},"-"]
[{"$f":"IF(ISBLANK(C712),\"-\",GenGuid())","v":"-"},"-"]
[{"$f":"IF(ISBLANK(C713),\"-\",GenGuid())","v":"-"},"-"]
[{"$f":"IF(ISBLANK(C714),\"-\",GenGuid())","v":"-"},"-"]
[{"$f":"IF(ISBLANK(C715),\"-\",GenGuid())","v":"-"},"-"]
[{"$f":"IF(ISBLANK(C716),\"-\",GenGuid())","v":"-"},"-"]
[{"$f":"IF(ISBLANK(C717),\"-\",GenGuid())","v":"-"},"-"]
[{"$f":"IF(ISBLANK(C718),\"-\",GenGuid())","v":"-"},"-"]
[{"$f":"IF(ISBLANK(C719),\"-\",GenGuid())","v":"-"},"-"]
[{"$f":"IF(ISBLANK(C720),\"-\",GenGuid())","v":"-"},"-"]
[{"$f":"IF(ISBLANK(C721),\"-\",GenGuid())","v":"-"},"-"]
[{"$f":"IF(ISBLANK(C722),\"-\",GenGuid())","v":"-"},"-"]
[{"$f":"IF(ISBLANK(C723),\"-\",GenGuid())","v":"-"},"-"]
[{"$f":"IF(ISBLANK(C724),\"-\",GenGuid())","v":"-"},"-"]
[{"$f":"IF(ISBLANK(C725),\"-\",GenGuid())","v":"-"},"-"]
[{"$f":"IF(ISBLANK(C726),\"-\",GenGuid())","v":"-"},"-"]
[{"$f":"IF(ISBLANK(C727),\"-\",GenGuid())","v":"-"},"-"]
[{"$f":"IF(ISBLANK(C728),\"-\",GenGuid())","v":"-"},"-"]
[{"$f":"IF(ISBLANK(C729),\"-\",GenGuid())","v":"-"},"-"]
[{"$f":"IF(ISBLANK(C730),\"-\",GenGuid())","v":"-"},"-"]
[{"$f":"IF(ISBLANK(C731),\"-\",GenGuid())","v":"-"},"-"]
[{"$f":"IF(ISBLANK(C732),\"-\",GenGuid())","v":"-"},"-"]
[{"$f":"IF(ISBLANK(C733),\"-\",GenGuid())","v":"-"},"-"]
[{"$f":"IF(ISBLANK(C734),\"-\",GenGuid())","v":"-"},"-"]
[{"$f":"IF(ISBLANK(C735),\"-\",GenGuid())","v":"-"},"-"]
[{"$f":"IF(ISBLANK(C736),\"-\",GenGuid())","v":"-"},"-"]
[{"$f":"IF(ISBLANK(C737),\"-\",GenGuid())","v":"-"},"-"]
[{"$f":"IF(ISBLANK(C738),\"-\",GenGuid())","v":"-"},"-"]
[{"$f":"IF(ISBLANK(C739),\"-\",GenGuid())","v":"-"},"-"]
[{"$f":"IF(ISBLANK(C740),\"-\",GenGuid())","v":"-"},"-"]
[{"$f":"IF(ISBLANK(C741),\"-\",GenGuid())","v":"-"},"-"]
[{"$f":"IF(ISBLANK(C742),\"-\",GenGuid())","v":"-"},"-"]
[{"$f":"IF(ISBLANK(C743),\"-\",GenGuid())","v":"-"},"-"]
[{"$f":"IF(ISBLANK(C744),\"-\",GenGuid())","v":"-"},"-"]
[{"$f":"IF(ISBLANK(C745),\"-\",GenGuid())","v":"-"},"-"]
[{"$f":"IF(ISBLANK(C746),\"-\",GenGuid())","v":"-"},"-"]
[{"$f":"IF(ISBLANK(C747),\"-\",GenGuid())","v":"-"},"-"]
[{"$f":"IF(ISBLANK(C748),\"-\",GenGuid())","v":"-"},"-"]
[{"$f":"IF(ISBLANK(C749),\"-\",GenGuid())","v":"-"},"-"]
[{"$f":"IF(ISBLANK(C750),\"-\",GenGuid())","v":"-"},"-"]
[{"$f":"IF(ISBLANK(C751),\"-\",GenGuid())","v":"-"},"-"]
[{"$f":"IF(ISBLANK(C752),\"-\",GenGuid())","v":"-"},"-"]
[{"$f":"IF(ISBLANK(C753),\"-\",GenGuid())","v":"-"},"-"]
[{"$f":"IF(ISBLANK(C754),\"-\",GenGuid())","v":"-"},"-"]
[{"$f":"IF(ISBLANK(C755),\"-\",GenGuid())","v":"-"},"-"]
[{"$f":"IF(ISBLANK(C756),\"-\",GenGuid())","v":"-"},"-"]
[{"$f":"IF(ISBLANK(C757),\"-\",GenGuid())","v":"-"},"-"]
[{"$f":"IF(ISBLANK(C758),\"-\",GenGuid())","v":"-"},"-"]
[{"$f":"IF(ISBLANK(C759),\"-\",GenGuid())","v":"-"},"-"]
[{"$f":"IF(ISBLANK(C760),\"-\",GenGuid())","v":"-"},"-"]
[{"$f":"IF(ISBLANK(C761),\"-\",GenGuid())","v":"-"},"-"]
[{"$f":"IF(ISBLANK(C762),\"-\",GenGuid())","v":"-"},"-"]
[{"$f":"IF(ISBLANK(C763),\"-\",GenGuid())","v":"-"},"-"]
[{"$f":"IF(ISBLANK(C764),\"-\",GenGuid())","v":"-"},"-"]
[{"$f":"IF(ISBLANK(C765),\"-\",GenGuid())","v":"-"},"-"]
[{"$f":"IF(ISBLANK(C766),\"-\",GenGuid())","v":"-"},"-"]
[{"$f":"IF(ISBLANK(C767),\"-\",GenGuid())","v":"-"},"-"]
[{"$f":"IF(ISBLANK(C768),\"-\",GenGuid())","v":"-"},"-"]
[{"$f":"IF(ISBLANK(C769),\"-\",GenGuid())","v":"-"},"-"]
[{"$f":"IF(ISBLANK(C770),\"-\",GenGuid())","v":"-"},"-"]
[{"$f":"IF(ISBLANK(C771),\"-\",GenGuid())","v":"-"},"-"]
[{"$f":"IF(ISBLANK(C772),\"-\",GenGuid())","v":"-"},"-"]
[{"$f":"IF(ISBLANK(C773),\"-\",GenGuid())","v":"-"},{"$f":"IF(ISBLANK(C773),\"-\",INDIRECT(\"PLOTS!A\"&MATCH(C773,PlotLabels)+4))","v":"-"}]
[{"$f":"IF(ISBLANK(C774),\"-\",GenGuid())","v":"-"},"-"]
[{"$f":"IF(ISBLANK(C775),\"-\",GenGuid())","v":"-"},"-"]
[{"$f":"IF(ISBLANK(C776),\"-\",GenGuid())","v":"-"},"-"]
[{"$f":"IF(ISBLANK(C777),\"-\",GenGuid())","v":"-"},"-"]
[{"$f":"IF(ISBLANK(C778),\"-\",GenGuid())","v":"-"},"-"]
[{"$f":"IF(ISBLANK(C779),\"-\",GenGuid())","v":"-"},"-"]
[{"$f":"IF(ISBLANK(C780),\"-\",GenGuid())","v":"-"},"-"]
[{"$f":"IF(ISBLANK(C781),\"-\",GenGuid())","v":"-"},"-"]
[{"$f":"IF(ISBLANK(C782),\"-\",GenGuid())","v":"-"},"-"]
[{"$f":"IF(ISBLANK(C783),\"-\",GenGuid())","v":"-"},"-"]
[{"$f":"IF(ISBLANK(C784),\"-\",GenGuid())","v":"-"},"-"]
[{"$f":"IF(ISBLANK(C785),\"-\",GenGuid())","v":"-"},"-"]
[{"$f":"IF(ISBLANK(C786),\"-\",GenGuid())","v":"-"},"-"]
[{"$f":"IF(ISBLANK(C787),\"-\",GenGuid())","v":"-"},"-"]
[{"$f":"IF(ISBLANK(C788),\"-\",GenGuid())","v":"-"},"-"]
[{"$f":"IF(ISBLANK(C789),\"-\",GenGuid())","v":"-"},"-"]
[{"$f":"IF(ISBLANK(C790),\"-\",GenGuid())","v":"-"},"-"]
[{"$f":"IF(ISBLANK(C791),\"-\",GenGuid())","v":"-"},"-"]
[{"$f":"IF(ISBLANK(C792),\"-\",GenGuid())","v":"-"},"-"]
[{"$f":"IF(ISBLANK(C793),\"-\",GenGuid())","v":"-"},"-"]
[{"$f":"IF(ISBLANK(C794),\"-\",GenGuid())","v":"-"},"-"]
[{"$f":"IF(ISBLANK(C795),\"-\",GenGuid())","v":"-"},"-"]
[{"$f":"IF(ISBLANK(C796),\"-\",GenGuid())","v":"-"},"-"]
[{"$f":"IF(ISBLANK(C797),\"-\",GenGuid())","v":"-"},"-"]
[{"$f":"IF(ISBLANK(C798),\"-\",GenGuid())","v":"-"},"-"]
[{"$f":"IF(ISBLANK(C799),\"-\",GenGuid())","v":"-"},"-"]
[{"$f":"IF(ISBLANK(C800),\"-\",GenGuid())","v":"-"},"-"]
[{"$f":"IF(ISBLANK(C801),\"-\",GenGuid())","v":"-"},"-"]
[{"$f":"IF(ISBLANK(C802),\"-\",GenGuid())","v":"-"},"-"]
[{"$f":"IF(ISBLANK(C803),\"-\",GenGuid())","v":"-"},"-"]
[{"$f":"IF(ISBLANK(C804),\"-\",GenGuid())","v":"-"},"-"]
[{"$f":"IF(ISBLANK(C805),\"-\",GenGuid())","v":"-"},"-"]
[{"$f":"IF(ISBLANK(C806),\"-\",GenGuid())","v":"-"},"-"]
[{"$f":"IF(ISBLANK(C807),\"-\",GenGuid())","v":"-"},"-"]
[{"$f":"IF(ISBLANK(C808),\"-\",GenGuid())","v":"-"},"-"]
[{"$f":"IF(ISBLANK(C809),\"-\",GenGuid())","v":"-"},"-"]
[{"$f":"IF(ISBLANK(C810),\"-\",GenGuid())","v":"-"},"-"]
[{"$f":"IF(ISBLANK(C811),\"-\",GenGuid())","v":"-"},"-"]
[{"$f":"IF(ISBLANK(C812),\"-\",GenGuid())","v":"-"},"-"]
[{"$f":"IF(ISBLANK(C813),\"-\",GenGuid())","v":"-"},"-"]
[{"$f":"IF(ISBLANK(C814),\"-\",GenGuid())","v":"-"},"-"]
[{"$f":"IF(ISBLANK(C815),\"-\",GenGuid())","v":"-"},"-"]
[{"$f":"IF(ISBLANK(C816),\"-\",GenGuid())","v":"-"},"-"]
[{"$f":"IF(ISBLANK(C817),\"-\",GenGuid())","v":"-"},"-"]
[{"$f":"IF(ISBLANK(C818),\"-\",GenGuid())","v":"-"},"-"]
[{"$f":"IF(ISBLANK(C819),\"-\",GenGuid())","v":"-"},"-"]
[{"$f":"IF(ISBLANK(C820),\"-\",GenGuid())","v":"-"},"-"]
[{"$f":"IF(ISBLANK(C821),\"-\",GenGuid())","v":"-"},"-"]
[{"$f":"IF(ISBLANK(C822),\"-\",GenGuid())","v":"-"},"-"]
[{"$f":"IF(ISBLANK(C823),\"-\",GenGuid())","v":"-"},"-"]
[{"$f":"IF(ISBLANK(C824),\"-\",GenGuid())","v":"-"},"-"]
[{"$f":"IF(ISBLANK(C825),\"-\",GenGuid())","v":"-"},"-"]
[{"$f":"IF(ISBLANK(C826),\"-\",GenGuid())","v":"-"},"-"]
[{"$f":"IF(ISBLANK(C827),\"-\",GenGuid())","v":"-"},"-"]
[{"$f":"IF(ISBLANK(C828),\"-\",GenGuid())","v":"-"},"-"]
[{"$f":"IF(ISBLANK(C829),\"-\",GenGuid())","v":"-"},"-"]
[{"$f":"IF(ISBLANK(C830),\"-\",GenGuid())","v":"-"},"-"]
[{"$f":"IF(ISBLANK(C831),\"-\",GenGuid())","v":"-"},"-"]
[{"$f":"IF(ISBLANK(C832),\"-\",GenGuid())","v":"-"},"-"]
[{"$f":"IF(ISBLANK(C833),\"-\",GenGuid())","v":"-"},"-"]
[{"$f":"IF(ISBLANK(C834),\"-\",GenGuid())","v":"-"},"-"]
[{"$f":"IF(ISBLANK(C835),\"-\",GenGuid())","v":"-"},"-"]
[{"$f":"IF(ISBLANK(C836),\"-\",GenGuid())","v":"-"},"-"]
[{"$f":"IF(ISBLANK(C837),\"-\",GenGuid())","v":"-"},{"$f":"IF(ISBLANK(C837),\"-\",INDIRECT(\"PLOTS!A\"&MATCH(C837,PlotLabels)+4))","v":"-"}]
[{"$f":"IF(ISBLANK(C838),\"-\",GenGuid())","v":"-"},"-"]
[{"$f":"IF(ISBLANK(C839),\"-\",GenGuid())","v":"-"},"-"]
[{"$f":"IF(ISBLANK(C840),\"-\",GenGuid())","v":"-"},"-"]
[{"$f":"IF(ISBLANK(C841),\"-\",GenGuid())","v":"-"},"-"]
[{"$f":"IF(ISBLANK(C842),\"-\",GenGuid())","v":"-"},"-"]
[{"$f":"IF(ISBLANK(C843),\"-\",GenGuid())","v":"-"},"-"]
[{"$f":"IF(ISBLANK(C844),\"-\",GenGuid())","v":"-"},"-"]
[{"$f":"IF(ISBLANK(C845),\"-\",GenGuid())","v":"-"},"-"]
[{"$f":"IF(ISBLANK(C846),\"-\",GenGuid())","v":"-"},"-"]
[{"$f":"IF(ISBLANK(C847),\"-\",GenGuid())","v":"-"},"-"]
[{"$f":"IF(ISBLANK(C848),\"-\",GenGuid())","v":"-"},"-"]
[{"$f":"IF(ISBLANK(C849),\"-\",GenGuid())","v":"-"},"-"]
[{"$f":"IF(ISBLANK(C850),\"-\",GenGuid())","v":"-"},"-"]
[{"$f":"IF(ISBLANK(C851),\"-\",GenGuid())","v":"-"},"-"]
[{"$f":"IF(ISBLANK(C852),\"-\",GenGuid())","v":"-"},"-"]
[{"$f":"IF(ISBLANK(C853),\"-\",GenGuid())","v":"-"},"-"]
[{"$f":"IF(ISBLANK(C854),\"-\",GenGuid())","v":"-"},"-"]
[{"$f":"IF(ISBLANK(C855),\"-\",GenGuid())","v":"-"},"-"]
[{"$f":"IF(ISBLANK(C856),\"-\",GenGuid())","v":"-"},"-"]
[{"$f":"IF(ISBLANK(C857),\"-\",GenGuid())","v":"-"},"-"]
[{"$f":"IF(ISBLANK(C858),\"-\",GenGuid())","v":"-"},"-"]
[{"$f":"IF(ISBLANK(C859),\"-\",GenGuid())","v":"-"},"-"]
[{"$f":"IF(ISBLANK(C860),\"-\",GenGuid())","v":"-"},"-"]
[{"$f":"IF(ISBLANK(C861),\"-\",GenGuid())","v":"-"},"-"]
[{"$f":"IF(ISBLANK(C862),\"-\",GenGuid())","v":"-"},"-"]
[{"$f":"IF(ISBLANK(C863),\"-\",GenGuid())","v":"-"},"-"]
[{"$f":"IF(ISBLANK(C864),\"-\",GenGuid())","v":"-"},"-"]
[{"$f":"IF(ISBLANK(C865),\"-\",GenGuid())","v":"-"},"-"]
[{"$f":"IF(ISBLANK(C866),\"-\",GenGuid())","v":"-"},"-"]
[{"$f":"IF(ISBLANK(C867),\"-\",GenGuid())","v":"-"},"-"]
[{"$f":"IF(ISBLANK(C868),\"-\",GenGuid())","v":"-"},"-"]
[{"$f":"IF(ISBLANK(C869),\"-\",GenGuid())","v":"-"},"-"]
[{"$f":"IF(ISBLANK(C870),\"-\",GenGuid())","v":"-"},"-"]
[{"$f":"IF(ISBLANK(C871),\"-\",GenGuid())","v":"-"},"-"]
[{"$f":"IF(ISBLANK(C872),\"-\",GenGuid())","v":"-"},"-"]
[{"$f":"IF(ISBLANK(C873),\"-\",GenGuid())","v":"-"},"-"]
[{"$f":"IF(ISBLANK(C874),\"-\",GenGuid())","v":"-"},"-"]
[{"$f":"IF(ISBLANK(C875),\"-\",GenGuid())","v":"-"},"-"]
[{"$f":"IF(ISBLANK(C876),\"-\",GenGuid())","v":"-"},"-"]
[{"$f":"IF(ISBLANK(C877),\"-\",GenGuid())","v":"-"},"-"]
[{"$f":"IF(ISBLANK(C878),\"-\",GenGuid())","v":"-"},"-"]
[{"$f":"IF(ISBLANK(C879),\"-\",GenGuid())","v":"-"},"-"]
[{"$f":"IF(ISBLANK(C880),\"-\",GenGuid())","v":"-"},"-"]
[{"$f":"IF(ISBLANK(C881),\"-\",GenGuid())","v":"-"},"-"]
[{"$f":"IF(ISBLANK(C882),\"-\",GenGuid())","v":"-"},"-"]
[{"$f":"IF(ISBLANK(C883),\"-\",GenGuid())","v":"-"},"-"]
[{"$f":"IF(ISBLANK(C884),\"-\",GenGuid())","v":"-"},"-"]
[{"$f":"IF(ISBLANK(C885),\"-\",GenGuid())","v":"-"},"-"]
[{"$f":"IF(ISBLANK(C886),\"-\",GenGuid())","v":"-"},"-"]
[{"$f":"IF(ISBLANK(C887),\"-\",GenGuid())","v":"-"},"-"]
[{"$f":"IF(ISBLANK(C888),\"-\",GenGuid())","v":"-"},"-"]
[{"$f":"IF(ISBLANK(C889),\"-\",GenGuid())","v":"-"},"-"]
[{"$f":"IF(ISBLANK(C890),\"-\",GenGuid())","v":"-"},"-"]
[{"$f":"IF(ISBLANK(C891),\"-\",GenGuid())","v":"-"},"-"]
[{"$f":"IF(ISBLANK(C892),\"-\",GenGuid())","v":"-"},"-"]
[{"$f":"IF(ISBLANK(C893),\"-\",GenGuid())","v":"-"},"-"]
[{"$f":"IF(ISBLANK(C894),\"-\",GenGuid())","v":"-"},"-"]
[{"$f":"IF(ISBLANK(C895),\"-\",GenGuid())","v":"-"},"-"]
[{"$f":"IF(ISBLANK(C896),\"-\",GenGuid())","v":"-"},"-"]
[{"$f":"IF(ISBLANK(C897),\"-\",GenGuid())","v":"-"},"-"]
[{"$f":"IF(ISBLANK(C898),\"-\",GenGuid())","v":"-"},"-"]
[{"$f":"IF(ISBLANK(C899),\"-\",GenGuid())","v":"-"},"-"]
[{"$f":"IF(ISBLANK(C900),\"-\",GenGuid())","v":"-"},"-"]
[{"$f":"IF(ISBLANK(C901),\"-\",GenGuid())","v":"-"},{"$f":"IF(ISBLANK(C901),\"-\",INDIRECT(\"PLOTS!A\"&MATCH(C901,PlotLabels)+4))","v":"-"}]
[{"$f":"IF(ISBLANK(C902),\"-\",GenGuid())","v":"-"},"-"]
[{"$f":"IF(ISBLANK(C903),\"-\",GenGuid())","v":"-"},"-"]
[{"$f":"IF(ISBLANK(C904),\"-\",GenGuid())","v":"-"},"-"]
[{"$f":"IF(ISBLANK(C905),\"-\",GenGuid())","v":"-"},"-"]
[{"$f":"IF(ISBLANK(C906),\"-\",GenGuid())","v":"-"},"-"]
[{"$f":"IF(ISBLANK(C907),\"-\",GenGuid())","v":"-"},"-"]
[{"$f":"IF(ISBLANK(C908),\"-\",GenGuid())","v":"-"},"-"]
[{"$f":"IF(ISBLANK(C909),\"-\",GenGuid())","v":"-"},"-"]
[{"$f":"IF(ISBLANK(C910),\"-\",GenGuid())","v":"-"},"-"]
[{"$f":"IF(ISBLANK(C911),\"-\",GenGuid())","v":"-"},"-"]
[{"$f":"IF(ISBLANK(C912),\"-\",GenGuid())","v":"-"},"-"]
[{"$f":"IF(ISBLANK(C913),\"-\",GenGuid())","v":"-"},"-"]
[{"$f":"IF(ISBLANK(C914),\"-\",GenGuid())","v":"-"},"-"]
[{"$f":"IF(ISBLANK(C915),\"-\",GenGuid())","v":"-"},"-"]
[{"$f":"IF(ISBLANK(C916),\"-\",GenGuid())","v":"-"},"-"]
[{"$f":"IF(ISBLANK(C917),\"-\",GenGuid())","v":"-"},"-"]
[{"$f":"IF(ISBLANK(C918),\"-\",GenGuid())","v":"-"},"-"]
[{"$f":"IF(ISBLANK(C919),\"-\",GenGuid())","v":"-"},"-"]
[{"$f":"IF(ISBLANK(C920),\"-\",GenGuid())","v":"-"},"-"]
[{"$f":"IF(ISBLANK(C921),\"-\",GenGuid())","v":"-"},"-"]
[{"$f":"IF(ISBLANK(C922),\"-\",GenGuid())","v":"-"},"-"]
[{"$f":"IF(ISBLANK(C923),\"-\",GenGuid())","v":"-"},"-"]
[{"$f":"IF(ISBLANK(C924),\"-\",GenGuid())","v":"-"},"-"]
[{"$f":"IF(ISBLANK(C925),\"-\",GenGuid())","v":"-"},"-"]
[{"$f":"IF(ISBLANK(C926),\"-\",GenGuid())","v":"-"},"-"]
[{"$f":"IF(ISBLANK(C927),\"-\",GenGuid())","v":"-"},"-"]
[{"$f":"IF(ISBLANK(C928),\"-\",GenGuid())","v":"-"},"-"]
[{"$f":"IF(ISBLANK(C929),\"-\",GenGuid())","v":"-"},"-"]
[{"$f":"IF(ISBLANK(C930),\"-\",GenGuid())","v":"-"},"-"]
[{"$f":"IF(ISBLANK(C931),\"-\",GenGuid())","v":"-"},"-"]
[{"$f":"IF(ISBLANK(C932),\"-\",GenGuid())","v":"-"},"-"]
[{"$f":"IF(ISBLANK(C933),\"-\",GenGuid())","v":"-"},"-"]
[{"$f":"IF(ISBLANK(C934),\"-\",GenGuid())","v":"-"},"-"]
[{"$f":"IF(ISBLANK(C935),\"-\",GenGuid())","v":"-"},"-"]
[{"$f":"IF(ISBLANK(C936),\"-\",GenGuid())","v":"-"},"-"]
[{"$f":"IF(ISBLANK(C937),\"-\",GenGuid())","v":"-"},"-"]
[{"$f":"IF(ISBLANK(C938),\"-\",GenGuid())","v":"-"},"-"]
[{"$f":"IF(ISBLANK(C939),\"-\",GenGuid())","v":"-"},"-"]
[{"$f":"IF(ISBLANK(C940),\"-\",GenGuid())","v":"-"},"-"]
[{"$f":"IF(ISBLANK(C941),\"-\",GenGuid())","v":"-"},"-"]
[{"$f":"IF(ISBLANK(C942),\"-\",GenGuid())","v":"-"},"-"]
[{"$f":"IF(ISBLANK(C943),\"-\",GenGuid())","v":"-"},"-"]
[{"$f":"IF(ISBLANK(C944),\"-\",GenGuid())","v":"-"},"-"]
[{"$f":"IF(ISBLANK(C945),\"-\",GenGuid())","v":"-"},"-"]
[{"$f":"IF(ISBLANK(C946),\"-\",GenGuid())","v":"-"},"-"]
[{"$f":"IF(ISBLANK(C947),\"-\",GenGuid())","v":"-"},"-"]
[{"$f":"IF(ISBLANK(C948),\"-\",GenGuid())","v":"-"},"-"]
[{"$f":"IF(ISBLANK(C949),\"-\",GenGuid())","v":"-"},"-"]
[{"$f":"IF(ISBLANK(C950),\"-\",GenGuid())","v":"-"},"-"]
[{"$f":"IF(ISBLANK(C951),\"-\",GenGuid())","v":"-"},"-"]
[{"$f":"IF(ISBLANK(C952),\"-\",GenGuid())","v":"-"},"-"]
[{"$f":"IF(ISBLANK(C953),\"-\",GenGuid())","v":"-"},"-"]
[{"$f":"IF(ISBLANK(C954),\"-\",GenGuid())","v":"-"},"-"]
[{"$f":"IF(ISBLANK(C955),\"-\",GenGuid())","v":"-"},"-"]
[{"$f":"IF(ISBLANK(C956),\"-\",GenGuid())","v":"-"},"-"]
[{"$f":"IF(ISBLANK(C957),\"-\",GenGuid())","v":"-"},"-"]
[{"$f":"IF(ISBLANK(C958),\"-\",GenGuid())","v":"-"},"-"]
[{"$f":"IF(ISBLANK(C959),\"-\",GenGuid())","v":"-"},"-"]
[{"$f":"IF(ISBLANK(C960),\"-\",GenGuid())","v":"-"},"-"]
[{"$f":"IF(ISBLANK(C961),\"-\",GenGuid())","v":"-"},"-"]
[{"$f":"IF(ISBLANK(C962),\"-\",GenGuid())","v":"-"},"-"]
[{"$f":"IF(ISBLANK(C963),\"-\",GenGuid())","v":"-"},"-"]
[{"$f":"IF(ISBLANK(C964),\"-\",GenGuid())","v":"-"},"-"]
[{"$f":"IF(ISBLANK(C965),\"-\",GenGuid())","v":"-"},{"$f":"IF(ISBLANK(C965),\"-\",INDIRECT(\"PLOTS!A\"&MATCH(C965,PlotLabels)+4))","v":"-"}]
[{"$f":"IF(ISBLANK(C966),\"-\",GenGuid())","v":"-"},"-"]
[{"$f":"IF(ISBLANK(C967),\"-\",GenGuid())","v":"-"},"-"]
[{"$f":"IF(ISBLANK(C968),\"-\",GenGuid())","v":"-"},"-"]
[{"$f":"IF(ISBLANK(C969),\"-\",GenGuid())","v":"-"},"-"]
[{"$f":"IF(ISBLANK(C970),\"-\",GenGuid())","v":"-"},"-"]
[{"$f":"IF(ISBLANK(C971),\"-\",GenGuid())","v":"-"},"-"]
[{"$f":"IF(ISBLANK(C972),\"-\",GenGuid())","v":"-"},"-"]
[{"$f":"IF(ISBLANK(C973),\"-\",GenGuid())","v":"-"},"-"]
[{"$f":"IF(ISBLANK(C974),\"-\",GenGuid())","v":"-"},"-"]
[{"$f":"IF(ISBLANK(C975),\"-\",GenGuid())","v":"-"},"-"]
[{"$f":"IF(ISBLANK(C976),\"-\",GenGuid())","v":"-"},"-"]
[{"$f":"IF(ISBLANK(C977),\"-\",GenGuid())","v":"-"},"-"]
[{"$f":"IF(ISBLANK(C978),\"-\",GenGuid())","v":"-"},"-"]
[{"$f":"IF(ISBLANK(C979),\"-\",GenGuid())","v":"-"},"-"]
[{"$f":"IF(ISBLANK(C980),\"-\",GenGuid())","v":"-"},"-"]
[{"$f":"IF(ISBLANK(C981),\"-\",GenGuid())","v":"-"},"-"]
[{"$f":"IF(ISBLANK(C982),\"-\",GenGuid())","v":"-"},"-"]
[{"$f":"IF(ISBLANK(C983),\"-\",GenGuid())","v":"-"},"-"]
[{"$f":"IF(ISBLANK(C984),\"-\",GenGuid())","v":"-"},"-"]
[{"$f":"IF(ISBLANK(C985),\"-\",GenGuid())","v":"-"},"-"]
[{"$f":"IF(ISBLANK(C986),\"-\",GenGuid())","v":"-"},"-"]
[{"$f":"IF(ISBLANK(C987),\"-\",GenGuid())","v":"-"},"-"]
[{"$f":"IF(ISBLANK(C988),\"-\",GenGuid())","v":"-"},"-"]
[{"$f":"IF(ISBLANK(C989),\"-\",GenGuid())","v":"-"},"-"]
[{"$f":"IF(ISBLANK(C990),\"-\",GenGuid())","v":"-"},"-"]
[{"$f":"IF(ISBLANK(C991),\"-\",GenGuid())","v":"-"},"-"]
[{"$f":"IF(ISBLANK(C992),\"-\",GenGuid())","v":"-"},"-"]
[{"$f":"IF(ISBLANK(C993),\"-\",GenGuid())","v":"-"},"-"]
[{"$f":"IF(ISBLANK(C994),\"-\",GenGuid())","v":"-"},"-"]
[{"$f":"IF(ISBLANK(C995),\"-\",GenGuid())","v":"-"},"-"]
[{"$f":"IF(ISBLANK(C996),\"-\",GenGuid())","v":"-"},"-"]
[{"$f":"IF(ISBLANK(C997),\"-\",GenGuid())","v":"-"},"-"]
[{"$f":"IF(ISBLANK(C998),\"-\",GenGuid())","v":"-"},"-"]
[{"$f":"IF(ISBLANK(C999),\"-\",GenGuid())","v":"-"},"-"]
[{"$f":"IF(ISBLANK(C1000),\"-\",GenGuid())","v":"-"},"-"]
[{"$f":"IF(ISBLANK(C1001),\"-\",GenGuid())","v":"-"},"-"]
[{"$f":"IF(ISBLANK(C1002),\"-\",GenGuid())","v":"-"},"-"]
[{"$f":"IF(ISBLANK(C1003),\"-\",GenGuid())","v":"-"},"-"]
[{"$f":"IF(ISBLANK(C1004),\"-\",GenGuid())","v":"-"},"-"]
["To add more rows, copy from the previous line to ensure the proper formatting/formulas are in place."]

{"sheet":"SURVEYS","index":8,"n_rows":1005,"n_cols":18,"rows_kept":1005,"cut":false,"hidden":false,"merged":[]}
["GrasslandHealthID","PlotID","PlotLabel","HealthAssessmentMethod","AssessmentMethodDate","CollectionDate","SurveyLabel","CollectorGivenName","CollectorSurname","QAQConDataEntry","DataEntryDate","Purpose","NumberVegSamplingTasks","PhotoNumber","CreatedBy","CreatedOn","ModifiedBy","ModifiedOn"]
["Name","Plot ID","Plot Label","Health Assessment Method","Health Assessment Year","Collection Date","Survey Label","Surveyor\nFirst Name","Surveyor\nLast Name","QA/QC\nComplete?","Data Entry\nDate","Survey Purpose","Number of VSTs","Photo Number","Created By","Created On","Modified By","Modified On"]
["Type",null,"Text","Text","Integer","Date/Time","Text","Text","Text","Text","Date/Time","Text","Integer","Text","Text","Date/Time","Text","Date/Time"]
["Max Length",null,"50","5",null,null,100,"15","20","1",null,"3",null,"50","15",null,"15"]
[{"$f":"IF(ISBLANK(C5),\"-\",GenGuid())","v":"-"},{"$f":"IF(ISBLANK(C5),\"-\",INDIRECT(\"PLOTS!A\"&MATCH(C5,PlotLabels,0)+4))","v":"-"},null,null,{"$f":"IF(ISBLANK(D5),\"\",VLOOKUP(D5,HealthAssessmentYear,6,FALSE))","v":""},null,{"$f":"IF(OR(ISBLANK(C5),ISBLANK(D5),ISBLANK(F5)),\"\",C5&\"-\"&D5&\"-\"&TEXT(F5,\"MM-DD-YYYY\"))","v":""},null,null,null,{"$f":"IF(ISBLANK(C5),\"\",TODAY())","v":""},null,null,null,null,{"$f":"IF(ISBLANK(C5),\"\",TODAY())","v":""},{"$f":"IF(ISBLANK(C5),\"\",IF(LEN(O5)=0,\"\",O5))","v":""},{"$f":"IF(ISBLANK(C5),\"\",P5)","v":""}]
[{"$f":"IF(ISBLANK(C6),\"-\",GenGuid())","v":"-"},"-",null,null,"",null,{"$f":"IF(OR(ISBLANK(C6),ISBLANK(D6),ISBLANK(F6)),\"\",C6&\"-\"&D6&\"-\"&TEXT(F6,\"MM-DD-YYYY\"))","v":""},null,null,null,"",null,null,null,{"$f":"IF(ISBLANK(C6),\"\",O5)","v":""},"","",""]
[{"$f":"IF(ISBLANK(C7),\"-\",GenGuid())","v":"-"},"-",null,null,"",null,"",null,null,null,"",null,null,null,"","","",""]
["-","-",null,null,"",null,"",null,null,null,"",null,null,null,"","","",""]
["-","-",null,null,"",null,"",null,null,null,"",null,null,null,"","","",""]
["-","-",null,null,"",null,"",null,null,null,"",null,null,null,"","","",""]
["-","-",null,null,"",null,"",null,null,null,"",null,null,null,"","","",""]
["-","-",null,null,"",null,"",null,null,null,"",null,null,null,"","","",""]
["-","-",null,null,"",null,"",null,null,null,"",null,null,null,"","","",""]
["-","-",null,null,"",null,"",null,null,null,"",null,null,null,"","","",""]
["-","-",null,null,"",null,"",null,null,null,"",null,null,null,"","","",""]
["-","-",null,null,"",null,"",null,null,null,"",null,null,null,"","","",""]
["-","-",null,null,"",null,"",null,null,null,"",null,null,null,"","","",""]
["-","-",null,null,"",null,"",null,null,null,"",null,null,null,"","","",""]
["-","-",null,null,"",null,"",null,null,null,"",null,null,null,"","","",""]
["-","-",null,null,"",null,"",null,null,null,"",null,null,null,"","","",""]
["-","-",null,null,"",null,"",null,null,null,"",null,null,null,"","","",""]
["-","-",null,null,"",null,"",null,null,null,"",null,null,null,"","","",""]
["-","-",null,null,"",null,"",null,null,null,"",null,null,null,"","","",""]
["-","-",null,null,"",null,"",null,null,null,"",null,null,null,"","","",""]
["-","-",null,null,"",null,"",null,null,null,"",null,null,null,"","","",""]
["-","-",null,null,"",null,"",null,null,null,"",null,null,null,"","","",""]
["-","-",null,null,"",null,"",null,null,null,"",null,null,null,"","","",""]
["-","-",null,null,"",null,"",null,null,null,"",null,null,null,"","","",""]
["-","-",null,null,"",null,"",null,null,null,"",null,null,null,"","","",""]
["-","-",null,null,"",null,"",null,null,null,"",null,null,null,"","","",""]
["-","-",null,null,"",null,"",null,null,null,"",null,null,null,"","","",""]
["-","-",null,null,"",null,"",null,null,null,"",null,null,null,"","","",""]
["-","-",null,null,"",null,"",null,null,null,"",null,null,null,"","","",""]
["-","-",null,null,"",null,"",null,null,null,"",null,null,null,"","","",""]
["-","-",null,null,"",null,"",null,null,null,"",null,null,null,"","","",""]
["-","-",null,null,"",null,"",null,null,null,"",null,null,null,"","","",""]
["-","-",null,null,"",null,"",null,null,null,"",null,null,null,"","","",""]
["-","-",null,null,"",null,"",null,null,null,"",null,null,null,"","","",""]
["-","-",null,null,"",null,"",null,null,null,"",null,null,null,"","","",""]
["-","-",null,null,"",null,"",null,null,null,"",null,null,null,"","","",""]
["-","-",null,null,"",null,"",null,null,null,"",null,null,null,"","","",""]
["-","-",null,null,"",null,"",null,null,null,"",null,null,null,"","","",""]
["-","-",null,null,"",null,"",null,null,null,"",null,null,null,"","","",""]
["-","-",null,null,"",null,"",null,null,null,"",null,null,null,"","","",""]
["-","-",null,null,"",null,"",null,null,null,"",null,null,null,"","","",""]
["-","-",null,null,"",null,"",null,null,null,"",null,null,null,"","","",""]
["-","-",null,null,"",null,"",null,null,null,"",null,null,null,"","","",""]
["-","-",null,null,"",null,"",null,null,null,"",null,null,null,"","","",""]
["-","-",null,null,"",null,"",null,null,null,"",null,null,null,"","","",""]
["-","-",null,null,"",null,"",null,null,null,"",null,null,null,"","","",""]
["-","-",null,null,"",null,"",null,null,null,"",null,null,null,"","","",""]
["-","-",null,null,"",null,"",null,null,null,"",null,null,null,"","","",""]
["-","-",null,null,"",null,"",null,null,null,"",null,null,null,"","","",""]
["-","-",null,null,"",null,"",null,null,null,"",null,null,null,"","","",""]
["-","-",null,null,"",null,"",null,null,null,"",null,null,null,"","","",""]
["-","-",null,null,"",null,"",null,null,null,"",null,null,null,"","","",""]
["-","-",null,null,"",null,"",null,null,null,"",null,null,null,"","","",""]
["-","-",null,null,"",null,"",null,null,null,"",null,null,null,"","","",""]
["-","-",null,null,"",null,"",null,null,null,"",null,null,null,"","","",""]
["-","-",null,null,"",null,"",null,null,null,"",null,null,null,"","","",""]
["-","-",null,null,"",null,"",null,null,null,"",null,null,null,"","","",""]
["-","-",null,null,"",null,"",null,null,null,"",null,null,null,"","","",""]
["-","-",null,null,"",null,"",null,null,null,"",null,null,null,"","","",""]
["-","-",null,null,"",null,"",null,null,null,"",null,null,null,"","","",""]
["-","-",null,null,"",null,"",null,null,null,"",null,null,null,"","","",""]
["-","-",null,null,"",null,"",null,null,null,"",null,null,null,"","","",""]
["-","-",null,null,"",null,"",null,null,null,"",null,null,null,"","","",""]
["-","-",null,null,"",null,"",null,null,null,"",null,null,null,"","","",""]
["-",{"$f":"IF(ISBLANK(C69),\"-\",INDIRECT(\"PLOTS!A\"&MATCH(C69,PlotLabels,0)+4))","v":"-"},null,null,{"$f":"IF(ISBLANK(D69),\"\",VLOOKUP(D69,HealthAssessmentYear,6,FALSE))","v":""},null,"",null,null,null,{"$f":"IF(ISBLANK(C69),\"\",TODAY())","v":""},null,null,null,"",{"$f":"IF(ISBLANK(C69),\"\",TODAY())","v":""},{"$f":"IF(ISBLANK(C69),\"\",IF(LEN(O69)=0,\"\",O69))","v":""},{"$f":"IF(ISBLANK(C69),\"\",P69)","v":""}]
["-","-",null,null,"",null,{"$f":"IF(OR(ISBLANK(C70),ISBLANK(D70),ISBLANK(F70)),\"\",C70&\"-\"&D70&\"-\"&TEXT(F70,\"MM-DD-YYYY\"))","v":""},null,null,null,"",null,null,null,{"$f":"IF(ISBLANK(C70),\"\",O69)","v":""},"","",""]
[{"$f":"IF(ISBLANK(C71),\"-\",GenGuid())","v":"-"},"-",null,null,"",null,"",null,null,null,"",null,null,null,"","","",""]
["-","-",null,null,"",null,"",null,null,null,"",null,null,null,"","","",""]
["-","-",null,null,"",null,"",null,null,null,"",null,null,null,"","","",""]
["-","-",null,null,"",null,"",null,null,null,"",null,null,null,"","","",""]
["-","-",null,null,"",null,"",null,null,null,"",null,null,null,"","","",""]
["-","-",null,null,"",null,"",null,null,null,"",null,null,null,"","","",""]
["-","-",null,null,"",null,"",null,null,null,"",null,null,null,"","","",""]
["-","-",null,null,"",null,"",null,null,null,"",null,null,null,"","","",""]
["-","-",null,null,"",null,"",null,null,null,"",null,null,null,"","","",""]
["-","-",null,null,"",null,"",null,null,null,"",null,null,null,"","","",""]
["-","-",null,null,"",null,"",null,null,null,"",null,null,null,"","","",""]
["-","-",null,null,"",null,"",null,null,null,"",null,null,null,"","","",""]
["-","-",null,null,"",null,"",null,null,null,"",null,null,null,"","","",""]
["-","-",null,null,"",null,"",null,null,null,"",null,null,null,"","","",""]
["-","-",null,null,"",null,"",null,null,null,"",null,null,null,"","","",""]
["-","-",null,null,"",null,"",null,null,null,"",null,null,null,"","","",""]
["-","-",null,null,"",null,"",null,null,null,"",null,null,null,"","","",""]
["-","-",null,null,"",null,"",null,null,null,"",null,null,null,"","","",""]
["-","-",null,null,"",null,"",null,null,null,"",null,null,null,"","","",""]
["-","-",null,null,"",null,"",null,null,null,"",null,null,null,"","","",""]
["-","-",null,null,"",null,"",null,null,null,"",null,null,null,"","","",""]
["-","-",null,null,"",null,"",null,null,null,"",null,null,null,"","","",""]
["-","-",null,null,"",null,"",null,null,null,"",null,null,null,"","","",""]
["-","-",null,null,"",null,"",null,null,null,"",null,null,null,"","","",""]
["-","-",null,null,"",null,"",null,null,null,"",null,null,null,"","","",""]
["-","-",null,null,"",null,"",null,null,null,"",null,null,null,"","","",""]
["-","-",null,null,"",null,"",null,null,null,"",null,null,null,"","","",""]
["-","-",null,null,"",null,"",null,null,null,"",null,null,null,"","","",""]
["-","-",null,null,"",null,"",null,null,null,"",null,null,null,"","","",""]
["-","-",null,null,"",null,"",null,null,null,"",null,null,null,"","","",""]
["-","-",null,null,"",null,"",null,null,null,"",null,null,null,"","","",""]
["-","-",null,null,"",null,"",null,null,null,"",null,null,null,"","","",""]
["-","-",null,null,"",null,"",null,null,null,"",null,null,null,"","","",""]
["-","-",null,null,"",null,"",null,null,null,"",null,null,null,"","","",""]
["-","-",null,null,"",null,"",null,null,null,"",null,null,null,"","","",""]
["-","-",null,null,"",null,"",null,null,null,"",null,null,null,"","","",""]
["-","-",null,null,"",null,"",null,null,null,"",null,null,null,"","","",""]
["-","-",null,null,"",null,"",null,null,null,"",null,null,null,"","","",""]
["-","-",null,null,"",null,"",null,null,null,"",null,null,null,"","","",""]
["-","-",null,null,"",null,"",null,null,null,"",null,null,null,"","","",""]
["-","-",null,null,"",null,"",null,null,null,"",null,null,null,"","","",""]
["-","-",null,null,"",null,"",null,null,null,"",null,null,null,"","","",""]
["-","-",null,null,"",null,"",null,null,null,"",null,null,null,"","","",""]
["-","-",null,null,"",null,"",null,null,null,"",null,null,null,"","","",""]
["-","-",null,null,"",null,"",null,null,null,"",null,null,null,"","","",""]
["-","-",null,null,"",null,"",null,null,null,"",null,null,null,"","","",""]
["-","-",null,null,"",null,"",null,null,null,"",null,null,null,"","","",""]
["-","-",null,null,"",null,"",null,null,null,"",null,null,null,"","","",""]
["-","-",null,null,"",null,"",null,null,null,"",null,null,null,"","","",""]
["-","-",null,null,"",null,"",null,null,null,"",null,null,null,"","","",""]
["-","-",null,null,"",null,"",null,null,null,"",null,null,null,"","","",""]
["-","-",null,null,"",null,"",null,null,null,"",null,null,null,"","","",""]
["-","-",null,null,"",null,"",null,null,null,"",null,null,null,"","","",""]
["-","-",null,null,"",null,"",null,null,null,"",null,null,null,"","","",""]
["-","-",null,null,"",null,"",null,null,null,"",null,null,null,"","","",""]
["-","-",null,null,"",null,"",null,null,null,"",null,null,null,"","","",""]
["-","-",null,null,"",null,"",null,null,null,"",null,null,null,"","","",""]
["-","-",null,null,"",null,"",null,null,null,"",null,null,null,"","","",""]
["-","-",null,null,"",null,"",null,null,null,"",null,null,null,"","","",""]
["-","-",null,null,"",null,"",null,null,null,"",null,null,null,"","","",""]
["-","-",null,null,"",null,"",null,null,null,"",null,null,null,"","","",""]
["-","-",null,null,"",null,"",null,null,null,"",null,null,null,"","","",""]
["-",{"$f":"IF(ISBLANK(C133),\"-\",INDIRECT(\"PLOTS!A\"&MATCH(C133,PlotLabels,0)+4))","v":"-"},null,null,{"$f":"IF(ISBLANK(D133),\"\",VLOOKUP(D133,HealthAssessmentYear,6,FALSE))","v":""},null,"",null,null,null,{"$f":"IF(ISBLANK(C133),\"\",TODAY())","v":""},null,null,null,"",{"$f":"IF(ISBLANK(C133),\"\",TODAY())","v":""},{"$f":"IF(ISBLANK(C133),\"\",IF(LEN(O133)=0,\"\",O133))","v":""},{"$f":"IF(ISBLANK(C133),\"\",P133)","v":""}]
["-","-",null,null,"",null,{"$f":"IF(OR(ISBLANK(C134),ISBLANK(D134),ISBLANK(F134)),\"\",C134&\"-\"&D134&\"-\"&TEXT(F134,\"MM-DD-YYYY\"))","v":""},null,null,null,"",null,null,null,{"$f":"IF(ISBLANK(C134),\"\",O133)","v":""},"","",""]
[{"$f":"IF(ISBLANK(C135),\"-\",GenGuid())","v":"-"},"-",null,null,"",null,"",null,null,null,"",null,null,null,"","","",""]
["-","-",null,null,"",null,"",null,null,null,"",null,null,null,"","","",""]
["-","-",null,null,"",null,"",null,null,null,"",null,null,null,"","","",""]
["-","-",null,null,"",null,"",null,null,null,"",null,null,null,"","","",""]
["-","-",null,null,"",null,"",null,null,null,"",null,null,null,"","","",""]
["-","-",null,null,"",null,"",null,null,null,"",null,null,null,"","","",""]
["-","-",null,null,"",null,"",null,null,null,"",null,null,null,"","","",""]
["-","-",null,null,"",null,"",null,null,null,"",null,null,null,"","","",""]
["-","-",null,null,"",null,"",null,null,null,"",null,null,null,"","","",""]
["-","-",null,null,"",null,"",null,null,null,"",null,null,null,"","","",""]
["-","-",null,null,"",null,"",null,null,null,"",null,null,null,"","","",""]
["-","-",null,null,"",null,"",null,null,null,"",null,null,null,"","","",""]
["-","-",null,null,"",null,"",null,null,null,"",null,null,null,"","","",""]
["-","-",null,null,"",null,"",null,null,null,"",null,null,null,"","","",""]
["-","-",null,null,"",null,"",null,null,null,"",null,null,null,"","","",""]
["-","-",null,null,"",null,"",null,null,null,"",null,null,null,"","","",""]
["-","-",null,null,"",null,"",null,null,null,"",null,null,null,"","","",""]
["-","-",null,null,"",null,"",null,null,null,"",null,null,null,"","","",""]
["-","-",null,null,"",null,"",null,null,null,"",null,null,null,"","","",""]
["-","-",null,null,"",null,"",null,null,null,"",null,null,null,"","","",""]
["-","-",null,null,"",null,"",null,null,null,"",null,null,null,"","","",""]
["-","-",null,null,"",null,"",null,null,null,"",null,null,null,"","","",""]
["-","-",null,null,"",null,"",null,null,null,"",null,null,null,"","","",""]
["-","-",null,null,"",null,"",null,null,null,"",null,null,null,"","","",""]
["-","-",null,null,"",null,"",null,null,null,"",null,null,null,"","","",""]
["-","-",null,null,"",null,"",null,null,null,"",null,null,null,"","","",""]
["-","-",null,null,"",null,"",null,null,null,"",null,null,null,"","","",""]
["-","-",null,null,"",null,"",null,null,null,"",null,null,null,"","","",""]
["-","-",null,null,"",null,"",null,null,null,"",null,null,null,"","","",""]
["-","-",null,null,"",null,"",null,null,null,"",null,null,null,"","","",""]
["-","-",null,null,"",null,"",null,null,null,"",null,null,null,"","","",""]
["-","-",null,null,"",null,"",null,null,null,"",null,null,null,"","","",""]
["-","-",null,null,"",null,"",null,null,null,"",null,null,null,"","","",""]
["-","-",null,null,"",null,"",null,null,null,"",null,null,null,"","","",""]
["-","-",null,null,"",null,"",null,null,null,"",null,null,null,"","","",""]
["-","-",null,null,"",null,"",null,null,null,"",null,null,null,"","","",""]
["-","-",null,null,"",null,"",null,null,null,"",null,null,null,"","","",""]
["-","-",null,null,"",null,"",null,null,null,"",null,null,null,"","","",""]
["-","-",null,null,"",null,"",null,null,null,"",null,null,null,"","","",""]
["-","-",null,null,"",null,"",null,null,null,"",null,null,null,"","","",""]
["-","-",null,null,"",null,"",null,null,null,"",null,null,null,"","","",""]
["-","-",null,null,"",null,"",null,null,null,"",null,null,null,"","","",""]
["-","-",null,null,"",null,"",null,null,null,"",null,null,null,"","","",""]
["-","-",null,null,"",null,"",null,null,null,"",null,null,null,"","","",""]
["-","-",null,null,"",null,"",null,null,null,"",null,null,null,"","","",""]
["-","-",null,null,"",null,"",null,null,null,"",null,null,null,"","","",""]
["-","-",null,null,"",null,"",null,null,null,"",null,null,null,"","","",""]
["-","-",null,null,"",null,"",null,null,null,"",null,null,null,"","","",""]
["-","-",null,null,"",null,"",null,null,null,"",null,null,null,"","","",""]
["-","-",null,null,"",null,"",null,null,null,"",null,null,null,"","","",""]
["-","-",null,null,"",null,"",null,null,null,"",null,null,null,"","","",""]
["-","-",null,null,"",null,"",null,null,null,"",null,null,null,"","","",""]
["-","-",null,null,"",null,"",null,null,null,"",null,null,null,"","","",""]
["-","-",null,null,"",null,"",null,null,null,"",null,null,null,"","","",""]
["-","-",null,null,"",null,"",null,null,null,"",null,null,null,"","","",""]
["-","-",null,null,"",null,"",null,null,null,"",null,null,null,"","","",""]
["-","-",null,null,"",null,"",null,null,null,"",null,null,null,"","","",""]
["-","-",null,null,"",null,"",null,null,null,"",null,null,null,"","","",""]
["-","-",null,null,"",null,"",null,null,null,"",null,null,null,"","","",""]
["-","-",null,null,"",null,"",null,null,null,"",null,null,null,"","","",""]
["-","-",null,null,"",null,"",null,null,null,"",null,null,null,"","","",""]
["-","-",null,null,"",null,"",null,null,null,"",null,null,null,"","","",""]
["-",{"$f":"IF(ISBLANK(C197),\"-\",INDIRECT(\"PLOTS!A\"&MATCH(C197,PlotLabels,0)+4))","v":"-"},null,null,{"$f":"IF(ISBLANK(D197),\"\",VLOOKUP(D197,HealthAssessmentYear,6,FALSE))","v":""},null,"",null,null,null,{"$f":"IF(ISBLANK(C197),\"\",TODAY())","v":""},null,null,null,"",{"$f":"IF(ISBLANK(C197),\"\",TODAY())","v":""},{"$f":"IF(ISBLANK(C197),\"\",IF(LEN(O197)=0,\"\",O197))","v":""},{"$f":"IF(ISBLANK(C197),\"\",P197)","v":""}]
["-","-",null,null,"",null,{"$f":"IF(OR(ISBLANK(C198),ISBLANK(D198),ISBLANK(F198)),\"\",C198&\"-\"&D198&\"-\"&TEXT(F198,\"MM-DD-YYYY\"))","v":""},null,null,null,"",null,null,null,{"$f":"IF(ISBLANK(C198),\"\",O197)","v":""},"","",""]
[{"$f":"IF(ISBLANK(C199),\"-\",GenGuid())","v":"-"},"-",null,null,"",null,"",null,null,null,"",null,null,null,"","","",""]
["-","-",null,null,"",null,"",null,null,null,"",null,null,null,"","","",""]
["-","-",null,null,"",null,"",null,null,null,"",null,null,null,"","","",""]
["-","-",null,null,"",null,"",null,null,null,"",null,null,null,"","","",""]
["-","-",null,null,"",null,"",null,null,null,"",null,null,null,"","","",""]
["-","-",null,null,"",null,"",null,null,null,"",null,null,null,"","","",""]
["-","-",null,null,"",null,"",null,null,null,"",null,null,null,"","","",""]
["-","-",null,null,"",null,"",null,null,null,"",null,null,null,"","","",""]
["-","-",null,null,"",null,"",null,null,null,"",null,null,null,"","","",""]
["-","-",null,null,"",null,"",null,null,null,"",null,null,null,"","","",""]
["-","-",null,null,"",null,"",null,null,null,"",null,null,null,"","","",""]
["-","-",null,null,"",null,"",null,null,null,"",null,null,null,"","","",""]
["-","-",null,null,"",null,"",null,null,null,"",null,null,null,"","","",""]
["-","-",null,null,"",null,"",null,null,null,"",null,null,null,"","","",""]
["-","-",null,null,"",null,"",null,null,null,"",null,null,null,"","","",""]
["-","-",null,null,"",null,"",null,null,null,"",null,null,null,"","","",""]
["-","-",null,null,"",null,"",null,null,null,"",null,null,null,"","","",""]
["-","-",null,null,"",null,"",null,null,null,"",null,null,null,"","","",""]
["-","-",null,null,"",null,"",null,null,null,"",null,null,null,"","","",""]
["-","-",null,null,"",null,"",null,null,null,"",null,null,null,"","","",""]
["-","-",null,null,"",null,"",null,null,null,"",null,null,null,"","","",""]
["-","-",null,null,"",null,"",null,null,null,"",null,null,null,"","","",""]
["-","-",null,null,"",null,"",null,null,null,"",null,null,null,"","","",""]
["-","-",null,null,"",null,"",null,null,null,"",null,null,null,"","","",""]
["-","-",null,null,"",null,"",null,null,null,"",null,null,null,"","","",""]
["-","-",null,null,"",null,"",null,null,null,"",null,null,null,"","","",""]
["-","-",null,null,"",null,"",null,null,null,"",null,null,null,"","","",""]
["-","-",null,null,"",null,"",null,null,null,"",null,null,null,"","","",""]
["-","-",null,null,"",null,"",null,null,null,"",null,null,null,"","","",""]
["-","-",null,null,"",null,"",null,null,null,"",null,null,null,"","","",""]
["-","-",null,null,"",null,"",null,null,null,"",null,null,null,"","","",""]
["-","-",null,null,"",null,"",null,null,null,"",null,null,null,"","","",""]
["-","-",null,null,"",null,"",null,null,null,"",null,null,null,"","","",""]
["-","-",null,null,"",null,"",null,null,null,"",null,null,null,"","","",""]
["-","-",null,null,"",null,"",null,null,null,"",null,null,null,"","","",""]
["-","-",null,null,"",null,"",null,null,null,"",null,null,null,"","","",""]
["-","-",null,null,"",null,"",null,null,null,"",null,null,null,"","","",""]
["-","-",null,null,"",null,"",null,null,null,"",null,null,null,"","","",""]
["-","-",null,null,"",null,"",null,null,null,"",null,null,null,"","","",""]
["-","-",null,null,"",null,"",null,null,null,"",null,null,null,"","","",""]
["-","-",null,null,"",null,"",null,null,null,"",null,null,null,"","","",""]
["-","-",null,null,"",null,"",null,null,null,"",null,null,null,"","","",""]
["-","-",null,null,"",null,"",null,null,null,"",null,null,null,"","","",""]
["-","-",null,null,"",null,"",null,null,null,"",null,null,null,"","","",""]
["-","-",null,null,"",null,"",null,null,null,"",null,null,null,"","","",""]
["-","-",null,null,"",null,"",null,null,null,"",null,null,null,"","","",""]
["-","-",null,null,"",null,"",null,null,null,"",null,null,null,"","","",""]
["-","-",null,null,"",null,"",null,null,null,"",null,null,null,"","","",""]
["-","-",null,null,"",null,"",null,null,null,"",null,null,null,"","","",""]
["-","-",null,null,"",null,"",null,null,null,"",null,null,null,"","","",""]
["-","-",null,null,"",null,"",null,null,null,"",null,null,null,"","","",""]
["-","-",null,null,"",null,"",null,null,null,"",null,null,null,"","","",""]
["-","-",null,null,"",null,"",null,null,null,"",null,null,null,"","","",""]
["-","-",null,null,"",null,"",null,null,null,"",null,null,null,"","","",""]
["-","-",null,null,"",null,"",null,null,null,"",null,null,null,"","","",""]
["-","-",null,null,"",null,"",null,null,null,"",null,null,null,"","","",""]
["-","-",null,null,"",null,"",null,null,null,"",null,null,null,"","","",""]
["-","-",null,null,"",null,"",null,null,null,"",null,null,null,"","","",""]
["-","-",null,null,"",null,"",null,null,null,"",null,null,null,"","","",""]
["-","-",null,null,"",null,"",null,null,null,"",null,null,null,"","","",""]
["-","-",null,null,"",null,"",null,null,null,"",null,null,null,"","","",""]
["-","-",null,null,"",null,"",null,null,null,"",null,null,null,"","","",""]
["-",{"$f":"IF(ISBLANK(C261),\"-\",INDIRECT(\"PLOTS!A\"&MATCH(C261,PlotLabels,0)+4))","v":"-"},null,null,{"$f":"IF(ISBLANK(D261),\"\",VLOOKUP(D261,HealthAssessmentYear,6,FALSE))","v":""},null,"",null,null,null,{"$f":"IF(ISBLANK(C261),\"\",TODAY())","v":""},null,null,null,"",{"$f":"IF(ISBLANK(C261),\"\",TODAY())","v":""},{"$f":"IF(ISBLANK(C261),\"\",IF(LEN(O261)=0,\"\",O261))","v":""},{"$f":"IF(ISBLANK(C261),\"\",P261)","v":""}]
["-","-",null,null,"",null,{"$f":"IF(OR(ISBLANK(C262),ISBLANK(D262),ISBLANK(F262)),\"\",C262&\"-\"&D262&\"-\"&TEXT(F262,\"MM-DD-YYYY\"))","v":""},null,null,null,"",null,null,null,{"$f":"IF(ISBLANK(C262),\"\",O261)","v":""},"","",""]
[{"$f":"IF(ISBLANK(C263),\"-\",GenGuid())","v":"-"},"-",null,null,"",null,"",null,null,null,"",null,null,null,"","","",""]
["-","-",null,null,"",null,"",null,null,null,"",null,null,null,"","","",""]
["-","-",null,null,"",null,"",null,null,null,"",null,null,null,"","","",""]
["-","-",null,null,"",null,"",null,null,null,"",null,null,null,"","","",""]
["-","-",null,null,"",null,"",null,null,null,"",null,null,null,"","","",""]
["-","-",null,null,"",null,"",null,null,null,"",null,null,null,"","","",""]
["-","-",null,null,"",null,"",null,null,null,"",null,null,null,"","","",""]
["-","-",null,null,"",null,"",null,null,null,"",null,null,null,"","","",""]
["-","-",null,null,"",null,"",null,null,null,"",null,null,null,"","","",""]
["-","-",null,null,"",null,"",null,null,null,"",null,null,null,"","","",""]
["-","-",null,null,"",null,"",null,null,null,"",null,null,null,"","","",""]
["-","-",null,null,"",null,"",null,null,null,"",null,null,null,"","","",""]
["-","-",null,null,"",null,"",null,null,null,"",null,null,null,"","","",""]
["-","-",null,null,"",null,"",null,null,null,"",null,null,null,"","","",""]
["-","-",null,null,"",null,"",null,null,null,"",null,null,null,"","","",""]
["-","-",null,null,"",null,"",null,null,null,"",null,null,null,"","","",""]
["-","-",null,null,"",null,"",null,null,null,"",null,null,null,"","","",""]
["-","-",null,null,"",null,"",null,null,null,"",null,null,null,"","","",""]
["-","-",null,null,"",null,"",null,null,null,"",null,null,null,"","","",""]
["-","-",null,null,"",null,"",null,null,null,"",null,null,null,"","","",""]
["-","-",null,null,"",null,"",null,null,null,"",null,null,null,"","","",""]
["-","-",null,null,"",null,"",null,null,null,"",null,null,null,"","","",""]
["-","-",null,null,"",null,"",null,null,null,"",null,null,null,"","","",""]
["-","-",null,null,"",null,"",null,null,null,"",null,null,null,"","","",""]
["-","-",null,null,"",null,"",null,null,null,"",null,null,null,"","","",""]
["-","-",null,null,"",null,"",null,null,null,"",null,null,null,"","","",""]
["-","-",null,null,"",null,"",null,null,null,"",null,null,null,"","","",""]
["-","-",null,null,"",null,"",null,null,null,"",null,null,null,"","","",""]
["-","-",null,null,"",null,"",null,null,null,"",null,null,null,"","","",""]
["-","-",null,null,"",null,"",null,null,null,"",null,null,null,"","","",""]
["-","-",null,null,"",null,"",null,null,null,"",null,null,null,"","","",""]
["-","-",null,null,"",null,"",null,null,null,"",null,null,null,"","","",""]
["-","-",null,null,"",null,"",null,null,null,"",null,null,null,"","","",""]
["-","-",null,null,"",null,"",null,null,null,"",null,null,null,"","","",""]
["-","-",null,null,"",null,"",null,null,null,"",null,null,null,"","","",""]
["-","-",null,null,"",null,"",null,null,null,"",null,null,null,"","","",""]
["-","-",null,null,"",null,"",null,null,null,"",null,null,null,"","","",""]
["-","-",null,null,"",null,"",null,null,null,"",null,null,null,"","","",""]
["-","-",null,null,"",null,"",null,null,null,"",null,null,null,"","","",""]
["-","-",null,null,"",null,"",null,null,null,"",null,null,null,"","","",""]
["-","-",null,null,"",null,"",null,null,null,"",null,null,null,"","","",""]
["-","-",null,null,"",null,"",null,null,null,"",null,null,null,"","","",""]
["-","-",null,null,"",null,"",null,null,null,"",null,null,null,"","","",""]
["-","-",null,null,"",null,"",null,null,null,"",null,null,null,"","","",""]
["-","-",null,null,"",null,"",null,null,null,"",null,null,null,"","","",""]
["-","-",null,null,"",null,"",null,null,null,"",null,null,null,"","","",""]
["-","-",null,null,"",null,"",null,null,null,"",null,null,null,"","","",""]
["-","-",null,null,"",null,"",null,null,null,"",null,null,null,"","","",""]
["-","-",null,null,"",null,"",null,null,null,"",null,null,null,"","","",""]
["-","-",null,null,"",null,"",null,null,null,"",null,null,null,"","","",""]
["-","-",null,null,"",null,"",null,null,null,"",null,null,null,"","","",""]
["-","-",null,null,"",null,"",null,null,null,"",null,null,null,"","","",""]
["-","-",null,null,"",null,"",null,null,null,"",null,null,null,"","","",""]
["-","-",null,null,"",null,"",null,null,null,"",null,null,null,"","","",""]
["-","-",null,null,"",null,"",null,null,null,"",null,null,null,"","","",""]
["-","-",null,null,"",null,"",null,null,null,"",null,null,null,"","","",""]
["-","-",null,null,"",null,"",null,null,null,"",null,null,null,"","","",""]
["-","-",null,null,"",null,"",null,null,null,"",null,null,null,"","","",""]
["-","-",null,null,"",null,"",null,null,null,"",null,null,null,"","","",""]
["-","-",null,null,"",null,"",null,null,null,"",null,null,null,"","","",""]
["-","-",null,null,"",null,"",null,null,null,"",null,null,null,"","","",""]
["-","-",null,null,"",null,"",null,null,null,"",null,null,null,"","","",""]
["-",{"$f":"IF(ISBLANK(C325),\"-\",INDIRECT(\"PLOTS!A\"&MATCH(C325,PlotLabels,0)+4))","v":"-"},null,null,{"$f":"IF(ISBLANK(D325),\"\",VLOOKUP(D325,HealthAssessmentYear,6,FALSE))","v":""},null,"",null,null,null,{"$f":"IF(ISBLANK(C325),\"\",TODAY())","v":""},null,null,null,"",{"$f":"IF(ISBLANK(C325),\"\",TODAY())","v":""},{"$f":"IF(ISBLANK(C325),\"\",IF(LEN(O325)=0,\"\",O325))","v":""},{"$f":"IF(ISBLANK(C325),\"\",P325)","v":""}]
["-","-",null,null,"",null,{"$f":"IF(OR(ISBLANK(C326),ISBLANK(D326),ISBLANK(F326)),\"\",C326&\"-\"&D326&\"-\"&TEXT(F326,\"MM-DD-YYYY\"))","v":""},null,null,null,"",null,null,null,{"$f":"IF(ISBLANK(C326),\"\",O325)","v":""},"","",""]
[{"$f":"IF(ISBLANK(C327),\"-\",GenGuid())","v":"-"},"-",null,null,"",null,"",null,null,null,"",null,null,null,"","","",""]
["-","-",null,null,"",null,"",null,null,null,"",null,null,null,"","","",""]
["-","-",null,null,"",null,"",null,null,null,"",null,null,null,"","","",""]
["-","-",null,null,"",null,"",null,null,null,"",null,null,null,"","","",""]
["-","-",null,null,"",null,"",null,null,null,"",null,null,null,"","","",""]
["-","-",null,null,"",null,"",null,null,null,"",null,null,null,"","","",""]
["-","-",null,null,"",null,"",null,null,null,"",null,null,null,"","","",""]
["-","-",null,null,"",null,"",null,null,null,"",null,null,null,"","","",""]
["-","-",null,null,"",null,"",null,null,null,"",null,null,null,"","","",""]
["-","-",null,null,"",null,"",null,null,null,"",null,null,null,"","","",""]
["-","-",null,null,"",null,"",null,null,null,"",null,null,null,"","","",""]
["-","-",null,null,"",null,"",null,null,null,"",null,null,null,"","","",""]
["-","-",null,null,"",null,"",null,null,null,"",null,null,null,"","","",""]
["-","-",null,null,"",null,"",null,null,null,"",null,null,null,"","","",""]
["-","-",null,null,"",null,"",null,null,null,"",null,null,null,"","","",""]
["-","-",null,null,"",null,"",null,null,null,"",null,null,null,"","","",""]
["-","-",null,null,"",null,"",null,null,null,"",null,null,null,"","","",""]
["-","-",null,null,"",null,"",null,null,null,"",null,null,null,"","","",""]
["-","-",null,null,"",null,"",null,null,null,"",null,null,null,"","","",""]
["-","-",null,null,"",null,"",null,null,null,"",null,null,null,"","","",""]
["-","-",null,null,"",null,"",null,null,null,"",null,null,null,"","","",""]
["-","-",null,null,"",null,"",null,null,null,"",null,null,null,"","","",""]
["-","-",null,null,"",null,"",null,null,null,"",null,null,null,"","","",""]
["-","-",null,null,"",null,"",null,null,null,"",null,null,null,"","","",""]
["-","-",null,null,"",null,"",null,null,null,"",null,null,null,"","","",""]
["-","-",null,null,"",null,"",null,null,null,"",null,null,null,"","","",""]
["-","-",null,null,"",null,"",null,null,null,"",null,null,null,"","","",""]
["-","-",null,null,"",null,"",null,null,null,"",null,null,null,"","","",""]
["-","-",null,null,"",null,"",null,null,null,"",null,null,null,"","","",""]
["-","-",null,null,"",null,"",null,null,null,"",null,null,null,"","","",""]
["-","-",null,null,"",null,"",null,null,null,"",null,null,null,"","","",""]
["-","-",null,null,"",null,"",null,null,null,"",null,null,null,"","","",""]
["-","-",null,null,"",null,"",null,null,null,"",null,null,null,"","","",""]
["-","-",null,null,"",null,"",null,null,null,"",null,null,null,"","","",""]
["-","-",null,null,"",null,"",null,null,null,"",null,null,null,"","","",""]
["-","-",null,null,"",null,"",null,null,null,"",null,null,null,"","","",""]
["-","-",null,null,"",null,"",null,null,null,"",null,null,null,"","","",""]
["-","-",null,null,"",null,"",null,null,null,"",null,null,null,"","","",""]
["-","-",null,null,"",null,"",null,null,null,"",null,null,null,"","","",""]
["-","-",null,null,"",null,"",null,null,null,"",null,null,null,"","","",""]
["-","-",null,null,"",null,"",null,null,null,"",null,null,null,"","","",""]
["-","-",null,null,"",null,"",null,null,null,"",null,null,null,"","","",""]
["-","-",null,null,"",null,"",null,null,null,"",null,null,null,"","","",""]
["-","-",null,null,"",null,"",null,null,null,"",null,null,null,"","","",""]
["-","-",null,null,"",null,"",null,null,null,"",null,null,null,"","","",""]
["-","-",null,null,"",null,"",null,null,null,"",null,null,null,"","","",""]
["-","-",null,null,"",null,"",null,null,null,"",null,null,null,"","","",""]
["-","-",null,null,"",null,"",null,null,null,"",null,null,null,"","","",""]
["-","-",null,null,"",null,"",null,null,null,"",null,null,null,"","","",""]
["-","-",null,null,"",null,"",null,null,null,"",null,null,null,"","","",""]
["-","-",null,null,"",null,"",null,null,null,"",null,null,null,"","","",""]
["-","-",null,null,"",null,"",null,null,null,"",null,null,null,"","","",""]
["-","-",null,null,"",null,"",null,null,null,"",null,null,null,"","","",""]
["-","-",null,null,"",null,"",null,null,null,"",null,null,null,"","","",""]
["-","-",null,null,"",null,"",null,null,null,"",null,null,null,"","","",""]
["-","-",null,null,"",null,"",null,null,null,"",null,null,null,"","","",""]
["-","-",null,null,"",null,"",null,null,null,"",null,null,null,"","","",""]
["-","-",null,null,"",null,"",null,null,null,"",null,null,null,"","","",""]
["-","-",null,null,"",null,"",null,null,null,"",null,null,null,"","","",""]
["-","-",null,null,"",null,"",null,null,null,"",null,null,null,"","","",""]
["-","-",null,null,"",null,"",null,null,null,"",null,null,null,"","","",""]
["-","-",null,null,"",null,"",null,null,null,"",null,null,null,"","","",""]
["-",{"$f":"IF(ISBLANK(C389),\"-\",INDIRECT(\"PLOTS!A\"&MATCH(C389,PlotLabels,0)+4))","v":"-"},null,null,{"$f":"IF(ISBLANK(D389),\"\",VLOOKUP(D389,HealthAssessmentYear,6,FALSE))","v":""},null,"",null,null,null,{"$f":"IF(ISBLANK(C389),\"\",TODAY())","v":""},null,null,null,"",{"$f":"IF(ISBLANK(C389),\"\",TODAY())","v":""},{"$f":"IF(ISBLANK(C389),\"\",IF(LEN(O389)=0,\"\",O389))","v":""},{"$f":"IF(ISBLANK(C389),\"\",P389)","v":""}]
["-","-",null,null,"",null,{"$f":"IF(OR(ISBLANK(C390),ISBLANK(D390),ISBLANK(F390)),\"\",C390&\"-\"&D390&\"-\"&TEXT(F390,\"MM-DD-YYYY\"))","v":""},null,null,null,"",null,null,null,{"$f":"IF(ISBLANK(C390),\"\",O389)","v":""},"","",""]
[{"$f":"IF(ISBLANK(C391),\"-\",GenGuid())","v":"-"},"-",null,null,"",null,"",null,null,null,"",null,null,null,"","","",""]
["-","-",null,null,"",null,"",null,null,null,"",null,null,null,"","","",""]
["-","-",null,null,"",null,"",null,null,null,"",null,null,null,"","","",""]
["-","-",null,null,"",null,"",null,null,null,"",null,null,null,"","","",""]
["-","-",null,null,"",null,"",null,null,null,"",null,null,null,"","","",""]
["-","-",null,null,"",null,"",null,null,null,"",null,null,null,"","","",""]
["-","-",null,null,"",null,"",null,null,null,"",null,null,null,"","","",""]
["-","-",null,null,"",null,"",null,null,null,"",null,null,null,"","","",""]
["-","-",null,null,"",null,"",null,null,null,"",null,null,null,"","","",""]
["-","-",null,null,"",null,"",null,null,null,"",null,null,null,"","","",""]
["-","-",null,null,"",null,"",null,null,null,"",null,null,null,"","","",""]
["-","-",null,null,"",null,"",null,null,null,"",null,null,null,"","","",""]
["-","-",null,null,"",null,"",null,null,null,"",null,null,null,"","","",""]
["-","-",null,null,"",null,"",null,null,null,"",null,null,null,"","","",""]
["-","-",null,null,"",null,"",null,null,null,"",null,null,null,"","","",""]
["-","-",null,null,"",null,"",null,null,null,"",null,null,null,"","","",""]
["-","-",null,null,"",null,"",null,null,null,"",null,null,null,"","","",""]
["-","-",null,null,"",null,"",null,null,null,"",null,null,null,"","","",""]
["-","-",null,null,"",null,"",null,null,null,"",null,null,null,"","","",""]
["-","-",null,null,"",null,"",null,null,null,"",null,null,null,"","","",""]
["-","-",null,null,"",null,"",null,null,null,"",null,null,null,"","","",""]
["-","-",null,null,"",null,"",null,null,null,"",null,null,null,"","","",""]
["-","-",null,null,"",null,"",null,null,null,"",null,null,null,"","","",""]
["-","-",null,null,"",null,"",null,null,null,"",null,null,null,"","","",""]
["-","-",null,null,"",null,"",null,null,null,"",null,null,null,"","","",""]
["-","-",null,null,"",null,"",null,null,null,"",null,null,null,"","","",""]
["-","-",null,null,"",null,"",null,null,null,"",null,null,null,"","","",""]
["-","-",null,null,"",null,"",null,null,null,"",null,null,null,"","","",""]
["-","-",null,null,"",null,"",null,null,null,"",null,null,null,"","","",""]
["-","-",null,null,"",null,"",null,null,null,"",null,null,null,"","","",""]
["-","-",null,null,"",null,"",null,null,null,"",null,null,null,"","","",""]
["-","-",null,null,"",null,"",null,null,null,"",null,null,null,"","","",""]
["-","-",null,null,"",null,"",null,null,null,"",null,null,null,"","","",""]
["-","-",null,null,"",null,"",null,null,null,"",null,null,null,"","","",""]
["-","-",null,null,"",null,"",null,null,null,"",null,null,null,"","","",""]
["-","-",null,null,"",null,"",null,null,null,"",null,null,null,"","","",""]
["-","-",null,null,"",null,"",null,null,null,"",null,null,null,"","","",""]
["-","-",null,null,"",null,"",null,null,null,"",null,null,null,"","","",""]
["-","-",null,null,"",null,"",null,null,null,"",null,null,null,"","","",""]
["-","-",null,null,"",null,"",null,null,null,"",null,null,null,"","","",""]
["-","-",null,null,"",null,"",null,null,null,"",null,null,null,"","","",""]
["-","-",null,null,"",null,"",null,null,null,"",null,null,null,"","","",""]
["-","-",null,null,"",null,"",null,null,null,"",null,null,null,"","","",""]
["-","-",null,null,"",null,"",null,null,null,"",null,null,null,"","","",""]
["-","-",null,null,"",null,"",null,null,null,"",null,null,null,"","","",""]
["-","-",null,null,"",null,"",null,null,null,"",null,null,null,"","","",""]
["-","-",null,null,"",null,"",null,null,null,"",null,null,null,"","","",""]
["-","-",null,null,"",null,"",null,null,null,"",null,null,null,"","","",""]
["-","-",null,null,"",null,"",null,null,null,"",null,null,null,"","","",""]
["-","-",null,null,"",null,"",null,null,null,"",null,null,null,"","","",""]
["-","-",null,null,"",null,"",null,null,null,"",null,null,null,"","","",""]
["-","-",null,null,"",null,"",null,null,null,"",null,null,null,"","","",""]
["-","-",null,null,"",null,"",null,null,null,"",null,null,null,"","","",""]
["-","-",null,null,"",null,"",null,null,null,"",null,null,null,"","","",""]
["-","-",null,null,"",null,"",null,null,null,"",null,null,null,"","","",""]
["-","-",null,null,"",null,"",null,null,null,"",null,null,null,"","","",""]
["-","-",null,null,"",null,"",null,null,null,"",null,null,null,"","","",""]
["-","-",null,null,"",null,"",null,null,null,"",null,null,null,"","","",""]
["-","-",null,null,"",null,"",null,null,null,"",null,null,null,"","","",""]
["-","-",null,null,"",null,"",null,null,null,"",null,null,null,"","","",""]
["-","-",null,null,"",null,"",null,null,null,"",null,null,null,"","","",""]
["-","-",null,null,"",null,"",null,null,null,"",null,null,null,"","","",""]
["-",{"$f":"IF(ISBLANK(C453),\"-\",INDIRECT(\"PLOTS!A\"&MATCH(C453,PlotLabels,0)+4))","v":"-"},null,null,{"$f":"IF(ISBLANK(D453),\"\",VLOOKUP(D453,HealthAssessmentYear,6,FALSE))","v":""},null,"",null,null,null,{"$f":"IF(ISBLANK(C453),\"\",TODAY())","v":""},null,null,null,"",{"$f":"IF(ISBLANK(C453),\"\",TODAY())","v":""},{"$f":"IF(ISBLANK(C453),\"\",IF(LEN(O453)=0,\"\",O453))","v":""},{"$f":"IF(ISBLANK(C453),\"\",P453)","v":""}]
["-","-",null,null,"",null,{"$f":"IF(OR(ISBLANK(C454),ISBLANK(D454),ISBLANK(F454)),\"\",C454&\"-\"&D454&\"-\"&TEXT(F454,\"MM-DD-YYYY\"))","v":""},null,null,null,"",null,null,null,{"$f":"IF(ISBLANK(C454),\"\",O453)","v":""},"","",""]
[{"$f":"IF(ISBLANK(C455),\"-\",GenGuid())","v":"-"},"-",null,null,"",null,"",null,null,null,"",null,null,null,"","","",""]
["-","-",null,null,"",null,"",null,null,null,"",null,null,null,"","","",""]
["-","-",null,null,"",null,"",null,null,null,"",null,null,null,"","","",""]
["-","-",null,null,"",null,"",null,null,null,"",null,null,null,"","","",""]
["-","-",null,null,"",null,"",null,null,null,"",null,null,null,"","","",""]
["-","-",null,null,"",null,"",null,null,null,"",null,null,null,"","","",""]
["-","-",null,null,"",null,"",null,null,null,"",null,null,null,"","","",""]
["-","-",null,null,"",null,"",null,null,null,"",null,null,null,"","","",""]
["-","-",null,null,"",null,"",null,null,null,"",null,null,null,"","","",""]
["-","-",null,null,"",null,"",null,null,null,"",null,null,null,"","","",""]
["-","-",null,null,"",null,"",null,null,null,"",null,null,null,"","","",""]
["-","-",null,null,"",null,"",null,null,null,"",null,null,null,"","","",""]
["-","-",null,null,"",null,"",null,null,null,"",null,null,null,"","","",""]
["-","-",null,null,"",null,"",null,null,null,"",null,null,null,"","","",""]
["-","-",null,null,"",null,"",null,null,null,"",null,null,null,"","","",""]
["-","-",null,null,"",null,"",null,null,null,"",null,null,null,"","","",""]
["-","-",null,null,"",null,"",null,null,null,"",null,null,null,"","","",""]
["-","-",null,null,"",null,"",null,null,null,"",null,null,null,"","","",""]
["-","-",null,null,"",null,"",null,null,null,"",null,null,null,"","","",""]
["-","-",null,null,"",null,"",null,null,null,"",null,null,null,"","","",""]
["-","-",null,null,"",null,"",null,null,null,"",null,null,null,"","","",""]
["-","-",null,null,"",null,"",null,null,null,"",null,null,null,"","","",""]
["-","-",null,null,"",null,"",null,null,null,"",null,null,null,"","","",""]
["-","-",null,null,"",null,"",null,null,null,"",null,null,null,"","","",""]
["-","-",null,null,"",null,"",null,null,null,"",null,null,null,"","","",""]
["-","-",null,null,"",null,"",null,null,null,"",null,null,null,"","","",""]
["-","-",null,null,"",null,"",null,null,null,"",null,null,null,"","","",""]
["-","-",null,null,"",null,"",null,null,null,"",null,null,null,"","","",""]
["-","-",null,null,"",null,"",null,null,null,"",null,null,null,"","","",""]
["-","-",null,null,"",null,"",null,null,null,"",null,null,null,"","","",""]
["-","-",null,null,"",null,"",null,null,null,"",null,null,null,"","","",""]
["-","-",null,null,"",null,"",null,null,null,"",null,null,null,"","","",""]
["-","-",null,null,"",null,"",null,null,null,"",null,null,null,"","","",""]
["-","-",null,null,"",null,"",null,null,null,"",null,null,null,"","","",""]
["-","-",null,null,"",null,"",null,null,null,"",null,null,null,"","","",""]
["-","-",null,null,"",null,"",null,null,null,"",null,null,null,"","","",""]
["-","-",null,null,"",null,"",null,null,null,"",null,null,null,"","","",""]
["-","-",null,null,"",null,"",null,null,null,"",null,null,null,"","","",""]
["-","-",null,null,"",null,"",null,null,null,"",null,null,null,"","","",""]
["-","-",null,null,"",null,"",null,null,null,"",null,null,null,"","","",""]
["-","-",null,null,"",null,"",null,null,null,"",null,null,null,"","","",""]
["-","-",null,null,"",null,"",null,null,null,"",null,null,null,"","","",""]
["-","-",null,null,"",null,"",null,null,null,"",null,null,null,"","","",""]
["-","-",null,null,"",null,"",null,null,null,"",null,null,null,"","","",""]
["-","-",null,null,"",null,"",null,null,null,"",null,null,null,"","","",""]
["-","-",null,null,"",null,"",null,null,null,"",null,null,null,"","","",""]
["-","-",null,null,"",null,"",null,null,null,"",null,null,null,"","","",""]
["-","-",null,null,"",null,"",null,null,null,"",null,null,null,"","","",""]
["-","-",null,null,"",null,"",null,null,null,"",null,null,null,"","","",""]
["-","-",null,null,"",null,"",null,null,null,"",null,null,null,"","","",""]
["-","-",null,null,"",null,"",null,null,null,"",null,null,null,"","","",""]
["-","-",null,null,"",null,"",null,null,null,"",null,null,null,"","","",""]
["-","-",null,null,"",null,"",null,null,null,"",null,null,null,"","","",""]
["-","-",null,null,"",null,"",null,null,null,"",null,null,null,"","","",""]
["-","-",null,null,"",null,"",null,null,null,"",null,null,null,"","","",""]
["-","-",null,null,"",null,"",null,null,null,"",null,null,null,"","","",""]
["-","-",null,null,"",null,"",null,null,null,"",null,null,null,"","","",""]
["-","-",null,null,"",null,"",null,null,null,"",null,null,null,"","","",""]
["-","-",null,null,"",null,"",null,null,null,"",null,null,null,"","","",""]
["-","-",null,null,"",null,"",null,null,null,"",null,null,null,"","","",""]
["-","-",null,null,"",null,"",null,null,null,"",null,null,null,"","","",""]
["-","-",null,null,"",null,"",null,null,null,"",null,null,null,"","","",""]
["-",{"$f":"IF(ISBLANK(C517),\"-\",INDIRECT(\"PLOTS!A\"&MATCH(C517,PlotLabels,0)+4))","v":"-"},null,null,{"$f":"IF(ISBLANK(D517),\"\",VLOOKUP(D517,HealthAssessmentYear,6,FALSE))","v":""},null,"",null,null,null,{"$f":"IF(ISBLANK(C517),\"\",TODAY())","v":""},null,null,null,"",{"$f":"IF(ISBLANK(C517),\"\",TODAY())","v":""},{"$f":"IF(ISBLANK(C517),\"\",IF(LEN(O517)=0,\"\",O517))","v":""},{"$f":"IF(ISBLANK(C517),\"\",P517)","v":""}]
["-","-",null,null,"",null,{"$f":"IF(OR(ISBLANK(C518),ISBLANK(D518),ISBLANK(F518)),\"\",C518&\"-\"&D518&\"-\"&TEXT(F518,\"MM-DD-YYYY\"))","v":""},null,null,null,"",null,null,null,{"$f":"IF(ISBLANK(C518),\"\",O517)","v":""},"","",""]
[{"$f":"IF(ISBLANK(C519),\"-\",GenGuid())","v":"-"},"-",null,null,"",null,"",null,null,null,"",null,null,null,"","","",""]
["-","-",null,null,"",null,"",null,null,null,"",null,null,null,"","","",""]
["-","-",null,null,"",null,"",null,null,null,"",null,null,null,"","","",""]
["-","-",null,null,"",null,"",null,null,null,"",null,null,null,"","","",""]
["-","-",null,null,"",null,"",null,null,null,"",null,null,null,"","","",""]
["-","-",null,null,"",null,"",null,null,null,"",null,null,null,"","","",""]
["-","-",null,null,"",null,"",null,null,null,"",null,null,null,"","","",""]
["-","-",null,null,"",null,"",null,null,null,"",null,null,null,"","","",""]
["-","-",null,null,"",null,"",null,null,null,"",null,null,null,"","","",""]
["-","-",null,null,"",null,"",null,null,null,"",null,null,null,"","","",""]
["-","-",null,null,"",null,"",null,null,null,"",null,null,null,"","","",""]
["-","-",null,null,"",null,"",null,null,null,"",null,null,null,"","","",""]
["-","-",null,null,"",null,"",null,null,null,"",null,null,null,"","","",""]
["-","-",null,null,"",null,"",null,null,null,"",null,null,null,"","","",""]
["-","-",null,null,"",null,"",null,null,null,"",null,null,null,"","","",""]
["-","-",null,null,"",null,"",null,null,null,"",null,null,null,"","","",""]
["-","-",null,null,"",null,"",null,null,null,"",null,null,null,"","","",""]
["-","-",null,null,"",null,"",null,null,null,"",null,null,null,"","","",""]
["-","-",null,null,"",null,"",null,null,null,"",null,null,null,"","","",""]
["-","-",null,null,"",null,"",null,null,null,"",null,null,null,"","","",""]
["-","-",null,null,"",null,"",null,null,null,"",null,null,null,"","","",""]
["-","-",null,null,"",null,"",null,null,null,"",null,null,null,"","","",""]
["-","-",null,null,"",null,"",null,null,null,"",null,null,null,"","","",""]
["-","-",null,null,"",null,"",null,null,null,"",null,null,null,"","","",""]
["-","-",null,null,"",null,"",null,null,null,"",null,null,null,"","","",""]
["-","-",null,null,"",null,"",null,null,null,"",null,null,null,"","","",""]
["-","-",null,null,"",null,"",null,null,null,"",null,null,null,"","","",""]
["-","-",null,null,"",null,"",null,null,null,"",null,null,null,"","","",""]
["-","-",null,null,"",null,"",null,null,null,"",null,null,null,"","","",""]
["-","-",null,null,"",null,"",null,null,null,"",null,null,null,"","","",""]
["-","-",null,null,"",null,"",null,null,null,"",null,null,null,"","","",""]
["-","-",null,null,"",null,"",null,null,null,"",null,null,null,"","","",""]
["-","-",null,null,"",null,"",null,null,null,"",null,null,null,"","","",""]
["-","-",null,null,"",null,"",null,null,null,"",null,null,null,"","","",""]
["-","-",null,null,"",null,"",null,null,null,"",null,null,null,"","","",""]
["-","-",null,null,"",null,"",null,null,null,"",null,null,null,"","","",""]
["-","-",null,null,"",null,"",null,null,null,"",null,null,null,"","","",""]
["-","-",null,null,"",null,"",null,null,null,"",null,null,null,"","","",""]
["-","-",null,null,"",null,"",null,null,null,"",null,null,null,"","","",""]
["-","-",null,null,"",null,"",null,null,null,"",null,null,null,"","","",""]
["-","-",null,null,"",null,"",null,null,null,"",null,null,null,"","","",""]
["-","-",null,null,"",null,"",null,null,null,"",null,null,null,"","","",""]
["-","-",null,null,"",null,"",null,null,null,"",null,null,null,"","","",""]
["-","-",null,null,"",null,"",null,null,null,"",null,null,null,"","","",""]
["-","-",null,null,"",null,"",null,null,null,"",null,null,null,"","","",""]
["-","-",null,null,"",null,"",null,null,null,"",null,null,null,"","","",""]
["-","-",null,null,"",null,"",null,null,null,"",null,null,null,"","","",""]
["-","-",null,null,"",null,"",null,null,null,"",null,null,null,"","","",""]
["-","-",null,null,"",null,"",null,null,null,"",null,null,null,"","","",""]
["-","-",null,null,"",null,"",null,null,null,"",null,null,null,"","","",""]
["-","-",null,null,"",null,"",null,null,null,"",null,null,null,"","","",""]
["-","-",null,null,"",null,"",null,null,null,"",null,null,null,"","","",""]
["-","-",null,null,"",null,"",null,null,null,"",null,null,null,"","","",""]
["-","-",null,null,"",null,"",null,null,null,"",null,null,null,"","","",""]
["-","-",null,null,"",null,"",null,null,null,"",null,null,null,"","","",""]
["-","-",null,null,"",null,"",null,null,null,"",null,null,null,"","","",""]
["-","-",null,null,"",null,"",null,null,null,"",null,null,null,"","","",""]
["-","-",null,null,"",null,"",null,null,null,"",null,null,null,"","","",""]
["-","-",null,null,"",null,"",null,null,null,"",null,null,null,"","","",""]
["-","-",null,null,"",null,"",null,null,null,"",null,null,null,"","","",""]
["-","-",null,null,"",null,"",null,null,null,"",null,null,null,"","","",""]
["-","-",null,null,"",null,"",null,null,null,"",null,null,null,"","","",""]
["-",{"$f":"IF(ISBLANK(C581),\"-\",INDIRECT(\"PLOTS!A\"&MATCH(C581,PlotLabels,0)+4))","v":"-"},null,null,{"$f":"IF(ISBLANK(D581),\"\",VLOOKUP(D581,HealthAssessmentYear,6,FALSE))","v":""},null,"",null,null,null,{"$f":"IF(ISBLANK(C581),\"\",TODAY())","v":""},null,null,null,"",{"$f":"IF(ISBLANK(C581),\"\",TODAY())","v":""},{"$f":"IF(ISBLANK(C581),\"\",IF(LEN(O581)=0,\"\",O581))","v":""},{"$f":"IF(ISBLANK(C581),\"\",P581)","v":""}]
["-","-",null,null,"",null,{"$f":"IF(OR(ISBLANK(C582),ISBLANK(D582),ISBLANK(F582)),\"\",C582&\"-\"&D582&\"-\"&TEXT(F582,\"MM-DD-YYYY\"))","v":""},null,null,null,"",null,null,null,{"$f":"IF(ISBLANK(C582),\"\",O581)","v":""},"","",""]
[{"$f":"IF(ISBLANK(C583),\"-\",GenGuid())","v":"-"},"-",null,null,"",null,"",null,null,null,"",null,null,null,"","","",""]
["-","-",null,null,"",null,"",null,null,null,"",null,null,null,"","","",""]
["-","-",null,null,"",null,"",null,null,null,"",null,null,null,"","","",""]
["-","-",null,null,"",null,"",null,null,null,"",null,null,null,"","","",""]
["-","-",null,null,"",null,"",null,null,null,"",null,null,null,"","","",""]
["-","-",null,null,"",null,"",null,null,null,"",null,null,null,"","","",""]
["-","-",null,null,"",null,"",null,null,null,"",null,null,null,"","","",""]
["-","-",null,null,"",null,"",null,null,null,"",null,null,null,"","","",""]
["-","-",null,null,"",null,"",null,null,null,"",null,null,null,"","","",""]
["-","-",null,null,"",null,"",null,null,null,"",null,null,null,"","","",""]
["-","-",null,null,"",null,"",null,null,null,"",null,null,null,"","","",""]
["-","-",null,null,"",null,"",null,null,null,"",null,null,null,"","","",""]
["-","-",null,null,"",null,"",null,null,null,"",null,null,null,"","","",""]
["-","-",null,null,"",null,"",null,null,null,"",null,null,null,"","","",""]
["-","-",null,null,"",null,"",null,null,null,"",null,null,null,"","","",""]
["-","-",null,null,"",null,"",null,null,null,"",null,null,null,"","","",""]
["-","-",null,null,"",null,"",null,null,null,"",null,null,null,"","","",""]
["-","-",null,null,"",null,"",null,null,null,"",null,null,null,"","","",""]
["-","-",null,null,"",null,"",null,null,null,"",null,null,null,"","","",""]
["-","-",null,null,"",null,"",null,null,null,"",null,null,null,"","","",""]
["-","-",null,null,"",null,"",null,null,null,"",null,null,null,"","","",""]
["-","-",null,null,"",null,"",null,null,null,"",null,null,null,"","","",""]
["-","-",null,null,"",null,"",null,null,null,"",null,null,null,"","","",""]
["-","-",null,null,"",null,"",null,null,null,"",null,null,null,"","","",""]
["-","-",null,null,"",null,"",null,null,null,"",null,null,null,"","","",""]
["-","-",null,null,"",null,"",null,null,null,"",null,null,null,"","","",""]
["-","-",null,null,"",null,"",null,null,null,"",null,null,null,"","","",""]
["-","-",null,null,"",null,"",null,null,null,"",null,null,null,"","","",""]
["-","-",null,null,"",null,"",null,null,null,"",null,null,null,"","","",""]
["-","-",null,null,"",null,"",null,null,null,"",null,null,null,"","","",""]
["-","-",null,null,"",null,"",null,null,null,"",null,null,null,"","","",""]
["-","-",null,null,"",null,"",null,null,null,"",null,null,null,"","","",""]
["-","-",null,null,"",null,"",null,null,null,"",null,null,null,"","","",""]
["-","-",null,null,"",null,"",null,null,null,"",null,null,null,"","","",""]
["-","-",null,null,"",null,"",null,null,null,"",null,null,null,"","","",""]
["-","-",null,null,"",null,"",null,null,null,"",null,null,null,"","","",""]
["-","-",null,null,"",null,"",null,null,null,"",null,null,null,"","","",""]
["-","-",null,null,"",null,"",null,null,null,"",null,null,null,"","","",""]
["-","-",null,null,"",null,"",null,null,null,"",null,null,null,"","","",""]
["-","-",null,null,"",null,"",null,null,null,"",null,null,null,"","","",""]
["-","-",null,null,"",null,"",null,null,null,"",null,null,null,"","","",""]
["-","-",null,null,"",null,"",null,null,null,"",null,null,null,"","","",""]
["-","-",null,null,"",null,"",null,null,null,"",null,null,null,"","","",""]
["-","-",null,null,"",null,"",null,null,null,"",null,null,null,"","","",""]
["-","-",null,null,"",null,"",null,null,null,"",null,null,null,"","","",""]
["-","-",null,null,"",null,"",null,null,null,"",null,null,null,"","","",""]
["-","-",null,null,"",null,"",null,null,null,"",null,null,null,"","","",""]
["-","-",null,null,"",null,"",null,null,null,"",null,null,null,"","","",""]
["-","-",null,null,"",null,"",null,null,null,"",null,null,null,"","","",""]
["-","-",null,null,"",null,"",null,null,null,"",null,null,null,"","","",""]
["-","-",null,null,"",null,"",null,null,null,"",null,null,null,"","","",""]
["-","-",null,null,"",null,"",null,null,null,"",null,null,null,"","","",""]
["-","-",null,null,"",null,"",null,null,null,"",null,null,null,"","","",""]
["-","-",null,null,"",null,"",null,null,null,"",null,null,null,"","","",""]
["-","-",null,null,"",null,"",null,null,null,"",null,null,null,"","","",""]
["-","-",null,null,"",null,"",null,null,null,"",null,null,null,"","","",""]
["-","-",null,null,"",null,"",null,null,null,"",null,null,null,"","","",""]
["-","-",null,null,"",null,"",null,null,null,"",null,null,null,"","","",""]
["-","-",null,null,"",null,"",null,null,null,"",null,null,null,"","","",""]
["-","-",null,null,"",null,"",null,null,null,"",null,null,null,"","","",""]
["-","-",null,null,"",null,"",null,null,null,"",null,null,null,"","","",""]
["-","-",null,null,"",null,"",null,null,null,"",null,null,null,"","","",""]
["-",{"$f":"IF(ISBLANK(C645),\"-\",INDIRECT(\"PLOTS!A\"&MATCH(C645,PlotLabels,0)+4))","v":"-"},null,null,{"$f":"IF(ISBLANK(D645),\"\",VLOOKUP(D645,HealthAssessmentYear,6,FALSE))","v":""},null,"",null,null,null,{"$f":"IF(ISBLANK(C645),\"\",TODAY())","v":""},null,null,null,"",{"$f":"IF(ISBLANK(C645),\"\",TODAY())","v":""},{"$f":"IF(ISBLANK(C645),\"\",IF(LEN(O645)=0,\"\",O645))","v":""},{"$f":"IF(ISBLANK(C645),\"\",P645)","v":""}]
["-","-",null,null,"",null,{"$f":"IF(OR(ISBLANK(C646),ISBLANK(D646),ISBLANK(F646)),\"\",C646&\"-\"&D646&\"-\"&TEXT(F646,\"MM-DD-YYYY\"))","v":""},null,null,null,"",null,null,null,{"$f":"IF(ISBLANK(C646),\"\",O645)","v":""},"","",""]
[{"$f":"IF(ISBLANK(C647),\"-\",GenGuid())","v":"-"},"-",null,null,"",null,"",null,null,null,"",null,null,null,"","","",""]
["-","-",null,null,"",null,"",null,null,null,"",null,null,null,"","","",""]
["-","-",null,null,"",null,"",null,null,null,"",null,null,null,"","","",""]
["-","-",null,null,"",null,"",null,null,null,"",null,null,null,"","","",""]
["-","-",null,null,"",null,"",null,null,null,"",null,null,null,"","","",""]
["-","-",null,null,"",null,"",null,null,null,"",null,null,null,"","","",""]
["-","-",null,null,"",null,"",null,null,null,"",null,null,null,"","","",""]
["-","-",null,null,"",null,"",null,null,null,"",null,null,null,"","","",""]
["-","-",null,null,"",null,"",null,null,null,"",null,null,null,"","","",""]
["-","-",null,null,"",null,"",null,null,null,"",null,null,null,"","","",""]
["-","-",null,null,"",null,"",null,null,null,"",null,null,null,"","","",""]
["-","-",null,null,"",null,"",null,null,null,"",null,null,null,"","","",""]
["-","-",null,null,"",null,"",null,null,null,"",null,null,null,"","","",""]
["-","-",null,null,"",null,"",null,null,null,"",null,null,null,"","","",""]
["-","-",null,null,"",null,"",null,null,null,"",null,null,null,"","","",""]
["-","-",null,null,"",null,"",null,null,null,"",null,null,null,"","","",""]
["-","-",null,null,"",null,"",null,null,null,"",null,null,null,"","","",""]
["-","-",null,null,"",null,"",null,null,null,"",null,null,null,"","","",""]
["-","-",null,null,"",null,"",null,null,null,"",null,null,null,"","","",""]
["-","-",null,null,"",null,"",null,null,null,"",null,null,null,"","","",""]
["-","-",null,null,"",null,"",null,null,null,"",null,null,null,"","","",""]
["-","-",null,null,"",null,"",null,null,null,"",null,null,null,"","","",""]
["-","-",null,null,"",null,"",null,null,null,"",null,null,null,"","","",""]
["-","-",null,null,"",null,"",null,null,null,"",null,null,null,"","","",""]
["-","-",null,null,"",null,"",null,null,null,"",null,null,null,"","","",""]
["-","-",null,null,"",null,"",null,null,null,"",null,null,null,"","","",""]
["-","-",null,null,"",null,"",null,null,null,"",null,null,null,"","","",""]
["-","-",null,null,"",null,"",null,null,null,"",null,null,null,"","","",""]
["-","-",null,null,"",null,"",null,null,null,"",null,null,null,"","","",""]
["-","-",null,null,"",null,"",null,null,null,"",null,null,null,"","","",""]
["-","-",null,null,"",null,"",null,null,null,"",null,null,null,"","","",""]
["-","-",null,null,"",null,"",null,null,null,"",null,null,null,"","","",""]
["-","-",null,null,"",null,"",null,null,null,"",null,null,null,"","","",""]
["-","-",null,null,"",null,"",null,null,null,"",null,null,null,"","","",""]
["-","-",null,null,"",null,"",null,null,null,"",null,null,null,"","","",""]
["-","-",null,null,"",null,"",null,null,null,"",null,null,null,"","","",""]
["-","-",null,null,"",null,"",null,null,null,"",null,null,null,"","","",""]
["-","-",null,null,"",null,"",null,null,null,"",null,null,null,"","","",""]
["-","-",null,null,"",null,"",null,null,null,"",null,null,null,"","","",""]
["-","-",null,null,"",null,"",null,null,null,"",null,null,null,"","","",""]
["-","-",null,null,"",null,"",null,null,null,"",null,null,null,"","","",""]
["-","-",null,null,"",null,"",null,null,null,"",null,null,null,"","","",""]
["-","-",null,null,"",null,"",null,null,null,"",null,null,null,"","","",""]
["-","-",null,null,"",null,"",null,null,null,"",null,null,null,"","","",""]
["-","-",null,null,"",null,"",null,null,null,"",null,null,null,"","","",""]
["-","-",null,null,"",null,"",null,null,null,"",null,null,null,"","","",""]
["-","-",null,null,"",null,"",null,null,null,"",null,null,null,"","","",""]
["-","-",null,null,"",null,"",null,null,null,"",null,null,null,"","","",""]
["-","-",null,null,"",null,"",null,null,null,"",null,null,null,"","","",""]
["-","-",null,null,"",null,"",null,null,null,"",null,null,null,"","","",""]
["-","-",null,null,"",null,"",null,null,null,"",null,null,null,"","","",""]
["-","-",null,null,"",null,"",null,null,null,"",null,null,null,"","","",""]
["-","-",null,null,"",null,"",null,null,null,"",null,null,null,"","","",""]
["-","-",null,null,"",null,"",null,null,null,"",null,null,null,"","","",""]
["-","-",null,null,"",null,"",null,null,null,"",null,null,null,"","","",""]
["-","-",null,null,"",null,"",null,null,null,"",null,null,null,"","","",""]
["-","-",null,null,"",null,"",null,null,null,"",null,null,null,"","","",""]
["-","-",null,null,"",null,"",null,null,null,"",null,null,null,"","","",""]
["-","-",null,null,"",null,"",null,null,null,"",null,null,null,"","","",""]
["-","-",null,null,"",null,"",null,null,null,"",null,null,null,"","","",""]
["-","-",null,null,"",null,"",null,null,null,"",null,null,null,"","","",""]
["-","-",null,null,"",null,"",null,null,null,"",null,null,null,"","","",""]
["-",{"$f":"IF(ISBLANK(C709),\"-\",INDIRECT(\"PLOTS!A\"&MATCH(C709,PlotLabels,0)+4))","v":"-"},null,null,{"$f":"IF(ISBLANK(D709),\"\",VLOOKUP(D709,HealthAssessmentYear,6,FALSE))","v":""},null,"",null,null,null,{"$f":"IF(ISBLANK(C709),\"\",TODAY())","v":""},null,null,null,"",{"$f":"IF(ISBLANK(C709),\"\",TODAY())","v":""},{"$f":"IF(ISBLANK(C709),\"\",IF(LEN(O709)=0,\"\",O709))","v":""},{"$f":"IF(ISBLANK(C709),\"\",P709)","v":""}]
["-","-",null,null,"",null,{"$f":"IF(OR(ISBLANK(C710),ISBLANK(D710),ISBLANK(F710)),\"\",C710&\"-\"&D710&\"-\"&TEXT(F710,\"MM-DD-YYYY\"))","v":""},null,null,null,"",null,null,null,{"$f":"IF(ISBLANK(C710),\"\",O709)","v":""},"","",""]
[{"$f":"IF(ISBLANK(C711),\"-\",GenGuid())","v":"-"},"-",null,null,"",null,"",null,null,null,"",null,null,null,"","","",""]
["-","-",null,null,"",null,"",null,null,null,"",null,null,null,"","","",""]
["-","-",null,null,"",null,"",null,null,null,"",null,null,null,"","","",""]
["-","-",null,null,"",null,"",null,null,null,"",null,null,null,"","","",""]
["-","-",null,null,"",null,"",null,null,null,"",null,null,null,"","","",""]
["-","-",null,null,"",null,"",null,null,null,"",null,null,null,"","","",""]
["-","-",null,null,"",null,"",null,null,null,"",null,null,null,"","","",""]
["-","-",null,null,"",null,"",null,null,null,"",null,null,null,"","","",""]
["-","-",null,null,"",null,"",null,null,null,"",null,null,null,"","","",""]
["-","-",null,null,"",null,"",null,null,null,"",null,null,null,"","","",""]
["-","-",null,null,"",null,"",null,null,null,"",null,null,null,"","","",""]
["-","-",null,null,"",null,"",null,null,null,"",null,null,null,"","","",""]
["-","-",null,null,"",null,"",null,null,null,"",null,null,null,"","","",""]
["-","-",null,null,"",null,"",null,null,null,"",null,null,null,"","","",""]
["-","-",null,null,"",null,"",null,null,null,"",null,null,null,"","","",""]
["-","-",null,null,"",null,"",null,null,null,"",null,null,null,"","","",""]
["-","-",null,null,"",null,"",null,null,null,"",null,null,null,"","","",""]
["-","-",null,null,"",null,"",null,null,null,"",null,null,null,"","","",""]
["-","-",null,null,"",null,"",null,null,null,"",null,null,null,"","","",""]
["-","-",null,null,"",null,"",null,null,null,"",null,null,null,"","","",""]
["-","-",null,null,"",null,"",null,null,null,"",null,null,null,"","","",""]
["-","-",null,null,"",null,"",null,null,null,"",null,null,null,"","","",""]
["-","-",null,null,"",null,"",null,null,null,"",null,null,null,"","","",""]
["-","-",null,null,"",null,"",null,null,null,"",null,null,null,"","","",""]
["-","-",null,null,"",null,"",null,null,null,"",null,null,null,"","","",""]
["-","-",null,null,"",null,"",null,null,null,"",null,null,null,"","","",""]
["-","-",null,null,"",null,"",null,null,null,"",null,null,null,"","","",""]
["-","-",null,null,"",null,"",null,null,null,"",null,null,null,"","","",""]
["-","-",null,null,"",null,"",null,null,null,"",null,null,null,"","","",""]
["-","-",null,null,"",null,"",null,null,null,"",null,null,null,"","","",""]
["-","-",null,null,"",null,"",null,null,null,"",null,null,null,"","","",""]
["-","-",null,null,"",null,"",null,null,null,"",null,null,null,"","","",""]
["-","-",null,null,"",null,"",null,null,null,"",null,null,null,"","","",""]
["-","-",null,null,"",null,"",null,null,null,"",null,null,null,"","","",""]
["-","-",null,null,"",null,"",null,null,null,"",null,null,null,"","","",""]
["-","-",null,null,"",null,"",null,null,null,"",null,null,null,"","","",""]
["-","-",null,null,"",null,"",null,null,null,"",null,null,null,"","","",""]
["-","-",null,null,"",null,"",null,null,null,"",null,null,null,"","","",""]
["-","-",null,null,"",null,"",null,null,null,"",null,null,null,"","","",""]
["-","-",null,null,"",null,"",null,null,null,"",null,null,null,"","","",""]
["-","-",null,null,"",null,"",null,null,null,"",null,null,null,"","","",""]
["-","-",null,null,"",null,"",null,null,null,"",null,null,null,"","","",""]
["-","-",null,null,"",null,"",null,null,null,"",null,null,null,"","","",""]
["-","-",null,null,"",null,"",null,null,null,"",null,null,null,"","","",""]
["-","-",null,null,"",null,"",null,null,null,"",null,null,null,"","","",""]
["-","-",null,null,"",null,"",null,null,null,"",null,null,null,"","","",""]
["-","-",null,null,"",null,"",null,null,null,"",null,null,null,"","","",""]
["-","-",null,null,"",null,"",null,null,null,"",null,null,null,"","","",""]
["-","-",null,null,"",null,"",null,null,null,"",null,null,null,"","","",""]
["-","-",null,null,"",null,"",null,null,null,"",null,null,null,"","","",""]
["-","-",null,null,"",null,"",null,null,null,"",null,null,null,"","","",""]
["-","-",null,null,"",null,"",null,null,null,"",null,null,null,"","","",""]
["-","-",null,null,"",null,"",null,null,null,"",null,null,null,"","","",""]
["-","-",null,null,"",null,"",null,null,null,"",null,null,null,"","","",""]
["-","-",null,null,"",null,"",null,null,null,"",null,null,null,"","","",""]
["-","-",null,null,"",null,"",null,null,null,"",null,null,null,"","","",""]
["-","-",null,null,"",null,"",null,null,null,"",null,null,null,"","","",""]
["-","-",null,null,"",null,"",null,null,null,"",null,null,null,"","","",""]
["-","-",null,null,"",null,"",null,null,null,"",null,null,null,"","","",""]
["-","-",null,null,"",null,"",null,null,null,"",null,null,null,"","","",""]
["-","-",null,null,"",null,"",null,null,null,"",null,null,null,"","","",""]
["-","-",null,null,"",null,"",null,null,null,"",null,null,null,"","","",""]
["-",{"$f":"IF(ISBLANK(C773),\"-\",INDIRECT(\"PLOTS!A\"&MATCH(C773,PlotLabels,0)+4))","v":"-"},null,null,{"$f":"IF(ISBLANK(D773),\"\",VLOOKUP(D773,HealthAssessmentYear,6,FALSE))","v":""},null,"",null,null,null,{"$f":"IF(ISBLANK(C773),\"\",TODAY())","v":""},null,null,null,"",{"$f":"IF(ISBLANK(C773),\"\",TODAY())","v":""},{"$f":"IF(ISBLANK(C773),\"\",IF(LEN(O773)=0,\"\",O773))","v":""},{"$f":"IF(ISBLANK(C773),\"\",P773)","v":""}]
["-","-",null,null,"",null,{"$f":"IF(OR(ISBLANK(C774),ISBLANK(D774),ISBLANK(F774)),\"\",C774&\"-\"&D774&\"-\"&TEXT(F774,\"MM-DD-YYYY\"))","v":""},null,null,null,"",null,null,null,{"$f":"IF(ISBLANK(C774),\"\",O773)","v":""},"","",""]
[{"$f":"IF(ISBLANK(C775),\"-\",GenGuid())","v":"-"},"-",null,null,"",null,"",null,null,null,"",null,null,null,"","","",""]
["-","-",null,null,"",null,"",null,null,null,"",null,null,null,"","","",""]
["-","-",null,null,"",null,"",null,null,null,"",null,null,null,"","","",""]
["-","-",null,null,"",null,"",null,null,null,"",null,null,null,"","","",""]
["-","-",null,null,"",null,"",null,null,null,"",null,null,null,"","","",""]
["-","-",null,null,"",null,"",null,null,null,"",null,null,null,"","","",""]
["-","-",null,null,"",null,"",null,null,null,"",null,null,null,"","","",""]
["-","-",null,null,"",null,"",null,null,null,"",null,null,null,"","","",""]
["-","-",null,null,"",null,"",null,null,null,"",null,null,null,"","","",""]
["-","-",null,null,"",null,"",null,null,null,"",null,null,null,"","","",""]
["-","-",null,null,"",null,"",null,null,null,"",null,null,null,"","","",""]
["-","-",null,null,"",null,"",null,null,null,"",null,null,null,"","","",""]
["-","-",null,null,"",null,"",null,null,null,"",null,null,null,"","","",""]
["-","-",null,null,"",null,"",null,null,null,"",null,null,null,"","","",""]
["-","-",null,null,"",null,"",null,null,null,"",null,null,null,"","","",""]
["-","-",null,null,"",null,"",null,null,null,"",null,null,null,"","","",""]
["-","-",null,null,"",null,"",null,null,null,"",null,null,null,"","","",""]
["-","-",null,null,"",null,"",null,null,null,"",null,null,null,"","","",""]
["-","-",null,null,"",null,"",null,null,null,"",null,null,null,"","","",""]
["-","-",null,null,"",null,"",null,null,null,"",null,null,null,"","","",""]
["-","-",null,null,"",null,"",null,null,null,"",null,null,null,"","","",""]
["-","-",null,null,"",null,"",null,null,null,"",null,null,null,"","","",""]
["-","-",null,null,"",null,"",null,null,null,"",null,null,null,"","","",""]
["-","-",null,null,"",null,"",null,null,null,"",null,null,null,"","","",""]
["-","-",null,null,"",null,"",null,null,null,"",null,null,null,"","","",""]
["-","-",null,null,"",null,"",null,null,null,"",null,null,null,"","","",""]
["-","-",null,null,"",null,"",null,null,null,"",null,null,null,"","","",""]
["-","-",null,null,"",null,"",null,null,null,"",null,null,null,"","","",""]
["-","-",null,null,"",null,"",null,null,null,"",null,null,null,"","","",""]
["-","-",null,null,"",null,"",null,null,null,"",null,null,null,"","","",""]
["-","-",null,null,"",null,"",null,null,null,"",null,null,null,"","","",""]
["-","-",null,null,"",null,"",null,null,null,"",null,null,null,"","","",""]
["-","-",null,null,"",null,"",null,null,null,"",null,null,null,"","","",""]
["-","-",null,null,"",null,"",null,null,null,"",null,null,null,"","","",""]
["-","-",null,null,"",null,"",null,null,null,"",null,null,null,"","","",""]
["-","-",null,null,"",null,"",null,null,null,"",null,null,null,"","","",""]
["-","-",null,null,"",null,"",null,null,null,"",null,null,null,"","","",""]
["-","-",null,null,"",null,"",null,null,null,"",null,null,null,"","","",""]
["-","-",null,null,"",null,"",null,null,null,"",null,null,null,"","","",""]
["-","-",null,null,"",null,"",null,null,null,"",null,null,null,"","","",""]
["-","-",null,null,"",null,"",null,null,null,"",null,null,null,"","","",""]
["-","-",null,null,"",null,"",null,null,null,"",null,null,null,"","","",""]
["-","-",null,null,"",null,"",null,null,null,"",null,null,null,"","","",""]
["-","-",null,null,"",null,"",null,null,null,"",null,null,null,"","","",""]
["-","-",null,null,"",null,"",null,null,null,"",null,null,null,"","","",""]
["-","-",null,null,"",null,"",null,null,null,"",null,null,null,"","","",""]
["-","-",null,null,"",null,"",null,null,null,"",null,null,null,"","","",""]
["-","-",null,null,"",null,"",null,null,null,"",null,null,null,"","","",""]
["-","-",null,null,"",null,"",null,null,null,"",null,null,null,"","","",""]
["-","-",null,null,"",null,"",null,null,null,"",null,null,null,"","","",""]
["-","-",null,null,"",null,"",null,null,null,"",null,null,null,"","","",""]
["-","-",null,null,"",null,"",null,null,null,"",null,null,null,"","","",""]
["-","-",null,null,"",null,"",null,null,null,"",null,null,null,"","","",""]
["-","-",null,null,"",null,"",null,null,null,"",null,null,null,"","","",""]
["-","-",null,null,"",null,"",null,null,null,"",null,null,null,"","","",""]
["-","-",null,null,"",null,"",null,null,null,"",null,null,null,"","","",""]
["-","-",null,null,"",null,"",null,null,null,"",null,null,null,"","","",""]
["-","-",null,null,"",null,"",null,null,null,"",null,null,null,"","","",""]
["-","-",null,null,"",null,"",null,null,null,"",null,null,null,"","","",""]
["-","-",null,null,"",null,"",null,null,null,"",null,null,null,"","","",""]
["-","-",null,null,"",null,"",null,null,null,"",null,null,null,"","","",""]
["-","-",null,null,"",null,"",null,null,null,"",null,null,null,"","","",""]
["-",{"$f":"IF(ISBLANK(C837),\"-\",INDIRECT(\"PLOTS!A\"&MATCH(C837,PlotLabels,0)+4))","v":"-"},null,null,{"$f":"IF(ISBLANK(D837),\"\",VLOOKUP(D837,HealthAssessmentYear,6,FALSE))","v":""},null,"",null,null,null,{"$f":"IF(ISBLANK(C837),\"\",TODAY())","v":""},null,null,null,"",{"$f":"IF(ISBLANK(C837),\"\",TODAY())","v":""},{"$f":"IF(ISBLANK(C837),\"\",IF(LEN(O837)=0,\"\",O837))","v":""},{"$f":"IF(ISBLANK(C837),\"\",P837)","v":""}]
["-","-",null,null,"",null,{"$f":"IF(OR(ISBLANK(C838),ISBLANK(D838),ISBLANK(F838)),\"\",C838&\"-\"&D838&\"-\"&TEXT(F838,\"MM-DD-YYYY\"))","v":""},null,null,null,"",null,null,null,{"$f":"IF(ISBLANK(C838),\"\",O837)","v":""},"","",""]
[{"$f":"IF(ISBLANK(C839),\"-\",GenGuid())","v":"-"},"-",null,null,"",null,"",null,null,null,"",null,null,null,"","","",""]
["-","-",null,null,"",null,"",null,null,null,"",null,null,null,"","","",""]
["-","-",null,null,"",null,"",null,null,null,"",null,null,null,"","","",""]
["-","-",null,null,"",null,"",null,null,null,"",null,null,null,"","","",""]
["-","-",null,null,"",null,"",null,null,null,"",null,null,null,"","","",""]
["-","-",null,null,"",null,"",null,null,null,"",null,null,null,"","","",""]
["-","-",null,null,"",null,"",null,null,null,"",null,null,null,"","","",""]
["-","-",null,null,"",null,"",null,null,null,"",null,null,null,"","","",""]
["-","-",null,null,"",null,"",null,null,null,"",null,null,null,"","","",""]
["-","-",null,null,"",null,"",null,null,null,"",null,null,null,"","","",""]
["-","-",null,null,"",null,"",null,null,null,"",null,null,null,"","","",""]
["-","-",null,null,"",null,"",null,null,null,"",null,null,null,"","","",""]
["-","-",null,null,"",null,"",null,null,null,"",null,null,null,"","","",""]
["-","-",null,null,"",null,"",null,null,null,"",null,null,null,"","","",""]
["-","-",null,null,"",null,"",null,null,null,"",null,null,null,"","","",""]
["-","-",null,null,"",null,"",null,null,null,"",null,null,null,"","","",""]
["-","-",null,null,"",null,"",null,null,null,"",null,null,null,"","","",""]
["-","-",null,null,"",null,"",null,null,null,"",null,null,null,"","","",""]
["-","-",null,null,"",null,"",null,null,null,"",null,null,null,"","","",""]
["-","-",null,null,"",null,"",null,null,null,"",null,null,null,"","","",""]
["-","-",null,null,"",null,"",null,null,null,"",null,null,null,"","","",""]
["-","-",null,null,"",null,"",null,null,null,"",null,null,null,"","","",""]
["-","-",null,null,"",null,"",null,null,null,"",null,null,null,"","","",""]
["-","-",null,null,"",null,"",null,null,null,"",null,null,null,"","","",""]
["-","-",null,null,"",null,"",null,null,null,"",null,null,null,"","","",""]
["-","-",null,null,"",null,"",null,null,null,"",null,null,null,"","","",""]
["-","-",null,null,"",null,"",null,null,null,"",null,null,null,"","","",""]
["-","-",null,null,"",null,"",null,null,null,"",null,null,null,"","","",""]
["-","-",null,null,"",null,"",null,null,null,"",null,null,null,"","","",""]
["-","-",null,null,"",null,"",null,null,null,"",null,null,null,"","","",""]
["-","-",null,null,"",null,"",null,null,null,"",null,null,null,"","","",""]
["-","-",null,null,"",null,"",null,null,null,"",null,null,null,"","","",""]
["-","-",null,null,"",null,"",null,null,null,"",null,null,null,"","","",""]
["-","-",null,null,"",null,"",null,null,null,"",null,null,null,"","","",""]
["-","-",null,null,"",null,"",null,null,null,"",null,null,null,"","","",""]
["-","-",null,null,"",null,"",null,null,null,"",null,null,null,"","","",""]
["-","-",null,null,"",null,"",null,null,null,"",null,null,null,"","","",""]
["-","-",null,null,"",null,"",null,null,null,"",null,null,null,"","","",""]
["-","-",null,null,"",null,"",null,null,null,"",null,null,null,"","","",""]
["-","-",null,null,"",null,"",null,null,null,"",null,null,null,"","","",""]
["-","-",null,null,"",null,"",null,null,null,"",null,null,null,"","","",""]
["-","-",null,null,"",null,"",null,null,null,"",null,null,null,"","","",""]
["-","-",null,null,"",null,"",null,null,null,"",null,null,null,"","","",""]
["-","-",null,null,"",null,"",null,null,null,"",null,null,null,"","","",""]
["-","-",null,null,"",null,"",null,null,null,"",null,null,null,"","","",""]
["-","-",null,null,"",null,"",null,null,null,"",null,null,null,"","","",""]
["-","-",null,null,"",null,"",null,null,null,"",null,null,null,"","","",""]
["-","-",null,null,"",null,"",null,null,null,"",null,null,null,"","","",""]
["-","-",null,null,"",null,"",null,null,null,"",null,null,null,"","","",""]
["-","-",null,null,"",null,"",null,null,null,"",null,null,null,"","","",""]
["-","-",null,null,"",null,"",null,null,null,"",null,null,null,"","","",""]
["-","-",null,null,"",null,"",null,null,null,"",null,null,null,"","","",""]
["-","-",null,null,"",null,"",null,null,null,"",null,null,null,"","","",""]
["-","-",null,null,"",null,"",null,null,null,"",null,null,null,"","","",""]
["-","-",null,null,"",null,"",null,null,null,"",null,null,null,"","","",""]
["-","-",null,null,"",null,"",null,null,null,"",null,null,null,"","","",""]
["-","-",null,null,"",null,"",null,null,null,"",null,null,null,"","","",""]
["-","-",null,null,"",null,"",null,null,null,"",null,null,null,"","","",""]
["-","-",null,null,"",null,"",null,null,null,"",null,null,null,"","","",""]
["-","-",null,null,"",null,"",null,null,null,"",null,null,null,"","","",""]
["-","-",null,null,"",null,"",null,null,null,"",null,null,null,"","","",""]
["-","-",null,null,"",null,"",null,null,null,"",null,null,null,"","","",""]
["-",{"$f":"IF(ISBLANK(C901),\"-\",INDIRECT(\"PLOTS!A\"&MATCH(C901,PlotLabels,0)+4))","v":"-"},null,null,{"$f":"IF(ISBLANK(D901),\"\",VLOOKUP(D901,HealthAssessmentYear,6,FALSE))","v":""},null,"",null,null,null,{"$f":"IF(ISBLANK(C901),\"\",TODAY())","v":""},null,null,null,"",{"$f":"IF(ISBLANK(C901),\"\",TODAY())","v":""},{"$f":"IF(ISBLANK(C901),\"\",IF(LEN(O901)=0,\"\",O901))","v":""},{"$f":"IF(ISBLANK(C901),\"\",P901)","v":""}]
["-","-",null,null,"",null,{"$f":"IF(OR(ISBLANK(C902),ISBLANK(D902),ISBLANK(F902)),\"\",C902&\"-\"&D902&\"-\"&TEXT(F902,\"MM-DD-YYYY\"))","v":""},null,null,null,"",null,null,null,{"$f":"IF(ISBLANK(C902),\"\",O901)","v":""},"","",""]
[{"$f":"IF(ISBLANK(C903),\"-\",GenGuid())","v":"-"},"-",null,null,"",null,"",null,null,null,"",null,null,null,"","","",""]
["-","-",null,null,"",null,"",null,null,null,"",null,null,null,"","","",""]
["-","-",null,null,"",null,"",null,null,null,"",null,null,null,"","","",""]
["-","-",null,null,"",null,"",null,null,null,"",null,null,null,"","","",""]
["-","-",null,null,"",null,"",null,null,null,"",null,null,null,"","","",""]
["-","-",null,null,"",null,"",null,null,null,"",null,null,null,"","","",""]
["-","-",null,null,"",null,"",null,null,null,"",null,null,null,"","","",""]
["-","-",null,null,"",null,"",null,null,null,"",null,null,null,"","","",""]
["-","-",null,null,"",null,"",null,null,null,"",null,null,null,"","","",""]
["-","-",null,null,"",null,"",null,null,null,"",null,null,null,"","","",""]
["-","-",null,null,"",null,"",null,null,null,"",null,null,null,"","","",""]
["-","-",null,null,"",null,"",null,null,null,"",null,null,null,"","","",""]
["-","-",null,null,"",null,"",null,null,null,"",null,null,null,"","","",""]
["-","-",null,null,"",null,"",null,null,null,"",null,null,null,"","","",""]
["-","-",null,null,"",null,"",null,null,null,"",null,null,null,"","","",""]
["-","-",null,null,"",null,"",null,null,null,"",null,null,null,"","","",""]
["-","-",null,null,"",null,"",null,null,null,"",null,null,null,"","","",""]
["-","-",null,null,"",null,"",null,null,null,"",null,null,null,"","","",""]
["-","-",null,null,"",null,"",null,null,null,"",null,null,null,"","","",""]
["-","-",null,null,"",null,"",null,null,null,"",null,null,null,"","","",""]
["-","-",null,null,"",null,"",null,null,null,"",null,null,null,"","","",""]
["-","-",null,null,"",null,"",null,null,null,"",null,null,null,"","","",""]
["-","-",null,null,"",null,"",null,null,null,"",null,null,null,"","","",""]
["-","-",null,null,"",null,"",null,null,null,"",null,null,null,"","","",""]
["-","-",null,null,"",null,"",null,null,null,"",null,null,null,"","","",""]
["-","-",null,null,"",null,"",null,null,null,"",null,null,null,"","","",""]
["-","-",null,null,"",null,"",null,null,null,"",null,null,null,"","","",""]
["-","-",null,null,"",null,"",null,null,null,"",null,null,null,"","","",""]
["-","-",null,null,"",null,"",null,null,null,"",null,null,null,"","","",""]
["-","-",null,null,"",null,"",null,null,null,"",null,null,null,"","","",""]
["-","-",null,null,"",null,"",null,null,null,"",null,null,null,"","","",""]
["-","-",null,null,"",null,"",null,null,null,"",null,null,null,"","","",""]
["-","-",null,null,"",null,"",null,null,null,"",null,null,null,"","","",""]
["-","-",null,null,"",null,"",null,null,null,"",null,null,null,"","","",""]
["-","-",null,null,"",null,"",null,null,null,"",null,null,null,"","","",""]
["-","-",null,null,"",null,"",null,null,null,"",null,null,null,"","","",""]
["-","-",null,null,"",null,"",null,null,null,"",null,null,null,"","","",""]
["-","-",null,null,"",null,"",null,null,null,"",null,null,null,"","","",""]
["-","-",null,null,"",null,"",null,null,null,"",null,null,null,"","","",""]
["-","-",null,null,"",null,"",null,null,null,"",null,null,null,"","","",""]
["-","-",null,null,"",null,"",null,null,null,"",null,null,null,"","","",""]
["-","-",null,null,"",null,"",null,null,null,"",null,null,null,"","","",""]
["-","-",null,null,"",null,"",null,null,null,"",null,null,null,"","","",""]
["-","-",null,null,"",null,"",null,null,null,"",null,null,null,"","","",""]
["-","-",null,null,"",null,"",null,null,null,"",null,null,null,"","","",""]
["-","-",null,null,"",null,"",null,null,null,"",null,null,null,"","","",""]
["-","-",null,null,"",null,"",null,null,null,"",null,null,null,"","","",""]
["-","-",null,null,"",null,"",null,null,null,"",null,null,null,"","","",""]
["-","-",null,null,"",null,"",null,null,null,"",null,null,null,"","","",""]
["-","-",null,null,"",null,"",null,null,null,"",null,null,null,"","","",""]
["-","-",null,null,"",null,"",null,null,null,"",null,null,null,"","","",""]
["-","-",null,null,"",null,"",null,null,null,"",null,null,null,"","","",""]
["-","-",null,null,"",null,"",null,null,null,"",null,null,null,"","","",""]
["-","-",null,null,"",null,"",null,null,null,"",null,null,null,"","","",""]
["-","-",null,null,"",null,"",null,null,null,"",null,null,null,"","","",""]
["-","-",null,null,"",null,"",null,null,null,"",null,null,null,"","","",""]
["-","-",null,null,"",null,"",null,null,null,"",null,null,null,"","","",""]
["-","-",null,null,"",null,"",null,null,null,"",null,null,null,"","","",""]
["-","-",null,null,"",null,"",null,null,null,"",null,null,null,"","","",""]
["-","-",null,null,"",null,"",null,null,null,"",null,null,null,"","","",""]
["-","-",null,null,"",null,"",null,null,null,"",null,null,null,"","","",""]
["-","-",null,null,"",null,"",null,null,null,"",null,null,null,"","","",""]
["-",{"$f":"IF(ISBLANK(C965),\"-\",INDIRECT(\"PLOTS!A\"&MATCH(C965,PlotLabels,0)+4))","v":"-"},null,null,{"$f":"IF(ISBLANK(D965),\"\",VLOOKUP(D965,HealthAssessmentYear,6,FALSE))","v":""},null,"",null,null,null,{"$f":"IF(ISBLANK(C965),\"\",TODAY())","v":""},null,null,null,"",{"$f":"IF(ISBLANK(C965),\"\",TODAY())","v":""},{"$f":"IF(ISBLANK(C965),\"\",IF(LEN(O965)=0,\"\",O965))","v":""},{"$f":"IF(ISBLANK(C965),\"\",P965)","v":""}]
["-","-",null,null,"",null,{"$f":"IF(OR(ISBLANK(C966),ISBLANK(D966),ISBLANK(F966)),\"\",C966&\"-\"&D966&\"-\"&TEXT(F966,\"MM-DD-YYYY\"))","v":""},null,null,null,"",null,null,null,{"$f":"IF(ISBLANK(C966),\"\",O965)","v":""},"","",""]
[{"$f":"IF(ISBLANK(C967),\"-\",GenGuid())","v":"-"},"-",null,null,"",null,"",null,null,null,"",null,null,null,"","","",""]
["-","-",null,null,"",null,"",null,null,null,"",null,null,null,"","","",""]
["-","-",null,null,"",null,"",null,null,null,"",null,null,null,"","","",""]
["-","-",null,null,"",null,"",null,null,null,"",null,null,null,"","","",""]
["-","-",null,null,"",null,"",null,null,null,"",null,null,null,"","","",""]
["-","-",null,null,"",null,"",null,null,null,"",null,null,null,"","","",""]
["-","-",null,null,"",null,"",null,null,null,"",null,null,null,"","","",""]
["-","-",null,null,"",null,"",null,null,null,"",null,null,null,"","","",""]
["-","-",null,null,"",null,"",null,null,null,"",null,null,null,"","","",""]
["-","-",null,null,"",null,"",null,null,null,"",null,null,null,"","","",""]
["-","-",null,null,"",null,"",null,null,null,"",null,null,null,"","","",""]
["-","-",null,null,"",null,"",null,null,null,"",null,null,null,"","","",""]
["-","-",null,null,"",null,"",null,null,null,"",null,null,null,"","","",""]
["-","-",null,null,"",null,"",null,null,null,"",null,null,null,"","","",""]
["-","-",null,null,"",null,"",null,null,null,"",null,null,null,"","","",""]
["-","-",null,null,"",null,"",null,null,null,"",null,null,null,"","","",""]
["-","-",null,null,"",null,"",null,null,null,"",null,null,null,"","","",""]
["-","-",null,null,"",null,"",null,null,null,"",null,null,null,"","","",""]
["-","-",null,null,"",null,"",null,null,null,"",null,null,null,"","","",""]
["-","-",null,null,"",null,"",null,null,null,"",null,null,null,"","","",""]
["-","-",null,null,"",null,"",null,null,null,"",null,null,null,"","","",""]
["-","-",null,null,"",null,"",null,null,null,"",null,null,null,"","","",""]
["-","-",null,null,"",null,"",null,null,null,"",null,null,null,"","","",""]
["-","-",null,null,"",null,"",null,null,null,"",null,null,null,"","","",""]
["-","-",null,null,"",null,"",null,null,null,"",null,null,null,"","","",""]
["-","-",null,null,"",null,"",null,null,null,"",null,null,null,"","","",""]
["-","-",null,null,"",null,"",null,null,null,"",null,null,null,"","","",""]
["-","-",null,null,"",null,"",null,null,null,"",null,null,null,"","","",""]
["-","-",null,null,"",null,"",null,null,null,"",null,null,null,"","","",""]
["-","-",null,null,"",null,"",null,null,null,"",null,null,null,"","","",""]
["-","-",null,null,"",null,"",null,null,null,"",null,null,null,"","","",""]
["-","-",null,null,"",null,"",null,null,null,"",null,null,null,"","","",""]
["-","-",null,null,"",null,"",null,null,null,"",null,null,null,"","","",""]
["-","-",null,null,"",null,"",null,null,null,"",null,null,null,"","","",""]
["-","-",null,null,"",null,"",null,null,null,"",null,null,null,"","","",""]
["-","-",null,null,"",null,"",null,null,null,"",null,null,null,"","","",""]
["-","-",null,null,"",null,"",null,null,null,"",null,null,null,"","","",""]
["-","-",null,null,"",null,"",null,null,null,"",null,null,null,"","","",""]
["To add more rows, copy from the previous line to ensure the proper formatting/formulas are in place."]

{"sheet":"VEGSAMPLINGTASKS","index":9,"n_rows":1005,"n_cols":17,"rows_kept":1005,"cut":false,"hidden":false,"merged":[]}
["VegSamplingTaskID","SurveyID","PlotLabel","VegetationLayers","DataLevelStored","NumberOfSamples","PercentageType","TaskLabel","VascularAuthority","VascularTaxonResolution","NonvascularAuthority","NonvascularTaxonResolution","SamplingMethod","SampleArea","PrismFactor","MethodComments","PercentTypeDescrip"]
["Name","Survey ID","Survey Label","Applicable Layers","Data Level","Number of Samples","Percent Type","Task Label","Vascular Authority","Vascular Taxonomic Resolution","Nonvascular Authority","Nonvascular Taxonomic Resolution","Measurement Method","Sample Area","Prism Factor","Comments","Percent Type Description"]
["Type",null,"Text","Text","Text","Integer","Text",null,"Text","Integer","Text","Integer","Text","Double","Single","Memo","Text"]
["Max Length",null,"50","3","1",null,"2",100,6,null,"10",null,"2",null,null,null,25]
[{"$f":"IF(ISBLANK(C5),\"-\",GenGuid())","v":"-"},{"$f":"IF(ISBLANK(C5),\"-\",INDIRECT(\"SURVEYS!A\"&MATCH(C5,SurveyLabels,0)+4))","v":"-"},null,null,null,null,null,{"$f":"IF(OR(ISBLANK(C5),ISBLANK(D5),ISBLANK(E5)),\"\",C5&\"-\"&D5&\"-\"&E5&F5&IF(ISBLANK(G5),\"\",\"-\"&G5))","v":""},null,null,null,null,null,null,null,null,{"$f":"IF(ISBLANK(G5),\"-\",VLOOKUP(G5,VT_PlotPercentTypeDescrip,2,FALSE))","v":"-"}]
[{"$f":"IF(ISBLANK(C6),\"-\",GenGuid())","v":"-"},"-",null,null,null,null,null,{"$f":"IF(OR(ISBLANK(C6),ISBLANK(D6),ISBLANK(E6)),\"\",C6&\"-\"&D6&\"-\"&E6&F6&IF(ISBLANK(G6),\"\",\"-\"&G6))","v":""},null,null,null,null,null,null,null,null,"-"]
[{"$f":"IF(ISBLANK(C7),\"-\",GenGuid())","v":"-"},"-",null,null,null,null,null,"",null,null,null,null,null,null,null,null,"-"]
["-","-",null,null,null,null,null,"",null,null,null,null,null,null,null,null,"-"]
["-","-",null,null,null,null,null,"",null,null,null,null,null,null,null,null,"-"]
["-","-",null,null,null,null,null,"",null,null,null,null,null,null,null,null,"-"]
["-","-",null,null,null,null,null,"",null,null,null,null,null,null,null,null,"-"]
["-","-",null,null,null,null,null,"",null,null,null,null,null,null,null,null,"-"]
["-","-",null,null,null,null,null,"",null,null,null,null,null,null,null,null,"-"]
["-","-",null,null,null,null,null,"",null,null,null,null,null,null,null,null,"-"]
["-","-",null,null,null,null,null,"",null,null,null,null,null,null,null,null,"-"]
["-","-",null,null,null,null,null,"",null,null,null,null,null,null,null,null,"-"]
["-","-",null,null,null,null,null,"",null,null,null,null,null,null,null,null,"-"]
["-","-",null,null,null,null,null,"",null,null,null,null,null,null,null,null,"-"]
["-","-",null,null,null,null,null,"",null,null,null,null,null,null,null,null,"-"]
["-","-",null,null,null,null,null,"",null,null,null,null,null,null,null,null,"-"]
["-","-",null,null,null,null,null,"",null,null,null,null,null,null,null,null,"-"]
["-","-",null,null,null,null,null,"",null,null,null,null,null,null,null,null,"-"]
["-","-",null,null,null,null,null,"",null,null,null,null,null,null,null,null,"-"]
["-","-",null,null,null,null,null,"",null,null,null,null,null,null,null,null,"-"]
["-","-",null,null,null,null,null,"",null,null,null,null,null,null,null,null,"-"]
["-","-",null,null,null,null,null,"",null,null,null,null,null,null,null,null,"-"]
["-","-",null,null,null,null,null,"",null,null,null,null,null,null,null,null,"-"]
["-","-",null,null,null,null,null,"",null,null,null,null,null,null,null,null,"-"]
["-","-",null,null,null,null,null,"",null,null,null,null,null,null,null,null,"-"]
["-","-",null,null,null,null,null,"",null,null,null,null,null,null,null,null,"-"]
["-","-",null,null,null,null,null,"",null,null,null,null,null,null,null,null,"-"]
["-","-",null,null,null,null,null,"",null,null,null,null,null,null,null,null,"-"]
["-","-",null,null,null,null,null,"",null,null,null,null,null,null,null,null,"-"]
["-","-",null,null,null,null,null,"",null,null,null,null,null,null,null,null,"-"]
["-","-",null,null,null,null,null,"",null,null,null,null,null,null,null,null,"-"]
["-","-",null,null,null,null,null,"",null,null,null,null,null,null,null,null,"-"]
["-","-",null,null,null,null,null,"",null,null,null,null,null,null,null,null,"-"]
["-","-",null,null,null,null,null,"",null,null,null,null,null,null,null,null,"-"]
["-","-",null,null,null,null,null,"",null,null,null,null,null,null,null,null,"-"]
["-","-",null,null,null,null,null,"",null,null,null,null,null,null,null,null,"-"]
["-","-",null,null,null,null,null,"",null,null,null,null,null,null,null,null,"-"]
["-","-",null,null,null,null,null,"",null,null,null,null,null,null,null,null,"-"]
["-","-",null,null,null,null,null,"",null,null,null,null,null,null,null,null,"-"]
["-","-",null,null,null,null,null,"",null,null,null,null,null,null,null,null,"-"]
["-","-",null,null,null,null,null,"",null,null,null,null,null,null,null,null,"-"]
["-","-",null,null,null,null,null,"",null,null,null,null,null,null,null,null,"-"]
["-","-",null,null,null,null,null,"",null,null,null,null,null,null,null,null,"-"]
["-","-",null,null,null,null,null,"",null,null,null,null,null,null,null,null,"-"]
["-","-",null,null,null,null,null,"",null,null,null,null,null,null,null,null,"-"]
["-","-",null,null,null,null,null,"",null,null,null,null,null,null,null,null,"-"]
["-","-",null,null,null,null,null,"",null,null,null,null,null,null,null,null,"-"]
["-","-",null,null,null,null,null,"",null,null,null,null,null,null,null,null,"-"]
["-","-",null,null,null,null,null,"",null,null,null,null,null,null,null,null,"-"]
["-","-",null,null,null,null,null,"",null,null,null,null,null,null,null,null,"-"]
["-","-",null,null,null,null,null,"",null,null,null,null,null,null,null,null,"-"]
["-","-",null,null,null,null,null,"",null,null,null,null,null,null,null,null,"-"]
["-","-",null,null,null,null,null,"",null,null,null,null,null,null,null,null,"-"]
["-","-",null,null,null,null,null,"",null,null,null,null,null,null,null,null,"-"]
["-","-",null,null,null,null,null,"",null,null,null,null,null,null,null,null,"-"]
["-","-",null,null,null,null,null,"",null,null,null,null,null,null,null,null,"-"]
["-","-",null,null,null,null,null,"",null,null,null,null,null,null,null,null,"-"]
["-","-",null,null,null,null,null,"",null,null,null,null,null,null,null,null,"-"]
["-","-",null,null,null,null,null,"",null,null,null,null,null,null,null,null,"-"]
["-","-",null,null,null,null,null,"",null,null,null,null,null,null,null,null,"-"]
["-","-",null,null,null,null,null,"",null,null,null,null,null,null,null,null,"-"]
["-","-",null,null,null,null,null,"",null,null,null,null,null,null,null,null,"-"]
["-","-",null,null,null,null,null,"",null,null,null,null,null,null,null,null,"-"]
["-","-",null,null,null,null,null,"",null,null,null,null,null,null,null,null,"-"]
["-",{"$f":"IF(ISBLANK(C69),\"-\",INDIRECT(\"SURVEYS!A\"&MATCH(C69,SurveyLabels,0)+4))","v":"-"},null,null,null,null,null,"",null,null,null,null,null,null,null,null,{"$f":"IF(ISBLANK(G69),\"-\",VLOOKUP(G69,VT_PlotPercentTypeDescrip,2,FALSE))","v":"-"}]
["-","-",null,null,null,null,null,{"$f":"IF(OR(ISBLANK(C70),ISBLANK(D70),ISBLANK(E70)),\"\",C70&\"-\"&D70&\"-\"&E70&F70&IF(ISBLANK(G70),\"\",\"-\"&G70))","v":""},null,null,null,null,null,null,null,null,"-"]
[{"$f":"IF(ISBLANK(C71),\"-\",GenGuid())","v":"-"},"-",null,null,null,null,null,"",null,null,null,null,null,null,null,null,"-"]
["-","-",null,null,null,null,null,"",null,null,null,null,null,null,null,null,"-"]
["-","-",null,null,null,null,null,"",null,null,null,null,null,null,null,null,"-"]
["-","-",null,null,null,null,null,"",null,null,null,null,null,null,null,null,"-"]
["-","-",null,null,null,null,null,"",null,null,null,null,null,null,null,null,"-"]
["-","-",null,null,null,null,null,"",null,null,null,null,null,null,null,null,"-"]
["-","-",null,null,null,null,null,"",null,null,null,null,null,null,null,null,"-"]
["-","-",null,null,null,null,null,"",null,null,null,null,null,null,null,null,"-"]
["-","-",null,null,null,null,null,"",null,null,null,null,null,null,null,null,"-"]
["-","-",null,null,null,null,null,"",null,null,null,null,null,null,null,null,"-"]
["-","-",null,null,null,null,null,"",null,null,null,null,null,null,null,null,"-"]
["-","-",null,null,null,null,null,"",null,null,null,null,null,null,null,null,"-"]
["-","-",null,null,null,null,null,"",null,null,null,null,null,null,null,null,"-"]
["-","-",null,null,null,null,null,"",null,null,null,null,null,null,null,null,"-"]
["-","-",null,null,null,null,null,"",null,null,null,null,null,null,null,null,"-"]
["-","-",null,null,null,null,null,"",null,null,null,null,null,null,null,null,"-"]
["-","-",null,null,null,null,null,"",null,null,null,null,null,null,null,null,"-"]
["-","-",null,null,null,null,null,"",null,null,null,null,null,null,null,null,"-"]
["-","-",null,null,null,null,null,"",null,null,null,null,null,null,null,null,"-"]
["-","-",null,null,null,null,null,"",null,null,null,null,null,null,null,null,"-"]
["-","-",null,null,null,null,null,"",null,null,null,null,null,null,null,null,"-"]
["-","-",null,null,null,null,null,"",null,null,null,null,null,null,null,null,"-"]
["-","-",null,null,null,null,null,"",null,null,null,null,null,null,null,null,"-"]
["-","-",null,null,null,null,null,"",null,null,null,null,null,null,null,null,"-"]
["-","-",null,null,null,null,null,"",null,null,null,null,null,null,null,null,"-"]
["-","-",null,null,null,null,null,"",null,null,null,null,null,null,null,null,"-"]
["-","-",null,null,null,null,null,"",null,null,null,null,null,null,null,null,"-"]
["-","-",null,null,null,null,null,"",null,null,null,null,null,null,null,null,"-"]
["-","-",null,null,null,null,null,"",null,null,null,null,null,null,null,null,"-"]
["-","-",null,null,null,null,null,"",null,null,null,null,null,null,null,null,"-"]
["-","-",null,null,null,null,null,"",null,null,null,null,null,null,null,null,"-"]
["-","-",null,null,null,null,null,"",null,null,null,null,null,null,null,null,"-"]
["-","-",null,null,null,null,null,"",null,null,null,null,null,null,null,null,"-"]
["-","-",null,null,null,null,null,"",null,null,null,null,null,null,null,null,"-"]
["-","-",null,null,null,null,null,"",null,null,null,null,null,null,null,null,"-"]
["-","-",null,null,null,null,null,"",null,null,null,null,null,null,null,null,"-"]
["-","-",null,null,null,null,null,"",null,null,null,null,null,null,null,null,"-"]
["-","-",null,null,null,null,null,"",null,null,null,null,null,null,null,null,"-"]
["-","-",null,null,null,null,null,"",null,null,null,null,null,null,null,null,"-"]
["-","-",null,null,null,null,null,"",null,null,null,null,null,null,null,null,"-"]
["-","-",null,null,null,null,null,"",null,null,null,null,null,null,null,null,"-"]
["-","-",null,null,null,null,null,"",null,null,null,null,null,null,null,null,"-"]
["-","-",null,null,null,null,null,"",null,null,null,null,null,null,null,null,"-"]
["-","-",null,null,null,null,null,"",null,null,null,null,null,null,null,null,"-"]
["-","-",null,null,null,null,null,"",null,null,null,null,null,null,null,null,"-"]
["-","-",null,null,null,null,null,"",null,null,null,null,null,null,null,null,"-"]
["-","-",null,null,null,null,null,"",null,null,null,null,null,null,null,null,"-"]
["-","-",null,null,null,null,null,"",null,null,null,null,null,null,null,null,"-"]
["-","-",null,null,null,null,null,"",null,null,null,null,null,null,null,null,"-"]
["-","-",null,null,null,null,null,"",null,null,null,null,null,null,null,null,"-"]
["-","-",null,null,null,null,null,"",null,null,null,null,null,null,null,null,"-"]
["-","-",null,null,null,null,null,"",null,null,null,null,null,null,null,null,"-"]
["-","-",null,null,null,null,null,"",null,null,null,null,null,null,null,null,"-"]
["-","-",null,null,null,null,null,"",null,null,null,null,null,null,null,null,"-"]
["-","-",null,null,null,null,null,"",null,null,null,null,null,null,null,null,"-"]
["-","-",null,null,null,null,null,"",null,null,null,null,null,null,null,null,"-"]
["-","-",null,null,null,null,null,"",null,null,null,null,null,null,null,null,"-"]
["-","-",null,null,null,null,null,"",null,null,null,null,null,null,null,null,"-"]
["-","-",null,null,null,null,null,"",null,null,null,null,null,null,null,null,"-"]
["-","-",null,null,null,null,null,"",null,null,null,null,null,null,null,null,"-"]
["-","-",null,null,null,null,null,"",null,null,null,null,null,null,null,null,"-"]
["-","-",null,null,null,null,null,"",null,null,null,null,null,null,null,null,"-"]
["-",{"$f":"IF(ISBLANK(C133),\"-\",INDIRECT(\"SURVEYS!A\"&MATCH(C133,SurveyLabels,0)+4))","v":"-"},null,null,null,null,null,"",null,null,null,null,null,null,null,null,{"$f":"IF(ISBLANK(G133),\"-\",VLOOKUP(G133,VT_PlotPercentTypeDescrip,2,FALSE))","v":"-"}]
["-","-",null,null,null,null,null,{"$f":"IF(OR(ISBLANK(C134),ISBLANK(D134),ISBLANK(E134)),\"\",C134&\"-\"&D134&\"-\"&E134&F134&IF(ISBLANK(G134),\"\",\"-\"&G134))","v":""},null,null,null,null,null,null,null,null,"-"]
[{"$f":"IF(ISBLANK(C135),\"-\",GenGuid())","v":"-"},"-",null,null,null,null,null,"",null,null,null,null,null,null,null,null,"-"]
["-","-",null,null,null,null,null,"",null,null,null,null,null,null,null,null,"-"]
["-","-",null,null,null,null,null,"",null,null,null,null,null,null,null,null,"-"]
["-","-",null,null,null,null,null,"",null,null,null,null,null,null,null,null,"-"]
["-","-",null,null,null,null,null,"",null,null,null,null,null,null,null,null,"-"]
["-","-",null,null,null,null,null,"",null,null,null,null,null,null,null,null,"-"]
["-","-",null,null,null,null,null,"",null,null,null,null,null,null,null,null,"-"]
["-","-",null,null,null,null,null,"",null,null,null,null,null,null,null,null,"-"]
["-","-",null,null,null,null,null,"",null,null,null,null,null,null,null,null,"-"]
["-","-",null,null,null,null,null,"",null,null,null,null,null,null,null,null,"-"]
["-","-",null,null,null,null,null,"",null,null,null,null,null,null,null,null,"-"]
["-","-",null,null,null,null,null,"",null,null,null,null,null,null,null,null,"-"]
["-","-",null,null,null,null,null,"",null,null,null,null,null,null,null,null,"-"]
["-","-",null,null,null,null,null,"",null,null,null,null,null,null,null,null,"-"]
["-","-",null,null,null,null,null,"",null,null,null,null,null,null,null,null,"-"]
["-","-",null,null,null,null,null,"",null,null,null,null,null,null,null,null,"-"]
["-","-",null,null,null,null,null,"",null,null,null,null,null,null,null,null,"-"]
["-","-",null,null,null,null,null,"",null,null,null,null,null,null,null,null,"-"]
["-","-",null,null,null,null,null,"",null,null,null,null,null,null,null,null,"-"]
["-","-",null,null,null,null,null,"",null,null,null,null,null,null,null,null,"-"]
["-","-",null,null,null,null,null,"",null,null,null,null,null,null,null,null,"-"]
["-","-",null,null,null,null,null,"",null,null,null,null,null,null,null,null,"-"]
["-","-",null,null,null,null,null,"",null,null,null,null,null,null,null,null,"-"]
["-","-",null,null,null,null,null,"",null,null,null,null,null,null,null,null,"-"]
["-","-",null,null,null,null,null,"",null,null,null,null,null,null,null,null,"-"]
["-","-",null,null,null,null,null,"",null,null,null,null,null,null,null,null,"-"]
["-","-",null,null,null,null,null,"",null,null,null,null,null,null,null,null,"-"]
["-","-",null,null,null,null,null,"",null,null,null,null,null,null,null,null,"-"]
["-","-",null,null,null,null,null,"",null,null,null,null,null,null,null,null,"-"]
["-","-",null,null,null,null,null,"",null,null,null,null,null,null,null,null,"-"]
["-","-",null,null,null,null,null,"",null,null,null,null,null,null,null,null,"-"]
["-","-",null,null,null,null,null,"",null,null,null,null,null,null,null,null,"-"]
["-","-",null,null,null,null,null,"",null,null,null,null,null,null,null,null,"-"]
["-","-",null,null,null,null,null,"",null,null,null,null,null,null,null,null,"-"]
["-","-",null,null,null,null,null,"",null,null,null,null,null,null,null,null,"-"]
["-","-",null,null,null,null,null,"",null,null,null,null,null,null,null,null,"-"]
["-","-",null,null,null,null,null,"",null,null,null,null,null,null,null,null,"-"]
["-","-",null,null,null,null,null,"",null,null,null,null,null,null,null,null,"-"]
["-","-",null,null,null,null,null,"",null,null,null,null,null,null,null,null,"-"]
["-","-",null,null,null,null,null,"",null,null,null,null,null,null,null,null,"-"]
["-","-",null,null,null,null,null,"",null,null,null,null,null,null,null,null,"-"]
["-","-",null,null,null,null,null,"",null,null,null,null,null,null,null,null,"-"]
["-","-",null,null,null,null,null,"",null,null,null,null,null,null,null,null,"-"]
["-","-",null,null,null,null,null,"",null,null,null,null,null,null,null,null,"-"]
["-","-",null,null,null,null,null,"",null,null,null,null,null,null,null,null,"-"]
["-","-",null,null,null,null,null,"",null,null,null,null,null,null,null,null,"-"]
["-","-",null,null,null,null,null,"",null,null,null,null,null,null,null,null,"-"]
["-","-",null,null,null,null,null,"",null,null,null,null,null,null,null,null,"-"]
["-","-",null,null,null,null,null,"",null,null,null,null,null,null,null,null,"-"]
["-","-",null,null,null,null,null,"",null,null,null,null,null,null,null,null,"-"]
["-","-",null,null,null,null,null,"",null,null,null,null,null,null,null,null,"-"]
["-","-",null,null,null,null,null,"",null,null,null,null,null,null,null,null,"-"]
["-","-",null,null,null,null,null,"",null,null,null,null,null,null,null,null,"-"]
["-","-",null,null,null,null,null,"",null,null,null,null,null,null,null,null,"-"]
["-","-",null,null,null,null,null,"",null,null,null,null,null,null,null,null,"-"]
["-","-",null,null,null,null,null,"",null,null,null,null,null,null,null,null,"-"]
["-","-",null,null,null,null,null,"",null,null,null,null,null,null,null,null,"-"]
["-","-",null,null,null,null,null,"",null,null,null,null,null,null,null,null,"-"]
["-","-",null,null,null,null,null,"",null,null,null,null,null,null,null,null,"-"]
["-","-",null,null,null,null,null,"",null,null,null,null,null,null,null,null,"-"]
["-","-",null,null,null,null,null,"",null,null,null,null,null,null,null,null,"-"]
["-","-",null,null,null,null,null,"",null,null,null,null,null,null,null,null,"-"]
["-",{"$f":"IF(ISBLANK(C197),\"-\",INDIRECT(\"SURVEYS!A\"&MATCH(C197,SurveyLabels,0)+4))","v":"-"},null,null,null,null,null,"",null,null,null,null,null,null,null,null,{"$f":"IF(ISBLANK(G197),\"-\",VLOOKUP(G197,VT_PlotPercentTypeDescrip,2,FALSE))","v":"-"}]
["-","-",null,null,null,null,null,{"$f":"IF(OR(ISBLANK(C198),ISBLANK(D198),ISBLANK(E198)),\"\",C198&\"-\"&D198&\"-\"&E198&F198&IF(ISBLANK(G198),\"\",\"-\"&G198))","v":""},null,null,null,null,null,null,null,null,"-"]
[{"$f":"IF(ISBLANK(C199),\"-\",GenGuid())","v":"-"},"-",null,null,null,null,null,"",null,null,null,null,null,null,null,null,"-"]
["-","-",null,null,null,null,null,"",null,null,null,null,null,null,null,null,"-"]
["-","-",null,null,null,null,null,"",null,null,null,null,null,null,null,null,"-"]
["-","-",null,null,null,null,null,"",null,null,null,null,null,null,null,null,"-"]
["-","-",null,null,null,null,null,"",null,null,null,null,null,null,null,null,"-"]
["-","-",null,null,null,null,null,"",null,null,null,null,null,null,null,null,"-"]
["-","-",null,null,null,null,null,"",null,null,null,null,null,null,null,null,"-"]
["-","-",null,null,null,null,null,"",null,null,null,null,null,null,null,null,"-"]
["-","-",null,null,null,null,null,"",null,null,null,null,null,null,null,null,"-"]
["-","-",null,null,null,null,null,"",null,null,null,null,null,null,null,null,"-"]
["-","-",null,null,null,null,null,"",null,null,null,null,null,null,null,null,"-"]
["-","-",null,null,null,null,null,"",null,null,null,null,null,null,null,null,"-"]
["-","-",null,null,null,null,null,"",null,null,null,null,null,null,null,null,"-"]
["-","-",null,null,null,null,null,"",null,null,null,null,null,null,null,null,"-"]
["-","-",null,null,null,null,null,"",null,null,null,null,null,null,null,null,"-"]
["-","-",null,null,null,null,null,"",null,null,null,null,null,null,null,null,"-"]
["-","-",null,null,null,null,null,"",null,null,null,null,null,null,null,null,"-"]
["-","-",null,null,null,null,null,"",null,null,null,null,null,null,null,null,"-"]
["-","-",null,null,null,null,null,"",null,null,null,null,null,null,null,null,"-"]
["-","-",null,null,null,null,null,"",null,null,null,null,null,null,null,null,"-"]
["-","-",null,null,null,null,null,"",null,null,null,null,null,null,null,null,"-"]
["-","-",null,null,null,null,null,"",null,null,null,null,null,null,null,null,"-"]
["-","-",null,null,null,null,null,"",null,null,null,null,null,null,null,null,"-"]
["-","-",null,null,null,null,null,"",null,null,null,null,null,null,null,null,"-"]
["-","-",null,null,null,null,null,"",null,null,null,null,null,null,null,null,"-"]
["-","-",null,null,null,null,null,"",null,null,null,null,null,null,null,null,"-"]
["-","-",null,null,null,null,null,"",null,null,null,null,null,null,null,null,"-"]
["-","-",null,null,null,null,null,"",null,null,null,null,null,null,null,null,"-"]
["-","-",null,null,null,null,null,"",null,null,null,null,null,null,null,null,"-"]
["-","-",null,null,null,null,null,"",null,null,null,null,null,null,null,null,"-"]
["-","-",null,null,null,null,null,"",null,null,null,null,null,null,null,null,"-"]
["-","-",null,null,null,null,null,"",null,null,null,null,null,null,null,null,"-"]
["-","-",null,null,null,null,null,"",null,null,null,null,null,null,null,null,"-"]
["-","-",null,null,null,null,null,"",null,null,null,null,null,null,null,null,"-"]
["-","-",null,null,null,null,null,"",null,null,null,null,null,null,null,null,"-"]
["-","-",null,null,null,null,null,"",null,null,null,null,null,null,null,null,"-"]
["-","-",null,null,null,null,null,"",null,null,null,null,null,null,null,null,"-"]
["-","-",null,null,null,null,null,"",null,null,null,null,null,null,null,null,"-"]
["-","-",null,null,null,null,null,"",null,null,null,null,null,null,null,null,"-"]
["-","-",null,null,null,null,null,"",null,null,null,null,null,null,null,null,"-"]
["-","-",null,null,null,null,null,"",null,null,null,null,null,null,null,null,"-"]
["-","-",null,null,null,null,null,"",null,null,null,null,null,null,null,null,"-"]
["-","-",null,null,null,null,null,"",null,null,null,null,null,null,null,null,"-"]
["-","-",null,null,null,null,null,"",null,null,null,null,null,null,null,null,"-"]
["-","-",null,null,null,null,null,"",null,null,null,null,null,null,null,null,"-"]
["-","-",null,null,null,null,null,"",null,null,null,null,null,null,null,null,"-"]
["-","-",null,null,null,null,null,"",null,null,null,null,null,null,null,null,"-"]
["-","-",null,null,null,null,null,"",null,null,null,null,null,null,null,null,"-"]
["-","-",null,null,null,null,null,"",null,null,null,null,null,null,null,null,"-"]
["-","-",null,null,null,null,null,"",null,null,null,null,null,null,null,null,"-"]
["-","-",null,null,null,null,null,"",null,null,null,null,null,null,null,null,"-"]
["-","-",null,null,null,null,null,"",null,null,null,null,null,null,null,null,"-"]
["-","-",null,null,null,null,null,"",null,null,null,null,null,null,null,null,"-"]
["-","-",null,null,null,null,null,"",null,null,null,null,null,null,null,null,"-"]
["-","-",null,null,null,null,null,"",null,null,null,null,null,null,null,null,"-"]
["-","-",null,null,null,null,null,"",null,null,null,null,null,null,null,null,"-"]
["-","-",null,null,null,null,null,"",null,null,null,null,null,null,null,null,"-"]
["-","-",null,null,null,null,null,"",null,null,null,null,null,null,null,null,"-"]
["-","-",null,null,null,null,null,"",null,null,null,null,null,null,null,null,"-"]
["-","-",null,null,null,null,null,"",null,null,null,null,null,null,null,null,"-"]
["-","-",null,null,null,null,null,"",null,null,null,null,null,null,null,null,"-"]
["-","-",null,null,null,null,null,"",null,null,null,null,null,null,null,null,"-"]
["-",{"$f":"IF(ISBLANK(C261),\"-\",INDIRECT(\"SURVEYS!A\"&MATCH(C261,SurveyLabels,0)+4))","v":"-"},null,null,null,null,null,"",null,null,null,null,null,null,null,null,{"$f":"IF(ISBLANK(G261),\"-\",VLOOKUP(G261,VT_PlotPercentTypeDescrip,2,FALSE))","v":"-"}]
["-","-",null,null,null,null,null,{"$f":"IF(OR(ISBLANK(C262),ISBLANK(D262),ISBLANK(E262)),\"\",C262&\"-\"&D262&\"-\"&E262&F262&IF(ISBLANK(G262),\"\",\"-\"&G262))","v":""},null,null,null,null,null,null,null,null,"-"]
[{"$f":"IF(ISBLANK(C263),\"-\",GenGuid())","v":"-"},"-",null,null,null,null,null,"",null,null,null,null,null,null,null,null,"-"]
["-","-",null,null,null,null,null,"",null,null,null,null,null,null,null,null,"-"]
["-","-",null,null,null,null,null,"",null,null,null,null,null,null,null,null,"-"]
["-","-",null,null,null,null,null,"",null,null,null,null,null,null,null,null,"-"]
["-","-",null,null,null,null,null,"",null,null,null,null,null,null,null,null,"-"]
["-","-",null,null,null,null,null,"",null,null,null,null,null,null,null,null,"-"]
["-","-",null,null,null,null,null,"",null,null,null,null,null,null,null,null,"-"]
["-","-",null,null,null,null,null,"",null,null,null,null,null,null,null,null,"-"]
["-","-",null,null,null,null,null,"",null,null,null,null,null,null,null,null,"-"]
["-","-",null,null,null,null,null,"",null,null,null,null,null,null,null,null,"-"]
["-","-",null,null,null,null,null,"",null,null,null,null,null,null,null,null,"-"]
["-","-",null,null,null,null,null,"",null,null,null,null,null,null,null,null,"-"]
["-","-",null,null,null,null,null,"",null,null,null,null,null,null,null,null,"-"]
["-","-",null,null,null,null,null,"",null,null,null,null,null,null,null,null,"-"]
["-","-",null,null,null,null,null,"",null,null,null,null,null,null,null,null,"-"]
["-","-",null,null,null,null,null,"",null,null,null,null,null,null,null,null,"-"]
["-","-",null,null,null,null,null,"",null,null,null,null,null,null,null,null,"-"]
["-","-",null,null,null,null,null,"",null,null,null,null,null,null,null,null,"-"]
["-","-",null,null,null,null,null,"",null,null,null,null,null,null,null,null,"-"]
["-","-",null,null,null,null,null,"",null,null,null,null,null,null,null,null,"-"]
["-","-",null,null,null,null,null,"",null,null,null,null,null,null,null,null,"-"]
["-","-",null,null,null,null,null,"",null,null,null,null,null,null,null,null,"-"]
["-","-",null,null,null,null,null,"",null,null,null,null,null,null,null,null,"-"]
["-","-",null,null,null,null,null,"",null,null,null,null,null,null,null,null,"-"]
["-","-",null,null,null,null,null,"",null,null,null,null,null,null,null,null,"-"]
["-","-",null,null,null,null,null,"",null,null,null,null,null,null,null,null,"-"]
["-","-",null,null,null,null,null,"",null,null,null,null,null,null,null,null,"-"]
["-","-",null,null,null,null,null,"",null,null,null,null,null,null,null,null,"-"]
["-","-",null,null,null,null,null,"",null,null,null,null,null,null,null,null,"-"]
["-","-",null,null,null,null,null,"",null,null,null,null,null,null,null,null,"-"]
["-","-",null,null,null,null,null,"",null,null,null,null,null,null,null,null,"-"]
["-","-",null,null,null,null,null,"",null,null,null,null,null,null,null,null,"-"]
["-","-",null,null,null,null,null,"",null,null,null,null,null,null,null,null,"-"]
["-","-",null,null,null,null,null,"",null,null,null,null,null,null,null,null,"-"]
["-","-",null,null,null,null,null,"",null,null,null,null,null,null,null,null,"-"]
["-","-",null,null,null,null,null,"",null,null,null,null,null,null,null,null,"-"]
["-","-",null,null,null,null,null,"",null,null,null,null,null,null,null,null,"-"]
["-","-",null,null,null,null,null,"",null,null,null,null,null,null,null,null,"-"]
["-","-",null,null,null,null,null,"",null,null,null,null,null,null,null,null,"-"]
["-","-",null,null,null,null,null,"",null,null,null,null,null,null,null,null,"-"]
["-","-",null,null,null,null,null,"",null,null,null,null,null,null,null,null,"-"]
["-","-",null,null,null,null,null,"",null,null,null,null,null,null,null,null,"-"]
["-","-",null,null,null,null,null,"",null,null,null,null,null,null,null,null,"-"]
["-","-",null,null,null,null,null,"",null,null,null,null,null,null,null,null,"-"]
["-","-",null,null,null,null,null,"",null,null,null,null,null,null,null,null,"-"]
["-","-",null,null,null,null,null,"",null,null,null,null,null,null,null,null,"-"]
["-","-",null,null,null,null,null,"",null,null,null,null,null,null,null,null,"-"]
["-","-",null,null,null,null,null,"",null,null,null,null,null,null,null,null,"-"]
["-","-",null,null,null,null,null,"",null,null,null,null,null,null,null,null,"-"]
["-","-",null,null,null,null,null,"",null,null,null,null,null,null,null,null,"-"]
["-","-",null,null,null,null,null,"",null,null,null,null,null,null,null,null,"-"]
["-","-",null,null,null,null,null,"",null,null,null,null,null,null,null,null,"-"]
["-","-",null,null,null,null,null,"",null,null,null,null,null,null,null,null,"-"]
["-","-",null,null,null,null,null,"",null,null,null,null,null,null,null,null,"-"]
["-","-",null,null,null,null,null,"",null,null,null,null,null,null,null,null,"-"]
["-","-",null,null,null,null,null,"",null,null,null,null,null,null,null,null,"-"]
["-","-",null,null,null,null,null,"",null,null,null,null,null,null,null,null,"-"]
["-","-",null,null,null,null,null,"",null,null,null,null,null,null,null,null,"-"]
["-","-",null,null,null,null,null,"",null,null,null,null,null,null,null,null,"-"]
["-","-",null,null,null,null,null,"",null,null,null,null,null,null,null,null,"-"]
["-","-",null,null,null,null,null,"",null,null,null,null,null,null,null,null,"-"]
["-","-",null,null,null,null,null,"",null,null,null,null,null,null,null,null,"-"]
["-",{"$f":"IF(ISBLANK(C325),\"-\",INDIRECT(\"SURVEYS!A\"&MATCH(C325,SurveyLabels,0)+4))","v":"-"},null,null,null,null,null,"",null,null,null,null,null,null,null,null,{"$f":"IF(ISBLANK(G325),\"-\",VLOOKUP(G325,VT_PlotPercentTypeDescrip,2,FALSE))","v":"-"}]
["-","-",null,null,null,null,null,{"$f":"IF(OR(ISBLANK(C326),ISBLANK(D326),ISBLANK(E326)),\"\",C326&\"-\"&D326&\"-\"&E326&F326&IF(ISBLANK(G326),\"\",\"-\"&G326))","v":""},null,null,null,null,null,null,null,null,"-"]
[{"$f":"IF(ISBLANK(C327),\"-\",GenGuid())","v":"-"},"-",null,null,null,null,null,"",null,null,null,null,null,null,null,null,"-"]
["-","-",null,null,null,null,null,"",null,null,null,null,null,null,null,null,"-"]
["-","-",null,null,null,null,null,"",null,null,null,null,null,null,null,null,"-"]
["-","-",null,null,null,null,null,"",null,null,null,null,null,null,null,null,"-"]
["-","-",null,null,null,null,null,"",null,null,null,null,null,null,null,null,"-"]
["-","-",null,null,null,null,null,"",null,null,null,null,null,null,null,null,"-"]
["-","-",null,null,null,null,null,"",null,null,null,null,null,null,null,null,"-"]
["-","-",null,null,null,null,null,"",null,null,null,null,null,null,null,null,"-"]
["-","-",null,null,null,null,null,"",null,null,null,null,null,null,null,null,"-"]
["-","-",null,null,null,null,null,"",null,null,null,null,null,null,null,null,"-"]
["-","-",null,null,null,null,null,"",null,null,null,null,null,null,null,null,"-"]
["-","-",null,null,null,null,null,"",null,null,null,null,null,null,null,null,"-"]
["-","-",null,null,null,null,null,"",null,null,null,null,null,null,null,null,"-"]
["-","-",null,null,null,null,null,"",null,null,null,null,null,null,null,null,"-"]
["-","-",null,null,null,null,null,"",null,null,null,null,null,null,null,null,"-"]
["-","-",null,null,null,null,null,"",null,null,null,null,null,null,null,null,"-"]
["-","-",null,null,null,null,null,"",null,null,null,null,null,null,null,null,"-"]
["-","-",null,null,null,null,null,"",null,null,null,null,null,null,null,null,"-"]
["-","-",null,null,null,null,null,"",null,null,null,null,null,null,null,null,"-"]
["-","-",null,null,null,null,null,"",null,null,null,null,null,null,null,null,"-"]
["-","-",null,null,null,null,null,"",null,null,null,null,null,null,null,null,"-"]
["-","-",null,null,null,null,null,"",null,null,null,null,null,null,null,null,"-"]
["-","-",null,null,null,null,null,"",null,null,null,null,null,null,null,null,"-"]
["-","-",null,null,null,null,null,"",null,null,null,null,null,null,null,null,"-"]
["-","-",null,null,null,null,null,"",null,null,null,null,null,null,null,null,"-"]
["-","-",null,null,null,null,null,"",null,null,null,null,null,null,null,null,"-"]
["-","-",null,null,null,null,null,"",null,null,null,null,null,null,null,null,"-"]
["-","-",null,null,null,null,null,"",null,null,null,null,null,null,null,null,"-"]
["-","-",null,null,null,null,null,"",null,null,null,null,null,null,null,null,"-"]
["-","-",null,null,null,null,null,"",null,null,null,null,null,null,null,null,"-"]
["-","-",null,null,null,null,null,"",null,null,null,null,null,null,null,null,"-"]
["-","-",null,null,null,null,null,"",null,null,null,null,null,null,null,null,"-"]
["-","-",null,null,null,null,null,"",null,null,null,null,null,null,null,null,"-"]
["-","-",null,null,null,null,null,"",null,null,null,null,null,null,null,null,"-"]
["-","-",null,null,null,null,null,"",null,null,null,null,null,null,null,null,"-"]
["-","-",null,null,null,null,null,"",null,null,null,null,null,null,null,null,"-"]
["-","-",null,null,null,null,null,"",null,null,null,null,null,null,null,null,"-"]
["-","-",null,null,null,null,null,"",null,null,null,null,null,null,null,null,"-"]
["-","-",null,null,null,null,null,"",null,null,null,null,null,null,null,null,"-"]
["-","-",null,null,null,null,null,"",null,null,null,null,null,null,null,null,"-"]
["-","-",null,null,null,null,null,"",null,null,null,null,null,null,null,null,"-"]
["-","-",null,null,null,null,null,"",null,null,null,null,null,null,null,null,"-"]
["-","-",null,null,null,null,null,"",null,null,null,null,null,null,null,null,"-"]
["-","-",null,null,null,null,null,"",null,null,null,null,null,null,null,null,"-"]
["-","-",null,null,null,null,null,"",null,null,null,null,null,null,null,null,"-"]
["-","-",null,null,null,null,null,"",null,null,null,null,null,null,null,null,"-"]
["-","-",null,null,null,null,null,"",null,null,null,null,null,null,null,null,"-"]
["-","-",null,null,null,null,null,"",null,null,null,null,null,null,null,null,"-"]
["-","-",null,null,null,null,null,"",null,null,null,null,null,null,null,null,"-"]
["-","-",null,null,null,null,null,"",null,null,null,null,null,null,null,null,"-"]
["-","-",null,null,null,null,null,"",null,null,null,null,null,null,null,null,"-"]
["-","-",null,null,null,null,null,"",null,null,null,null,null,null,null,null,"-"]
["-","-",null,null,null,null,null,"",null,null,null,null,null,null,null,null,"-"]
["-","-",null,null,null,null,null,"",null,null,null,null,null,null,null,null,"-"]
["-","-",null,null,null,null,null,"",null,null,null,null,null,null,null,null,"-"]
["-","-",null,null,null,null,null,"",null,null,null,null,null,null,null,null,"-"]
["-","-",null,null,null,null,null,"",null,null,null,null,null,null,null,null,"-"]
["-","-",null,null,null,null,null,"",null,null,null,null,null,null,null,null,"-"]
["-","-",null,null,null,null,null,"",null,null,null,null,null,null,null,null,"-"]
["-","-",null,null,null,null,null,"",null,null,null,null,null,null,null,null,"-"]
["-","-",null,null,null,null,null,"",null,null,null,null,null,null,null,null,"-"]
["-","-",null,null,null,null,null,"",null,null,null,null,null,null,null,null,"-"]
["-",{"$f":"IF(ISBLANK(C389),\"-\",INDIRECT(\"SURVEYS!A\"&MATCH(C389,SurveyLabels,0)+4))","v":"-"},null,null,null,null,null,"",null,null,null,null,null,null,null,null,{"$f":"IF(ISBLANK(G389),\"-\",VLOOKUP(G389,VT_PlotPercentTypeDescrip,2,FALSE))","v":"-"}]
["-","-",null,null,null,null,null,{"$f":"IF(OR(ISBLANK(C390),ISBLANK(D390),ISBLANK(E390)),\"\",C390&\"-\"&D390&\"-\"&E390&F390&IF(ISBLANK(G390),\"\",\"-\"&G390))","v":""},null,null,null,null,null,null,null,null,"-"]
[{"$f":"IF(ISBLANK(C391),\"-\",GenGuid())","v":"-"},"-",null,null,null,null,null,"",null,null,null,null,null,null,null,null,"-"]
["-","-",null,null,null,null,null,"",null,null,null,null,null,null,null,null,"-"]
["-","-",null,null,null,null,null,"",null,null,null,null,null,null,null,null,"-"]
["-","-",null,null,null,null,null,"",null,null,null,null,null,null,null,null,"-"]
["-","-",null,null,null,null,null,"",null,null,null,null,null,null,null,null,"-"]
["-","-",null,null,null,null,null,"",null,null,null,null,null,null,null,null,"-"]
["-","-",null,null,null,null,null,"",null,null,null,null,null,null,null,null,"-"]
["-","-",null,null,null,null,null,"",null,null,null,null,null,null,null,null,"-"]
["-","-",null,null,null,null,null,"",null,null,null,null,null,null,null,null,"-"]
["-","-",null,null,null,null,null,"",null,null,null,null,null,null,null,null,"-"]
["-","-",null,null,null,null,null,"",null,null,null,null,null,null,null,null,"-"]
["-","-",null,null,null,null,null,"",null,null,null,null,null,null,null,null,"-"]
["-","-",null,null,null,null,null,"",null,null,null,null,null,null,null,null,"-"]
["-","-",null,null,null,null,null,"",null,null,null,null,null,null,null,null,"-"]
["-","-",null,null,null,null,null,"",null,null,null,null,null,null,null,null,"-"]
["-","-",null,null,null,null,null,"",null,null,null,null,null,null,null,null,"-"]
["-","-",null,null,null,null,null,"",null,null,null,null,null,null,null,null,"-"]
["-","-",null,null,null,null,null,"",null,null,null,null,null,null,null,null,"-"]
["-","-",null,null,null,null,null,"",null,null,null,null,null,null,null,null,"-"]
["-","-",null,null,null,null,null,"",null,null,null,null,null,null,null,null,"-"]
["-","-",null,null,null,null,null,"",null,null,null,null,null,null,null,null,"-"]
["-","-",null,null,null,null,null,"",null,null,null,null,null,null,null,null,"-"]
["-","-",null,null,null,null,null,"",null,null,null,null,null,null,null,null,"-"]
["-","-",null,null,null,null,null,"",null,null,null,null,null,null,null,null,"-"]
["-","-",null,null,null,null,null,"",null,null,null,null,null,null,null,null,"-"]
["-","-",null,null,null,null,null,"",null,null,null,null,null,null,null,null,"-"]
["-","-",null,null,null,null,null,"",null,null,null,null,null,null,null,null,"-"]
["-","-",null,null,null,null,null,"",null,null,null,null,null,null,null,null,"-"]
["-","-",null,null,null,null,null,"",null,null,null,null,null,null,null,null,"-"]
["-","-",null,null,null,null,null,"",null,null,null,null,null,null,null,null,"-"]
["-","-",null,null,null,null,null,"",null,null,null,null,null,null,null,null,"-"]
["-","-",null,null,null,null,null,"",null,null,null,null,null,null,null,null,"-"]
["-","-",null,null,null,null,null,"",null,null,null,null,null,null,null,null,"-"]
["-","-",null,null,null,null,null,"",null,null,null,null,null,null,null,null,"-"]
["-","-",null,null,null,null,null,"",null,null,null,null,null,null,null,null,"-"]
["-","-",null,null,null,null,null,"",null,null,null,null,null,null,null,null,"-"]
["-","-",null,null,null,null,null,"",null,null,null,null,null,null,null,null,"-"]
["-","-",null,null,null,null,null,"",null,null,null,null,null,null,null,null,"-"]
["-","-",null,null,null,null,null,"",null,null,null,null,null,null,null,null,"-"]
["-","-",null,null,null,null,null,"",null,null,null,null,null,null,null,null,"-"]
["-","-",null,null,null,null,null,"",null,null,null,null,null,null,null,null,"-"]
["-","-",null,null,null,null,null,"",null,null,null,null,null,null,null,null,"-"]
["-","-",null,null,null,null,null,"",null,null,null,null,null,null,null,null,"-"]
["-","-",null,null,null,null,null,"",null,null,null,null,null,null,null,null,"-"]
["-","-",null,null,null,null,null,"",null,null,null,null,null,null,null,null,"-"]
["-","-",null,null,null,null,null,"",null,null,null,null,null,null,null,null,"-"]
["-","-",null,null,null,null,null,"",null,null,null,null,null,null,null,null,"-"]
["-","-",null,null,null,null,null,"",null,null,null,null,null,null,null,null,"-"]
["-","-",null,null,null,null,null,"",null,null,null,null,null,null,null,null,"-"]
["-","-",null,null,null,null,null,"",null,null,null,null,null,null,null,null,"-"]
["-","-",null,null,null,null,null,"",null,null,null,null,null,null,null,null,"-"]
["-","-",null,null,null,null,null,"",null,null,null,null,null,null,null,null,"-"]
["-","-",null,null,null,null,null,"",null,null,null,null,null,null,null,null,"-"]
["-","-",null,null,null,null,null,"",null,null,null,null,null,null,null,null,"-"]
["-","-",null,null,null,null,null,"",null,null,null,null,null,null,null,null,"-"]
["-","-",null,null,null,null,null,"",null,null,null,null,null,null,null,null,"-"]
["-","-",null,null,null,null,null,"",null,null,null,null,null,null,null,null,"-"]
["-","-",null,null,null,null,null,"",null,null,null,null,null,null,null,null,"-"]
["-","-",null,null,null,null,null,"",null,null,null,null,null,null,null,null,"-"]
["-","-",null,null,null,null,null,"",null,null,null,null,null,null,null,null,"-"]
["-","-",null,null,null,null,null,"",null,null,null,null,null,null,null,null,"-"]
["-","-",null,null,null,null,null,"",null,null,null,null,null,null,null,null,"-"]
["-",{"$f":"IF(ISBLANK(C453),\"-\",INDIRECT(\"SURVEYS!A\"&MATCH(C453,SurveyLabels,0)+4))","v":"-"},null,null,null,null,null,"",null,null,null,null,null,null,null,null,{"$f":"IF(ISBLANK(G453),\"-\",VLOOKUP(G453,VT_PlotPercentTypeDescrip,2,FALSE))","v":"-"}]
["-","-",null,null,null,null,null,{"$f":"IF(OR(ISBLANK(C454),ISBLANK(D454),ISBLANK(E454)),\"\",C454&\"-\"&D454&\"-\"&E454&F454&IF(ISBLANK(G454),\"\",\"-\"&G454))","v":""},null,null,null,null,null,null,null,null,"-"]
[{"$f":"IF(ISBLANK(C455),\"-\",GenGuid())","v":"-"},"-",null,null,null,null,null,"",null,null,null,null,null,null,null,null,"-"]
["-","-",null,null,null,null,null,"",null,null,null,null,null,null,null,null,"-"]
["-","-",null,null,null,null,null,"",null,null,null,null,null,null,null,null,"-"]
["-","-",null,null,null,null,null,"",null,null,null,null,null,null,null,null,"-"]
["-","-",null,null,null,null,null,"",null,null,null,null,null,null,null,null,"-"]
["-","-",null,null,null,null,null,"",null,null,null,null,null,null,null,null,"-"]
["-","-",null,null,null,null,null,"",null,null,null,null,null,null,null,null,"-"]
["-","-",null,null,null,null,null,"",null,null,null,null,null,null,null,null,"-"]
["-","-",null,null,null,null,null,"",null,null,null,null,null,null,null,null,"-"]
["-","-",null,null,null,null,null,"",null,null,null,null,null,null,null,null,"-"]
["-","-",null,null,null,null,null,"",null,null,null,null,null,null,null,null,"-"]
["-","-",null,null,null,null,null,"",null,null,null,null,null,null,null,null,"-"]
["-","-",null,null,null,null,null,"",null,null,null,null,null,null,null,null,"-"]
["-","-",null,null,null,null,null,"",null,null,null,null,null,null,null,null,"-"]
["-","-",null,null,null,null,null,"",null,null,null,null,null,null,null,null,"-"]
["-","-",null,null,null,null,null,"",null,null,null,null,null,null,null,null,"-"]
["-","-",null,null,null,null,null,"",null,null,null,null,null,null,null,null,"-"]
["-","-",null,null,null,null,null,"",null,null,null,null,null,null,null,null,"-"]
["-","-",null,null,null,null,null,"",null,null,null,null,null,null,null,null,"-"]
["-","-",null,null,null,null,null,"",null,null,null,null,null,null,null,null,"-"]
["-","-",null,null,null,null,null,"",null,null,null,null,null,null,null,null,"-"]
["-","-",null,null,null,null,null,"",null,null,null,null,null,null,null,null,"-"]
["-","-",null,null,null,null,null,"",null,null,null,null,null,null,null,null,"-"]
["-","-",null,null,null,null,null,"",null,null,null,null,null,null,null,null,"-"]
["-","-",null,null,null,null,null,"",null,null,null,null,null,null,null,null,"-"]
["-","-",null,null,null,null,null,"",null,null,null,null,null,null,null,null,"-"]
["-","-",null,null,null,null,null,"",null,null,null,null,null,null,null,null,"-"]
["-","-",null,null,null,null,null,"",null,null,null,null,null,null,null,null,"-"]
["-","-",null,null,null,null,null,"",null,null,null,null,null,null,null,null,"-"]
["-","-",null,null,null,null,null,"",null,null,null,null,null,null,null,null,"-"]
["-","-",null,null,null,null,null,"",null,null,null,null,null,null,null,null,"-"]
["-","-",null,null,null,null,null,"",null,null,null,null,null,null,null,null,"-"]
["-","-",null,null,null,null,null,"",null,null,null,null,null,null,null,null,"-"]
["-","-",null,null,null,null,null,"",null,null,null,null,null,null,null,null,"-"]
["-","-",null,null,null,null,null,"",null,null,null,null,null,null,null,null,"-"]
["-","-",null,null,null,null,null,"",null,null,null,null,null,null,null,null,"-"]
["-","-",null,null,null,null,null,"",null,null,null,null,null,null,null,null,"-"]
["-","-",null,null,null,null,null,"",null,null,null,null,null,null,null,null,"-"]
["-","-",null,null,null,null,null,"",null,null,null,null,null,null,null,null,"-"]
["-","-",null,null,null,null,null,"",null,null,null,null,null,null,null,null,"-"]
["-","-",null,null,null,null,null,"",null,null,null,null,null,null,null,null,"-"]
["-","-",null,null,null,null,null,"",null,null,null,null,null,null,null,null,"-"]
["-","-",null,null,null,null,null,"",null,null,null,null,null,null,null,null,"-"]
["-","-",null,null,null,null,null,"",null,null,null,null,null,null,null,null,"-"]
["-","-",null,null,null,null,null,"",null,null,null,null,null,null,null,null,"-"]
["-","-",null,null,null,null,null,"",null,null,null,null,null,null,null,null,"-"]
["-","-",null,null,null,null,null,"",null,null,null,null,null,null,null,null,"-"]
["-","-",null,null,null,null,null,"",null,null,null,null,null,null,null,null,"-"]
["-","-",null,null,null,null,null,"",null,null,null,null,null,null,null,null,"-"]
["-","-",null,null,null,null,null,"",null,null,null,null,null,null,null,null,"-"]
["-","-",null,null,null,null,null,"",null,null,null,null,null,null,null,null,"-"]
["-","-",null,null,null,null,null,"",null,null,null,null,null,null,null,null,"-"]
["-","-",null,null,null,null,null,"",null,null,null,null,null,null,null,null,"-"]
["-","-",null,null,null,null,null,"",null,null,null,null,null,null,null,null,"-"]
["-","-",null,null,null,null,null,"",null,null,null,null,null,null,null,null,"-"]
["-","-",null,null,null,null,null,"",null,null,null,null,null,null,null,null,"-"]
["-","-",null,null,null,null,null,"",null,null,null,null,null,null,null,null,"-"]
["-","-",null,null,null,null,null,"",null,null,null,null,null,null,null,null,"-"]
["-","-",null,null,null,null,null,"",null,null,null,null,null,null,null,null,"-"]
["-","-",null,null,null,null,null,"",null,null,null,null,null,null,null,null,"-"]
["-","-",null,null,null,null,null,"",null,null,null,null,null,null,null,null,"-"]
["-","-",null,null,null,null,null,"",null,null,null,null,null,null,null,null,"-"]
["-",{"$f":"IF(ISBLANK(C517),\"-\",INDIRECT(\"SURVEYS!A\"&MATCH(C517,SurveyLabels,0)+4))","v":"-"},null,null,null,null,null,"",null,null,null,null,null,null,null,null,{"$f":"IF(ISBLANK(G517),\"-\",VLOOKUP(G517,VT_PlotPercentTypeDescrip,2,FALSE))","v":"-"}]
["-","-",null,null,null,null,null,{"$f":"IF(OR(ISBLANK(C518),ISBLANK(D518),ISBLANK(E518)),\"\",C518&\"-\"&D518&\"-\"&E518&F518&IF(ISBLANK(G518),\"\",\"-\"&G518))","v":""},null,null,null,null,null,null,null,null,"-"]
[{"$f":"IF(ISBLANK(C519),\"-\",GenGuid())","v":"-"},"-",null,null,null,null,null,"",null,null,null,null,null,null,null,null,"-"]
["-","-",null,null,null,null,null,"",null,null,null,null,null,null,null,null,"-"]
["-","-",null,null,null,null,null,"",null,null,null,null,null,null,null,null,"-"]
["-","-",null,null,null,null,null,"",null,null,null,null,null,null,null,null,"-"]
["-","-",null,null,null,null,null,"",null,null,null,null,null,null,null,null,"-"]
["-","-",null,null,null,null,null,"",null,null,null,null,null,null,null,null,"-"]
["-","-",null,null,null,null,null,"",null,null,null,null,null,null,null,null,"-"]
["-","-",null,null,null,null,null,"",null,null,null,null,null,null,null,null,"-"]
["-","-",null,null,null,null,null,"",null,null,null,null,null,null,null,null,"-"]
["-","-",null,null,null,null,null,"",null,null,null,null,null,null,null,null,"-"]
["-","-",null,null,null,null,null,"",null,null,null,null,null,null,null,null,"-"]
["-","-",null,null,null,null,null,"",null,null,null,null,null,null,null,null,"-"]
["-","-",null,null,null,null,null,"",null,null,null,null,null,null,null,null,"-"]
["-","-",null,null,null,null,null,"",null,null,null,null,null,null,null,null,"-"]
["-","-",null,null,null,null,null,"",null,null,null,null,null,null,null,null,"-"]
["-","-",null,null,null,null,null,"",null,null,null,null,null,null,null,null,"-"]
["-","-",null,null,null,null,null,"",null,null,null,null,null,null,null,null,"-"]
["-","-",null,null,null,null,null,"",null,null,null,null,null,null,null,null,"-"]
["-","-",null,null,null,null,null,"",null,null,null,null,null,null,null,null,"-"]
["-","-",null,null,null,null,null,"",null,null,null,null,null,null,null,null,"-"]
["-","-",null,null,null,null,null,"",null,null,null,null,null,null,null,null,"-"]
["-","-",null,null,null,null,null,"",null,null,null,null,null,null,null,null,"-"]
["-","-",null,null,null,null,null,"",null,null,null,null,null,null,null,null,"-"]
["-","-",null,null,null,null,null,"",null,null,null,null,null,null,null,null,"-"]
["-","-",null,null,null,null,null,"",null,null,null,null,null,null,null,null,"-"]
["-","-",null,null,null,null,null,"",null,null,null,null,null,null,null,null,"-"]
["-","-",null,null,null,null,null,"",null,null,null,null,null,null,null,null,"-"]
["-","-",null,null,null,null,null,"",null,null,null,null,null,null,null,null,"-"]
["-","-",null,null,null,null,null,"",null,null,null,null,null,null,null,null,"-"]
["-","-",null,null,null,null,null,"",null,null,null,null,null,null,null,null,"-"]
["-","-",null,null,null,null,null,"",null,null,null,null,null,null,null,null,"-"]
["-","-",null,null,null,null,null,"",null,null,null,null,null,null,null,null,"-"]
["-","-",null,null,null,null,null,"",null,null,null,null,null,null,null,null,"-"]
["-","-",null,null,null,null,null,"",null,null,null,null,null,null,null,null,"-"]
["-","-",null,null,null,null,null,"",null,null,null,null,null,null,null,null,"-"]
["-","-",null,null,null,null,null,"",null,null,null,null,null,null,null,null,"-"]
["-","-",null,null,null,null,null,"",null,null,null,null,null,null,null,null,"-"]
["-","-",null,null,null,null,null,"",null,null,null,null,null,null,null,null,"-"]
["-","-",null,null,null,null,null,"",null,null,null,null,null,null,null,null,"-"]
["-","-",null,null,null,null,null,"",null,null,null,null,null,null,null,null,"-"]
["-","-",null,null,null,null,null,"",null,null,null,null,null,null,null,null,"-"]
["-","-",null,null,null,null,null,"",null,null,null,null,null,null,null,null,"-"]
["-","-",null,null,null,null,null,"",null,null,null,null,null,null,null,null,"-"]
["-","-",null,null,null,null,null,"",null,null,null,null,null,null,null,null,"-"]
["-","-",null,null,null,null,null,"",null,null,null,null,null,null,null,null,"-"]
["-","-",null,null,null,null,null,"",null,null,null,null,null,null,null,null,"-"]
["-","-",null,null,null,null,null,"",null,null,null,null,null,null,null,null,"-"]
["-","-",null,null,null,null,null,"",null,null,null,null,null,null,null,null,"-"]
["-","-",null,null,null,null,null,"",null,null,null,null,null,null,null,null,"-"]
["-","-",null,null,null,null,null,"",null,null,null,null,null,null,null,null,"-"]
["-","-",null,null,null,null,null,"",null,null,null,null,null,null,null,null,"-"]
["-","-",null,null,null,null,null,"",null,null,null,null,null,null,null,null,"-"]
["-","-",null,null,null,null,null,"",null,null,null,null,null,null,null,null,"-"]
["-","-",null,null,null,null,null,"",null,null,null,null,null,null,null,null,"-"]
["-","-",null,null,null,null,null,"",null,null,null,null,null,null,null,null,"-"]
["-","-",null,null,null,null,null,"",null,null,null,null,null,null,null,null,"-"]
["-","-",null,null,null,null,null,"",null,null,null,null,null,null,null,null,"-"]
["-","-",null,null,null,null,null,"",null,null,null,null,null,null,null,null,"-"]
["-","-",null,null,null,null,null,"",null,null,null,null,null,null,null,null,"-"]
["-","-",null,null,null,null,null,"",null,null,null,null,null,null,null,null,"-"]
["-","-",null,null,null,null,null,"",null,null,null,null,null,null,null,null,"-"]
["-","-",null,null,null,null,null,"",null,null,null,null,null,null,null,null,"-"]
["-",{"$f":"IF(ISBLANK(C581),\"-\",INDIRECT(\"SURVEYS!A\"&MATCH(C581,SurveyLabels,0)+4))","v":"-"},null,null,null,null,null,"",null,null,null,null,null,null,null,null,{"$f":"IF(ISBLANK(G581),\"-\",VLOOKUP(G581,VT_PlotPercentTypeDescrip,2,FALSE))","v":"-"}]
["-","-",null,null,null,null,null,{"$f":"IF(OR(ISBLANK(C582),ISBLANK(D582),ISBLANK(E582)),\"\",C582&\"-\"&D582&\"-\"&E582&F582&IF(ISBLANK(G582),\"\",\"-\"&G582))","v":""},null,null,null,null,null,null,null,null,"-"]
[{"$f":"IF(ISBLANK(C583),\"-\",GenGuid())","v":"-"},"-",null,null,null,null,null,"",null,null,null,null,null,null,null,null,"-"]
["-","-",null,null,null,null,null,"",null,null,null,null,null,null,null,null,"-"]
["-","-",null,null,null,null,null,"",null,null,null,null,null,null,null,null,"-"]
["-","-",null,null,null,null,null,"",null,null,null,null,null,null,null,null,"-"]
["-","-",null,null,null,null,null,"",null,null,null,null,null,null,null,null,"-"]
["-","-",null,null,null,null,null,"",null,null,null,null,null,null,null,null,"-"]
["-","-",null,null,null,null,null,"",null,null,null,null,null,null,null,null,"-"]
["-","-",null,null,null,null,null,"",null,null,null,null,null,null,null,null,"-"]
["-","-",null,null,null,null,null,"",null,null,null,null,null,null,null,null,"-"]
["-","-",null,null,null,null,null,"",null,null,null,null,null,null,null,null,"-"]
["-","-",null,null,null,null,null,"",null,null,null,null,null,null,null,null,"-"]
["-","-",null,null,null,null,null,"",null,null,null,null,null,null,null,null,"-"]
["-","-",null,null,null,null,null,"",null,null,null,null,null,null,null,null,"-"]
["-","-",null,null,null,null,null,"",null,null,null,null,null,null,null,null,"-"]
["-","-",null,null,null,null,null,"",null,null,null,null,null,null,null,null,"-"]
["-","-",null,null,null,null,null,"",null,null,null,null,null,null,null,null,"-"]
["-","-",null,null,null,null,null,"",null,null,null,null,null,null,null,null,"-"]
["-","-",null,null,null,null,null,"",null,null,null,null,null,null,null,null,"-"]
["-","-",null,null,null,null,null,"",null,null,null,null,null,null,null,null,"-"]
["-","-",null,null,null,null,null,"",null,null,null,null,null,null,null,null,"-"]
["-","-",null,null,null,null,null,"",null,null,null,null,null,null,null,null,"-"]
["-","-",null,null,null,null,null,"",null,null,null,null,null,null,null,null,"-"]
["-","-",null,null,null,null,null,"",null,null,null,null,null,null,null,null,"-"]
["-","-",null,null,null,null,null,"",null,null,null,null,null,null,null,null,"-"]
["-","-",null,null,null,null,null,"",null,null,null,null,null,null,null,null,"-"]
["-","-",null,null,null,null,null,"",null,null,null,null,null,null,null,null,"-"]
["-","-",null,null,null,null,null,"",null,null,null,null,null,null,null,null,"-"]
["-","-",null,null,null,null,null,"",null,null,null,null,null,null,null,null,"-"]
["-","-",null,null,null,null,null,"",null,null,null,null,null,null,null,null,"-"]
["-","-",null,null,null,null,null,"",null,null,null,null,null,null,null,null,"-"]
["-","-",null,null,null,null,null,"",null,null,null,null,null,null,null,null,"-"]
["-","-",null,null,null,null,null,"",null,null,null,null,null,null,null,null,"-"]
["-","-",null,null,null,null,null,"",null,null,null,null,null,null,null,null,"-"]
["-","-",null,null,null,null,null,"",null,null,null,null,null,null,null,null,"-"]
["-","-",null,null,null,null,null,"",null,null,null,null,null,null,null,null,"-"]
["-","-",null,null,null,null,null,"",null,null,null,null,null,null,null,null,"-"]
["-","-",null,null,null,null,null,"",null,null,null,null,null,null,null,null,"-"]
["-","-",null,null,null,null,null,"",null,null,null,null,null,null,null,null,"-"]
["-","-",null,null,null,null,null,"",null,null,null,null,null,null,null,null,"-"]
["-","-",null,null,null,null,null,"",null,null,null,null,null,null,null,null,"-"]
["-","-",null,null,null,null,null,"",null,null,null,null,null,null,null,null,"-"]
["-","-",null,null,null,null,null,"",null,null,null,null,null,null,null,null,"-"]
["-","-",null,null,null,null,null,"",null,null,null,null,null,null,null,null,"-"]
["-","-",null,null,null,null,null,"",null,null,null,null,null,null,null,null,"-"]
["-","-",null,null,null,null,null,"",null,null,null,null,null,null,null,null,"-"]
["-","-",null,null,null,null,null,"",null,null,null,null,null,null,null,null,"-"]
["-","-",null,null,null,null,null,"",null,null,null,null,null,null,null,null,"-"]
["-","-",null,null,null,null,null,"",null,null,null,null,null,null,null,null,"-"]
["-","-",null,null,null,null,null,"",null,null,null,null,null,null,null,null,"-"]
["-","-",null,null,null,null,null,"",null,null,null,null,null,null,null,null,"-"]
["-","-",null,null,null,null,null,"",null,null,null,null,null,null,null,null,"-"]
["-","-",null,null,null,null,null,"",null,null,null,null,null,null,null,null,"-"]
["-","-",null,null,null,null,null,"",null,null,null,null,null,null,null,null,"-"]
["-","-",null,null,null,null,null,"",null,null,null,null,null,null,null,null,"-"]
["-","-",null,null,null,null,null,"",null,null,null,null,null,null,null,null,"-"]
["-","-",null,null,null,null,null,"",null,null,null,null,null,null,null,null,"-"]
["-","-",null,null,null,null,null,"",null,null,null,null,null,null,null,null,"-"]
["-","-",null,null,null,null,null,"",null,null,null,null,null,null,null,null,"-"]
["-","-",null,null,null,null,null,"",null,null,null,null,null,null,null,null,"-"]
["-","-",null,null,null,null,null,"",null,null,null,null,null,null,null,null,"-"]
["-","-",null,null,null,null,null,"",null,null,null,null,null,null,null,null,"-"]
["-","-",null,null,null,null,null,"",null,null,null,null,null,null,null,null,"-"]
["-",{"$f":"IF(ISBLANK(C645),\"-\",INDIRECT(\"SURVEYS!A\"&MATCH(C645,SurveyLabels,0)+4))","v":"-"},null,null,null,null,null,"",null,null,null,null,null,null,null,null,{"$f":"IF(ISBLANK(G645),\"-\",VLOOKUP(G645,VT_PlotPercentTypeDescrip,2,FALSE))","v":"-"}]
["-","-",null,null,null,null,null,{"$f":"IF(OR(ISBLANK(C646),ISBLANK(D646),ISBLANK(E646)),\"\",C646&\"-\"&D646&\"-\"&E646&F646&IF(ISBLANK(G646),\"\",\"-\"&G646))","v":""},null,null,null,null,null,null,null,null,"-"]
[{"$f":"IF(ISBLANK(C647),\"-\",GenGuid())","v":"-"},"-",null,null,null,null,null,"",null,null,null,null,null,null,null,null,"-"]
["-","-",null,null,null,null,null,"",null,null,null,null,null,null,null,null,"-"]
["-","-",null,null,null,null,null,"",null,null,null,null,null,null,null,null,"-"]
["-","-",null,null,null,null,null,"",null,null,null,null,null,null,null,null,"-"]
["-","-",null,null,null,null,null,"",null,null,null,null,null,null,null,null,"-"]
["-","-",null,null,null,null,null,"",null,null,null,null,null,null,null,null,"-"]
["-","-",null,null,null,null,null,"",null,null,null,null,null,null,null,null,"-"]
["-","-",null,null,null,null,null,"",null,null,null,null,null,null,null,null,"-"]
["-","-",null,null,null,null,null,"",null,null,null,null,null,null,null,null,"-"]
["-","-",null,null,null,null,null,"",null,null,null,null,null,null,null,null,"-"]
["-","-",null,null,null,null,null,"",null,null,null,null,null,null,null,null,"-"]
["-","-",null,null,null,null,null,"",null,null,null,null,null,null,null,null,"-"]
["-","-",null,null,null,null,null,"",null,null,null,null,null,null,null,null,"-"]
["-","-",null,null,null,null,null,"",null,null,null,null,null,null,null,null,"-"]
["-","-",null,null,null,null,null,"",null,null,null,null,null,null,null,null,"-"]
["-","-",null,null,null,null,null,"",null,null,null,null,null,null,null,null,"-"]
["-","-",null,null,null,null,null,"",null,null,null,null,null,null,null,null,"-"]
["-","-",null,null,null,null,null,"",null,null,null,null,null,null,null,null,"-"]
["-","-",null,null,null,null,null,"",null,null,null,null,null,null,null,null,"-"]
["-","-",null,null,null,null,null,"",null,null,null,null,null,null,null,null,"-"]
["-","-",null,null,null,null,null,"",null,null,null,null,null,null,null,null,"-"]
["-","-",null,null,null,null,null,"",null,null,null,null,null,null,null,null,"-"]
["-","-",null,null,null,null,null,"",null,null,null,null,null,null,null,null,"-"]
["-","-",null,null,null,null,null,"",null,null,null,null,null,null,null,null,"-"]
["-","-",null,null,null,null,null,"",null,null,null,null,null,null,null,null,"-"]
["-","-",null,null,null,null,null,"",null,null,null,null,null,null,null,null,"-"]
["-","-",null,null,null,null,null,"",null,null,null,null,null,null,null,null,"-"]
["-","-",null,null,null,null,null,"",null,null,null,null,null,null,null,null,"-"]
["-","-",null,null,null,null,null,"",null,null,null,null,null,null,null,null,"-"]
["-","-",null,null,null,null,null,"",null,null,null,null,null,null,null,null,"-"]
["-","-",null,null,null,null,null,"",null,null,null,null,null,null,null,null,"-"]
["-","-",null,null,null,null,null,"",null,null,null,null,null,null,null,null,"-"]
["-","-",null,null,null,null,null,"",null,null,null,null,null,null,null,null,"-"]
["-","-",null,null,null,null,null,"",null,null,null,null,null,null,null,null,"-"]
["-","-",null,null,null,null,null,"",null,null,null,null,null,null,null,null,"-"]
["-","-",null,null,null,null,null,"",null,null,null,null,null,null,null,null,"-"]
["-","-",null,null,null,null,null,"",null,null,null,null,null,null,null,null,"-"]
["-","-",null,null,null,null,null,"",null,null,null,null,null,null,null,null,"-"]
["-","-",null,null,null,null,null,"",null,null,null,null,null,null,null,null,"-"]
["-","-",null,null,null,null,null,"",null,null,null,null,null,null,null,null,"-"]
["-","-",null,null,null,null,null,"",null,null,null,null,null,null,null,null,"-"]
["-","-",null,null,null,null,null,"",null,null,null,null,null,null,null,null,"-"]
["-","-",null,null,null,null,null,"",null,null,null,null,null,null,null,null,"-"]
["-","-",null,null,null,null,null,"",null,null,null,null,null,null,null,null,"-"]
["-","-",null,null,null,null,null,"",null,null,null,null,null,null,null,null,"-"]
["-","-",null,null,null,null,null,"",null,null,null,null,null,null,null,null,"-"]
["-","-",null,null,null,null,null,"",null,null,null,null,null,null,null,null,"-"]
["-","-",null,null,null,null,null,"",null,null,null,null,null,null,null,null,"-"]
["-","-",null,null,null,null,null,"",null,null,null,null,null,null,null,null,"-"]
["-","-",null,null,null,null,null,"",null,null,null,null,null,null,null,null,"-"]
["-","-",null,null,null,null,null,"",null,null,null,null,null,null,null,null,"-"]
["-","-",null,null,null,null,null,"",null,null,null,null,null,null,null,null,"-"]
["-","-",null,null,null,null,null,"",null,null,null,null,null,null,null,null,"-"]
["-","-",null,null,null,null,null,"",null,null,null,null,null,null,null,null,"-"]
["-","-",null,null,null,null,null,"",null,null,null,null,null,null,null,null,"-"]
["-","-",null,null,null,null,null,"",null,null,null,null,null,null,null,null,"-"]
["-","-",null,null,null,null,null,"",null,null,null,null,null,null,null,null,"-"]
["-","-",null,null,null,null,null,"",null,null,null,null,null,null,null,null,"-"]
["-","-",null,null,null,null,null,"",null,null,null,null,null,null,null,null,"-"]
["-","-",null,null,null,null,null,"",null,null,null,null,null,null,null,null,"-"]
["-","-",null,null,null,null,null,"",null,null,null,null,null,null,null,null,"-"]
["-","-",null,null,null,null,null,"",null,null,null,null,null,null,null,null,"-"]
["-",{"$f":"IF(ISBLANK(C709),\"-\",INDIRECT(\"SURVEYS!A\"&MATCH(C709,SurveyLabels,0)+4))","v":"-"},null,null,null,null,null,"",null,null,null,null,null,null,null,null,{"$f":"IF(ISBLANK(G709),\"-\",VLOOKUP(G709,VT_PlotPercentTypeDescrip,2,FALSE))","v":"-"}]
["-","-",null,null,null,null,null,{"$f":"IF(OR(ISBLANK(C710),ISBLANK(D710),ISBLANK(E710)),\"\",C710&\"-\"&D710&\"-\"&E710&F710&IF(ISBLANK(G710),\"\",\"-\"&G710))","v":""},null,null,null,null,null,null,null,null,"-"]
[{"$f":"IF(ISBLANK(C711),\"-\",GenGuid())","v":"-"},"-",null,null,null,null,null,"",null,null,null,null,null,null,null,null,"-"]
["-","-",null,null,null,null,null,"",null,null,null,null,null,null,null,null,"-"]
["-","-",null,null,null,null,null,"",null,null,null,null,null,null,null,null,"-"]
["-","-",null,null,null,null,null,"",null,null,null,null,null,null,null,null,"-"]
["-","-",null,null,null,null,null,"",null,null,null,null,null,null,null,null,"-"]
["-","-",null,null,null,null,null,"",null,null,null,null,null,null,null,null,"-"]
["-","-",null,null,null,null,null,"",null,null,null,null,null,null,null,null,"-"]
["-","-",null,null,null,null,null,"",null,null,null,null,null,null,null,null,"-"]
["-","-",null,null,null,null,null,"",null,null,null,null,null,null,null,null,"-"]
["-","-",null,null,null,null,null,"",null,null,null,null,null,null,null,null,"-"]
["-","-",null,null,null,null,null,"",null,null,null,null,null,null,null,null,"-"]
["-","-",null,null,null,null,null,"",null,null,null,null,null,null,null,null,"-"]
["-","-",null,null,null,null,null,"",null,null,null,null,null,null,null,null,"-"]
["-","-",null,null,null,null,null,"",null,null,null,null,null,null,null,null,"-"]
["-","-",null,null,null,null,null,"",null,null,null,null,null,null,null,null,"-"]
["-","-",null,null,null,null,null,"",null,null,null,null,null,null,null,null,"-"]
["-","-",null,null,null,null,null,"",null,null,null,null,null,null,null,null,"-"]
["-","-",null,null,null,null,null,"",null,null,null,null,null,null,null,null,"-"]
["-","-",null,null,null,null,null,"",null,null,null,null,null,null,null,null,"-"]
["-","-",null,null,null,null,null,"",null,null,null,null,null,null,null,null,"-"]
["-","-",null,null,null,null,null,"",null,null,null,null,null,null,null,null,"-"]
["-","-",null,null,null,null,null,"",null,null,null,null,null,null,null,null,"-"]
["-","-",null,null,null,null,null,"",null,null,null,null,null,null,null,null,"-"]
["-","-",null,null,null,null,null,"",null,null,null,null,null,null,null,null,"-"]
["-","-",null,null,null,null,null,"",null,null,null,null,null,null,null,null,"-"]
["-","-",null,null,null,null,null,"",null,null,null,null,null,null,null,null,"-"]
["-","-",null,null,null,null,null,"",null,null,null,null,null,null,null,null,"-"]
["-","-",null,null,null,null,null,"",null,null,null,null,null,null,null,null,"-"]
["-","-",null,null,null,null,null,"",null,null,null,null,null,null,null,null,"-"]
["-","-",null,null,null,null,null,"",null,null,null,null,null,null,null,null,"-"]
["-","-",null,null,null,null,null,"",null,null,null,null,null,null,null,null,"-"]
["-","-",null,null,null,null,null,"",null,null,null,null,null,null,null,null,"-"]
["-","-",null,null,null,null,null,"",null,null,null,null,null,null,null,null,"-"]
["-","-",null,null,null,null,null,"",null,null,null,null,null,null,null,null,"-"]
["-","-",null,null,null,null,null,"",null,null,null,null,null,null,null,null,"-"]
["-","-",null,null,null,null,null,"",null,null,null,null,null,null,null,null,"-"]
["-","-",null,null,null,null,null,"",null,null,null,null,null,null,null,null,"-"]
["-","-",null,null,null,null,null,"",null,null,null,null,null,null,null,null,"-"]
["-","-",null,null,null,null,null,"",null,null,null,null,null,null,null,null,"-"]
["-","-",null,null,null,null,null,"",null,null,null,null,null,null,null,null,"-"]
["-","-",null,null,null,null,null,"",null,null,null,null,null,null,null,null,"-"]
["-","-",null,null,null,null,null,"",null,null,null,null,null,null,null,null,"-"]
["-","-",null,null,null,null,null,"",null,null,null,null,null,null,null,null,"-"]
["-","-",null,null,null,null,null,"",null,null,null,null,null,null,null,null,"-"]
["-","-",null,null,null,null,null,"",null,null,null,null,null,null,null,null,"-"]
["-","-",null,null,null,null,null,"",null,null,null,null,null,null,null,null,"-"]
["-","-",null,null,null,null,null,"",null,null,null,null,null,null,null,null,"-"]
["-","-",null,null,null,null,null,"",null,null,null,null,null,null,null,null,"-"]
["-","-",null,null,null,null,null,"",null,null,null,null,null,null,null,null,"-"]
["-","-",null,null,null,null,null,"",null,null,null,null,null,null,null,null,"-"]
["-","-",null,null,null,null,null,"",null,null,null,null,null,null,null,null,"-"]
["-","-",null,null,null,null,null,"",null,null,null,null,null,null,null,null,"-"]
["-","-",null,null,null,null,null,"",null,null,null,null,null,null,null,null,"-"]
["-","-",null,null,null,null,null,"",null,null,null,null,null,null,null,null,"-"]
["-","-",null,null,null,null,null,"",null,null,null,null,null,null,null,null,"-"]
["-","-",null,null,null,null,null,"",null,null,null,null,null,null,null,null,"-"]
["-","-",null,null,null,null,null,"",null,null,null,null,null,null,null,null,"-"]
["-","-",null,null,null,null,null,"",null,null,null,null,null,null,null,null,"-"]
["-","-",null,null,null,null,null,"",null,null,null,null,null,null,null,null,"-"]
["-","-",null,null,null,null,null,"",null,null,null,null,null,null,null,null,"-"]
["-","-",null,null,null,null,null,"",null,null,null,null,null,null,null,null,"-"]
["-","-",null,null,null,null,null,"",null,null,null,null,null,null,null,null,"-"]
["-",{"$f":"IF(ISBLANK(C773),\"-\",INDIRECT(\"SURVEYS!A\"&MATCH(C773,SurveyLabels,0)+4))","v":"-"},null,null,null,null,null,"",null,null,null,null,null,null,null,null,{"$f":"IF(ISBLANK(G773),\"-\",VLOOKUP(G773,VT_PlotPercentTypeDescrip,2,FALSE))","v":"-"}]
["-","-",null,null,null,null,null,{"$f":"IF(OR(ISBLANK(C774),ISBLANK(D774),ISBLANK(E774)),\"\",C774&\"-\"&D774&\"-\"&E774&F774&IF(ISBLANK(G774),\"\",\"-\"&G774))","v":""},null,null,null,null,null,null,null,null,"-"]
[{"$f":"IF(ISBLANK(C775),\"-\",GenGuid())","v":"-"},"-",null,null,null,null,null,"",null,null,null,null,null,null,null,null,"-"]
["-","-",null,null,null,null,null,"",null,null,null,null,null,null,null,null,"-"]
["-","-",null,null,null,null,null,"",null,null,null,null,null,null,null,null,"-"]
["-","-",null,null,null,null,null,"",null,null,null,null,null,null,null,null,"-"]
["-","-",null,null,null,null,null,"",null,null,null,null,null,null,null,null,"-"]
["-","-",null,null,null,null,null,"",null,null,null,null,null,null,null,null,"-"]
["-","-",null,null,null,null,null,"",null,null,null,null,null,null,null,null,"-"]
["-","-",null,null,null,null,null,"",null,null,null,null,null,null,null,null,"-"]
["-","-",null,null,null,null,null,"",null,null,null,null,null,null,null,null,"-"]
["-","-",null,null,null,null,null,"",null,null,null,null,null,null,null,null,"-"]
["-","-",null,null,null,null,null,"",null,null,null,null,null,null,null,null,"-"]
["-","-",null,null,null,null,null,"",null,null,null,null,null,null,null,null,"-"]
["-","-",null,null,null,null,null,"",null,null,null,null,null,null,null,null,"-"]
["-","-",null,null,null,null,null,"",null,null,null,null,null,null,null,null,"-"]
["-","-",null,null,null,null,null,"",null,null,null,null,null,null,null,null,"-"]
["-","-",null,null,null,null,null,"",null,null,null,null,null,null,null,null,"-"]
["-","-",null,null,null,null,null,"",null,null,null,null,null,null,null,null,"-"]
["-","-",null,null,null,null,null,"",null,null,null,null,null,null,null,null,"-"]
["-","-",null,null,null,null,null,"",null,null,null,null,null,null,null,null,"-"]
["-","-",null,null,null,null,null,"",null,null,null,null,null,null,null,null,"-"]
["-","-",null,null,null,null,null,"",null,null,null,null,null,null,null,null,"-"]
["-","-",null,null,null,null,null,"",null,null,null,null,null,null,null,null,"-"]
["-","-",null,null,null,null,null,"",null,null,null,null,null,null,null,null,"-"]
["-","-",null,null,null,null,null,"",null,null,null,null,null,null,null,null,"-"]
["-","-",null,null,null,null,null,"",null,null,null,null,null,null,null,null,"-"]
["-","-",null,null,null,null,null,"",null,null,null,null,null,null,null,null,"-"]
["-","-",null,null,null,null,null,"",null,null,null,null,null,null,null,null,"-"]
["-","-",null,null,null,null,null,"",null,null,null,null,null,null,null,null,"-"]
["-","-",null,null,null,null,null,"",null,null,null,null,null,null,null,null,"-"]
["-","-",null,null,null,null,null,"",null,null,null,null,null,null,null,null,"-"]
["-","-",null,null,null,null,null,"",null,null,null,null,null,null,null,null,"-"]
["-","-",null,null,null,null,null,"",null,null,null,null,null,null,null,null,"-"]
["-","-",null,null,null,null,null,"",null,null,null,null,null,null,null,null,"-"]
["-","-",null,null,null,null,null,"",null,null,null,null,null,null,null,null,"-"]
["-","-",null,null,null,null,null,"",null,null,null,null,null,null,null,null,"-"]
["-","-",null,null,null,null,null,"",null,null,null,null,null,null,null,null,"-"]
["-","-",null,null,null,null,null,"",null,null,null,null,null,null,null,null,"-"]
["-","-",null,null,null,null,null,"",null,null,null,null,null,null,null,null,"-"]
["-","-",null,null,null,null,null,"",null,null,null,null,null,null,null,null,"-"]
["-","-",null,null,null,null,null,"",null,null,null,null,null,null,null,null,"-"]
["-","-",null,null,null,null,null,"",null,null,null,null,null,null,null,null,"-"]
["-","-",null,null,null,null,null,"",null,null,null,null,null,null,null,null,"-"]
["-","-",null,null,null,null,null,"",null,null,null,null,null,null,null,null,"-"]
["-","-",null,null,null,null,null,"",null,null,null,null,null,null,null,null,"-"]
["-","-",null,null,null,null,null,"",null,null,null,null,null,null,null,null,"-"]
["-","-",null,null,null,null,null,"",null,null,null,null,null,null,null,null,"-"]
["-","-",null,null,null,null,null,"",null,null,null,null,null,null,null,null,"-"]
["-","-",null,null,null,null,null,"",null,null,null,null,null,null,null,null,"-"]
["-","-",null,null,null,null,null,"",null,null,null,null,null,null,null,null,"-"]
["-","-",null,null,null,null,null,"",null,null,null,null,null,null,null,null,"-"]
["-","-",null,null,null,null,null,"",null,null,null,null,null,null,null,null,"-"]
["-","-",null,null,null,null,null,"",null,null,null,null,null,null,null,null,"-"]
["-","-",null,null,null,null,null,"",null,null,null,null,null,null,null,null,"-"]
["-","-",null,null,null,null,null,"",null,null,null,null,null,null,null,null,"-"]
["-","-",null,null,null,null,null,"",null,null,null,null,null,null,null,null,"-"]
["-","-",null,null,null,null,null,"",null,null,null,null,null,null,null,null,"-"]
["-","-",null,null,null,null,null,"",null,null,null,null,null,null,null,null,"-"]
["-","-",null,null,null,null,null,"",null,null,null,null,null,null,null,null,"-"]
["-","-",null,null,null,null,null,"",null,null,null,null,null,null,null,null,"-"]
["-","-",null,null,null,null,null,"",null,null,null,null,null,null,null,null,"-"]
["-","-",null,null,null,null,null,"",null,null,null,null,null,null,null,null,"-"]
["-","-",null,null,null,null,null,"",null,null,null,null,null,null,null,null,"-"]
["-",{"$f":"IF(ISBLANK(C837),\"-\",INDIRECT(\"SURVEYS!A\"&MATCH(C837,SurveyLabels,0)+4))","v":"-"},null,null,null,null,null,"",null,null,null,null,null,null,null,null,{"$f":"IF(ISBLANK(G837),\"-\",VLOOKUP(G837,VT_PlotPercentTypeDescrip,2,FALSE))","v":"-"}]
["-","-",null,null,null,null,null,{"$f":"IF(OR(ISBLANK(C838),ISBLANK(D838),ISBLANK(E838)),\"\",C838&\"-\"&D838&\"-\"&E838&F838&IF(ISBLANK(G838),\"\",\"-\"&G838))","v":""},null,null,null,null,null,null,null,null,"-"]
[{"$f":"IF(ISBLANK(C839),\"-\",GenGuid())","v":"-"},"-",null,null,null,null,null,"",null,null,null,null,null,null,null,null,"-"]
["-","-",null,null,null,null,null,"",null,null,null,null,null,null,null,null,"-"]
["-","-",null,null,null,null,null,"",null,null,null,null,null,null,null,null,"-"]
["-","-",null,null,null,null,null,"",null,null,null,null,null,null,null,null,"-"]
["-","-",null,null,null,null,null,"",null,null,null,null,null,null,null,null,"-"]
["-","-",null,null,null,null,null,"",null,null,null,null,null,null,null,null,"-"]
["-","-",null,null,null,null,null,"",null,null,null,null,null,null,null,null,"-"]
["-","-",null,null,null,null,null,"",null,null,null,null,null,null,null,null,"-"]
["-","-",null,null,null,null,null,"",null,null,null,null,null,null,null,null,"-"]
["-","-",null,null,null,null,null,"",null,null,null,null,null,null,null,null,"-"]
["-","-",null,null,null,null,null,"",null,null,null,null,null,null,null,null,"-"]
["-","-",null,null,null,null,null,"",null,null,null,null,null,null,null,null,"-"]
["-","-",null,null,null,null,null,"",null,null,null,null,null,null,null,null,"-"]
["-","-",null,null,null,null,null,"",null,null,null,null,null,null,null,null,"-"]
["-","-",null,null,null,null,null,"",null,null,null,null,null,null,null,null,"-"]
["-","-",null,null,null,null,null,"",null,null,null,null,null,null,null,null,"-"]
["-","-",null,null,null,null,null,"",null,null,null,null,null,null,null,null,"-"]
["-","-",null,null,null,null,null,"",null,null,null,null,null,null,null,null,"-"]
["-","-",null,null,null,null,null,"",null,null,null,null,null,null,null,null,"-"]
["-","-",null,null,null,null,null,"",null,null,null,null,null,null,null,null,"-"]
["-","-",null,null,null,null,null,"",null,null,null,null,null,null,null,null,"-"]
["-","-",null,null,null,null,null,"",null,null,null,null,null,null,null,null,"-"]
["-","-",null,null,null,null,null,"",null,null,null,null,null,null,null,null,"-"]
["-","-",null,null,null,null,null,"",null,null,null,null,null,null,null,null,"-"]
["-","-",null,null,null,null,null,"",null,null,null,null,null,null,null,null,"-"]
["-","-",null,null,null,null,null,"",null,null,null,null,null,null,null,null,"-"]
["-","-",null,null,null,null,null,"",null,null,null,null,null,null,null,null,"-"]
["-","-",null,null,null,null,null,"",null,null,null,null,null,null,null,null,"-"]
["-","-",null,null,null,null,null,"",null,null,null,null,null,null,null,null,"-"]
["-","-",null,null,null,null,null,"",null,null,null,null,null,null,null,null,"-"]
["-","-",null,null,null,null,null,"",null,null,null,null,null,null,null,null,"-"]
["-","-",null,null,null,null,null,"",null,null,null,null,null,null,null,null,"-"]
["-","-",null,null,null,null,null,"",null,null,null,null,null,null,null,null,"-"]
["-","-",null,null,null,null,null,"",null,null,null,null,null,null,null,null,"-"]
["-","-",null,null,null,null,null,"",null,null,null,null,null,null,null,null,"-"]
["-","-",null,null,null,null,null,"",null,null,null,null,null,null,null,null,"-"]
["-","-",null,null,null,null,null,"",null,null,null,null,null,null,null,null,"-"]
["-","-",null,null,null,null,null,"",null,null,null,null,null,null,null,null,"-"]
["-","-",null,null,null,null,null,"",null,null,null,null,null,null,null,null,"-"]
["-","-",null,null,null,null,null,"",null,null,null,null,null,null,null,null,"-"]
["-","-",null,null,null,null,null,"",null,null,null,null,null,null,null,null,"-"]
["-","-",null,null,null,null,null,"",null,null,null,null,null,null,null,null,"-"]
["-","-",null,null,null,null,null,"",null,null,null,null,null,null,null,null,"-"]
["-","-",null,null,null,null,null,"",null,null,null,null,null,null,null,null,"-"]
["-","-",null,null,null,null,null,"",null,null,null,null,null,null,null,null,"-"]
["-","-",null,null,null,null,null,"",null,null,null,null,null,null,null,null,"-"]
["-","-",null,null,null,null,null,"",null,null,null,null,null,null,null,null,"-"]
["-","-",null,null,null,null,null,"",null,null,null,null,null,null,null,null,"-"]
["-","-",null,null,null,null,null,"",null,null,null,null,null,null,null,null,"-"]
["-","-",null,null,null,null,null,"",null,null,null,null,null,null,null,null,"-"]
["-","-",null,null,null,null,null,"",null,null,null,null,null,null,null,null,"-"]
["-","-",null,null,null,null,null,"",null,null,null,null,null,null,null,null,"-"]
["-","-",null,null,null,null,null,"",null,null,null,null,null,null,null,null,"-"]
["-","-",null,null,null,null,null,"",null,null,null,null,null,null,null,null,"-"]
["-","-",null,null,null,null,null,"",null,null,null,null,null,null,null,null,"-"]
["-","-",null,null,null,null,null,"",null,null,null,null,null,null,null,null,"-"]
["-","-",null,null,null,null,null,"",null,null,null,null,null,null,null,null,"-"]
["-","-",null,null,null,null,null,"",null,null,null,null,null,null,null,null,"-"]
["-","-",null,null,null,null,null,"",null,null,null,null,null,null,null,null,"-"]
["-","-",null,null,null,null,null,"",null,null,null,null,null,null,null,null,"-"]
["-","-",null,null,null,null,null,"",null,null,null,null,null,null,null,null,"-"]
["-","-",null,null,null,null,null,"",null,null,null,null,null,null,null,null,"-"]
["-",{"$f":"IF(ISBLANK(C901),\"-\",INDIRECT(\"SURVEYS!A\"&MATCH(C901,SurveyLabels,0)+4))","v":"-"},null,null,null,null,null,"",null,null,null,null,null,null,null,null,{"$f":"IF(ISBLANK(G901),\"-\",VLOOKUP(G901,VT_PlotPercentTypeDescrip,2,FALSE))","v":"-"}]
["-","-",null,null,null,null,null,{"$f":"IF(OR(ISBLANK(C902),ISBLANK(D902),ISBLANK(E902)),\"\",C902&\"-\"&D902&\"-\"&E902&F902&IF(ISBLANK(G902),\"\",\"-\"&G902))","v":""},null,null,null,null,null,null,null,null,"-"]
[{"$f":"IF(ISBLANK(C903),\"-\",GenGuid())","v":"-"},"-",null,null,null,null,null,"",null,null,null,null,null,null,null,null,"-"]
["-","-",null,null,null,null,null,"",null,null,null,null,null,null,null,null,"-"]
["-","-",null,null,null,null,null,"",null,null,null,null,null,null,null,null,"-"]
["-","-",null,null,null,null,null,"",null,null,null,null,null,null,null,null,"-"]
["-","-",null,null,null,null,null,"",null,null,null,null,null,null,null,null,"-"]
["-","-",null,null,null,null,null,"",null,null,null,null,null,null,null,null,"-"]
["-","-",null,null,null,null,null,"",null,null,null,null,null,null,null,null,"-"]
["-","-",null,null,null,null,null,"",null,null,null,null,null,null,null,null,"-"]
["-","-",null,null,null,null,null,"",null,null,null,null,null,null,null,null,"-"]
["-","-",null,null,null,null,null,"",null,null,null,null,null,null,null,null,"-"]
["-","-",null,null,null,null,null,"",null,null,null,null,null,null,null,null,"-"]
["-","-",null,null,null,null,null,"",null,null,null,null,null,null,null,null,"-"]
["-","-",null,null,null,null,null,"",null,null,null,null,null,null,null,null,"-"]
["-","-",null,null,null,null,null,"",null,null,null,null,null,null,null,null,"-"]
["-","-",null,null,null,null,null,"",null,null,null,null,null,null,null,null,"-"]
["-","-",null,null,null,null,null,"",null,null,null,null,null,null,null,null,"-"]
["-","-",null,null,null,null,null,"",null,null,null,null,null,null,null,null,"-"]
["-","-",null,null,null,null,null,"",null,null,null,null,null,null,null,null,"-"]
["-","-",null,null,null,null,null,"",null,null,null,null,null,null,null,null,"-"]
["-","-",null,null,null,null,null,"",null,null,null,null,null,null,null,null,"-"]
["-","-",null,null,null,null,null,"",null,null,null,null,null,null,null,null,"-"]
["-","-",null,null,null,null,null,"",null,null,null,null,null,null,null,null,"-"]
["-","-",null,null,null,null,null,"",null,null,null,null,null,null,null,null,"-"]
["-","-",null,null,null,null,null,"",null,null,null,null,null,null,null,null,"-"]
["-","-",null,null,null,null,null,"",null,null,null,null,null,null,null,null,"-"]
["-","-",null,null,null,null,null,"",null,null,null,null,null,null,null,null,"-"]
["-","-",null,null,null,null,null,"",null,null,null,null,null,null,null,null,"-"]
["-","-",null,null,null,null,null,"",null,null,null,null,null,null,null,null,"-"]
["-","-",null,null,null,null,null,"",null,null,null,null,null,null,null,null,"-"]
["-","-",null,null,null,null,null,"",null,null,null,null,null,null,null,null,"-"]
["-","-",null,null,null,null,null,"",null,null,null,null,null,null,null,null,"-"]
["-","-",null,null,null,null,null,"",null,null,null,null,null,null,null,null,"-"]
["-","-",null,null,null,null,null,"",null,null,null,null,null,null,null,null,"-"]
["-","-",null,null,null,null,null,"",null,null,null,null,null,null,null,null,"-"]
["-","-",null,null,null,null,null,"",null,null,null,null,null,null,null,null,"-"]
["-","-",null,null,null,null,null,"",null,null,null,null,null,null,null,null,"-"]
["-","-",null,null,null,null,null,"",null,null,null,null,null,null,null,null,"-"]
["-","-",null,null,null,null,null,"",null,null,null,null,null,null,null,null,"-"]
["-","-",null,null,null,null,null,"",null,null,null,null,null,null,null,null,"-"]
["-","-",null,null,null,null,null,"",null,null,null,null,null,null,null,null,"-"]
["-","-",null,null,null,null,null,"",null,null,null,null,null,null,null,null,"-"]
["-","-",null,null,null,null,null,"",null,null,null,null,null,null,null,null,"-"]
["-","-",null,null,null,null,null,"",null,null,null,null,null,null,null,null,"-"]
["-","-",null,null,null,null,null,"",null,null,null,null,null,null,null,null,"-"]
["-","-",null,null,null,null,null,"",null,null,null,null,null,null,null,null,"-"]
["-","-",null,null,null,null,null,"",null,null,null,null,null,null,null,null,"-"]
["-","-",null,null,null,null,null,"",null,null,null,null,null,null,null,null,"-"]
["-","-",null,null,null,null,null,"",null,null,null,null,null,null,null,null,"-"]
["-","-",null,null,null,null,null,"",null,null,null,null,null,null,null,null,"-"]
["-","-",null,null,null,null,null,"",null,null,null,null,null,null,null,null,"-"]
["-","-",null,null,null,null,null,"",null,null,null,null,null,null,null,null,"-"]
["-","-",null,null,null,null,null,"",null,null,null,null,null,null,null,null,"-"]
["-","-",null,null,null,null,null,"",null,null,null,null,null,null,null,null,"-"]
["-","-",null,null,null,null,null,"",null,null,null,null,null,null,null,null,"-"]
["-","-",null,null,null,null,null,"",null,null,null,null,null,null,null,null,"-"]
["-","-",null,null,null,null,null,"",null,null,null,null,null,null,null,null,"-"]
["-","-",null,null,null,null,null,"",null,null,null,null,null,null,null,null,"-"]
["-","-",null,null,null,null,null,"",null,null,null,null,null,null,null,null,"-"]
["-","-",null,null,null,null,null,"",null,null,null,null,null,null,null,null,"-"]
["-","-",null,null,null,null,null,"",null,null,null,null,null,null,null,null,"-"]
["-","-",null,null,null,null,null,"",null,null,null,null,null,null,null,null,"-"]
["-","-",null,null,null,null,null,"",null,null,null,null,null,null,null,null,"-"]
["-",{"$f":"IF(ISBLANK(C965),\"-\",INDIRECT(\"SURVEYS!A\"&MATCH(C965,SurveyLabels,0)+4))","v":"-"},null,null,null,null,null,"",null,null,null,null,null,null,null,null,{"$f":"IF(ISBLANK(G965),\"-\",VLOOKUP(G965,VT_PlotPercentTypeDescrip,2,FALSE))","v":"-"}]
["-","-",null,null,null,null,null,{"$f":"IF(OR(ISBLANK(C966),ISBLANK(D966),ISBLANK(E966)),\"\",C966&\"-\"&D966&\"-\"&E966&F966&IF(ISBLANK(G966),\"\",\"-\"&G966))","v":""},null,null,null,null,null,null,null,null,"-"]
[{"$f":"IF(ISBLANK(C967),\"-\",GenGuid())","v":"-"},"-",null,null,null,null,null,"",null,null,null,null,null,null,null,null,"-"]
["-","-",null,null,null,null,null,"",null,null,null,null,null,null,null,null,"-"]
["-","-",null,null,null,null,null,"",null,null,null,null,null,null,null,null,"-"]
["-","-",null,null,null,null,null,"",null,null,null,null,null,null,null,null,"-"]
["-","-",null,null,null,null,null,"",null,null,null,null,null,null,null,null,"-"]
["-","-",null,null,null,null,null,"",null,null,null,null,null,null,null,null,"-"]
["-","-",null,null,null,null,null,"",null,null,null,null,null,null,null,null,"-"]
["-","-",null,null,null,null,null,"",null,null,null,null,null,null,null,null,"-"]
["-","-",null,null,null,null,null,"",null,null,null,null,null,null,null,null,"-"]
["-","-",null,null,null,null,null,"",null,null,null,null,null,null,null,null,"-"]
["-","-",null,null,null,null,null,"",null,null,null,null,null,null,null,null,"-"]
["-","-",null,null,null,null,null,"",null,null,null,null,null,null,null,null,"-"]
["-","-",null,null,null,null,null,"",null,null,null,null,null,null,null,null,"-"]
["-","-",null,null,null,null,null,"",null,null,null,null,null,null,null,null,"-"]
["-","-",null,null,null,null,null,"",null,null,null,null,null,null,null,null,"-"]
["-","-",null,null,null,null,null,"",null,null,null,null,null,null,null,null,"-"]
["-","-",null,null,null,null,null,"",null,null,null,null,null,null,null,null,"-"]
["-","-",null,null,null,null,null,"",null,null,null,null,null,null,null,null,"-"]
["-","-",null,null,null,null,null,"",null,null,null,null,null,null,null,null,"-"]
["-","-",null,null,null,null,null,"",null,null,null,null,null,null,null,null,"-"]
["-","-",null,null,null,null,null,"",null,null,null,null,null,null,null,null,"-"]
["-","-",null,null,null,null,null,"",null,null,null,null,null,null,null,null,"-"]
["-","-",null,null,null,null,null,"",null,null,null,null,null,null,null,null,"-"]
["-","-",null,null,null,null,null,"",null,null,null,null,null,null,null,null,"-"]
["-","-",null,null,null,null,null,"",null,null,null,null,null,null,null,null,"-"]
["-","-",null,null,null,null,null,"",null,null,null,null,null,null,null,null,"-"]
["-","-",null,null,null,null,null,"",null,null,null,null,null,null,null,null,"-"]
["-","-",null,null,null,null,null,"",null,null,null,null,null,null,null,null,"-"]
["-","-",null,null,null,null,null,"",null,null,null,null,null,null,null,null,"-"]
["-","-",null,null,null,null,null,"",null,null,null,null,null,null,null,null,"-"]
["-","-",null,null,null,null,null,"",null,null,null,null,null,null,null,null,"-"]
["-","-",null,null,null,null,null,"",null,null,null,null,null,null,null,null,"-"]
["-","-",null,null,null,null,null,"",null,null,null,null,null,null,null,null,"-"]
["-","-",null,null,null,null,null,"",null,null,null,null,null,null,null,null,"-"]
["-","-",null,null,null,null,null,"",null,null,null,null,null,null,null,null,"-"]
["-","-",null,null,null,null,null,"",null,null,null,null,null,null,null,null,"-"]
["-","-",null,null,null,null,null,"",null,null,null,null,null,null,null,null,"-"]
["-","-",null,null,null,null,null,"",null,null,null,null,null,null,null,null,"-"]
["To add more rows, copy from the previous line to ensure the proper formatting/formulas are in place."]

{"sheet":"SampleSPECIESGrid","index":10,"n_rows":1005,"n_cols":35,"rows_kept":1005,"cut":false,"hidden":false,"merged":[]}
["SampleSpeciesID","VegSamplingTaskID","TaskLabel","VegSampleNumber","PercentType",{"$f":"\"Spp\"&TEXT(COLUMN()-5,\"00#\")","v":"Spp001"},{"$f":"\"Spp\"&TEXT(COLUMN()-5,\"00#\")","v":"Spp002"},"Spp003","Spp004","Spp005","Spp006","Spp007","Spp008","Spp009","Spp010","Spp011","Spp012","Spp013","Spp014","Spp015","Spp016","Spp017","Spp018","Spp019","Spp020","Spp021","Spp022","Spp023","Spp024","Spp025","Spp026","Spp027","Spp028","Spp029","Spp030"]
["Name","Survey ID","Task Label","Sample Number","Percent Type (from VST)",{"$f":"\"Spp Pct No \"&VALUE(MID(F1,4,3))&\" assigned as\"","v":"Spp Pct No 1 assigned as"},{"$f":"\"Spp Pct No \"&VALUE(MID(G1,4,3))&\" assigned as\"","v":"Spp Pct No 2 assigned as"},{"$f":"\"Spp Pct No \"&VALUE(MID(H1,4,3))&\" assigned as\"","v":"Spp Pct No 3 assigned as"},"Spp Pct No 4 assigned as","Spp Pct No 5 assigned as","Spp Pct No 6 assigned as","Spp Pct No 7 assigned as","Spp Pct No 8 assigned as","Spp Pct No 9 assigned as","Spp Pct No 10 assigned as","Spp Pct No 11 assigned as","Spp Pct No 12 assigned as","Spp Pct No 13 assigned as","Spp Pct No 14 assigned as","Spp Pct No 15 assigned as","Spp Pct No 16 assigned as","Spp Pct No 17 assigned as","Spp Pct No 18 assigned as","Spp Pct No 19 assigned as","Spp Pct No 20 assigned as","Spp Pct No 21 assigned as","Spp Pct No 22 assigned as","Spp Pct No 23 assigned as","Spp Pct No 24 assigned as","Spp Pct No 25 assigned as","Spp Pct No 26 assigned as","Spp Pct No 27 assigned as","Spp Pct No 28 assigned as","Spp Pct No 29 assigned as","Spp Pct No 30 assigned as"]
["Type",null,"Text","Integer","Text"]
["Max Length",null,100,null,25,{"$f":"IF(ISBLANK(F3),\"-\",PROPER(INDIRECT(\"CODES2!G\"&MATCH(F3,VT_Species,0)+2)))","v":"-"},"-","-","-","-","-","-","-","-","-","-","-","-","-","-","-","-","-","-","-","-","-","-","-","-","-","-","-","-","-"]
[{"$f":"IF(ISBLANK(C5),\"-\",GenGuid())","v":"-"},{"$f":"IF(ISBLANK(C5),\"-\",INDIRECT(\"VEGSAMPLINGTASKS!A\"&MATCH(C5,TaskLabel,0)+4))","v":"-"},null,{"$f":"IF(ISBLANK(C5),\"\",IF(ISBLANK(D4),1,D4))","v":""},{"$f":"IF(ISBLANK(C5),\"-\",VLOOKUP(INDIRECT(\"VEGSAMPLINGTASKS!G\"&MATCH(C5,TaskLabel,0)+4),VT_PlotPercentTypeDescrip,2,FALSE))","v":"-"}]
[{"$f":"IF(ISBLANK(C6),\"-\",GenGuid())","v":"-"},"-",null,{"$f":"IF(ISBLANK(C6),\"\",IF(ISBLANK(D5),1,D5))","v":""},"-"]
[{"$f":"IF(ISBLANK(C7),\"-\",GenGuid())","v":"-"},"-",null,"","-"]
["-","-",null,"","-"]
["-","-",null,"","-"]
["-","-",null,"","-"]
["-","-",null,"","-"]
["-","-",null,"","-"]
["-","-",null,"","-"]
["-","-",null,"","-"]
["-","-",null,"","-"]
["-","-",null,"","-"]
["-","-",null,"","-"]
["-","-",null,"","-"]
["-","-",null,"","-"]
["-","-",null,"","-"]
["-","-",null,"","-"]
["-","-",null,"","-"]
["-","-",null,"","-"]
["-","-",null,"","-"]
["-","-",null,"","-"]
["-","-",null,"","-"]
["-","-",null,"","-"]
["-","-",null,"","-"]
["-","-",null,"","-"]
["-","-",null,"","-"]
["-","-",null,"","-"]
["-","-",null,"","-"]
["-","-",null,"","-"]
["-","-",null,"","-"]
["-","-",null,"","-"]
["-","-",null,"","-"]
["-","-",null,"","-"]
["-","-",null,"","-"]
["-","-",null,"","-"]
["-","-",null,"","-"]
["-","-",null,"","-"]
["-","-",null,"","-"]
["-","-",null,"","-"]
["-","-",null,"","-"]
["-","-",null,"","-"]
["-","-",null,"","-"]
["-","-",null,"","-"]
["-","-",null,"","-"]
["-","-",null,"","-"]
["-","-",null,"","-"]
["-","-",null,"","-"]
["-","-",null,"","-"]
["-","-",null,"","-"]
["-","-",null,"","-"]
["-","-",null,"","-"]
["-","-",null,"","-"]
["-","-",null,"","-"]
["-","-",null,"","-"]
["-","-",null,"","-"]
["-","-",null,"","-"]
["-","-",null,"","-"]
["-","-",null,"","-"]
["-","-",null,"","-"]
["-","-",null,"","-"]
["-","-",null,"","-"]
["-","-",null,"","-"]
["-","-",null,"","-"]
["-","-",null,"","-"]
["-",{"$f":"IF(ISBLANK(C69),\"-\",INDIRECT(\"VEGSAMPLINGTASKS!A\"&MATCH(C69,TaskLabel,0)+4))","v":"-"},null,"",{"$f":"IF(ISBLANK(C69),\"-\",VLOOKUP(INDIRECT(\"VEGSAMPLINGTASKS!G\"&MATCH(C69,TaskLabel,0)+4),VT_PlotPercentTypeDescrip,2,FALSE))","v":"-"}]
["-","-",null,{"$f":"IF(ISBLANK(C70),\"\",IF(ISBLANK(D69),1,D69))","v":""},"-"]
[{"$f":"IF(ISBLANK(C71),\"-\",GenGuid())","v":"-"},"-",null,"","-"]
["-","-",null,"","-"]
["-","-",null,"","-"]
["-","-",null,"","-"]
["-","-",null,"","-"]
["-","-",null,"","-"]
["-","-",null,"","-"]
["-","-",null,"","-"]
["-","-",null,"","-"]
["-","-",null,"","-"]
["-","-",null,"","-"]
["-","-",null,"","-"]
["-","-",null,"","-"]
["-","-",null,"","-"]
["-","-",null,"","-"]
["-","-",null,"","-"]
["-","-",null,"","-"]
["-","-",null,"","-"]
["-","-",null,"","-"]
["-","-",null,"","-"]
["-","-",null,"","-"]
["-","-",null,"","-"]
["-","-",null,"","-"]
["-","-",null,"","-"]
["-","-",null,"","-"]
["-","-",null,"","-"]
["-","-",null,"","-"]
["-","-",null,"","-"]
["-","-",null,"","-"]
["-","-",null,"","-"]
["-","-",null,"","-"]
["-","-",null,"","-"]
["-","-",null,"","-"]
["-","-",null,"","-"]
["-","-",null,"","-"]
["-","-",null,"","-"]
["-","-",null,"","-"]
["-","-",null,"","-"]
["-","-",null,"","-"]
["-","-",null,"","-"]
["-","-",null,"","-"]
["-","-",null,"","-"]
["-","-",null,"","-"]
["-","-",null,"","-"]
["-","-",null,"","-"]
["-","-",null,"","-"]
["-","-",null,"","-"]
["-","-",null,"","-"]
["-","-",null,"","-"]
["-","-",null,"","-"]
["-","-",null,"","-"]
["-","-",null,"","-"]
["-","-",null,"","-"]
["-","-",null,"","-"]
["-","-",null,"","-"]
["-","-",null,"","-"]
["-","-",null,"","-"]
["-","-",null,"","-"]
["-","-",null,"","-"]
["-","-",null,"","-"]
["-","-",null,"","-"]
["-","-",null,"","-"]
["-",{"$f":"IF(ISBLANK(C133),\"-\",INDIRECT(\"VEGSAMPLINGTASKS!A\"&MATCH(C133,TaskLabel,0)+4))","v":"-"},null,"",{"$f":"IF(ISBLANK(C133),\"-\",VLOOKUP(INDIRECT(\"VEGSAMPLINGTASKS!G\"&MATCH(C133,TaskLabel,0)+4),VT_PlotPercentTypeDescrip,2,FALSE))","v":"-"}]
["-","-",null,{"$f":"IF(ISBLANK(C134),\"\",IF(ISBLANK(D133),1,D133))","v":""},"-"]
[{"$f":"IF(ISBLANK(C135),\"-\",GenGuid())","v":"-"},"-",null,"","-"]
["-","-",null,"","-"]
["-","-",null,"","-"]
["-","-",null,"","-"]
["-","-",null,"","-"]
["-","-",null,"","-"]
["-","-",null,"","-"]
["-","-",null,"","-"]
["-","-",null,"","-"]
["-","-",null,"","-"]
["-","-",null,"","-"]
["-","-",null,"","-"]
["-","-",null,"","-"]
["-","-",null,"","-"]
["-","-",null,"","-"]
["-","-",null,"","-"]
["-","-",null,"","-"]
["-","-",null,"","-"]
["-","-",null,"","-"]
["-","-",null,"","-"]
["-","-",null,"","-"]
["-","-",null,"","-"]
["-","-",null,"","-"]
["-","-",null,"","-"]
["-","-",null,"","-"]
["-","-",null,"","-"]
["-","-",null,"","-"]
["-","-",null,"","-"]
["-","-",null,"","-"]
["-","-",null,"","-"]
["-","-",null,"","-"]
["-","-",null,"","-"]
["-","-",null,"","-"]
["-","-",null,"","-"]
["-","-",null,"","-"]
["-","-",null,"","-"]
["-","-",null,"","-"]
["-","-",null,"","-"]
["-","-",null,"","-"]
["-","-",null,"","-"]
["-","-",null,"","-"]
["-","-",null,"","-"]
["-","-",null,"","-"]
["-","-",null,"","-"]
["-","-",null,"","-"]
["-","-",null,"","-"]
["-","-",null,"","-"]
["-","-",null,"","-"]
["-","-",null,"","-"]
["-","-",null,"","-"]
["-","-",null,"","-"]
["-","-",null,"","-"]
["-","-",null,"","-"]
["-","-",null,"","-"]
["-","-",null,"","-"]
["-","-",null,"","-"]
["-","-",null,"","-"]
["-","-",null,"","-"]
["-","-",null,"","-"]
["-","-",null,"","-"]
["-","-",null,"","-"]
["-","-",null,"","-"]
["-",{"$f":"IF(ISBLANK(C197),\"-\",INDIRECT(\"VEGSAMPLINGTASKS!A\"&MATCH(C197,TaskLabel,0)+4))","v":"-"},null,"",{"$f":"IF(ISBLANK(C197),\"-\",VLOOKUP(INDIRECT(\"VEGSAMPLINGTASKS!G\"&MATCH(C197,TaskLabel,0)+4),VT_PlotPercentTypeDescrip,2,FALSE))","v":"-"}]
["-","-",null,{"$f":"IF(ISBLANK(C198),\"\",IF(ISBLANK(D197),1,D197))","v":""},"-"]
[{"$f":"IF(ISBLANK(C199),\"-\",GenGuid())","v":"-"},"-",null,"","-"]
["-","-",null,"","-"]
["-","-",null,"","-"]
["-","-",null,"","-"]
["-","-",null,"","-"]
["-","-",null,"","-"]
["-","-",null,"","-"]
["-","-",null,"","-"]
["-","-",null,"","-"]
["-","-",null,"","-"]
["-","-",null,"","-"]
["-","-",null,"","-"]
["-","-",null,"","-"]
["-","-",null,"","-"]
["-","-",null,"","-"]
["-","-",null,"","-"]
["-","-",null,"","-"]
["-","-",null,"","-"]
["-","-",null,"","-"]
["-","-",null,"","-"]
["-","-",null,"","-"]
["-","-",null,"","-"]
["-","-",null,"","-"]
["-","-",null,"","-"]
["-","-",null,"","-"]
["-","-",null,"","-"]
["-","-",null,"","-"]
["-","-",null,"","-"]
["-","-",null,"","-"]
["-","-",null,"","-"]
["-","-",null,"","-"]
["-","-",null,"","-"]
["-","-",null,"","-"]
["-","-",null,"","-"]
["-","-",null,"","-"]
["-","-",null,"","-"]
["-","-",null,"","-"]
["-","-",null,"","-"]
["-","-",null,"","-"]
["-","-",null,"","-"]
["-","-",null,"","-"]
["-","-",null,"","-"]
["-","-",null,"","-"]
["-","-",null,"","-"]
["-","-",null,"","-"]
["-","-",null,"","-"]
["-","-",null,"","-"]
["-","-",null,"","-"]
["-","-",null,"","-"]
["-","-",null,"","-"]
["-","-",null,"","-"]
["-","-",null,"","-"]
["-","-",null,"","-"]
["-","-",null,"","-"]
["-","-",null,"","-"]
["-","-",null,"","-"]
["-","-",null,"","-"]
["-","-",null,"","-"]
["-","-",null,"","-"]
["-","-",null,"","-"]
["-","-",null,"","-"]
["-","-",null,"","-"]
["-",{"$f":"IF(ISBLANK(C261),\"-\",INDIRECT(\"VEGSAMPLINGTASKS!A\"&MATCH(C261,TaskLabel,0)+4))","v":"-"},null,"",{"$f":"IF(ISBLANK(C261),\"-\",VLOOKUP(INDIRECT(\"VEGSAMPLINGTASKS!G\"&MATCH(C261,TaskLabel,0)+4),VT_PlotPercentTypeDescrip,2,FALSE))","v":"-"}]
["-","-",null,{"$f":"IF(ISBLANK(C262),\"\",IF(ISBLANK(D261),1,D261))","v":""},"-"]
[{"$f":"IF(ISBLANK(C263),\"-\",GenGuid())","v":"-"},"-",null,"","-"]
["-","-",null,"","-"]
["-","-",null,"","-"]
["-","-",null,"","-"]
["-","-",null,"","-"]
["-","-",null,"","-"]
["-","-",null,"","-"]
["-","-",null,"","-"]
["-","-",null,"","-"]
["-","-",null,"","-"]
["-","-",null,"","-"]
["-","-",null,"","-"]
["-","-",null,"","-"]
["-","-",null,"","-"]
["-","-",null,"","-"]
["-","-",null,"","-"]
["-","-",null,"","-"]
["-","-",null,"","-"]
["-","-",null,"","-"]
["-","-",null,"","-"]
["-","-",null,"","-"]
["-","-",null,"","-"]
["-","-",null,"","-"]
["-","-",null,"","-"]
["-","-",null,"","-"]
["-","-",null,"","-"]
["-","-",null,"","-"]
["-","-",null,"","-"]
["-","-",null,"","-"]
["-","-",null,"","-"]
["-","-",null,"","-"]
["-","-",null,"","-"]
["-","-",null,"","-"]
["-","-",null,"","-"]
["-","-",null,"","-"]
["-","-",null,"","-"]
["-","-",null,"","-"]
["-","-",null,"","-"]
["-","-",null,"","-"]
["-","-",null,"","-"]
["-","-",null,"","-"]
["-","-",null,"","-"]
["-","-",null,"","-"]
["-","-",null,"","-"]
["-","-",null,"","-"]
["-","-",null,"","-"]
["-","-",null,"","-"]
["-","-",null,"","-"]
["-","-",null,"","-"]
["-","-",null,"","-"]
["-","-",null,"","-"]
["-","-",null,"","-"]
["-","-",null,"","-"]
["-","-",null,"","-"]
["-","-",null,"","-"]
["-","-",null,"","-"]
["-","-",null,"","-"]
["-","-",null,"","-"]
["-","-",null,"","-"]
["-","-",null,"","-"]
["-","-",null,"","-"]
["-","-",null,"","-"]
["-",{"$f":"IF(ISBLANK(C325),\"-\",INDIRECT(\"VEGSAMPLINGTASKS!A\"&MATCH(C325,TaskLabel,0)+4))","v":"-"},null,"",{"$f":"IF(ISBLANK(C325),\"-\",VLOOKUP(INDIRECT(\"VEGSAMPLINGTASKS!G\"&MATCH(C325,TaskLabel,0)+4),VT_PlotPercentTypeDescrip,2,FALSE))","v":"-"}]
["-","-",null,{"$f":"IF(ISBLANK(C326),\"\",IF(ISBLANK(D325),1,D325))","v":""},"-"]
[{"$f":"IF(ISBLANK(C327),\"-\",GenGuid())","v":"-"},"-",null,"","-"]
["-","-",null,"","-"]
["-","-",null,"","-"]
["-","-",null,"","-"]
["-","-",null,"","-"]
["-","-",null,"","-"]
["-","-",null,"","-"]
["-","-",null,"","-"]
["-","-",null,"","-"]
["-","-",null,"","-"]
["-","-",null,"","-"]
["-","-",null,"","-"]
["-","-",null,"","-"]
["-","-",null,"","-"]
["-","-",null,"","-"]
["-","-",null,"","-"]
["-","-",null,"","-"]
["-","-",null,"","-"]
["-","-",null,"","-"]
["-","-",null,"","-"]
["-","-",null,"","-"]
["-","-",null,"","-"]
["-","-",null,"","-"]
["-","-",null,"","-"]
["-","-",null,"","-"]
["-","-",null,"","-"]
["-","-",null,"","-"]
["-","-",null,"","-"]
["-","-",null,"","-"]
["-","-",null,"","-"]
["-","-",null,"","-"]
["-","-",null,"","-"]
["-","-",null,"","-"]
["-","-",null,"","-"]
["-","-",null,"","-"]
["-","-",null,"","-"]
["-","-",null,"","-"]
["-","-",null,"","-"]
["-","-",null,"","-"]
["-","-",null,"","-"]
["-","-",null,"","-"]
["-","-",null,"","-"]
["-","-",null,"","-"]
["-","-",null,"","-"]
["-","-",null,"","-"]
["-","-",null,"","-"]
["-","-",null,"","-"]
["-","-",null,"","-"]
["-","-",null,"","-"]
["-","-",null,"","-"]
["-","-",null,"","-"]
["-","-",null,"","-"]
["-","-",null,"","-"]
["-","-",null,"","-"]
["-","-",null,"","-"]
["-","-",null,"","-"]
["-","-",null,"","-"]
["-","-",null,"","-"]
["-","-",null,"","-"]
["-","-",null,"","-"]
["-","-",null,"","-"]
["-","-",null,"","-"]
["-",{"$f":"IF(ISBLANK(C389),\"-\",INDIRECT(\"VEGSAMPLINGTASKS!A\"&MATCH(C389,TaskLabel,0)+4))","v":"-"},null,"",{"$f":"IF(ISBLANK(C389),\"-\",VLOOKUP(INDIRECT(\"VEGSAMPLINGTASKS!G\"&MATCH(C389,TaskLabel,0)+4),VT_PlotPercentTypeDescrip,2,FALSE))","v":"-"}]
["-","-",null,{"$f":"IF(ISBLANK(C390),\"\",IF(ISBLANK(D389),1,D389))","v":""},"-"]
[{"$f":"IF(ISBLANK(C391),\"-\",GenGuid())","v":"-"},"-",null,"","-"]
["-","-",null,"","-"]
["-","-",null,"","-"]
["-","-",null,"","-"]
["-","-",null,"","-"]
["-","-",null,"","-"]
["-","-",null,"","-"]
["-","-",null,"","-"]
["-","-",null,"","-"]
["-","-",null,"","-"]
["-","-",null,"","-"]
["-","-",null,"","-"]
["-","-",null,"","-"]
["-","-",null,"","-"]
["-","-",null,"","-"]
["-","-",null,"","-"]
["-","-",null,"","-"]
["-","-",null,"","-"]
["-","-",null,"","-"]
["-","-",null,"","-"]
["-","-",null,"","-"]
["-","-",null,"","-"]
["-","-",null,"","-"]
["-","-",null,"","-"]
["-","-",null,"","-"]
["-","-",null,"","-"]
["-","-",null,"","-"]
["-","-",null,"","-"]
["-","-",null,"","-"]
["-","-",null,"","-"]
["-","-",null,"","-"]
["-","-",null,"","-"]
["-","-",null,"","-"]
["-","-",null,"","-"]
["-","-",null,"","-"]
["-","-",null,"","-"]
["-","-",null,"","-"]
["-","-",null,"","-"]
["-","-",null,"","-"]
["-","-",null,"","-"]
["-","-",null,"","-"]
["-","-",null,"","-"]
["-","-",null,"","-"]
["-","-",null,"","-"]
["-","-",null,"","-"]
["-","-",null,"","-"]
["-","-",null,"","-"]
["-","-",null,"","-"]
["-","-",null,"","-"]
["-","-",null,"","-"]
["-","-",null,"","-"]
["-","-",null,"","-"]
["-","-",null,"","-"]
["-","-",null,"","-"]
["-","-",null,"","-"]
["-","-",null,"","-"]
["-","-",null,"","-"]
["-","-",null,"","-"]
["-","-",null,"","-"]
["-","-",null,"","-"]
["-","-",null,"","-"]
["-","-",null,"","-"]
["-",{"$f":"IF(ISBLANK(C453),\"-\",INDIRECT(\"VEGSAMPLINGTASKS!A\"&MATCH(C453,TaskLabel,0)+4))","v":"-"},null,"",{"$f":"IF(ISBLANK(C453),\"-\",VLOOKUP(INDIRECT(\"VEGSAMPLINGTASKS!G\"&MATCH(C453,TaskLabel,0)+4),VT_PlotPercentTypeDescrip,2,FALSE))","v":"-"}]
["-","-",null,{"$f":"IF(ISBLANK(C454),\"\",IF(ISBLANK(D453),1,D453))","v":""},"-"]
[{"$f":"IF(ISBLANK(C455),\"-\",GenGuid())","v":"-"},"-",null,"","-"]
["-","-",null,"","-"]
["-","-",null,"","-"]
["-","-",null,"","-"]
["-","-",null,"","-"]
["-","-",null,"","-"]
["-","-",null,"","-"]
["-","-",null,"","-"]
["-","-",null,"","-"]
["-","-",null,"","-"]
["-","-",null,"","-"]
["-","-",null,"","-"]
["-","-",null,"","-"]
["-","-",null,"","-"]
["-","-",null,"","-"]
["-","-",null,"","-"]
["-","-",null,"","-"]
["-","-",null,"","-"]
["-","-",null,"","-"]
["-","-",null,"","-"]
["-","-",null,"","-"]
["-","-",null,"","-"]
["-","-",null,"","-"]
["-","-",null,"","-"]
["-","-",null,"","-"]
["-","-",null,"","-"]
["-","-",null,"","-"]
["-","-",null,"","-"]
["-","-",null,"","-"]
["-","-",null,"","-"]
["-","-",null,"","-"]
["-","-",null,"","-"]
["-","-",null,"","-"]
["-","-",null,"","-"]
["-","-",null,"","-"]
["-","-",null,"","-"]
["-","-",null,"","-"]
["-","-",null,"","-"]
["-","-",null,"","-"]
["-","-",null,"","-"]
["-","-",null,"","-"]
["-","-",null,"","-"]
["-","-",null,"","-"]
["-","-",null,"","-"]
["-","-",null,"","-"]
["-","-",null,"","-"]
["-","-",null,"","-"]
["-","-",null,"","-"]
["-","-",null,"","-"]
["-","-",null,"","-"]
["-","-",null,"","-"]
["-","-",null,"","-"]
["-","-",null,"","-"]
["-","-",null,"","-"]
["-","-",null,"","-"]
["-","-",null,"","-"]
["-","-",null,"","-"]
["-","-",null,"","-"]
["-","-",null,"","-"]
["-","-",null,"","-"]
["-","-",null,"","-"]
["-","-",null,"","-"]
["-",{"$f":"IF(ISBLANK(C517),\"-\",INDIRECT(\"VEGSAMPLINGTASKS!A\"&MATCH(C517,TaskLabel,0)+4))","v":"-"},null,"",{"$f":"IF(ISBLANK(C517),\"-\",VLOOKUP(INDIRECT(\"VEGSAMPLINGTASKS!G\"&MATCH(C517,TaskLabel,0)+4),VT_PlotPercentTypeDescrip,2,FALSE))","v":"-"}]
["-","-",null,{"$f":"IF(ISBLANK(C518),\"\",IF(ISBLANK(D517),1,D517))","v":""},"-"]
[{"$f":"IF(ISBLANK(C519),\"-\",GenGuid())","v":"-"},"-",null,"","-"]
["-","-",null,"","-"]
["-","-",null,"","-"]
["-","-",null,"","-"]
["-","-",null,"","-"]
["-","-",null,"","-"]
["-","-",null,"","-"]
["-","-",null,"","-"]
["-","-",null,"","-"]
["-","-",null,"","-"]
["-","-",null,"","-"]
["-","-",null,"","-"]
["-","-",null,"","-"]
["-","-",null,"","-"]
["-","-",null,"","-"]
["-","-",null,"","-"]
["-","-",null,"","-"]
["-","-",null,"","-"]
["-","-",null,"","-"]
["-","-",null,"","-"]
["-","-",null,"","-"]
["-","-",null,"","-"]
["-","-",null,"","-"]
["-","-",null,"","-"]
["-","-",null,"","-"]
["-","-",null,"","-"]
["-","-",null,"","-"]
["-","-",null,"","-"]
["-","-",null,"","-"]
["-","-",null,"","-"]
["-","-",null,"","-"]
["-","-",null,"","-"]
["-","-",null,"","-"]
["-","-",null,"","-"]
["-","-",null,"","-"]
["-","-",null,"","-"]
["-","-",null,"","-"]
["-","-",null,"","-"]
["-","-",null,"","-"]
["-","-",null,"","-"]
["-","-",null,"","-"]
["-","-",null,"","-"]
["-","-",null,"","-"]
["-","-",null,"","-"]
["-","-",null,"","-"]
["-","-",null,"","-"]
["-","-",null,"","-"]
["-","-",null,"","-"]
["-","-",null,"","-"]
["-","-",null,"","-"]
["-","-",null,"","-"]
["-","-",null,"","-"]
["-","-",null,"","-"]
["-","-",null,"","-"]
["-","-",null,"","-"]
["-","-",null,"","-"]
["-","-",null,"","-"]
["-","-",null,"","-"]
["-","-",null,"","-"]
["-","-",null,"","-"]
["-","-",null,"","-"]
["-","-",null,"","-"]
["-",{"$f":"IF(ISBLANK(C581),\"-\",INDIRECT(\"VEGSAMPLINGTASKS!A\"&MATCH(C581,TaskLabel,0)+4))","v":"-"},null,"",{"$f":"IF(ISBLANK(C581),\"-\",VLOOKUP(INDIRECT(\"VEGSAMPLINGTASKS!G\"&MATCH(C581,TaskLabel,0)+4),VT_PlotPercentTypeDescrip,2,FALSE))","v":"-"}]
["-","-",null,{"$f":"IF(ISBLANK(C582),\"\",IF(ISBLANK(D581),1,D581))","v":""},"-"]
[{"$f":"IF(ISBLANK(C583),\"-\",GenGuid())","v":"-"},"-",null,"","-"]
["-","-",null,"","-"]
["-","-",null,"","-"]
["-","-",null,"","-"]
["-","-",null,"","-"]
["-","-",null,"","-"]
["-","-",null,"","-"]
["-","-",null,"","-"]
["-","-",null,"","-"]
["-","-",null,"","-"]
["-","-",null,"","-"]
["-","-",null,"","-"]
["-","-",null,"","-"]
["-","-",null,"","-"]
["-","-",null,"","-"]
["-","-",null,"","-"]
["-","-",null,"","-"]
["-","-",null,"","-"]
["-","-",null,"","-"]
["-","-",null,"","-"]
["-","-",null,"","-"]
["-","-",null,"","-"]
["-","-",null,"","-"]
["-","-",null,"","-"]
["-","-",null,"","-"]
["-","-",null,"","-"]
["-","-",null,"","-"]
["-","-",null,"","-"]
["-","-",null,"","-"]
["-","-",null,"","-"]
["-","-",null,"","-"]
["-","-",null,"","-"]
["-","-",null,"","-"]
["-","-",null,"","-"]
["-","-",null,"","-"]
["-","-",null,"","-"]
["-","-",null,"","-"]
["-","-",null,"","-"]
["-","-",null,"","-"]
["-","-",null,"","-"]
["-","-",null,"","-"]
["-","-",null,"","-"]
["-","-",null,"","-"]
["-","-",null,"","-"]
["-","-",null,"","-"]
["-","-",null,"","-"]
["-","-",null,"","-"]
["-","-",null,"","-"]
["-","-",null,"","-"]
["-","-",null,"","-"]
["-","-",null,"","-"]
["-","-",null,"","-"]
["-","-",null,"","-"]
["-","-",null,"","-"]
["-","-",null,"","-"]
["-","-",null,"","-"]
["-","-",null,"","-"]
["-","-",null,"","-"]
["-","-",null,"","-"]
["-","-",null,"","-"]
["-","-",null,"","-"]
["-","-",null,"","-"]
["-",{"$f":"IF(ISBLANK(C645),\"-\",INDIRECT(\"VEGSAMPLINGTASKS!A\"&MATCH(C645,TaskLabel,0)+4))","v":"-"},null,"",{"$f":"IF(ISBLANK(C645),\"-\",VLOOKUP(INDIRECT(\"VEGSAMPLINGTASKS!G\"&MATCH(C645,TaskLabel,0)+4),VT_PlotPercentTypeDescrip,2,FALSE))","v":"-"}]
["-","-",null,{"$f":"IF(ISBLANK(C646),\"\",IF(ISBLANK(D645),1,D645))","v":""},"-"]
[{"$f":"IF(ISBLANK(C647),\"-\",GenGuid())","v":"-"},"-",null,"","-"]
["-","-",null,"","-"]
["-","-",null,"","-"]
["-","-",null,"","-"]
["-","-",null,"","-"]
["-","-",null,"","-"]
["-","-",null,"","-"]
["-","-",null,"","-"]
["-","-",null,"","-"]
["-","-",null,"","-"]
["-","-",null,"","-"]
["-","-",null,"","-"]
["-","-",null,"","-"]
["-","-",null,"","-"]
["-","-",null,"","-"]
["-","-",null,"","-"]
["-","-",null,"","-"]
["-","-",null,"","-"]
["-","-",null,"","-"]
["-","-",null,"","-"]
["-","-",null,"","-"]
["-","-",null,"","-"]
["-","-",null,"","-"]
["-","-",null,"","-"]
["-","-",null,"","-"]
["-","-",null,"","-"]
["-","-",null,"","-"]
["-","-",null,"","-"]
["-","-",null,"","-"]
["-","-",null,"","-"]
["-","-",null,"","-"]
["-","-",null,"","-"]
["-","-",null,"","-"]
["-","-",null,"","-"]
["-","-",null,"","-"]
["-","-",null,"","-"]
["-","-",null,"","-"]
["-","-",null,"","-"]
["-","-",null,"","-"]
["-","-",null,"","-"]
["-","-",null,"","-"]
["-","-",null,"","-"]
["-","-",null,"","-"]
["-","-",null,"","-"]
["-","-",null,"","-"]
["-","-",null,"","-"]
["-","-",null,"","-"]
["-","-",null,"","-"]
["-","-",null,"","-"]
["-","-",null,"","-"]
["-","-",null,"","-"]
["-","-",null,"","-"]
["-","-",null,"","-"]
["-","-",null,"","-"]
["-","-",null,"","-"]
["-","-",null,"","-"]
["-","-",null,"","-"]
["-","-",null,"","-"]
["-","-",null,"","-"]
["-","-",null,"","-"]
["-","-",null,"","-"]
["-","-",null,"","-"]
["-",{"$f":"IF(ISBLANK(C709),\"-\",INDIRECT(\"VEGSAMPLINGTASKS!A\"&MATCH(C709,TaskLabel,0)+4))","v":"-"},null,"",{"$f":"IF(ISBLANK(C709),\"-\",VLOOKUP(INDIRECT(\"VEGSAMPLINGTASKS!G\"&MATCH(C709,TaskLabel,0)+4),VT_PlotPercentTypeDescrip,2,FALSE))","v":"-"}]
["-","-",null,{"$f":"IF(ISBLANK(C710),\"\",IF(ISBLANK(D709),1,D709))","v":""},"-"]
[{"$f":"IF(ISBLANK(C711),\"-\",GenGuid())","v":"-"},"-",null,"","-"]
["-","-",null,"","-"]
["-","-",null,"","-"]
["-","-",null,"","-"]
["-","-",null,"","-"]
["-","-",null,"","-"]
["-","-",null,"","-"]
["-","-",null,"","-"]
["-","-",null,"","-"]
["-","-",null,"","-"]
["-","-",null,"","-"]
["-","-",null,"","-"]
["-","-",null,"","-"]
["-","-",null,"","-"]
["-","-",null,"","-"]
["-","-",null,"","-"]
["-","-",null,"","-"]
["-","-",null,"","-"]
["-","-",null,"","-"]
["-","-",null,"","-"]
["-","-",null,"","-"]
["-","-",null,"","-"]
["-","-",null,"","-"]
["-","-",null,"","-"]
["-","-",null,"","-"]
["-","-",null,"","-"]
["-","-",null,"","-"]
["-","-",null,"","-"]
["-","-",null,"","-"]
["-","-",null,"","-"]
["-","-",null,"","-"]
["-","-",null,"","-"]
["-","-",null,"","-"]
["-","-",null,"","-"]
["-","-",null,"","-"]
["-","-",null,"","-"]
["-","-",null,"","-"]
["-","-",null,"","-"]
["-","-",null,"","-"]
["-","-",null,"","-"]
["-","-",null,"","-"]
["-","-",null,"","-"]
["-","-",null,"","-"]
["-","-",null,"","-"]
["-","-",null,"","-"]
["-","-",null,"","-"]
["-","-",null,"","-"]
["-","-",null,"","-"]
["-","-",null,"","-"]
["-","-",null,"","-"]
["-","-",null,"","-"]
["-","-",null,"","-"]
["-","-",null,"","-"]
["-","-",null,"","-"]
["-","-",null,"","-"]
["-","-",null,"","-"]
["-","-",null,"","-"]
["-","-",null,"","-"]
["-","-",null,"","-"]
["-","-",null,"","-"]
["-","-",null,"","-"]
["-","-",null,"","-"]
["-",{"$f":"IF(ISBLANK(C773),\"-\",INDIRECT(\"VEGSAMPLINGTASKS!A\"&MATCH(C773,TaskLabel,0)+4))","v":"-"},null,"",{"$f":"IF(ISBLANK(C773),\"-\",VLOOKUP(INDIRECT(\"VEGSAMPLINGTASKS!G\"&MATCH(C773,TaskLabel,0)+4),VT_PlotPercentTypeDescrip,2,FALSE))","v":"-"}]
["-","-",null,{"$f":"IF(ISBLANK(C774),\"\",IF(ISBLANK(D773),1,D773))","v":""},"-"]
[{"$f":"IF(ISBLANK(C775),\"-\",GenGuid())","v":"-"},"-",null,"","-"]
["-","-",null,"","-"]
["-","-",null,"","-"]
["-","-",null,"","-"]
["-","-",null,"","-"]
["-","-",null,"","-"]
["-","-",null,"","-"]
["-","-",null,"","-"]
["-","-",null,"","-"]
["-","-",null,"","-"]
["-","-",null,"","-"]
["-","-",null,"","-"]
["-","-",null,"","-"]
["-","-",null,"","-"]
["-","-",null,"","-"]
["-","-",null,"","-"]
["-","-",null,"","-"]
["-","-",null,"","-"]
["-","-",null,"","-"]
["-","-",null,"","-"]
["-","-",null,"","-"]
["-","-",null,"","-"]
["-","-",null,"","-"]
["-","-",null,"","-"]
["-","-",null,"","-"]
["-","-",null,"","-"]
["-","-",null,"","-"]
["-","-",null,"","-"]
["-","-",null,"","-"]
["-","-",null,"","-"]
["-","-",null,"","-"]
["-","-",null,"","-"]
["-","-",null,"","-"]
["-","-",null,"","-"]
["-","-",null,"","-"]
["-","-",null,"","-"]
["-","-",null,"","-"]
["-","-",null,"","-"]
["-","-",null,"","-"]
["-","-",null,"","-"]
["-","-",null,"","-"]
["-","-",null,"","-"]
["-","-",null,"","-"]
["-","-",null,"","-"]
["-","-",null,"","-"]
["-","-",null,"","-"]
["-","-",null,"","-"]
["-","-",null,"","-"]
["-","-",null,"","-"]
["-","-",null,"","-"]
["-","-",null,"","-"]
["-","-",null,"","-"]
["-","-",null,"","-"]
["-","-",null,"","-"]
["-","-",null,"","-"]
["-","-",null,"","-"]
["-","-",null,"","-"]
["-","-",null,"","-"]
["-","-",null,"","-"]
["-","-",null,"","-"]
["-","-",null,"","-"]
["-","-",null,"","-"]
["-",{"$f":"IF(ISBLANK(C837),\"-\",INDIRECT(\"VEGSAMPLINGTASKS!A\"&MATCH(C837,TaskLabel,0)+4))","v":"-"},null,"",{"$f":"IF(ISBLANK(C837),\"-\",VLOOKUP(INDIRECT(\"VEGSAMPLINGTASKS!G\"&MATCH(C837,TaskLabel,0)+4),VT_PlotPercentTypeDescrip,2,FALSE))","v":"-"}]
["-","-",null,{"$f":"IF(ISBLANK(C838),\"\",IF(ISBLANK(D837),1,D837))","v":""},"-"]
[{"$f":"IF(ISBLANK(C839),\"-\",GenGuid())","v":"-"},"-",null,"","-"]
["-","-",null,"","-"]
["-","-",null,"","-"]
["-","-",null,"","-"]
["-","-",null,"","-"]
["-","-",null,"","-"]
["-","-",null,"","-"]
["-","-",null,"","-"]
["-","-",null,"","-"]
["-","-",null,"","-"]
["-","-",null,"","-"]
["-","-",null,"","-"]
["-","-",null,"","-"]
["-","-",null,"","-"]
["-","-",null,"","-"]
["-","-",null,"","-"]
["-","-",null,"","-"]
["-","-",null,"","-"]
["-","-",null,"","-"]
["-","-",null,"","-"]
["-","-",null,"","-"]
["-","-",null,"","-"]
["-","-",null,"","-"]
["-","-",null,"","-"]
["-","-",null,"","-"]
["-","-",null,"","-"]
["-","-",null,"","-"]
["-","-",null,"","-"]
["-","-",null,"","-"]
["-","-",null,"","-"]
["-","-",null,"","-"]
["-","-",null,"","-"]
["-","-",null,"","-"]
["-","-",null,"","-"]
["-","-",null,"","-"]
["-","-",null,"","-"]
["-","-",null,"","-"]
["-","-",null,"","-"]
["-","-",null,"","-"]
["-","-",null,"","-"]
["-","-",null,"","-"]
["-","-",null,"","-"]
["-","-",null,"","-"]
["-","-",null,"","-"]
["-","-",null,"","-"]
["-","-",null,"","-"]
["-","-",null,"","-"]
["-","-",null,"","-"]
["-","-",null,"","-"]
["-","-",null,"","-"]
["-","-",null,"","-"]
["-","-",null,"","-"]
["-","-",null,"","-"]
["-","-",null,"","-"]
["-","-",null,"","-"]
["-","-",null,"","-"]
["-","-",null,"","-"]
["-","-",null,"","-"]
["-","-",null,"","-"]
["-","-",null,"","-"]
["-","-",null,"","-"]
["-","-",null,"","-"]
["-",{"$f":"IF(ISBLANK(C901),\"-\",INDIRECT(\"VEGSAMPLINGTASKS!A\"&MATCH(C901,TaskLabel,0)+4))","v":"-"},null,"",{"$f":"IF(ISBLANK(C901),\"-\",VLOOKUP(INDIRECT(\"VEGSAMPLINGTASKS!G\"&MATCH(C901,TaskLabel,0)+4),VT_PlotPercentTypeDescrip,2,FALSE))","v":"-"}]
["-","-",null,{"$f":"IF(ISBLANK(C902),\"\",IF(ISBLANK(D901),1,D901))","v":""},"-"]
[{"$f":"IF(ISBLANK(C903),\"-\",GenGuid())","v":"-"},"-",null,"","-"]
["-","-",null,"","-"]
["-","-",null,"","-"]
["-","-",null,"","-"]
["-","-",null,"","-"]
["-","-",null,"","-"]
["-","-",null,"","-"]
["-","-",null,"","-"]
["-","-",null,"","-"]
["-","-",null,"","-"]
["-","-",null,"","-"]
["-","-",null,"","-"]
["-","-",null,"","-"]
["-","-",null,"","-"]
["-","-",null,"","-"]
["-","-",null,"","-"]
["-","-",null,"","-"]
["-","-",null,"","-"]
["-","-",null,"","-"]
["-","-",null,"","-"]
["-","-",null,"","-"]
["-","-",null,"","-"]
["-","-",null,"","-"]
["-","-",null,"","-"]
["-","-",null,"","-"]
["-","-",null,"","-"]
["-","-",null,"","-"]
["-","-",null,"","-"]
["-","-",null,"","-"]
["-","-",null,"","-"]
["-","-",null,"","-"]
["-","-",null,"","-"]
["-","-",null,"","-"]
["-","-",null,"","-"]
["-","-",null,"","-"]
["-","-",null,"","-"]
["-","-",null,"","-"]
["-","-",null,"","-"]
["-","-",null,"","-"]
["-","-",null,"","-"]
["-","-",null,"","-"]
["-","-",null,"","-"]
["-","-",null,"","-"]
["-","-",null,"","-"]
["-","-",null,"","-"]
["-","-",null,"","-"]
["-","-",null,"","-"]
["-","-",null,"","-"]
["-","-",null,"","-"]
["-","-",null,"","-"]
["-","-",null,"","-"]
["-","-",null,"","-"]
["-","-",null,"","-"]
["-","-",null,"","-"]
["-","-",null,"","-"]
["-","-",null,"","-"]
["-","-",null,"","-"]
["-","-",null,"","-"]
["-","-",null,"","-"]
["-","-",null,"","-"]
["-","-",null,"","-"]
["-","-",null,"","-"]
["-",{"$f":"IF(ISBLANK(C965),\"-\",INDIRECT(\"VEGSAMPLINGTASKS!A\"&MATCH(C965,TaskLabel,0)+4))","v":"-"},null,"",{"$f":"IF(ISBLANK(C965),\"-\",VLOOKUP(INDIRECT(\"VEGSAMPLINGTASKS!G\"&MATCH(C965,TaskLabel,0)+4),VT_PlotPercentTypeDescrip,2,FALSE))","v":"-"}]
["-","-",null,{"$f":"IF(ISBLANK(C966),\"\",IF(ISBLANK(D965),1,D965))","v":""},"-"]
[{"$f":"IF(ISBLANK(C967),\"-\",GenGuid())","v":"-"},"-",null,"","-"]
["-","-",null,"","-"]
["-","-",null,"","-"]
["-","-",null,"","-"]
["-","-",null,"","-"]
["-","-",null,"","-"]
["-","-",null,"","-"]
["-","-",null,"","-"]
["-","-",null,"","-"]
["-","-",null,"","-"]
["-","-",null,"","-"]
["-","-",null,"","-"]
["-","-",null,"","-"]
["-","-",null,"","-"]
["-","-",null,"","-"]
["-","-",null,"","-"]
["-","-",null,"","-"]
["-","-",null,"","-"]
["-","-",null,"","-"]
["-","-",null,"","-"]
["-","-",null,"","-"]
["-","-",null,"","-"]
["-","-",null,"","-"]
["-","-",null,"","-"]
["-","-",null,"","-"]
["-","-",null,"","-"]
["-","-",null,"","-"]
["-","-",null,"","-"]
["-","-",null,"","-"]
["-","-",null,"","-"]
["-","-",null,"","-"]
["-","-",null,"","-"]
["-","-",null,"","-"]
["-","-",null,"","-"]
["-","-",null,"","-"]
["-","-",null,"","-"]
["-","-",null,"","-"]
["-","-",null,"","-"]
["To add more rows, copy from the previous line to ensure the proper formatting/formulas are in place."]

{"sheet":"SampleSPECIESRows","index":11,"n_rows":1005,"n_cols":12,"rows_kept":1005,"cut":false,"hidden":false,"merged":[]}
["SampleSpeciesID","VegSamplingTaskID","TaskLabel","VegSampleNumber","SpeciesCode","Percentage","CoverClass","Biomass","BasalArea","Density","DensityDistrClass","PercentType"]
["Name","Survey ID","Task Label","Sample Number","Species Acronym","Percent","Cover Class","Biomass Weight","Basal Area","Density","Density Distrib. Class","Percent Type (from VST)"]
["Type",null,"Text","Integer","Text","single","Text","Double","Single","Double","Integer","Text"]
["Max Length",null,100,null,12,null,5,null,null,null,null,25]
[{"$f":"IF(ISBLANK(C5),\"-\",GenGuid())","v":"-"},{"$f":"IF(ISBLANK(C5),\"-\",INDIRECT(\"VEGSAMPLINGTASKS!A\"&MATCH(C5,TaskLabel,0)+4))","v":"-"},null,{"$f":"IF(ISBLANK(C5),\"\",IF(ISBLANK(D4),1,D4))","v":""},null,null,null,null,null,null,null,{"$f":"IF(ISBLANK(C5),\"-\",VLOOKUP(INDIRECT(\"VEGSAMPLINGTASKS!G\"&MATCH(C5,TaskLabel,0)+4),VT_PlotPercentTypeDescrip,2,FALSE))","v":"-"}]
[{"$f":"IF(ISBLANK(C6),\"-\",GenGuid())","v":"-"},"-",null,{"$f":"IF(ISBLANK(C6),\"\",IF(ISBLANK(D5),1,D5))","v":""},null,null,null,null,null,null,null,"-"]
[{"$f":"IF(ISBLANK(C7),\"-\",GenGuid())","v":"-"},"-",null,"",null,null,null,null,null,null,null,"-"]
["-","-",null,"",null,null,null,null,null,null,null,"-"]
["-","-",null,"",null,null,null,null,null,null,null,"-"]
["-","-",null,"",null,null,null,null,null,null,null,"-"]
["-","-",null,"",null,null,null,null,null,null,null,"-"]
["-","-",null,"",null,null,null,null,null,null,null,"-"]
["-","-",null,"",null,null,null,null,null,null,null,"-"]
["-","-",null,"",null,null,null,null,null,null,null,"-"]
["-","-",null,"",null,null,null,null,null,null,null,"-"]
["-","-",null,"",null,null,null,null,null,null,null,"-"]
["-","-",null,"",null,null,null,null,null,null,null,"-"]
["-","-",null,"",null,null,null,null,null,null,null,"-"]
["-","-",null,"",null,null,null,null,null,null,null,"-"]
["-","-",null,"",null,null,null,null,null,null,null,"-"]
["-","-",null,"",null,null,null,null,null,null,null,"-"]
["-","-",null,"",null,null,null,null,null,null,null,"-"]
["-","-",null,"",null,null,null,null,null,null,null,"-"]
["-","-",null,"",null,null,null,null,null,null,null,"-"]
["-","-",null,"",null,null,null,null,null,null,null,"-"]
["-","-",null,"",null,null,null,null,null,null,null,"-"]
["-","-",null,"",null,null,null,null,null,null,null,"-"]
["-","-",null,"",null,null,null,null,null,null,null,"-"]
["-","-",null,"",null,null,null,null,null,null,null,"-"]
["-","-",null,"",null,null,null,null,null,null,null,"-"]
["-","-",null,"",null,null,null,null,null,null,null,"-"]
["-","-",null,"",null,null,null,null,null,null,null,"-"]
["-","-",null,"",null,null,null,null,null,null,null,"-"]
["-","-",null,"",null,null,null,null,null,null,null,"-"]
["-","-",null,"",null,null,null,null,null,null,null,"-"]
["-","-",null,"",null,null,null,null,null,null,null,"-"]
["-","-",null,"",null,null,null,null,null,null,null,"-"]
["-","-",null,"",null,null,null,null,null,null,null,"-"]
["-","-",null,"",null,null,null,null,null,null,null,"-"]
["-","-",null,"",null,null,null,null,null,null,null,"-"]
["-","-",null,"",null,null,null,null,null,null,null,"-"]
["-","-",null,"",null,null,null,null,null,null,null,"-"]
["-","-",null,"",null,null,null,null,null,null,null,"-"]
["-","-",null,"",null,null,null,null,null,null,null,"-"]
["-","-",null,"",null,null,null,null,null,null,null,"-"]
["-","-",null,"",null,null,null,null,null,null,null,"-"]
["-","-",null,"",null,null,null,null,null,null,null,"-"]
["-","-",null,"",null,null,null,null,null,null,null,"-"]
["-","-",null,"",null,null,null,null,null,null,null,"-"]
["-","-",null,"",null,null,null,null,null,null,null,"-"]
["-","-",null,"",null,null,null,null,null,null,null,"-"]
["-","-",null,"",null,null,null,null,null,null,null,"-"]
["-","-",null,"",null,null,null,null,null,null,null,"-"]
["-","-",null,"",null,null,null,null,null,null,null,"-"]
["-","-",null,"",null,null,null,null,null,null,null,"-"]
["-","-",null,"",null,null,null,null,null,null,null,"-"]
["-","-",null,"",null,null,null,null,null,null,null,"-"]
["-","-",null,"",null,null,null,null,null,null,null,"-"]
["-","-",null,"",null,null,null,null,null,null,null,"-"]
["-","-",null,"",null,null,null,null,null,null,null,"-"]
["-","-",null,"",null,null,null,null,null,null,null,"-"]
["-","-",null,"",null,null,null,null,null,null,null,"-"]
["-","-",null,"",null,null,null,null,null,null,null,"-"]
["-","-",null,"",null,null,null,null,null,null,null,"-"]
["-","-",null,"",null,null,null,null,null,null,null,"-"]
["-","-",null,"",null,null,null,null,null,null,null,"-"]
["-","-",null,"",null,null,null,null,null,null,null,"-"]
["-","-",null,"",null,null,null,null,null,null,null,"-"]
["-",{"$f":"IF(ISBLANK(C69),\"-\",INDIRECT(\"VEGSAMPLINGTASKS!A\"&MATCH(C69,TaskLabel,0)+4))","v":"-"},null,"",null,null,null,null,null,null,null,{"$f":"IF(ISBLANK(C69),\"-\",VLOOKUP(INDIRECT(\"VEGSAMPLINGTASKS!G\"&MATCH(C69,TaskLabel,0)+4),VT_PlotPercentTypeDescrip,2,FALSE))","v":"-"}]
["-","-",null,{"$f":"IF(ISBLANK(C70),\"\",IF(ISBLANK(D69),1,D69))","v":""},null,null,null,null,null,null,null,"-"]
[{"$f":"IF(ISBLANK(C71),\"-\",GenGuid())","v":"-"},"-",null,"",null,null,null,null,null,null,null,"-"]
["-","-",null,"",null,null,null,null,null,null,null,"-"]
["-","-",null,"",null,null,null,null,null,null,null,"-"]
["-","-",null,"",null,null,null,null,null,null,null,"-"]
["-","-",null,"",null,null,null,null,null,null,null,"-"]
["-","-",null,"",null,null,null,null,null,null,null,"-"]
["-","-",null,"",null,null,null,null,null,null,null,"-"]
["-","-",null,"",null,null,null,null,null,null,null,"-"]
["-","-",null,"",null,null,null,null,null,null,null,"-"]
["-","-",null,"",null,null,null,null,null,null,null,"-"]
["-","-",null,"",null,null,null,null,null,null,null,"-"]
["-","-",null,"",null,null,null,null,null,null,null,"-"]
["-","-",null,"",null,null,null,null,null,null,null,"-"]
["-","-",null,"",null,null,null,null,null,null,null,"-"]
["-","-",null,"",null,null,null,null,null,null,null,"-"]
["-","-",null,"",null,null,null,null,null,null,null,"-"]
["-","-",null,"",null,null,null,null,null,null,null,"-"]
["-","-",null,"",null,null,null,null,null,null,null,"-"]
["-","-",null,"",null,null,null,null,null,null,null,"-"]
["-","-",null,"",null,null,null,null,null,null,null,"-"]
["-","-",null,"",null,null,null,null,null,null,null,"-"]
["-","-",null,"",null,null,null,null,null,null,null,"-"]
["-","-",null,"",null,null,null,null,null,null,null,"-"]
["-","-",null,"",null,null,null,null,null,null,null,"-"]
["-","-",null,"",null,null,null,null,null,null,null,"-"]
["-","-",null,"",null,null,null,null,null,null,null,"-"]
["-","-",null,"",null,null,null,null,null,null,null,"-"]
["-","-",null,"",null,null,null,null,null,null,null,"-"]
["-","-",null,"",null,null,null,null,null,null,null,"-"]
["-","-",null,"",null,null,null,null,null,null,null,"-"]
["-","-",null,"",null,null,null,null,null,null,null,"-"]
["-","-",null,"",null,null,null,null,null,null,null,"-"]
["-","-",null,"",null,null,null,null,null,null,null,"-"]
["-","-",null,"",null,null,null,null,null,null,null,"-"]
["-","-",null,"",null,null,null,null,null,null,null,"-"]
["-","-",null,"",null,null,null,null,null,null,null,"-"]
["-","-",null,"",null,null,null,null,null,null,null,"-"]
["-","-",null,"",null,null,null,null,null,null,null,"-"]
["-","-",null,"",null,null,null,null,null,null,null,"-"]
["-","-",null,"",null,null,null,null,null,null,null,"-"]
["-","-",null,"",null,null,null,null,null,null,null,"-"]
["-","-",null,"",null,null,null,null,null,null,null,"-"]
["-","-",null,"",null,null,null,null,null,null,null,"-"]
["-","-",null,"",null,null,null,null,null,null,null,"-"]
["-","-",null,"",null,null,null,null,null,null,null,"-"]
["-","-",null,"",null,null,null,null,null,null,null,"-"]
["-","-",null,"",null,null,null,null,null,null,null,"-"]
["-","-",null,"",null,null,null,null,null,null,null,"-"]
["-","-",null,"",null,null,null,null,null,null,null,"-"]
["-","-",null,"",null,null,null,null,null,null,null,"-"]
["-","-",null,"",null,null,null,null,null,null,null,"-"]
["-","-",null,"",null,null,null,null,null,null,null,"-"]
["-","-",null,"",null,null,null,null,null,null,null,"-"]
["-","-",null,"",null,null,null,null,null,null,null,"-"]
["-","-",null,"",null,null,null,null,null,null,null,"-"]
["-","-",null,"",null,null,null,null,null,null,null,"-"]
["-","-",null,"",null,null,null,null,null,null,null,"-"]
["-","-",null,"",null,null,null,null,null,null,null,"-"]
["-","-",null,"",null,null,null,null,null,null,null,"-"]
["-","-",null,"",null,null,null,null,null,null,null,"-"]
["-","-",null,"",null,null,null,null,null,null,null,"-"]
["-","-",null,"",null,null,null,null,null,null,null,"-"]
["-",{"$f":"IF(ISBLANK(C133),\"-\",INDIRECT(\"VEGSAMPLINGTASKS!A\"&MATCH(C133,TaskLabel,0)+4))","v":"-"},null,"",null,null,null,null,null,null,null,{"$f":"IF(ISBLANK(C133),\"-\",VLOOKUP(INDIRECT(\"VEGSAMPLINGTASKS!G\"&MATCH(C133,TaskLabel,0)+4),VT_PlotPercentTypeDescrip,2,FALSE))","v":"-"}]
["-","-",null,{"$f":"IF(ISBLANK(C134),\"\",IF(ISBLANK(D133),1,D133))","v":""},null,null,null,null,null,null,null,"-"]
[{"$f":"IF(ISBLANK(C135),\"-\",GenGuid())","v":"-"},"-",null,"",null,null,null,null,null,null,null,"-"]
["-","-",null,"",null,null,null,null,null,null,null,"-"]
["-","-",null,"",null,null,null,null,null,null,null,"-"]
["-","-",null,"",null,null,null,null,null,null,null,"-"]
["-","-",null,"",null,null,null,null,null,null,null,"-"]
["-","-",null,"",null,null,null,null,null,null,null,"-"]
["-","-",null,"",null,null,null,null,null,null,null,"-"]
["-","-",null,"",null,null,null,null,null,null,null,"-"]
["-","-",null,"",null,null,null,null,null,null,null,"-"]
["-","-",null,"",null,null,null,null,null,null,null,"-"]
["-","-",null,"",null,null,null,null,null,null,null,"-"]
["-","-",null,"",null,null,null,null,null,null,null,"-"]
["-","-",null,"",null,null,null,null,null,null,null,"-"]
["-","-",null,"",null,null,null,null,null,null,null,"-"]
["-","-",null,"",null,null,null,null,null,null,null,"-"]
["-","-",null,"",null,null,null,null,null,null,null,"-"]
["-","-",null,"",null,null,null,null,null,null,null,"-"]
["-","-",null,"",null,null,null,null,null,null,null,"-"]
["-","-",null,"",null,null,null,null,null,null,null,"-"]
["-","-",null,"",null,null,null,null,null,null,null,"-"]
["-","-",null,"",null,null,null,null,null,null,null,"-"]
["-","-",null,"",null,null,null,null,null,null,null,"-"]
["-","-",null,"",null,null,null,null,null,null,null,"-"]
["-","-",null,"",null,null,null,null,null,null,null,"-"]
["-","-",null,"",null,null,null,null,null,null,null,"-"]
["-","-",null,"",null,null,null,null,null,null,null,"-"]
["-","-",null,"",null,null,null,null,null,null,null,"-"]
["-","-",null,"",null,null,null,null,null,null,null,"-"]
["-","-",null,"",null,null,null,null,null,null,null,"-"]
["-","-",null,"",null,null,null,null,null,null,null,"-"]
["-","-",null,"",null,null,null,null,null,null,null,"-"]
["-","-",null,"",null,null,null,null,null,null,null,"-"]
["-","-",null,"",null,null,null,null,null,null,null,"-"]
["-","-",null,"",null,null,null,null,null,null,null,"-"]
["-","-",null,"",null,null,null,null,null,null,null,"-"]
["-","-",null,"",null,null,null,null,null,null,null,"-"]
["-","-",null,"",null,null,null,null,null,null,null,"-"]
["-","-",null,"",null,null,null,null,null,null,null,"-"]
["-","-",null,"",null,null,null,null,null,null,null,"-"]
["-","-",null,"",null,null,null,null,null,null,null,"-"]
["-","-",null,"",null,null,null,null,null,null,null,"-"]
["-","-",null,"",null,null,null,null,null,null,null,"-"]
["-","-",null,"",null,null,null,null,null,null,null,"-"]
["-","-",null,"",null,null,null,null,null,null,null,"-"]
["-","-",null,"",null,null,null,null,null,null,null,"-"]
["-","-",null,"",null,null,null,null,null,null,null,"-"]
["-","-",null,"",null,null,null,null,null,null,null,"-"]
["-","-",null,"",null,null,null,null,null,null,null,"-"]
["-","-",null,"",null,null,null,null,null,null,null,"-"]
["-","-",null,"",null,null,null,null,null,null,null,"-"]
["-","-",null,"",null,null,null,null,null,null,null,"-"]
["-","-",null,"",null,null,null,null,null,null,null,"-"]
["-","-",null,"",null,null,null,null,null,null,null,"-"]
["-","-",null,"",null,null,null,null,null,null,null,"-"]
["-","-",null,"",null,null,null,null,null,null,null,"-"]
["-","-",null,"",null,null,null,null,null,null,null,"-"]
["-","-",null,"",null,null,null,null,null,null,null,"-"]
["-","-",null,"",null,null,null,null,null,null,null,"-"]
["-","-",null,"",null,null,null,null,null,null,null,"-"]
["-","-",null,"",null,null,null,null,null,null,null,"-"]
["-","-",null,"",null,null,null,null,null,null,null,"-"]
["-","-",null,"",null,null,null,null,null,null,null,"-"]
["-",{"$f":"IF(ISBLANK(C197),\"-\",INDIRECT(\"VEGSAMPLINGTASKS!A\"&MATCH(C197,TaskLabel,0)+4))","v":"-"},null,"",null,null,null,null,null,null,null,{"$f":"IF(ISBLANK(C197),\"-\",VLOOKUP(INDIRECT(\"VEGSAMPLINGTASKS!G\"&MATCH(C197,TaskLabel,0)+4),VT_PlotPercentTypeDescrip,2,FALSE))","v":"-"}]
["-","-",null,{"$f":"IF(ISBLANK(C198),\"\",IF(ISBLANK(D197),1,D197))","v":""},null,null,null,null,null,null,null,"-"]
[{"$f":"IF(ISBLANK(C199),\"-\",GenGuid())","v":"-"},"-",null,"",null,null,null,null,null,null,null,"-"]
["-","-",null,"",null,null,null,null,null,null,null,"-"]
["-","-",null,"",null,null,null,null,null,null,null,"-"]
["-","-",null,"",null,null,null,null,null,null,null,"-"]
["-","-",null,"",null,null,null,null,null,null,null,"-"]
["-","-",null,"",null,null,null,null,null,null,null,"-"]
["-","-",null,"",null,null,null,null,null,null,null,"-"]
["-","-",null,"",null,null,null,null,null,null,null,"-"]
["-","-",null,"",null,null,null,null,null,null,null,"-"]
["-","-",null,"",null,null,null,null,null,null,null,"-"]
["-","-",null,"",null,null,null,null,null,null,null,"-"]
["-","-",null,"",null,null,null,null,null,null,null,"-"]
["-","-",null,"",null,null,null,null,null,null,null,"-"]
["-","-",null,"",null,null,null,null,null,null,null,"-"]
["-","-",null,"",null,null,null,null,null,null,null,"-"]
["-","-",null,"",null,null,null,null,null,null,null,"-"]
["-","-",null,"",null,null,null,null,null,null,null,"-"]
["-","-",null,"",null,null,null,null,null,null,null,"-"]
["-","-",null,"",null,null,null,null,null,null,null,"-"]
["-","-",null,"",null,null,null,null,null,null,null,"-"]
["-","-",null,"",null,null,null,null,null,null,null,"-"]
["-","-",null,"",null,null,null,null,null,null,null,"-"]
["-","-",null,"",null,null,null,null,null,null,null,"-"]
["-","-",null,"",null,null,null,null,null,null,null,"-"]
["-","-",null,"",null,null,null,null,null,null,null,"-"]
["-","-",null,"",null,null,null,null,null,null,null,"-"]
["-","-",null,"",null,null,null,null,null,null,null,"-"]
["-","-",null,"",null,null,null,null,null,null,null,"-"]
["-","-",null,"",null,null,null,null,null,null,null,"-"]
["-","-",null,"",null,null,null,null,null,null,null,"-"]
["-","-",null,"",null,null,null,null,null,null,null,"-"]
["-","-",null,"",null,null,null,null,null,null,null,"-"]
["-","-",null,"",null,null,null,null,null,null,null,"-"]
["-","-",null,"",null,null,null,null,null,null,null,"-"]
["-","-",null,"",null,null,null,null,null,null,null,"-"]
["-","-",null,"",null,null,null,null,null,null,null,"-"]
["-","-",null,"",null,null,null,null,null,null,null,"-"]
["-","-",null,"",null,null,null,null,null,null,null,"-"]
["-","-",null,"",null,null,null,null,null,null,null,"-"]
["-","-",null,"",null,null,null,null,null,null,null,"-"]
["-","-",null,"",null,null,null,null,null,null,null,"-"]
["-","-",null,"",null,null,null,null,null,null,null,"-"]
["-","-",null,"",null,null,null,null,null,null,null,"-"]
["-","-",null,"",null,null,null,null,null,null,null,"-"]
["-","-",null,"",null,null,null,null,null,null,null,"-"]
["-","-",null,"",null,null,null,null,null,null,null,"-"]
["-","-",null,"",null,null,null,null,null,null,null,"-"]
["-","-",null,"",null,null,null,null,null,null,null,"-"]
["-","-",null,"",null,null,null,null,null,null,null,"-"]
["-","-",null,"",null,null,null,null,null,null,null,"-"]
["-","-",null,"",null,null,null,null,null,null,null,"-"]
["-","-",null,"",null,null,null,null,null,null,null,"-"]
["-","-",null,"",null,null,null,null,null,null,null,"-"]
["-","-",null,"",null,null,null,null,null,null,null,"-"]
["-","-",null,"",null,null,null,null,null,null,null,"-"]
["-","-",null,"",null,null,null,null,null,null,null,"-"]
["-","-",null,"",null,null,null,null,null,null,null,"-"]
["-","-",null,"",null,null,null,null,null,null,null,"-"]
["-","-",null,"",null,null,null,null,null,null,null,"-"]
["-","-",null,"",null,null,null,null,null,null,null,"-"]
["-","-",null,"",null,null,null,null,null,null,null,"-"]
["-","-",null,"",null,null,null,null,null,null,null,"-"]
["-",{"$f":"IF(ISBLANK(C261),\"-\",INDIRECT(\"VEGSAMPLINGTASKS!A\"&MATCH(C261,TaskLabel,0)+4))","v":"-"},null,"",null,null,null,null,null,null,null,{"$f":"IF(ISBLANK(C261),\"-\",VLOOKUP(INDIRECT(\"VEGSAMPLINGTASKS!G\"&MATCH(C261,TaskLabel,0)+4),VT_PlotPercentTypeDescrip,2,FALSE))","v":"-"}]
["-","-",null,{"$f":"IF(ISBLANK(C262),\"\",IF(ISBLANK(D261),1,D261))","v":""},null,null,null,null,null,null,null,"-"]
[{"$f":"IF(ISBLANK(C263),\"-\",GenGuid())","v":"-"},"-",null,"",null,null,null,null,null,null,null,"-"]
["-","-",null,"",null,null,null,null,null,null,null,"-"]
["-","-",null,"",null,null,null,null,null,null,null,"-"]
["-","-",null,"",null,null,null,null,null,null,null,"-"]
["-","-",null,"",null,null,null,null,null,null,null,"-"]
["-","-",null,"",null,null,null,null,null,null,null,"-"]
["-","-",null,"",null,null,null,null,null,null,null,"-"]
["-","-",null,"",null,null,null,null,null,null,null,"-"]
["-","-",null,"",null,null,null,null,null,null,null,"-"]
["-","-",null,"",null,null,null,null,null,null,null,"-"]
["-","-",null,"",null,null,null,null,null,null,null,"-"]
["-","-",null,"",null,null,null,null,null,null,null,"-"]
["-","-",null,"",null,null,null,null,null,null,null,"-"]
["-","-",null,"",null,null,null,null,null,null,null,"-"]
["-","-",null,"",null,null,null,null,null,null,null,"-"]
["-","-",null,"",null,null,null,null,null,null,null,"-"]
["-","-",null,"",null,null,null,null,null,null,null,"-"]
["-","-",null,"",null,null,null,null,null,null,null,"-"]
["-","-",null,"",null,null,null,null,null,null,null,"-"]
["-","-",null,"",null,null,null,null,null,null,null,"-"]
["-","-",null,"",null,null,null,null,null,null,null,"-"]
["-","-",null,"",null,null,null,null,null,null,null,"-"]
["-","-",null,"",null,null,null,null,null,null,null,"-"]
["-","-",null,"",null,null,null,null,null,null,null,"-"]
["-","-",null,"",null,null,null,null,null,null,null,"-"]
["-","-",null,"",null,null,null,null,null,null,null,"-"]
["-","-",null,"",null,null,null,null,null,null,null,"-"]
["-","-",null,"",null,null,null,null,null,null,null,"-"]
["-","-",null,"",null,null,null,null,null,null,null,"-"]
["-","-",null,"",null,null,null,null,null,null,null,"-"]
["-","-",null,"",null,null,null,null,null,null,null,"-"]
["-","-",null,"",null,null,null,null,null,null,null,"-"]
["-","-",null,"",null,null,null,null,null,null,null,"-"]
["-","-",null,"",null,null,null,null,null,null,null,"-"]
["-","-",null,"",null,null,null,null,null,null,null,"-"]
["-","-",null,"",null,null,null,null,null,null,null,"-"]
["-","-",null,"",null,null,null,null,null,null,null,"-"]
["-","-",null,"",null,null,null,null,null,null,null,"-"]
["-","-",null,"",null,null,null,null,null,null,null,"-"]
["-","-",null,"",null,null,null,null,null,null,null,"-"]
["-","-",null,"",null,null,null,null,null,null,null,"-"]
["-","-",null,"",null,null,null,null,null,null,null,"-"]
["-","-",null,"",null,null,null,null,null,null,null,"-"]
["-","-",null,"",null,null,null,null,null,null,null,"-"]
["-","-",null,"",null,null,null,null,null,null,null,"-"]
["-","-",null,"",null,null,null,null,null,null,null,"-"]
["-","-",null,"",null,null,null,null,null,null,null,"-"]
["-","-",null,"",null,null,null,null,null,null,null,"-"]
["-","-",null,"",null,null,null,null,null,null,null,"-"]
["-","-",null,"",null,null,null,null,null,null,null,"-"]
["-","-",null,"",null,null,null,null,null,null,null,"-"]
["-","-",null,"",null,null,null,null,null,null,null,"-"]
["-","-",null,"",null,null,null,null,null,null,null,"-"]
["-","-",null,"",null,null,null,null,null,null,null,"-"]
["-","-",null,"",null,null,null,null,null,null,null,"-"]
["-","-",null,"",null,null,null,null,null,null,null,"-"]
["-","-",null,"",null,null,null,null,null,null,null,"-"]
["-","-",null,"",null,null,null,null,null,null,null,"-"]
["-","-",null,"",null,null,null,null,null,null,null,"-"]
["-","-",null,"",null,null,null,null,null,null,null,"-"]
["-","-",null,"",null,null,null,null,null,null,null,"-"]
["-","-",null,"",null,null,null,null,null,null,null,"-"]
["-",{"$f":"IF(ISBLANK(C325),\"-\",INDIRECT(\"VEGSAMPLINGTASKS!A\"&MATCH(C325,TaskLabel,0)+4))","v":"-"},null,"",null,null,null,null,null,null,null,{"$f":"IF(ISBLANK(C325),\"-\",VLOOKUP(INDIRECT(\"VEGSAMPLINGTASKS!G\"&MATCH(C325,TaskLabel,0)+4),VT_PlotPercentTypeDescrip,2,FALSE))","v":"-"}]
["-","-",null,{"$f":"IF(ISBLANK(C326),\"\",IF(ISBLANK(D325),1,D325))","v":""},null,null,null,null,null,null,null,"-"]
[{"$f":"IF(ISBLANK(C327),\"-\",GenGuid())","v":"-"},"-",null,"",null,null,null,null,null,null,null,"-"]
["-","-",null,"",null,null,null,null,null,null,null,"-"]
["-","-",null,"",null,null,null,null,null,null,null,"-"]
["-","-",null,"",null,null,null,null,null,null,null,"-"]
["-","-",null,"",null,null,null,null,null,null,null,"-"]
["-","-",null,"",null,null,null,null,null,null,null,"-"]
["-","-",null,"",null,null,null,null,null,null,null,"-"]
["-","-",null,"",null,null,null,null,null,null,null,"-"]
["-","-",null,"",null,null,null,null,null,null,null,"-"]
["-","-",null,"",null,null,null,null,null,null,null,"-"]
["-","-",null,"",null,null,null,null,null,null,null,"-"]
["-","-",null,"",null,null,null,null,null,null,null,"-"]
["-","-",null,"",null,null,null,null,null,null,null,"-"]
["-","-",null,"",null,null,null,null,null,null,null,"-"]
["-","-",null,"",null,null,null,null,null,null,null,"-"]
["-","-",null,"",null,null,null,null,null,null,null,"-"]
["-","-",null,"",null,null,null,null,null,null,null,"-"]
["-","-",null,"",null,null,null,null,null,null,null,"-"]
["-","-",null,"",null,null,null,null,null,null,null,"-"]
["-","-",null,"",null,null,null,null,null,null,null,"-"]
["-","-",null,"",null,null,null,null,null,null,null,"-"]
["-","-",null,"",null,null,null,null,null,null,null,"-"]
["-","-",null,"",null,null,null,null,null,null,null,"-"]
["-","-",null,"",null,null,null,null,null,null,null,"-"]
["-","-",null,"",null,null,null,null,null,null,null,"-"]
["-","-",null,"",null,null,null,null,null,null,null,"-"]
["-","-",null,"",null,null,null,null,null,null,null,"-"]
["-","-",null,"",null,null,null,null,null,null,null,"-"]
["-","-",null,"",null,null,null,null,null,null,null,"-"]
["-","-",null,"",null,null,null,null,null,null,null,"-"]
["-","-",null,"",null,null,null,null,null,null,null,"-"]
["-","-",null,"",null,null,null,null,null,null,null,"-"]
["-","-",null,"",null,null,null,null,null,null,null,"-"]
["-","-",null,"",null,null,null,null,null,null,null,"-"]
["-","-",null,"",null,null,null,null,null,null,null,"-"]
["-","-",null,"",null,null,null,null,null,null,null,"-"]
["-","-",null,"",null,null,null,null,null,null,null,"-"]
["-","-",null,"",null,null,null,null,null,null,null,"-"]
["-","-",null,"",null,null,null,null,null,null,null,"-"]
["-","-",null,"",null,null,null,null,null,null,null,"-"]
["-","-",null,"",null,null,null,null,null,null,null,"-"]
["-","-",null,"",null,null,null,null,null,null,null,"-"]
["-","-",null,"",null,null,null,null,null,null,null,"-"]
["-","-",null,"",null,null,null,null,null,null,null,"-"]
["-","-",null,"",null,null,null,null,null,null,null,"-"]
["-","-",null,"",null,null,null,null,null,null,null,"-"]
["-","-",null,"",null,null,null,null,null,null,null,"-"]
["-","-",null,"",null,null,null,null,null,null,null,"-"]
["-","-",null,"",null,null,null,null,null,null,null,"-"]
["-","-",null,"",null,null,null,null,null,null,null,"-"]
["-","-",null,"",null,null,null,null,null,null,null,"-"]
["-","-",null,"",null,null,null,null,null,null,null,"-"]
["-","-",null,"",null,null,null,null,null,null,null,"-"]
["-","-",null,"",null,null,null,null,null,null,null,"-"]
["-","-",null,"",null,null,null,null,null,null,null,"-"]
["-","-",null,"",null,null,null,null,null,null,null,"-"]
["-","-",null,"",null,null,null,null,null,null,null,"-"]
["-","-",null,"",null,null,null,null,null,null,null,"-"]
["-","-",null,"",null,null,null,null,null,null,null,"-"]
["-","-",null,"",null,null,null,null,null,null,null,"-"]
["-","-",null,"",null,null,null,null,null,null,null,"-"]
["-","-",null,"",null,null,null,null,null,null,null,"-"]
["-",{"$f":"IF(ISBLANK(C389),\"-\",INDIRECT(\"VEGSAMPLINGTASKS!A\"&MATCH(C389,TaskLabel,0)+4))","v":"-"},null,"",null,null,null,null,null,null,null,{"$f":"IF(ISBLANK(C389),\"-\",VLOOKUP(INDIRECT(\"VEGSAMPLINGTASKS!G\"&MATCH(C389,TaskLabel,0)+4),VT_PlotPercentTypeDescrip,2,FALSE))","v":"-"}]
["-","-",null,{"$f":"IF(ISBLANK(C390),\"\",IF(ISBLANK(D389),1,D389))","v":""},null,null,null,null,null,null,null,"-"]
[{"$f":"IF(ISBLANK(C391),\"-\",GenGuid())","v":"-"},"-",null,"",null,null,null,null,null,null,null,"-"]
["-","-",null,"",null,null,null,null,null,null,null,"-"]
["-","-",null,"",null,null,null,null,null,null,null,"-"]
["-","-",null,"",null,null,null,null,null,null,null,"-"]
["-","-",null,"",null,null,null,null,null,null,null,"-"]
["-","-",null,"",null,null,null,null,null,null,null,"-"]
["-","-",null,"",null,null,null,null,null,null,null,"-"]
["-","-",null,"",null,null,null,null,null,null,null,"-"]
["-","-",null,"",null,null,null,null,null,null,null,"-"]
["-","-",null,"",null,null,null,null,null,null,null,"-"]
["-","-",null,"",null,null,null,null,null,null,null,"-"]
["-","-",null,"",null,null,null,null,null,null,null,"-"]
["-","-",null,"",null,null,null,null,null,null,null,"-"]
["-","-",null,"",null,null,null,null,null,null,null,"-"]
["-","-",null,"",null,null,null,null,null,null,null,"-"]
["-","-",null,"",null,null,null,null,null,null,null,"-"]
["-","-",null,"",null,null,null,null,null,null,null,"-"]
["-","-",null,"",null,null,null,null,null,null,null,"-"]
["-","-",null,"",null,null,null,null,null,null,null,"-"]
["-","-",null,"",null,null,null,null,null,null,null,"-"]
["-","-",null,"",null,null,null,null,null,null,null,"-"]
["-","-",null,"",null,null,null,null,null,null,null,"-"]
["-","-",null,"",null,null,null,null,null,null,null,"-"]
["-","-",null,"",null,null,null,null,null,null,null,"-"]
["-","-",null,"",null,null,null,null,null,null,null,"-"]
["-","-",null,"",null,null,null,null,null,null,null,"-"]
["-","-",null,"",null,null,null,null,null,null,null,"-"]
["-","-",null,"",null,null,null,null,null,null,null,"-"]
["-","-",null,"",null,null,null,null,null,null,null,"-"]
["-","-",null,"",null,null,null,null,null,null,null,"-"]
["-","-",null,"",null,null,null,null,null,null,null,"-"]
["-","-",null,"",null,null,null,null,null,null,null,"-"]
["-","-",null,"",null,null,null,null,null,null,null,"-"]
["-","-",null,"",null,null,null,null,null,null,null,"-"]
["-","-",null,"",null,null,null,null,null,null,null,"-"]
["-","-",null,"",null,null,null,null,null,null,null,"-"]
["-","-",null,"",null,null,null,null,null,null,null,"-"]
["-","-",null,"",null,null,null,null,null,null,null,"-"]
["-","-",null,"",null,null,null,null,null,null,null,"-"]
["-","-",null,"",null,null,null,null,null,null,null,"-"]
["-","-",null,"",null,null,null,null,null,null,null,"-"]
["-","-",null,"",null,null,null,null,null,null,null,"-"]
["-","-",null,"",null,null,null,null,null,null,null,"-"]
["-","-",null,"",null,null,null,null,null,null,null,"-"]
["-","-",null,"",null,null,null,null,null,null,null,"-"]
["-","-",null,"",null,null,null,null,null,null,null,"-"]
["-","-",null,"",null,null,null,null,null,null,null,"-"]
["-","-",null,"",null,null,null,null,null,null,null,"-"]
["-","-",null,"",null,null,null,null,null,null,null,"-"]
["-","-",null,"",null,null,null,null,null,null,null,"-"]
["-","-",null,"",null,null,null,null,null,null,null,"-"]
["-","-",null,"",null,null,null,null,null,null,null,"-"]
["-","-",null,"",null,null,null,null,null,null,null,"-"]
["-","-",null,"",null,null,null,null,null,null,null,"-"]
["-","-",null,"",null,null,null,null,null,null,null,"-"]
["-","-",null,"",null,null,null,null,null,null,null,"-"]
["-","-",null,"",null,null,null,null,null,null,null,"-"]
["-","-",null,"",null,null,null,null,null,null,null,"-"]
["-","-",null,"",null,null,null,null,null,null,null,"-"]
["-","-",null,"",null,null,null,null,null,null,null,"-"]
["-","-",null,"",null,null,null,null,null,null,null,"-"]
["-","-",null,"",null,null,null,null,null,null,null,"-"]
["-",{"$f":"IF(ISBLANK(C453),\"-\",INDIRECT(\"VEGSAMPLINGTASKS!A\"&MATCH(C453,TaskLabel,0)+4))","v":"-"},null,"",null,null,null,null,null,null,null,{"$f":"IF(ISBLANK(C453),\"-\",VLOOKUP(INDIRECT(\"VEGSAMPLINGTASKS!G\"&MATCH(C453,TaskLabel,0)+4),VT_PlotPercentTypeDescrip,2,FALSE))","v":"-"}]
["-","-",null,{"$f":"IF(ISBLANK(C454),\"\",IF(ISBLANK(D453),1,D453))","v":""},null,null,null,null,null,null,null,"-"]
[{"$f":"IF(ISBLANK(C455),\"-\",GenGuid())","v":"-"},"-",null,"",null,null,null,null,null,null,null,"-"]
["-","-",null,"",null,null,null,null,null,null,null,"-"]
["-","-",null,"",null,null,null,null,null,null,null,"-"]
["-","-",null,"",null,null,null,null,null,null,null,"-"]
["-","-",null,"",null,null,null,null,null,null,null,"-"]
["-","-",null,"",null,null,null,null,null,null,null,"-"]
["-","-",null,"",null,null,null,null,null,null,null,"-"]
["-","-",null,"",null,null,null,null,null,null,null,"-"]
["-","-",null,"",null,null,null,null,null,null,null,"-"]
["-","-",null,"",null,null,null,null,null,null,null,"-"]
["-","-",null,"",null,null,null,null,null,null,null,"-"]
["-","-",null,"",null,null,null,null,null,null,null,"-"]
["-","-",null,"",null,null,null,null,null,null,null,"-"]
["-","-",null,"",null,null,null,null,null,null,null,"-"]
["-","-",null,"",null,null,null,null,null,null,null,"-"]
["-","-",null,"",null,null,null,null,null,null,null,"-"]
["-","-",null,"",null,null,null,null,null,null,null,"-"]
["-","-",null,"",null,null,null,null,null,null,null,"-"]
["-","-",null,"",null,null,null,null,null,null,null,"-"]
["-","-",null,"",null,null,null,null,null,null,null,"-"]
["-","-",null,"",null,null,null,null,null,null,null,"-"]
["-","-",null,"",null,null,null,null,null,null,null,"-"]
["-","-",null,"",null,null,null,null,null,null,null,"-"]
["-","-",null,"",null,null,null,null,null,null,null,"-"]
["-","-",null,"",null,null,null,null,null,null,null,"-"]
["-","-",null,"",null,null,null,null,null,null,null,"-"]
["-","-",null,"",null,null,null,null,null,null,null,"-"]
["-","-",null,"",null,null,null,null,null,null,null,"-"]
["-","-",null,"",null,null,null,null,null,null,null,"-"]
["-","-",null,"",null,null,null,null,null,null,null,"-"]
["-","-",null,"",null,null,null,null,null,null,null,"-"]
["-","-",null,"",null,null,null,null,null,null,null,"-"]
["-","-",null,"",null,null,null,null,null,null,null,"-"]
["-","-",null,"",null,null,null,null,null,null,null,"-"]
["-","-",null,"",null,null,null,null,null,null,null,"-"]
["-","-",null,"",null,null,null,null,null,null,null,"-"]
["-","-",null,"",null,null,null,null,null,null,null,"-"]
["-","-",null,"",null,null,null,null,null,null,null,"-"]
["-","-",null,"",null,null,null,null,null,null,null,"-"]
["-","-",null,"",null,null,null,null,null,null,null,"-"]
["-","-",null,"",null,null,null,null,null,null,null,"-"]
["-","-",null,"",null,null,null,null,null,null,null,"-"]
["-","-",null,"",null,null,null,null,null,null,null,"-"]
["-","-",null,"",null,null,null,null,null,null,null,"-"]
["-","-",null,"",null,null,null,null,null,null,null,"-"]
["-","-",null,"",null,null,null,null,null,null,null,"-"]
["-","-",null,"",null,null,null,null,null,null,null,"-"]
["-","-",null,"",null,null,null,null,null,null,null,"-"]
["-","-",null,"",null,null,null,null,null,null,null,"-"]
["-","-",null,"",null,null,null,null,null,null,null,"-"]
["-","-",null,"",null,null,null,null,null,null,null,"-"]
["-","-",null,"",null,null,null,null,null,null,null,"-"]
["-","-",null,"",null,null,null,null,null,null,null,"-"]
["-","-",null,"",null,null,null,null,null,null,null,"-"]
["-","-",null,"",null,null,null,null,null,null,null,"-"]
["-","-",null,"",null,null,null,null,null,null,null,"-"]
["-","-",null,"",null,null,null,null,null,null,null,"-"]
["-","-",null,"",null,null,null,null,null,null,null,"-"]
["-","-",null,"",null,null,null,null,null,null,null,"-"]
["-","-",null,"",null,null,null,null,null,null,null,"-"]
["-","-",null,"",null,null,null,null,null,null,null,"-"]
["-","-",null,"",null,null,null,null,null,null,null,"-"]
["-",{"$f":"IF(ISBLANK(C517),\"-\",INDIRECT(\"VEGSAMPLINGTASKS!A\"&MATCH(C517,TaskLabel,0)+4))","v":"-"},null,"",null,null,null,null,null,null,null,{"$f":"IF(ISBLANK(C517),\"-\",VLOOKUP(INDIRECT(\"VEGSAMPLINGTASKS!G\"&MATCH(C517,TaskLabel,0)+4),VT_PlotPercentTypeDescrip,2,FALSE))","v":"-"}]
["-","-",null,{"$f":"IF(ISBLANK(C518),\"\",IF(ISBLANK(D517),1,D517))","v":""},null,null,null,null,null,null,null,"-"]
[{"$f":"IF(ISBLANK(C519),\"-\",GenGuid())","v":"-"},"-",null,"",null,null,null,null,null,null,null,"-"]
["-","-",null,"",null,null,null,null,null,null,null,"-"]
["-","-",null,"",null,null,null,null,null,null,null,"-"]
["-","-",null,"",null,null,null,null,null,null,null,"-"]
["-","-",null,"",null,null,null,null,null,null,null,"-"]
["-","-",null,"",null,null,null,null,null,null,null,"-"]
["-","-",null,"",null,null,null,null,null,null,null,"-"]
["-","-",null,"",null,null,null,null,null,null,null,"-"]
["-","-",null,"",null,null,null,null,null,null,null,"-"]
["-","-",null,"",null,null,null,null,null,null,null,"-"]
["-","-",null,"",null,null,null,null,null,null,null,"-"]
["-","-",null,"",null,null,null,null,null,null,null,"-"]
["-","-",null,"",null,null,null,null,null,null,null,"-"]
["-","-",null,"",null,null,null,null,null,null,null,"-"]
["-","-",null,"",null,null,null,null,null,null,null,"-"]
["-","-",null,"",null,null,null,null,null,null,null,"-"]
["-","-",null,"",null,null,null,null,null,null,null,"-"]
["-","-",null,"",null,null,null,null,null,null,null,"-"]
["-","-",null,"",null,null,null,null,null,null,null,"-"]
["-","-",null,"",null,null,null,null,null,null,null,"-"]
["-","-",null,"",null,null,null,null,null,null,null,"-"]
["-","-",null,"",null,null,null,null,null,null,null,"-"]
["-","-",null,"",null,null,null,null,null,null,null,"-"]
["-","-",null,"",null,null,null,null,null,null,null,"-"]
["-","-",null,"",null,null,null,null,null,null,null,"-"]
["-","-",null,"",null,null,null,null,null,null,null,"-"]
["-","-",null,"",null,null,null,null,null,null,null,"-"]
["-","-",null,"",null,null,null,null,null,null,null,"-"]
["-","-",null,"",null,null,null,null,null,null,null,"-"]
["-","-",null,"",null,null,null,null,null,null,null,"-"]
["-","-",null,"",null,null,null,null,null,null,null,"-"]
["-","-",null,"",null,null,null,null,null,null,null,"-"]
["-","-",null,"",null,null,null,null,null,null,null,"-"]
["-","-",null,"",null,null,null,null,null,null,null,"-"]
["-","-",null,"",null,null,null,null,null,null,null,"-"]
["-","-",null,"",null,null,null,null,null,null,null,"-"]
["-","-",null,"",null,null,null,null,null,null,null,"-"]
["-","-",null,"",null,null,null,null,null,null,null,"-"]
["-","-",null,"",null,null,null,null,null,null,null,"-"]
["-","-",null,"",null,null,null,null,null,null,null,"-"]
["-","-",null,"",null,null,null,null,null,null,null,"-"]
["-","-",null,"",null,null,null,null,null,null,null,"-"]
["-","-",null,"",null,null,null,null,null,null,null,"-"]
["-","-",null,"",null,null,null,null,null,null,null,"-"]
["-","-",null,"",null,null,null,null,null,null,null,"-"]
["-","-",null,"",null,null,null,null,null,null,null,"-"]
["-","-",null,"",null,null,null,null,null,null,null,"-"]
["-","-",null,"",null,null,null,null,null,null,null,"-"]
["-","-",null,"",null,null,null,null,null,null,null,"-"]
["-","-",null,"",null,null,null,null,null,null,null,"-"]
["-","-",null,"",null,null,null,null,null,null,null,"-"]
["-","-",null,"",null,null,null,null,null,null,null,"-"]
["-","-",null,"",null,null,null,null,null,null,null,"-"]
["-","-",null,"",null,null,null,null,null,null,null,"-"]
["-","-",null,"",null,null,null,null,null,null,null,"-"]
["-","-",null,"",null,null,null,null,null,null,null,"-"]
["-","-",null,"",null,null,null,null,null,null,null,"-"]
["-","-",null,"",null,null,null,null,null,null,null,"-"]
["-","-",null,"",null,null,null,null,null,null,null,"-"]
["-","-",null,"",null,null,null,null,null,null,null,"-"]
["-","-",null,"",null,null,null,null,null,null,null,"-"]
["-","-",null,"",null,null,null,null,null,null,null,"-"]
["-",{"$f":"IF(ISBLANK(C581),\"-\",INDIRECT(\"VEGSAMPLINGTASKS!A\"&MATCH(C581,TaskLabel,0)+4))","v":"-"},null,"",null,null,null,null,null,null,null,{"$f":"IF(ISBLANK(C581),\"-\",VLOOKUP(INDIRECT(\"VEGSAMPLINGTASKS!G\"&MATCH(C581,TaskLabel,0)+4),VT_PlotPercentTypeDescrip,2,FALSE))","v":"-"}]
["-","-",null,{"$f":"IF(ISBLANK(C582),\"\",IF(ISBLANK(D581),1,D581))","v":""},null,null,null,null,null,null,null,"-"]
[{"$f":"IF(ISBLANK(C583),\"-\",GenGuid())","v":"-"},"-",null,"",null,null,null,null,null,null,null,"-"]
["-","-",null,"",null,null,null,null,null,null,null,"-"]
["-","-",null,"",null,null,null,null,null,null,null,"-"]
["-","-",null,"",null,null,null,null,null,null,null,"-"]
["-","-",null,"",null,null,null,null,null,null,null,"-"]
["-","-",null,"",null,null,null,null,null,null,null,"-"]
["-","-",null,"",null,null,null,null,null,null,null,"-"]
["-","-",null,"",null,null,null,null,null,null,null,"-"]
["-","-",null,"",null,null,null,null,null,null,null,"-"]
["-","-",null,"",null,null,null,null,null,null,null,"-"]
["-","-",null,"",null,null,null,null,null,null,null,"-"]
["-","-",null,"",null,null,null,null,null,null,null,"-"]
["-","-",null,"",null,null,null,null,null,null,null,"-"]
["-","-",null,"",null,null,null,null,null,null,null,"-"]
["-","-",null,"",null,null,null,null,null,null,null,"-"]
["-","-",null,"",null,null,null,null,null,null,null,"-"]
["-","-",null,"",null,null,null,null,null,null,null,"-"]
["-","-",null,"",null,null,null,null,null,null,null,"-"]
["-","-",null,"",null,null,null,null,null,null,null,"-"]
["-","-",null,"",null,null,null,null,null,null,null,"-"]
["-","-",null,"",null,null,null,null,null,null,null,"-"]
["-","-",null,"",null,null,null,null,null,null,null,"-"]
["-","-",null,"",null,null,null,null,null,null,null,"-"]
["-","-",null,"",null,null,null,null,null,null,null,"-"]
["-","-",null,"",null,null,null,null,null,null,null,"-"]
["-","-",null,"",null,null,null,null,null,null,null,"-"]
["-","-",null,"",null,null,null,null,null,null,null,"-"]
["-","-",null,"",null,null,null,null,null,null,null,"-"]
["-","-",null,"",null,null,null,null,null,null,null,"-"]
["-","-",null,"",null,null,null,null,null,null,null,"-"]
["-","-",null,"",null,null,null,null,null,null,null,"-"]
["-","-",null,"",null,null,null,null,null,null,null,"-"]
["-","-",null,"",null,null,null,null,null,null,null,"-"]
["-","-",null,"",null,null,null,null,null,null,null,"-"]
["-","-",null,"",null,null,null,null,null,null,null,"-"]
["-","-",null,"",null,null,null,null,null,null,null,"-"]
["-","-",null,"",null,null,null,null,null,null,null,"-"]
["-","-",null,"",null,null,null,null,null,null,null,"-"]
["-","-",null,"",null,null,null,null,null,null,null,"-"]
["-","-",null,"",null,null,null,null,null,null,null,"-"]
["-","-",null,"",null,null,null,null,null,null,null,"-"]
["-","-",null,"",null,null,null,null,null,null,null,"-"]
["-","-",null,"",null,null,null,null,null,null,null,"-"]
["-","-",null,"",null,null,null,null,null,null,null,"-"]
["-","-",null,"",null,null,null,null,null,null,null,"-"]
["-","-",null,"",null,null,null,null,null,null,null,"-"]
["-","-",null,"",null,null,null,null,null,null,null,"-"]
["-","-",null,"",null,null,null,null,null,null,null,"-"]
["-","-",null,"",null,null,null,null,null,null,null,"-"]
["-","-",null,"",null,null,null,null,null,null,null,"-"]
["-","-",null,"",null,null,null,null,null,null,null,"-"]
["-","-",null,"",null,null,null,null,null,null,null,"-"]
["-","-",null,"",null,null,null,null,null,null,null,"-"]
["-","-",null,"",null,null,null,null,null,null,null,"-"]
["-","-",null,"",null,null,null,null,null,null,null,"-"]
["-","-",null,"",null,null,null,null,null,null,null,"-"]
["-","-",null,"",null,null,null,null,null,null,null,"-"]
["-","-",null,"",null,null,null,null,null,null,null,"-"]
["-","-",null,"",null,null,null,null,null,null,null,"-"]
["-","-",null,"",null,null,null,null,null,null,null,"-"]
["-","-",null,"",null,null,null,null,null,null,null,"-"]
["-","-",null,"",null,null,null,null,null,null,null,"-"]
["-",{"$f":"IF(ISBLANK(C645),\"-\",INDIRECT(\"VEGSAMPLINGTASKS!A\"&MATCH(C645,TaskLabel,0)+4))","v":"-"},null,"",null,null,null,null,null,null,null,{"$f":"IF(ISBLANK(C645),\"-\",VLOOKUP(INDIRECT(\"VEGSAMPLINGTASKS!G\"&MATCH(C645,TaskLabel,0)+4),VT_PlotPercentTypeDescrip,2,FALSE))","v":"-"}]
["-","-",null,{"$f":"IF(ISBLANK(C646),\"\",IF(ISBLANK(D645),1,D645))","v":""},null,null,null,null,null,null,null,"-"]
[{"$f":"IF(ISBLANK(C647),\"-\",GenGuid())","v":"-"},"-",null,"",null,null,null,null,null,null,null,"-"]
["-","-",null,"",null,null,null,null,null,null,null,"-"]
["-","-",null,"",null,null,null,null,null,null,null,"-"]
["-","-",null,"",null,null,null,null,null,null,null,"-"]
["-","-",null,"",null,null,null,null,null,null,null,"-"]
["-","-",null,"",null,null,null,null,null,null,null,"-"]
["-","-",null,"",null,null,null,null,null,null,null,"-"]
["-","-",null,"",null,null,null,null,null,null,null,"-"]
["-","-",null,"",null,null,null,null,null,null,null,"-"]
["-","-",null,"",null,null,null,null,null,null,null,"-"]
["-","-",null,"",null,null,null,null,null,null,null,"-"]
["-","-",null,"",null,null,null,null,null,null,null,"-"]
["-","-",null,"",null,null,null,null,null,null,null,"-"]
["-","-",null,"",null,null,null,null,null,null,null,"-"]
["-","-",null,"",null,null,null,null,null,null,null,"-"]
["-","-",null,"",null,null,null,null,null,null,null,"-"]
["-","-",null,"",null,null,null,null,null,null,null,"-"]
["-","-",null,"",null,null,null,null,null,null,null,"-"]
["-","-",null,"",null,null,null,null,null,null,null,"-"]
["-","-",null,"",null,null,null,null,null,null,null,"-"]
["-","-",null,"",null,null,null,null,null,null,null,"-"]
["-","-",null,"",null,null,null,null,null,null,null,"-"]
["-","-",null,"",null,null,null,null,null,null,null,"-"]
["-","-",null,"",null,null,null,null,null,null,null,"-"]
["-","-",null,"",null,null,null,null,null,null,null,"-"]
["-","-",null,"",null,null,null,null,null,null,null,"-"]
["-","-",null,"",null,null,null,null,null,null,null,"-"]
["-","-",null,"",null,null,null,null,null,null,null,"-"]
["-","-",null,"",null,null,null,null,null,null,null,"-"]
["-","-",null,"",null,null,null,null,null,null,null,"-"]
["-","-",null,"",null,null,null,null,null,null,null,"-"]
["-","-",null,"",null,null,null,null,null,null,null,"-"]
["-","-",null,"",null,null,null,null,null,null,null,"-"]
["-","-",null,"",null,null,null,null,null,null,null,"-"]
["-","-",null,"",null,null,null,null,null,null,null,"-"]
["-","-",null,"",null,null,null,null,null,null,null,"-"]
["-","-",null,"",null,null,null,null,null,null,null,"-"]
["-","-",null,"",null,null,null,null,null,null,null,"-"]
["-","-",null,"",null,null,null,null,null,null,null,"-"]
["-","-",null,"",null,null,null,null,null,null,null,"-"]
["-","-",null,"",null,null,null,null,null,null,null,"-"]
["-","-",null,"",null,null,null,null,null,null,null,"-"]
["-","-",null,"",null,null,null,null,null,null,null,"-"]
["-","-",null,"",null,null,null,null,null,null,null,"-"]
["-","-",null,"",null,null,null,null,null,null,null,"-"]
["-","-",null,"",null,null,null,null,null,null,null,"-"]
["-","-",null,"",null,null,null,null,null,null,null,"-"]
["-","-",null,"",null,null,null,null,null,null,null,"-"]
["-","-",null,"",null,null,null,null,null,null,null,"-"]
["-","-",null,"",null,null,null,null,null,null,null,"-"]
["-","-",null,"",null,null,null,null,null,null,null,"-"]
["-","-",null,"",null,null,null,null,null,null,null,"-"]
["-","-",null,"",null,null,null,null,null,null,null,"-"]
["-","-",null,"",null,null,null,null,null,null,null,"-"]
["-","-",null,"",null,null,null,null,null,null,null,"-"]
["-","-",null,"",null,null,null,null,null,null,null,"-"]
["-","-",null,"",null,null,null,null,null,null,null,"-"]
["-","-",null,"",null,null,null,null,null,null,null,"-"]
["-","-",null,"",null,null,null,null,null,null,null,"-"]
["-","-",null,"",null,null,null,null,null,null,null,"-"]
["-","-",null,"",null,null,null,null,null,null,null,"-"]
["-","-",null,"",null,null,null,null,null,null,null,"-"]
["-",{"$f":"IF(ISBLANK(C709),\"-\",INDIRECT(\"VEGSAMPLINGTASKS!A\"&MATCH(C709,TaskLabel,0)+4))","v":"-"},null,"",null,null,null,null,null,null,null,{"$f":"IF(ISBLANK(C709),\"-\",VLOOKUP(INDIRECT(\"VEGSAMPLINGTASKS!G\"&MATCH(C709,TaskLabel,0)+4),VT_PlotPercentTypeDescrip,2,FALSE))","v":"-"}]
["-","-",null,{"$f":"IF(ISBLANK(C710),\"\",IF(ISBLANK(D709),1,D709))","v":""},null,null,null,null,null,null,null,"-"]
[{"$f":"IF(ISBLANK(C711),\"-\",GenGuid())","v":"-"},"-",null,"",null,null,null,null,null,null,null,"-"]
["-","-",null,"",null,null,null,null,null,null,null,"-"]
["-","-",null,"",null,null,null,null,null,null,null,"-"]
["-","-",null,"",null,null,null,null,null,null,null,"-"]
["-","-",null,"",null,null,null,null,null,null,null,"-"]
["-","-",null,"",null,null,null,null,null,null,null,"-"]
["-","-",null,"",null,null,null,null,null,null,null,"-"]
["-","-",null,"",null,null,null,null,null,null,null,"-"]
["-","-",null,"",null,null,null,null,null,null,null,"-"]
["-","-",null,"",null,null,null,null,null,null,null,"-"]
["-","-",null,"",null,null,null,null,null,null,null,"-"]
["-","-",null,"",null,null,null,null,null,null,null,"-"]
["-","-",null,"",null,null,null,null,null,null,null,"-"]
["-","-",null,"",null,null,null,null,null,null,null,"-"]
["-","-",null,"",null,null,null,null,null,null,null,"-"]
["-","-",null,"",null,null,null,null,null,null,null,"-"]
["-","-",null,"",null,null,null,null,null,null,null,"-"]
["-","-",null,"",null,null,null,null,null,null,null,"-"]
["-","-",null,"",null,null,null,null,null,null,null,"-"]
["-","-",null,"",null,null,null,null,null,null,null,"-"]
["-","-",null,"",null,null,null,null,null,null,null,"-"]
["-","-",null,"",null,null,null,null,null,null,null,"-"]
["-","-",null,"",null,null,null,null,null,null,null,"-"]
["-","-",null,"",null,null,null,null,null,null,null,"-"]
["-","-",null,"",null,null,null,null,null,null,null,"-"]
["-","-",null,"",null,null,null,null,null,null,null,"-"]
["-","-",null,"",null,null,null,null,null,null,null,"-"]
["-","-",null,"",null,null,null,null,null,null,null,"-"]
["-","-",null,"",null,null,null,null,null,null,null,"-"]
["-","-",null,"",null,null,null,null,null,null,null,"-"]
["-","-",null,"",null,null,null,null,null,null,null,"-"]
["-","-",null,"",null,null,null,null,null,null,null,"-"]
["-","-",null,"",null,null,null,null,null,null,null,"-"]
["-","-",null,"",null,null,null,null,null,null,null,"-"]
["-","-",null,"",null,null,null,null,null,null,null,"-"]
["-","-",null,"",null,null,null,null,null,null,null,"-"]
["-","-",null,"",null,null,null,null,null,null,null,"-"]
["-","-",null,"",null,null,null,null,null,null,null,"-"]
["-","-",null,"",null,null,null,null,null,null,null,"-"]
["-","-",null,"",null,null,null,null,null,null,null,"-"]
["-","-",null,"",null,null,null,null,null,null,null,"-"]
["-","-",null,"",null,null,null,null,null,null,null,"-"]
["-","-",null,"",null,null,null,null,null,null,null,"-"]
["-","-",null,"",null,null,null,null,null,null,null,"-"]
["-","-",null,"",null,null,null,null,null,null,null,"-"]
["-","-",null,"",null,null,null,null,null,null,null,"-"]
["-","-",null,"",null,null,null,null,null,null,null,"-"]
["-","-",null,"",null,null,null,null,null,null,null,"-"]
["-","-",null,"",null,null,null,null,null,null,null,"-"]
["-","-",null,"",null,null,null,null,null,null,null,"-"]
["-","-",null,"",null,null,null,null,null,null,null,"-"]
["-","-",null,"",null,null,null,null,null,null,null,"-"]
["-","-",null,"",null,null,null,null,null,null,null,"-"]
["-","-",null,"",null,null,null,null,null,null,null,"-"]
["-","-",null,"",null,null,null,null,null,null,null,"-"]
["-","-",null,"",null,null,null,null,null,null,null,"-"]
["-","-",null,"",null,null,null,null,null,null,null,"-"]
["-","-",null,"",null,null,null,null,null,null,null,"-"]
["-","-",null,"",null,null,null,null,null,null,null,"-"]
["-","-",null,"",null,null,null,null,null,null,null,"-"]
["-","-",null,"",null,null,null,null,null,null,null,"-"]
["-","-",null,"",null,null,null,null,null,null,null,"-"]
["-",{"$f":"IF(ISBLANK(C773),\"-\",INDIRECT(\"VEGSAMPLINGTASKS!A\"&MATCH(C773,TaskLabel,0)+4))","v":"-"},null,"",null,null,null,null,null,null,null,{"$f":"IF(ISBLANK(C773),\"-\",VLOOKUP(INDIRECT(\"VEGSAMPLINGTASKS!G\"&MATCH(C773,TaskLabel,0)+4),VT_PlotPercentTypeDescrip,2,FALSE))","v":"-"}]
["-","-",null,{"$f":"IF(ISBLANK(C774),\"\",IF(ISBLANK(D773),1,D773))","v":""},null,null,null,null,null,null,null,"-"]
[{"$f":"IF(ISBLANK(C775),\"-\",GenGuid())","v":"-"},"-",null,"",null,null,null,null,null,null,null,"-"]
["-","-",null,"",null,null,null,null,null,null,null,"-"]
["-","-",null,"",null,null,null,null,null,null,null,"-"]
["-","-",null,"",null,null,null,null,null,null,null,"-"]
["-","-",null,"",null,null,null,null,null,null,null,"-"]
["-","-",null,"",null,null,null,null,null,null,null,"-"]
["-","-",null,"",null,null,null,null,null,null,null,"-"]
["-","-",null,"",null,null,null,null,null,null,null,"-"]
["-","-",null,"",null,null,null,null,null,null,null,"-"]
["-","-",null,"",null,null,null,null,null,null,null,"-"]
["-","-",null,"",null,null,null,null,null,null,null,"-"]
["-","-",null,"",null,null,null,null,null,null,null,"-"]
["-","-",null,"",null,null,null,null,null,null,null,"-"]
["-","-",null,"",null,null,null,null,null,null,null,"-"]
["-","-",null,"",null,null,null,null,null,null,null,"-"]
["-","-",null,"",null,null,null,null,null,null,null,"-"]
["-","-",null,"",null,null,null,null,null,null,null,"-"]
["-","-",null,"",null,null,null,null,null,null,null,"-"]
["-","-",null,"",null,null,null,null,null,null,null,"-"]
["-","-",null,"",null,null,null,null,null,null,null,"-"]
["-","-",null,"",null,null,null,null,null,null,null,"-"]
["-","-",null,"",null,null,null,null,null,null,null,"-"]
["-","-",null,"",null,null,null,null,null,null,null,"-"]
["-","-",null,"",null,null,null,null,null,null,null,"-"]
["-","-",null,"",null,null,null,null,null,null,null,"-"]
["-","-",null,"",null,null,null,null,null,null,null,"-"]
["-","-",null,"",null,null,null,null,null,null,null,"-"]
["-","-",null,"",null,null,null,null,null,null,null,"-"]
["-","-",null,"",null,null,null,null,null,null,null,"-"]
["-","-",null,"",null,null,null,null,null,null,null,"-"]
["-","-",null,"",null,null,null,null,null,null,null,"-"]
["-","-",null,"",null,null,null,null,null,null,null,"-"]
["-","-",null,"",null,null,null,null,null,null,null,"-"]
["-","-",null,"",null,null,null,null,null,null,null,"-"]
["-","-",null,"",null,null,null,null,null,null,null,"-"]
["-","-",null,"",null,null,null,null,null,null,null,"-"]
["-","-",null,"",null,null,null,null,null,null,null,"-"]
["-","-",null,"",null,null,null,null,null,null,null,"-"]
["-","-",null,"",null,null,null,null,null,null,null,"-"]
["-","-",null,"",null,null,null,null,null,null,null,"-"]
["-","-",null,"",null,null,null,null,null,null,null,"-"]
["-","-",null,"",null,null,null,null,null,null,null,"-"]
["-","-",null,"",null,null,null,null,null,null,null,"-"]
["-","-",null,"",null,null,null,null,null,null,null,"-"]
["-","-",null,"",null,null,null,null,null,null,null,"-"]
["-","-",null,"",null,null,null,null,null,null,null,"-"]
["-","-",null,"",null,null,null,null,null,null,null,"-"]
["-","-",null,"",null,null,null,null,null,null,null,"-"]
["-","-",null,"",null,null,null,null,null,null,null,"-"]
["-","-",null,"",null,null,null,null,null,null,null,"-"]
["-","-",null,"",null,null,null,null,null,null,null,"-"]
["-","-",null,"",null,null,null,null,null,null,null,"-"]
["-","-",null,"",null,null,null,null,null,null,null,"-"]
["-","-",null,"",null,null,null,null,null,null,null,"-"]
["-","-",null,"",null,null,null,null,null,null,null,"-"]
["-","-",null,"",null,null,null,null,null,null,null,"-"]
["-","-",null,"",null,null,null,null,null,null,null,"-"]
["-","-",null,"",null,null,null,null,null,null,null,"-"]
["-","-",null,"",null,null,null,null,null,null,null,"-"]
["-","-",null,"",null,null,null,null,null,null,null,"-"]
["-","-",null,"",null,null,null,null,null,null,null,"-"]
["-","-",null,"",null,null,null,null,null,null,null,"-"]
["-",{"$f":"IF(ISBLANK(C837),\"-\",INDIRECT(\"VEGSAMPLINGTASKS!A\"&MATCH(C837,TaskLabel,0)+4))","v":"-"},null,"",null,null,null,null,null,null,null,{"$f":"IF(ISBLANK(C837),\"-\",VLOOKUP(INDIRECT(\"VEGSAMPLINGTASKS!G\"&MATCH(C837,TaskLabel,0)+4),VT_PlotPercentTypeDescrip,2,FALSE))","v":"-"}]
["-","-",null,{"$f":"IF(ISBLANK(C838),\"\",IF(ISBLANK(D837),1,D837))","v":""},null,null,null,null,null,null,null,"-"]
[{"$f":"IF(ISBLANK(C839),\"-\",GenGuid())","v":"-"},"-",null,"",null,null,null,null,null,null,null,"-"]
["-","-",null,"",null,null,null,null,null,null,null,"-"]
["-","-",null,"",null,null,null,null,null,null,null,"-"]
["-","-",null,"",null,null,null,null,null,null,null,"-"]
["-","-",null,"",null,null,null,null,null,null,null,"-"]
["-","-",null,"",null,null,null,null,null,null,null,"-"]
["-","-",null,"",null,null,null,null,null,null,null,"-"]
["-","-",null,"",null,null,null,null,null,null,null,"-"]
["-","-",null,"",null,null,null,null,null,null,null,"-"]
["-","-",null,"",null,null,null,null,null,null,null,"-"]
["-","-",null,"",null,null,null,null,null,null,null,"-"]
["-","-",null,"",null,null,null,null,null,null,null,"-"]
["-","-",null,"",null,null,null,null,null,null,null,"-"]
["-","-",null,"",null,null,null,null,null,null,null,"-"]
["-","-",null,"",null,null,null,null,null,null,null,"-"]
["-","-",null,"",null,null,null,null,null,null,null,"-"]
["-","-",null,"",null,null,null,null,null,null,null,"-"]
["-","-",null,"",null,null,null,null,null,null,null,"-"]
["-","-",null,"",null,null,null,null,null,null,null,"-"]
["-","-",null,"",null,null,null,null,null,null,null,"-"]
["-","-",null,"",null,null,null,null,null,null,null,"-"]
["-","-",null,"",null,null,null,null,null,null,null,"-"]
["-","-",null,"",null,null,null,null,null,null,null,"-"]
["-","-",null,"",null,null,null,null,null,null,null,"-"]
["-","-",null,"",null,null,null,null,null,null,null,"-"]
["-","-",null,"",null,null,null,null,null,null,null,"-"]
["-","-",null,"",null,null,null,null,null,null,null,"-"]
["-","-",null,"",null,null,null,null,null,null,null,"-"]
["-","-",null,"",null,null,null,null,null,null,null,"-"]
["-","-",null,"",null,null,null,null,null,null,null,"-"]
["-","-",null,"",null,null,null,null,null,null,null,"-"]
["-","-",null,"",null,null,null,null,null,null,null,"-"]
["-","-",null,"",null,null,null,null,null,null,null,"-"]
["-","-",null,"",null,null,null,null,null,null,null,"-"]
["-","-",null,"",null,null,null,null,null,null,null,"-"]
["-","-",null,"",null,null,null,null,null,null,null,"-"]
["-","-",null,"",null,null,null,null,null,null,null,"-"]
["-","-",null,"",null,null,null,null,null,null,null,"-"]
["-","-",null,"",null,null,null,null,null,null,null,"-"]
["-","-",null,"",null,null,null,null,null,null,null,"-"]
["-","-",null,"",null,null,null,null,null,null,null,"-"]
["-","-",null,"",null,null,null,null,null,null,null,"-"]
["-","-",null,"",null,null,null,null,null,null,null,"-"]
["-","-",null,"",null,null,null,null,null,null,null,"-"]
["-","-",null,"",null,null,null,null,null,null,null,"-"]
["-","-",null,"",null,null,null,null,null,null,null,"-"]
["-","-",null,"",null,null,null,null,null,null,null,"-"]
["-","-",null,"",null,null,null,null,null,null,null,"-"]
["-","-",null,"",null,null,null,null,null,null,null,"-"]
["-","-",null,"",null,null,null,null,null,null,null,"-"]
["-","-",null,"",null,null,null,null,null,null,null,"-"]
["-","-",null,"",null,null,null,null,null,null,null,"-"]
["-","-",null,"",null,null,null,null,null,null,null,"-"]
["-","-",null,"",null,null,null,null,null,null,null,"-"]
["-","-",null,"",null,null,null,null,null,null,null,"-"]
["-","-",null,"",null,null,null,null,null,null,null,"-"]
["-","-",null,"",null,null,null,null,null,null,null,"-"]
["-","-",null,"",null,null,null,null,null,null,null,"-"]
["-","-",null,"",null,null,null,null,null,null,null,"-"]
["-","-",null,"",null,null,null,null,null,null,null,"-"]
["-","-",null,"",null,null,null,null,null,null,null,"-"]
["-","-",null,"",null,null,null,null,null,null,null,"-"]
["-",{"$f":"IF(ISBLANK(C901),\"-\",INDIRECT(\"VEGSAMPLINGTASKS!A\"&MATCH(C901,TaskLabel,0)+4))","v":"-"},null,"",null,null,null,null,null,null,null,{"$f":"IF(ISBLANK(C901),\"-\",VLOOKUP(INDIRECT(\"VEGSAMPLINGTASKS!G\"&MATCH(C901,TaskLabel,0)+4),VT_PlotPercentTypeDescrip,2,FALSE))","v":"-"}]
["-","-",null,{"$f":"IF(ISBLANK(C902),\"\",IF(ISBLANK(D901),1,D901))","v":""},null,null,null,null,null,null,null,"-"]
[{"$f":"IF(ISBLANK(C903),\"-\",GenGuid())","v":"-"},"-",null,"",null,null,null,null,null,null,null,"-"]
["-","-",null,"",null,null,null,null,null,null,null,"-"]
["-","-",null,"",null,null,null,null,null,null,null,"-"]
["-","-",null,"",null,null,null,null,null,null,null,"-"]
["-","-",null,"",null,null,null,null,null,null,null,"-"]
["-","-",null,"",null,null,null,null,null,null,null,"-"]
["-","-",null,"",null,null,null,null,null,null,null,"-"]
["-","-",null,"",null,null,null,null,null,null,null,"-"]
["-","-",null,"",null,null,null,null,null,null,null,"-"]
["-","-",null,"",null,null,null,null,null,null,null,"-"]
["-","-",null,"",null,null,null,null,null,null,null,"-"]
["-","-",null,"",null,null,null,null,null,null,null,"-"]
["-","-",null,"",null,null,null,null,null,null,null,"-"]
["-","-",null,"",null,null,null,null,null,null,null,"-"]
["-","-",null,"",null,null,null,null,null,null,null,"-"]
["-","-",null,"",null,null,null,null,null,null,null,"-"]
["-","-",null,"",null,null,null,null,null,null,null,"-"]
["-","-",null,"",null,null,null,null,null,null,null,"-"]
["-","-",null,"",null,null,null,null,null,null,null,"-"]
["-","-",null,"",null,null,null,null,null,null,null,"-"]
["-","-",null,"",null,null,null,null,null,null,null,"-"]
["-","-",null,"",null,null,null,null,null,null,null,"-"]
["-","-",null,"",null,null,null,null,null,null,null,"-"]
["-","-",null,"",null,null,null,null,null,null,null,"-"]
["-","-",null,"",null,null,null,null,null,null,null,"-"]
["-","-",null,"",null,null,null,null,null,null,null,"-"]
["-","-",null,"",null,null,null,null,null,null,null,"-"]
["-","-",null,"",null,null,null,null,null,null,null,"-"]
["-","-",null,"",null,null,null,null,null,null,null,"-"]
["-","-",null,"",null,null,null,null,null,null,null,"-"]
["-","-",null,"",null,null,null,null,null,null,null,"-"]
["-","-",null,"",null,null,null,null,null,null,null,"-"]
["-","-",null,"",null,null,null,null,null,null,null,"-"]
["-","-",null,"",null,null,null,null,null,null,null,"-"]
["-","-",null,"",null,null,null,null,null,null,null,"-"]
["-","-",null,"",null,null,null,null,null,null,null,"-"]
["-","-",null,"",null,null,null,null,null,null,null,"-"]
["-","-",null,"",null,null,null,null,null,null,null,"-"]
["-","-",null,"",null,null,null,null,null,null,null,"-"]
["-","-",null,"",null,null,null,null,null,null,null,"-"]
["-","-",null,"",null,null,null,null,null,null,null,"-"]
["-","-",null,"",null,null,null,null,null,null,null,"-"]
["-","-",null,"",null,null,null,null,null,null,null,"-"]
["-","-",null,"",null,null,null,null,null,null,null,"-"]
["-","-",null,"",null,null,null,null,null,null,null,"-"]
["-","-",null,"",null,null,null,null,null,null,null,"-"]
["-","-",null,"",null,null,null,null,null,null,null,"-"]
["-","-",null,"",null,null,null,null,null,null,null,"-"]
["-","-",null,"",null,null,null,null,null,null,null,"-"]
["-","-",null,"",null,null,null,null,null,null,null,"-"]
["-","-",null,"",null,null,null,null,null,null,null,"-"]
["-","-",null,"",null,null,null,null,null,null,null,"-"]
["-","-",null,"",null,null,null,null,null,null,null,"-"]
["-","-",null,"",null,null,null,null,null,null,null,"-"]
["-","-",null,"",null,null,null,null,null,null,null,"-"]
["-","-",null,"",null,null,null,null,null,null,null,"-"]
["-","-",null,"",null,null,null,null,null,null,null,"-"]
["-","-",null,"",null,null,null,null,null,null,null,"-"]
["-","-",null,"",null,null,null,null,null,null,null,"-"]
["-","-",null,"",null,null,null,null,null,null,null,"-"]
["-","-",null,"",null,null,null,null,null,null,null,"-"]
["-","-",null,"",null,null,null,null,null,null,null,"-"]
["-",{"$f":"IF(ISBLANK(C965),\"-\",INDIRECT(\"VEGSAMPLINGTASKS!A\"&MATCH(C965,TaskLabel,0)+4))","v":"-"},null,"",null,null,null,null,null,null,null,{"$f":"IF(ISBLANK(C965),\"-\",VLOOKUP(INDIRECT(\"VEGSAMPLINGTASKS!G\"&MATCH(C965,TaskLabel,0)+4),VT_PlotPercentTypeDescrip,2,FALSE))","v":"-"}]
["-","-",null,{"$f":"IF(ISBLANK(C966),\"\",IF(ISBLANK(D965),1,D965))","v":""},null,null,null,null,null,null,null,"-"]
[{"$f":"IF(ISBLANK(C967),\"-\",GenGuid())","v":"-"},"-",null,"",null,null,null,null,null,null,null,"-"]
["-","-",null,"",null,null,null,null,null,null,null,"-"]
["-","-",null,"",null,null,null,null,null,null,null,"-"]
["-","-",null,"",null,null,null,null,null,null,null,"-"]
["-","-",null,"",null,null,null,null,null,null,null,"-"]
["-","-",null,"",null,null,null,null,null,null,null,"-"]
["-","-",null,"",null,null,null,null,null,null,null,"-"]
["-","-",null,"",null,null,null,null,null,null,null,"-"]
["-","-",null,"",null,null,null,null,null,null,null,"-"]
["-","-",null,"",null,null,null,null,null,null,null,"-"]
["-","-",null,"",null,null,null,null,null,null,null,"-"]
["-","-",null,"",null,null,null,null,null,null,null,"-"]
["-","-",null,"",null,null,null,null,null,null,null,"-"]
["-","-",null,"",null,null,null,null,null,null,null,"-"]
["-","-",null,"",null,null,null,null,null,null,null,"-"]
["-","-",null,"",null,null,null,null,null,null,null,"-"]
["-","-",null,"",null,null,null,null,null,null,null,"-"]
["-","-",null,"",null,null,null,null,null,null,null,"-"]
["-","-",null,"",null,null,null,null,null,null,null,"-"]
["-","-",null,"",null,null,null,null,null,null,null,"-"]
["-","-",null,"",null,null,null,null,null,null,null,"-"]
["-","-",null,"",null,null,null,null,null,null,null,"-"]
["-","-",null,"",null,null,null,null,null,null,null,"-"]
["-","-",null,"",null,null,null,null,null,null,null,"-"]
["-","-",null,"",null,null,null,null,null,null,null,"-"]
["-","-",null,"",null,null,null,null,null,null,null,"-"]
["-","-",null,"",null,null,null,null,null,null,null,"-"]
["-","-",null,"",null,null,null,null,null,null,null,"-"]
["-","-",null,"",null,null,null,null,null,null,null,"-"]
["-","-",null,"",null,null,null,null,null,null,null,"-"]
["-","-",null,"",null,null,null,null,null,null,null,"-"]
["-","-",null,"",null,null,null,null,null,null,null,"-"]
["-","-",null,"",null,null,null,null,null,null,null,"-"]
["-","-",null,"",null,null,null,null,null,null,null,"-"]
["-","-",null,"",null,null,null,null,null,null,null,"-"]
["-","-",null,"",null,null,null,null,null,null,null,"-"]
["-","-",null,"",null,null,null,null,null,null,null,"-"]
["-","-",null,"",null,null,null,null,null,null,null,"-"]
["To add more rows, copy from the previous line to ensure the proper formatting/formulas are in place."]

{"sheet":"SampleSTRUCTUREGrid","index":12,"n_rows":1005,"n_cols":34,"rows_kept":1005,"cut":false,"hidden":false,"merged":[]}
["SampleStructureID","VegSamplingTaskID","TaskLabel","VegSampleNumber",{"$f":"\"Layer\"&TEXT(COLUMN()-4,\"0#\")","v":"Layer01"},{"$f":"\"Layer\"&TEXT(COLUMN()-4,\"0#\")","v":"Layer02"},"Layer03","Layer04","Layer05","Layer06","Layer07","Layer08","Layer09","Layer10","Layer11","Layer12","Layer13","Layer14","Layer15","Layer16","Layer17","Layer18","Layer19","Layer20","Layer21","Layer22","Layer23","Layer24","Layer25","Layer26","Layer27","Layer28","Layer29","Layer30"]
["Name","Survey ID","Task Label","Sample Number",{"$f":"\"Layer Pct Cover No \"&VALUE(MID(E1,6,2))&\" assigned as\"","v":"Layer Pct Cover No 1 assigned as"},{"$f":"\"Layer Pct Cover No \"&VALUE(MID(F1,6,2))&\" assigned as\"","v":"Layer Pct Cover No 2 assigned as"},"Layer Pct Cover No 3 assigned as","Layer Pct Cover No 4 assigned as","Layer Pct Cover No 5 assigned as","Layer Pct Cover No 6 assigned as","Layer Pct Cover No 7 assigned as","Layer Pct Cover No 8 assigned as","Layer Pct Cover No 9 assigned as","Layer Pct Cover No 10 assigned as","Layer Pct Cover No 11 assigned as","Layer Pct Cover No 12 assigned as","Layer Pct Cover No 13 assigned as","Layer Pct Cover No 14 assigned as","Layer Pct Cover No 15 assigned as","Layer Pct Cover No 16 assigned as","Layer Pct Cover No 17 assigned as","Layer Pct Cover No 18 assigned as","Layer Pct Cover No 19 assigned as","Layer Pct Cover No 20 assigned as","Layer Pct Cover No 21 assigned as","Layer Pct Cover No 22 assigned as","Layer Pct Cover No 23 assigned as","Layer Pct Cover No 24 assigned as","Layer Pct Cover No 25 assigned as","Layer Pct Cover No 26 assigned as","Layer Pct Cover No 27 assigned as","Layer Pct Cover No 28 assigned as","Layer Pct Cover No 29 assigned as","Layer Pct Cover No 30 assigned as"]
["Type",null,"Text","Integer"]
["Max Length",null,100,null,{"$f":"IF(ISBLANK(E3),\"-\",PROPER(INDIRECT(\"CODES1!C\"&MATCH(E3,VT_PlotLayers,0)+289)))","v":"-"},{"$f":"IF(ISBLANK(F3),\"-\",PROPER(INDIRECT(\"CODES1!C\"&MATCH(F3,VT_PlotLayers,0)+289)))","v":"-"},{"$f":"IF(ISBLANK(G3),\"-\",PROPER(INDIRECT(\"CODES1!C\"&MATCH(G3,VT_PlotLayers,0)+289)))","v":"-"},{"$f":"IF(ISBLANK(H3),\"-\",PROPER(INDIRECT(\"CODES1!C\"&MATCH(H3,VT_PlotLayers,0)+289)))","v":"-"},{"$f":"IF(ISBLANK(I3),\"-\",PROPER(INDIRECT(\"CODES1!C\"&MATCH(I3,VT_PlotLayers,0)+289)))","v":"-"},{"$f":"IF(ISBLANK(J3),\"-\",PROPER(INDIRECT(\"CODES1!C\"&MATCH(J3,VT_PlotLayers,0)+289)))","v":"-"},{"$f":"IF(ISBLANK(K3),\"-\",PROPER(INDIRECT(\"CODES1!C\"&MATCH(K3,VT_PlotLayers,0)+289)))","v":"-"},{"$f":"IF(ISBLANK(L3),\"-\",PROPER(INDIRECT(\"CODES1!C\"&MATCH(L3,VT_PlotLayers,0)+289)))","v":"-"},{"$f":"IF(ISBLANK(M3),\"-\",PROPER(INDIRECT(\"CODES1!C\"&MATCH(M3,VT_PlotLayers,0)+289)))","v":"-"},{"$f":"IF(ISBLANK(N3),\"-\",PROPER(INDIRECT(\"CODES1!C\"&MATCH(N3,VT_PlotLayers,0)+289)))","v":"-"},{"$f":"IF(ISBLANK(O3),\"-\",PROPER(INDIRECT(\"CODES1!C\"&MATCH(O3,VT_PlotLayers,0)+289)))","v":"-"},{"$f":"IF(ISBLANK(P3),\"-\",PROPER(INDIRECT(\"CODES1!C\"&MATCH(P3,VT_PlotLayers,0)+289)))","v":"-"},{"$f":"IF(ISBLANK(Q3),\"-\",PROPER(INDIRECT(\"CODES1!C\"&MATCH(Q3,VT_PlotLayers,0)+289)))","v":"-"},{"$f":"IF(ISBLANK(R3),\"-\",PROPER(INDIRECT(\"CODES1!C\"&MATCH(R3,VT_PlotLayers,0)+289)))","v":"-"},{"$f":"IF(ISBLANK(S3),\"-\",PROPER(INDIRECT(\"CODES1!C\"&MATCH(S3,VT_PlotLayers,0)+289)))","v":"-"},{"$f":"IF(ISBLANK(T3),\"-\",PROPER(INDIRECT(\"CODES1!C\"&MATCH(T3,VT_PlotLayers,0)+289)))","v":"-"},{"$f":"IF(ISBLANK(U3),\"-\",PROPER(INDIRECT(\"CODES1!C\"&MATCH(U3,VT_PlotLayers,0)+289)))","v":"-"},{"$f":"IF(ISBLANK(V3),\"-\",PROPER(INDIRECT(\"CODES1!C\"&MATCH(V3,VT_PlotLayers,0)+289)))","v":"-"},{"$f":"IF(ISBLANK(W3),\"-\",PROPER(INDIRECT(\"CODES1!C\"&MATCH(W3,VT_PlotLayers,0)+289)))","v":"-"},{"$f":"IF(ISBLANK(X3),\"-\",PROPER(INDIRECT(\"CODES1!C\"&MATCH(X3,VT_PlotLayers,0)+289)))","v":"-"},{"$f":"IF(ISBLANK(Y3),\"-\",PROPER(INDIRECT(\"CODES1!C\"&MATCH(Y3,VT_PlotLayers,0)+289)))","v":"-"},{"$f":"IF(ISBLANK(Z3),\"-\",PROPER(INDIRECT(\"CODES1!C\"&MATCH(Z3,VT_PlotLayers,0)+289)))","v":"-"},{"$f":"IF(ISBLANK(AA3),\"-\",PROPER(INDIRECT(\"CODES1!C\"&MATCH(AA3,VT_PlotLayers,0)+289)))","v":"-"},{"$f":"IF(ISBLANK(AB3),\"-\",PROPER(INDIRECT(\"CODES1!C\"&MATCH(AB3,VT_PlotLayers,0)+289)))","v":"-"},{"$f":"IF(ISBLANK(AC3),\"-\",PROPER(INDIRECT(\"CODES1!C\"&MATCH(AC3,VT_PlotLayers,0)+289)))","v":"-"},{"$f":"IF(ISBLANK(AD3),\"-\",PROPER(INDIRECT(\"CODES1!C\"&MATCH(AD3,VT_PlotLayers,0)+289)))","v":"-"},{"$f":"IF(ISBLANK(AE3),\"-\",PROPER(INDIRECT(\"CODES1!C\"&MATCH(AE3,VT_PlotLayers,0)+289)))","v":"-"},{"$f":"IF(ISBLANK(AF3),\"-\",PROPER(INDIRECT(\"CODES1!C\"&MATCH(AF3,VT_PlotLayers,0)+289)))","v":"-"},{"$f":"IF(ISBLANK(AG3),\"-\",PROPER(INDIRECT(\"CODES1!C\"&MATCH(AG3,VT_PlotLayers,0)+289)))","v":"-"},{"$f":"IF(ISBLANK(AH3),\"-\",PROPER(INDIRECT(\"CODES1!C\"&MATCH(AH3,VT_PlotLayers,0)+289)))","v":"-"}]
[{"$f":"IF(ISBLANK(C5),\"-\",GenGuid())","v":"-"},{"$f":"IF(ISBLANK(C5),\"-\",INDIRECT(\"VEGSAMPLINGTASKS!A\"&MATCH(C5,TaskLabel,0)+4))","v":"-"},null,{"$f":"IF(ISBLANK(C5),\"\",IF(ISBLANK(D4),1,D4))","v":""}]
[{"$f":"IF(ISBLANK(C6),\"-\",GenGuid())","v":"-"},"-",null,{"$f":"IF(ISBLANK(C6),\"\",IF(ISBLANK(D5),1,D5))","v":""}]
[{"$f":"IF(ISBLANK(C7),\"-\",GenGuid())","v":"-"},"-",null,""]
["-","-",null,""]
["-","-",null,""]
["-","-",null,""]
["-","-",null,""]
["-","-",null,""]
["-","-",null,""]
["-","-",null,""]
["-","-",null,""]
["-","-",null,""]
["-","-",null,""]
["-","-",null,""]
["-","-",null,""]
["-","-",null,""]
["-","-",null,""]
["-","-",null,""]
["-","-",null,""]
["-","-",null,""]
["-","-",null,""]
["-","-",null,""]
["-","-",null,""]
["-","-",null,""]
["-","-",null,""]
["-","-",null,""]
["-","-",null,""]
["-","-",null,""]
["-","-",null,""]
["-","-",null,""]
["-","-",null,""]
["-","-",null,""]
["-","-",null,""]
["-","-",null,""]
["-","-",null,""]
["-","-",null,""]
["-","-",null,""]
["-","-",null,""]
["-","-",null,""]
["-","-",null,""]
["-","-",null,""]
["-","-",null,""]
["-","-",null,""]
["-","-",null,""]
["-","-",null,""]
["-","-",null,""]
["-","-",null,""]
["-","-",null,""]
["-","-",null,""]
["-","-",null,""]
["-","-",null,""]
["-","-",null,""]
["-","-",null,""]
["-","-",null,""]
["-","-",null,""]
["-","-",null,""]
["-","-",null,""]
["-","-",null,""]
["-","-",null,""]
["-","-",null,""]
["-","-",null,""]
["-","-",null,""]
["-","-",null,""]
["-","-",null,""]
["-",{"$f":"IF(ISBLANK(C69),\"-\",INDIRECT(\"VEGSAMPLINGTASKS!A\"&MATCH(C69,TaskLabel,0)+4))","v":"-"},null,""]
["-","-",null,{"$f":"IF(ISBLANK(C70),\"\",IF(ISBLANK(D69),1,D69))","v":""}]
[{"$f":"IF(ISBLANK(C71),\"-\",GenGuid())","v":"-"},"-",null,""]
["-","-",null,""]
["-","-",null,""]
["-","-",null,""]
["-","-",null,""]
["-","-",null,""]
["-","-",null,""]
["-","-",null,""]
["-","-",null,""]
["-","-",null,""]
["-","-",null,""]
["-","-",null,""]
["-","-",null,""]
["-","-",null,""]
["-","-",null,""]
["-","-",null,""]
["-","-",null,""]
["-","-",null,""]
["-","-",null,""]
["-","-",null,""]
["-","-",null,""]
["-","-",null,""]
["-","-",null,""]
["-","-",null,""]
["-","-",null,""]
["-","-",null,""]
["-","-",null,""]
["-","-",null,""]
["-","-",null,""]
["-","-",null,""]
["-","-",null,""]
["-","-",null,""]
["-","-",null,""]
["-","-",null,""]
["-","-",null,""]
["-","-",null,""]
["-","-",null,""]
["-","-",null,""]
["-","-",null,""]
["-","-",null,""]
["-","-",null,""]
["-","-",null,""]
["-","-",null,""]
["-","-",null,""]
["-","-",null,""]
["-","-",null,""]
["-","-",null,""]
["-","-",null,""]
["-","-",null,""]
["-","-",null,""]
["-","-",null,""]
["-","-",null,""]
["-","-",null,""]
["-","-",null,""]
["-","-",null,""]
["-","-",null,""]
["-","-",null,""]
["-","-",null,""]
["-","-",null,""]
["-","-",null,""]
["-","-",null,""]
["-","-",null,""]
["-",{"$f":"IF(ISBLANK(C133),\"-\",INDIRECT(\"VEGSAMPLINGTASKS!A\"&MATCH(C133,TaskLabel,0)+4))","v":"-"},null,""]
["-","-",null,{"$f":"IF(ISBLANK(C134),\"\",IF(ISBLANK(D133),1,D133))","v":""}]
[{"$f":"IF(ISBLANK(C135),\"-\",GenGuid())","v":"-"},"-",null,""]
["-","-",null,""]
["-","-",null,""]
["-","-",null,""]
["-","-",null,""]
["-","-",null,""]
["-","-",null,""]
["-","-",null,""]
["-","-",null,""]
["-","-",null,""]
["-","-",null,""]
["-","-",null,""]
["-","-",null,""]
["-","-",null,""]
["-","-",null,""]
["-","-",null,""]
["-","-",null,""]
["-","-",null,""]
["-","-",null,""]
["-","-",null,""]
["-","-",null,""]
["-","-",null,""]
["-","-",null,""]
["-","-",null,""]
["-","-",null,""]
["-","-",null,""]
["-","-",null,""]
["-","-",null,""]
["-","-",null,""]
["-","-",null,""]
["-","-",null,""]
["-","-",null,""]
["-","-",null,""]
["-","-",null,""]
["-","-",null,""]
["-","-",null,""]
["-","-",null,""]
["-","-",null,""]
["-","-",null,""]
["-","-",null,""]
["-","-",null,""]
["-","-",null,""]
["-","-",null,""]
["-","-",null,""]
["-","-",null,""]
["-","-",null,""]
["-","-",null,""]
["-","-",null,""]
["-","-",null,""]
["-","-",null,""]
["-","-",null,""]
["-","-",null,""]
["-","-",null,""]
["-","-",null,""]
["-","-",null,""]
["-","-",null,""]
["-","-",null,""]
["-","-",null,""]
["-","-",null,""]
["-","-",null,""]
["-","-",null,""]
["-","-",null,""]
["-",{"$f":"IF(ISBLANK(C197),\"-\",INDIRECT(\"VEGSAMPLINGTASKS!A\"&MATCH(C197,TaskLabel,0)+4))","v":"-"},null,""]
["-","-",null,{"$f":"IF(ISBLANK(C198),\"\",IF(ISBLANK(D197),1,D197))","v":""}]
[{"$f":"IF(ISBLANK(C199),\"-\",GenGuid())","v":"-"},"-",null,""]
["-","-",null,""]
["-","-",null,""]
["-","-",null,""]
["-","-",null,""]
["-","-",null,""]
["-","-",null,""]
["-","-",null,""]
["-","-",null,""]
["-","-",null,""]
["-","-",null,""]
["-","-",null,""]
["-","-",null,""]
["-","-",null,""]
["-","-",null,""]
["-","-",null,""]
["-","-",null,""]
["-","-",null,""]
["-","-",null,""]
["-","-",null,""]
["-","-",null,""]
["-","-",null,""]
["-","-",null,""]
["-","-",null,""]
["-","-",null,""]
["-","-",null,""]
["-","-",null,""]
["-","-",null,""]
["-","-",null,""]
["-","-",null,""]
["-","-",null,""]
["-","-",null,""]
["-","-",null,""]
["-","-",null,""]
["-","-",null,""]
["-","-",null,""]
["-","-",null,""]
["-","-",null,""]
["-","-",null,""]
["-","-",null,""]
["-","-",null,""]
["-","-",null,""]
["-","-",null,""]
["-","-",null,""]
["-","-",null,""]
["-","-",null,""]
["-","-",null,""]
["-","-",null,""]
["-","-",null,""]
["-","-",null,""]
["-","-",null,""]
["-","-",null,""]
["-","-",null,""]
["-","-",null,""]
["-","-",null,""]
["-","-",null,""]
["-","-",null,""]
["-","-",null,""]
["-","-",null,""]
["-","-",null,""]
["-","-",null,""]
["-","-",null,""]
["-",{"$f":"IF(ISBLANK(C261),\"-\",INDIRECT(\"VEGSAMPLINGTASKS!A\"&MATCH(C261,TaskLabel,0)+4))","v":"-"},null,""]
["-","-",null,{"$f":"IF(ISBLANK(C262),\"\",IF(ISBLANK(D261),1,D261))","v":""}]
[{"$f":"IF(ISBLANK(C263),\"-\",GenGuid())","v":"-"},"-",null,""]
["-","-",null,""]
["-","-",null,""]
["-","-",null,""]
["-","-",null,""]
["-","-",null,""]
["-","-",null,""]
["-","-",null,""]
["-","-",null,""]
["-","-",null,""]
["-","-",null,""]
["-","-",null,""]
["-","-",null,""]
["-","-",null,""]
["-","-",null,""]
["-","-",null,""]
["-","-",null,""]
["-","-",null,""]
["-","-",null,""]
["-","-",null,""]
["-","-",null,""]
["-","-",null,""]
["-","-",null,""]
["-","-",null,""]
["-","-",null,""]
["-","-",null,""]
["-","-",null,""]
["-","-",null,""]
["-","-",null,""]
["-","-",null,""]
["-","-",null,""]
["-","-",null,""]
["-","-",null,""]
["-","-",null,""]
["-","-",null,""]
["-","-",null,""]
["-","-",null,""]
["-","-",null,""]
["-","-",null,""]
["-","-",null,""]
["-","-",null,""]
["-","-",null,""]
["-","-",null,""]
["-","-",null,""]
["-","-",null,""]
["-","-",null,""]
["-","-",null,""]
["-","-",null,""]
["-","-",null,""]
["-","-",null,""]
["-","-",null,""]
["-","-",null,""]
["-","-",null,""]
["-","-",null,""]
["-","-",null,""]
["-","-",null,""]
["-","-",null,""]
["-","-",null,""]
["-","-",null,""]
["-","-",null,""]
["-","-",null,""]
["-","-",null,""]
["-",{"$f":"IF(ISBLANK(C325),\"-\",INDIRECT(\"VEGSAMPLINGTASKS!A\"&MATCH(C325,TaskLabel,0)+4))","v":"-"},null,""]
["-","-",null,{"$f":"IF(ISBLANK(C326),\"\",IF(ISBLANK(D325),1,D325))","v":""}]
[{"$f":"IF(ISBLANK(C327),\"-\",GenGuid())","v":"-"},"-",null,""]
["-","-",null,""]
["-","-",null,""]
["-","-",null,""]
["-","-",null,""]
["-","-",null,""]
["-","-",null,""]
["-","-",null,""]
["-","-",null,""]
["-","-",null,""]
["-","-",null,""]
["-","-",null,""]
["-","-",null,""]
["-","-",null,""]
["-","-",null,""]
["-","-",null,""]
["-","-",null,""]
["-","-",null,""]
["-","-",null,""]
["-","-",null,""]
["-","-",null,""]
["-","-",null,""]
["-","-",null,""]
["-","-",null,""]
["-","-",null,""]
["-","-",null,""]
["-","-",null,""]
["-","-",null,""]
["-","-",null,""]
["-","-",null,""]
["-","-",null,""]
["-","-",null,""]
["-","-",null,""]
["-","-",null,""]
["-","-",null,""]
["-","-",null,""]
["-","-",null,""]
["-","-",null,""]
["-","-",null,""]
["-","-",null,""]
["-","-",null,""]
["-","-",null,""]
["-","-",null,""]
["-","-",null,""]
["-","-",null,""]
["-","-",null,""]
["-","-",null,""]
["-","-",null,""]
["-","-",null,""]
["-","-",null,""]
["-","-",null,""]
["-","-",null,""]
["-","-",null,""]
["-","-",null,""]
["-","-",null,""]
["-","-",null,""]
["-","-",null,""]
["-","-",null,""]
["-","-",null,""]
["-","-",null,""]
["-","-",null,""]
["-","-",null,""]
["-",{"$f":"IF(ISBLANK(C389),\"-\",INDIRECT(\"VEGSAMPLINGTASKS!A\"&MATCH(C389,TaskLabel,0)+4))","v":"-"},null,""]
["-","-",null,{"$f":"IF(ISBLANK(C390),\"\",IF(ISBLANK(D389),1,D389))","v":""}]
[{"$f":"IF(ISBLANK(C391),\"-\",GenGuid())","v":"-"},"-",null,""]
["-","-",null,""]
["-","-",null,""]
["-","-",null,""]
["-","-",null,""]
["-","-",null,""]
["-","-",null,""]
["-","-",null,""]
["-","-",null,""]
["-","-",null,""]
["-","-",null,""]
["-","-",null,""]
["-","-",null,""]
["-","-",null,""]
["-","-",null,""]
["-","-",null,""]
["-","-",null,""]
["-","-",null,""]
["-","-",null,""]
["-","-",null,""]
["-","-",null,""]
["-","-",null,""]
["-","-",null,""]
["-","-",null,""]
["-","-",null,""]
["-","-",null,""]
["-","-",null,""]
["-","-",null,""]
["-","-",null,""]
["-","-",null,""]
["-","-",null,""]
["-","-",null,""]
["-","-",null,""]
["-","-",null,""]
["-","-",null,""]
["-","-",null,""]
["-","-",null,""]
["-","-",null,""]
["-","-",null,""]
["-","-",null,""]
["-","-",null,""]
["-","-",null,""]
["-","-",null,""]
["-","-",null,""]
["-","-",null,""]
["-","-",null,""]
["-","-",null,""]
["-","-",null,""]
["-","-",null,""]
["-","-",null,""]
["-","-",null,""]
["-","-",null,""]
["-","-",null,""]
["-","-",null,""]
["-","-",null,""]
["-","-",null,""]
["-","-",null,""]
["-","-",null,""]
["-","-",null,""]
["-","-",null,""]
["-","-",null,""]
["-","-",null,""]
["-",{"$f":"IF(ISBLANK(C453),\"-\",INDIRECT(\"VEGSAMPLINGTASKS!A\"&MATCH(C453,TaskLabel,0)+4))","v":"-"},null,""]
["-","-",null,{"$f":"IF(ISBLANK(C454),\"\",IF(ISBLANK(D453),1,D453))","v":""}]
[{"$f":"IF(ISBLANK(C455),\"-\",GenGuid())","v":"-"},"-",null,""]
["-","-",null,""]
["-","-",null,""]
["-","-",null,""]
["-","-",null,""]
["-","-",null,""]
["-","-",null,""]
["-","-",null,""]
["-","-",null,""]
["-","-",null,""]
["-","-",null,""]
["-","-",null,""]
["-","-",null,""]
["-","-",null,""]
["-","-",null,""]
["-","-",null,""]
["-","-",null,""]
["-","-",null,""]
["-","-",null,""]
["-","-",null,""]
["-","-",null,""]
["-","-",null,""]
["-","-",null,""]
["-","-",null,""]
["-","-",null,""]
["-","-",null,""]
["-","-",null,""]
["-","-",null,""]
["-","-",null,""]
["-","-",null,""]
["-","-",null,""]
["-","-",null,""]
["-","-",null,""]
["-","-",null,""]
["-","-",null,""]
["-","-",null,""]
["-","-",null,""]
["-","-",null,""]
["-","-",null,""]
["-","-",null,""]
["-","-",null,""]
["-","-",null,""]
["-","-",null,""]
["-","-",null,""]
["-","-",null,""]
["-","-",null,""]
["-","-",null,""]
["-","-",null,""]
["-","-",null,""]
["-","-",null,""]
["-","-",null,""]
["-","-",null,""]
["-","-",null,""]
["-","-",null,""]
["-","-",null,""]
["-","-",null,""]
["-","-",null,""]
["-","-",null,""]
["-","-",null,""]
["-","-",null,""]
["-","-",null,""]
["-","-",null,""]
["-",{"$f":"IF(ISBLANK(C517),\"-\",INDIRECT(\"VEGSAMPLINGTASKS!A\"&MATCH(C517,TaskLabel,0)+4))","v":"-"},null,""]
["-","-",null,{"$f":"IF(ISBLANK(C518),\"\",IF(ISBLANK(D517),1,D517))","v":""}]
[{"$f":"IF(ISBLANK(C519),\"-\",GenGuid())","v":"-"},"-",null,""]
["-","-",null,""]
["-","-",null,""]
["-","-",null,""]
["-","-",null,""]
["-","-",null,""]
["-","-",null,""]
["-","-",null,""]
["-","-",null,""]
["-","-",null,""]
["-","-",null,""]
["-","-",null,""]
["-","-",null,""]
["-","-",null,""]
["-","-",null,""]
["-","-",null,""]
["-","-",null,""]
["-","-",null,""]
["-","-",null,""]
["-","-",null,""]
["-","-",null,""]
["-","-",null,""]
["-","-",null,""]
["-","-",null,""]
["-","-",null,""]
["-","-",null,""]
["-","-",null,""]
["-","-",null,""]
["-","-",null,""]
["-","-",null,""]
["-","-",null,""]
["-","-",null,""]
["-","-",null,""]
["-","-",null,""]
["-","-",null,""]
["-","-",null,""]
["-","-",null,""]
["-","-",null,""]
["-","-",null,""]
["-","-",null,""]
["-","-",null,""]
["-","-",null,""]
["-","-",null,""]
["-","-",null,""]
["-","-",null,""]
["-","-",null,""]
["-","-",null,""]
["-","-",null,""]
["-","-",null,""]
["-","-",null,""]
["-","-",null,""]
["-","-",null,""]
["-","-",null,""]
["-","-",null,""]
["-","-",null,""]
["-","-",null,""]
["-","-",null,""]
["-","-",null,""]
["-","-",null,""]
["-","-",null,""]
["-","-",null,""]
["-","-",null,""]
["-",{"$f":"IF(ISBLANK(C581),\"-\",INDIRECT(\"VEGSAMPLINGTASKS!A\"&MATCH(C581,TaskLabel,0)+4))","v":"-"},null,""]
["-","-",null,{"$f":"IF(ISBLANK(C582),\"\",IF(ISBLANK(D581),1,D581))","v":""}]
[{"$f":"IF(ISBLANK(C583),\"-\",GenGuid())","v":"-"},"-",null,""]
["-","-",null,""]
["-","-",null,""]
["-","-",null,""]
["-","-",null,""]
["-","-",null,""]
["-","-",null,""]
["-","-",null,""]
["-","-",null,""]
["-","-",null,""]
["-","-",null,""]
["-","-",null,""]
["-","-",null,""]
["-","-",null,""]
["-","-",null,""]
["-","-",null,""]
["-","-",null,""]
["-","-",null,""]
["-","-",null,""]
["-","-",null,""]
["-","-",null,""]
["-","-",null,""]
["-","-",null,""]
["-","-",null,""]
["-","-",null,""]
["-","-",null,""]
["-","-",null,""]
["-","-",null,""]
["-","-",null,""]
["-","-",null,""]
["-","-",null,""]
["-","-",null,""]
["-","-",null,""]
["-","-",null,""]
["-","-",null,""]
["-","-",null,""]
["-","-",null,""]
["-","-",null,""]
["-","-",null,""]
["-","-",null,""]
["-","-",null,""]
["-","-",null,""]
["-","-",null,""]
["-","-",null,""]
["-","-",null,""]
["-","-",null,""]
["-","-",null,""]
["-","-",null,""]
["-","-",null,""]
["-","-",null,""]
["-","-",null,""]
["-","-",null,""]
["-","-",null,""]
["-","-",null,""]
["-","-",null,""]
["-","-",null,""]
["-","-",null,""]
["-","-",null,""]
["-","-",null,""]
["-","-",null,""]
["-","-",null,""]
["-","-",null,""]
["-",{"$f":"IF(ISBLANK(C645),\"-\",INDIRECT(\"VEGSAMPLINGTASKS!A\"&MATCH(C645,TaskLabel,0)+4))","v":"-"},null,""]
["-","-",null,{"$f":"IF(ISBLANK(C646),\"\",IF(ISBLANK(D645),1,D645))","v":""}]
[{"$f":"IF(ISBLANK(C647),\"-\",GenGuid())","v":"-"},"-",null,""]
["-","-",null,""]
["-","-",null,""]
["-","-",null,""]
["-","-",null,""]
["-","-",null,""]
["-","-",null,""]
["-","-",null,""]
["-","-",null,""]
["-","-",null,""]
["-","-",null,""]
["-","-",null,""]
["-","-",null,""]
["-","-",null,""]
["-","-",null,""]
["-","-",null,""]
["-","-",null,""]
["-","-",null,""]
["-","-",null,""]
["-","-",null,""]
["-","-",null,""]
["-","-",null,""]
["-","-",null,""]
["-","-",null,""]
["-","-",null,""]
["-","-",null,""]
["-","-",null,""]
["-","-",null,""]
["-","-",null,""]
["-","-",null,""]
["-","-",null,""]
["-","-",null,""]
["-","-",null,""]
["-","-",null,""]
["-","-",null,""]
["-","-",null,""]
["-","-",null,""]
["-","-",null,""]
["-","-",null,""]
["-","-",null,""]
["-","-",null,""]
["-","-",null,""]
["-","-",null,""]
["-","-",null,""]
["-","-",null,""]
["-","-",null,""]
["-","-",null,""]
["-","-",null,""]
["-","-",null,""]
["-","-",null,""]
["-","-",null,""]
["-","-",null,""]
["-","-",null,""]
["-","-",null,""]
["-","-",null,""]
["-","-",null,""]
["-","-",null,""]
["-","-",null,""]
["-","-",null,""]
["-","-",null,""]
["-","-",null,""]
["-","-",null,""]
["-",{"$f":"IF(ISBLANK(C709),\"-\",INDIRECT(\"VEGSAMPLINGTASKS!A\"&MATCH(C709,TaskLabel,0)+4))","v":"-"},null,""]
["-","-",null,{"$f":"IF(ISBLANK(C710),\"\",IF(ISBLANK(D709),1,D709))","v":""}]
[{"$f":"IF(ISBLANK(C711),\"-\",GenGuid())","v":"-"},"-",null,""]
["-","-",null,""]
["-","-",null,""]
["-","-",null,""]
["-","-",null,""]
["-","-",null,""]
["-","-",null,""]
["-","-",null,""]
["-","-",null,""]
["-","-",null,""]
["-","-",null,""]
["-","-",null,""]
["-","-",null,""]
["-","-",null,""]
["-","-",null,""]
["-","-",null,""]
["-","-",null,""]
["-","-",null,""]
["-","-",null,""]
["-","-",null,""]
["-","-",null,""]
["-","-",null,""]
["-","-",null,""]
["-","-",null,""]
["-","-",null,""]
["-","-",null,""]
["-","-",null,""]
["-","-",null,""]
["-","-",null,""]
["-","-",null,""]
["-","-",null,""]
["-","-",null,""]
["-","-",null,""]
["-","-",null,""]
["-","-",null,""]
["-","-",null,""]
["-","-",null,""]
["-","-",null,""]
["-","-",null,""]
["-","-",null,""]
["-","-",null,""]
["-","-",null,""]
["-","-",null,""]
["-","-",null,""]
["-","-",null,""]
["-","-",null,""]
["-","-",null,""]
["-","-",null,""]
["-","-",null,""]
["-","-",null,""]
["-","-",null,""]
["-","-",null,""]
["-","-",null,""]
["-","-",null,""]
["-","-",null,""]
["-","-",null,""]
["-","-",null,""]
["-","-",null,""]
["-","-",null,""]
["-","-",null,""]
["-","-",null,""]
["-","-",null,""]
["-",{"$f":"IF(ISBLANK(C773),\"-\",INDIRECT(\"VEGSAMPLINGTASKS!A\"&MATCH(C773,TaskLabel,0)+4))","v":"-"},null,""]
["-","-",null,{"$f":"IF(ISBLANK(C774),\"\",IF(ISBLANK(D773),1,D773))","v":""}]
[{"$f":"IF(ISBLANK(C775),\"-\",GenGuid())","v":"-"},"-",null,""]
["-","-",null,""]
["-","-",null,""]
["-","-",null,""]
["-","-",null,""]
["-","-",null,""]
["-","-",null,""]
["-","-",null,""]
["-","-",null,""]
["-","-",null,""]
["-","-",null,""]
["-","-",null,""]
["-","-",null,""]
["-","-",null,""]
["-","-",null,""]
["-","-",null,""]
["-","-",null,""]
["-","-",null,""]
["-","-",null,""]
["-","-",null,""]
["-","-",null,""]
["-","-",null,""]
["-","-",null,""]
["-","-",null,""]
["-","-",null,""]
["-","-",null,""]
["-","-",null,""]
["-","-",null,""]
["-","-",null,""]
["-","-",null,""]
["-","-",null,""]
["-","-",null,""]
["-","-",null,""]
["-","-",null,""]
["-","-",null,""]
["-","-",null,""]
["-","-",null,""]
["-","-",null,""]
["-","-",null,""]
["-","-",null,""]
["-","-",null,""]
["-","-",null,""]
["-","-",null,""]
["-","-",null,""]
["-","-",null,""]
["-","-",null,""]
["-","-",null,""]
["-","-",null,""]
["-","-",null,""]
["-","-",null,""]
["-","-",null,""]
["-","-",null,""]
["-","-",null,""]
["-","-",null,""]
["-","-",null,""]
["-","-",null,""]
["-","-",null,""]
["-","-",null,""]
["-","-",null,""]
["-","-",null,""]
["-","-",null,""]
["-","-",null,""]
["-",{"$f":"IF(ISBLANK(C837),\"-\",INDIRECT(\"VEGSAMPLINGTASKS!A\"&MATCH(C837,TaskLabel,0)+4))","v":"-"},null,""]
["-","-",null,{"$f":"IF(ISBLANK(C838),\"\",IF(ISBLANK(D837),1,D837))","v":""}]
[{"$f":"IF(ISBLANK(C839),\"-\",GenGuid())","v":"-"},"-",null,""]
["-","-",null,""]
["-","-",null,""]
["-","-",null,""]
["-","-",null,""]
["-","-",null,""]
["-","-",null,""]
["-","-",null,""]
["-","-",null,""]
["-","-",null,""]
["-","-",null,""]
["-","-",null,""]
["-","-",null,""]
["-","-",null,""]
["-","-",null,""]
["-","-",null,""]
["-","-",null,""]
["-","-",null,""]
["-","-",null,""]
["-","-",null,""]
["-","-",null,""]
["-","-",null,""]
["-","-",null,""]
["-","-",null,""]
["-","-",null,""]
["-","-",null,""]
["-","-",null,""]
["-","-",null,""]
["-","-",null,""]
["-","-",null,""]
["-","-",null,""]
["-","-",null,""]
["-","-",null,""]
["-","-",null,""]
["-","-",null,""]
["-","-",null,""]
["-","-",null,""]
["-","-",null,""]
["-","-",null,""]
["-","-",null,""]
["-","-",null,""]
["-","-",null,""]
["-","-",null,""]
["-","-",null,""]
["-","-",null,""]
["-","-",null,""]
["-","-",null,""]
["-","-",null,""]
["-","-",null,""]
["-","-",null,""]
["-","-",null,""]
["-","-",null,""]
["-","-",null,""]
["-","-",null,""]
["-","-",null,""]
["-","-",null,""]
["-","-",null,""]
["-","-",null,""]
["-","-",null,""]
["-","-",null,""]
["-","-",null,""]
["-","-",null,""]
["-",{"$f":"IF(ISBLANK(C901),\"-\",INDIRECT(\"VEGSAMPLINGTASKS!A\"&MATCH(C901,TaskLabel,0)+4))","v":"-"},null,""]
["-","-",null,{"$f":"IF(ISBLANK(C902),\"\",IF(ISBLANK(D901),1,D901))","v":""}]
[{"$f":"IF(ISBLANK(C903),\"-\",GenGuid())","v":"-"},"-",null,""]
["-","-",null,""]
["-","-",null,""]
["-","-",null,""]
["-","-",null,""]
["-","-",null,""]
["-","-",null,""]
["-","-",null,""]
["-","-",null,""]
["-","-",null,""]
["-","-",null,""]
["-","-",null,""]
["-","-",null,""]
["-","-",null,""]
["-","-",null,""]
["-","-",null,""]
["-","-",null,""]
["-","-",null,""]
["-","-",null,""]
["-","-",null,""]
["-","-",null,""]
["-","-",null,""]
["-","-",null,""]
["-","-",null,""]
["-","-",null,""]
["-","-",null,""]
["-","-",null,""]
["-","-",null,""]
["-","-",null,""]
["-","-",null,""]
["-","-",null,""]
["-","-",null,""]
["-","-",null,""]
["-","-",null,""]
["-","-",null,""]
["-","-",null,""]
["-","-",null,""]
["-","-",null,""]
["-","-",null,""]
["-","-",null,""]
["-","-",null,""]
["-","-",null,""]
["-","-",null,""]
["-","-",null,""]
["-","-",null,""]
["-","-",null,""]
["-","-",null,""]
["-","-",null,""]
["-","-",null,""]
["-","-",null,""]
["-","-",null,""]
["-","-",null,""]
["-","-",null,""]
["-","-",null,""]
["-","-",null,""]
["-","-",null,""]
["-","-",null,""]
["-","-",null,""]
["-","-",null,""]
["-","-",null,""]
["-","-",null,""]
["-","-",null,""]
["-",{"$f":"IF(ISBLANK(C965),\"-\",INDIRECT(\"VEGSAMPLINGTASKS!A\"&MATCH(C965,TaskLabel,0)+4))","v":"-"},null,""]
["-","-",null,{"$f":"IF(ISBLANK(C966),\"\",IF(ISBLANK(D965),1,D965))","v":""}]
[{"$f":"IF(ISBLANK(C967),\"-\",GenGuid())","v":"-"},"-",null,""]
["-","-",null,""]
["-","-",null,""]
["-","-",null,""]
["-","-",null,""]
["-","-",null,""]
["-","-",null,""]
["-","-",null,""]
["-","-",null,""]
["-","-",null,""]
["-","-",null,""]
["-","-",null,""]
["-","-",null,""]
["-","-",null,""]
["-","-",null,""]
["-","-",null,""]
["-","-",null,""]
["-","-",null,""]
["-","-",null,""]
["-","-",null,""]
["-","-",null,""]
["-","-",null,""]
["-","-",null,""]
["-","-",null,""]
["-","-",null,""]
["-","-",null,""]
["-","-",null,""]
["-","-",null,""]
["-","-",null,""]
["-","-",null,""]
["-","-",null,""]
["-","-",null,""]
["-","-",null,""]
["-","-",null,""]
["-","-",null,""]
["-","-",null,""]
["-","-",null,""]
["-","-",null,""]
["To add more rows, copy from the previous line to ensure the proper formatting/formulas are in place."]

{"sheet":"SampleSTRUCTURERows","index":13,"n_rows":1005,"n_cols":10,"rows_kept":1005,"cut":false,"hidden":false,"merged":[]}
["SampleStructureID","VegSamplingTaskID","TaskLabel","VegSampleNumber","Layer","Cover","CoverClass","Weight","LowerHeight","UpperHeight"]
["Name","Survey ID","Task Label","Sample Number","Layer","Cover %","Cover Class","Weight","Lower Height","Upper Height"]
["Type",null,"Text","Integer","Text","Single","Text","Single","Integer","Integer"]
["Max Length",null,100,null,"3",4,5,4,2,3]
[{"$f":"IF(ISBLANK(C5),\"-\",GenGuid())","v":"-"},{"$f":"IF(ISBLANK(C5),\"-\",INDIRECT(\"VEGSAMPLINGTASKS!A\"&MATCH(C5,TaskLabel,0)+4))","v":"-"},null,{"$f":"IF(ISBLANK(C5),\"\",IF(ISBLANK(D4),1,D4))","v":""}]
[{"$f":"IF(ISBLANK(C6),\"-\",GenGuid())","v":"-"},"-",null,{"$f":"IF(ISBLANK(C6),\"\",IF(ISBLANK(D5),1,D5))","v":""}]
[{"$f":"IF(ISBLANK(C7),\"-\",GenGuid())","v":"-"},"-",null,""]
["-","-",null,""]
["-","-",null,""]
["-","-",null,""]
["-","-",null,""]
["-","-",null,""]
["-","-",null,""]
["-","-",null,""]
["-","-",null,""]
["-","-",null,""]
["-","-",null,""]
["-","-",null,""]
["-","-",null,""]
["-","-",null,""]
["-","-",null,""]
["-","-",null,""]
["-","-",null,""]
["-","-",null,""]
["-","-",null,""]
["-","-",null,""]
["-","-",null,""]
["-","-",null,""]
["-","-",null,""]
["-","-",null,""]
["-","-",null,""]
["-","-",null,""]
["-","-",null,""]
["-","-",null,""]
["-","-",null,""]
["-","-",null,""]
["-","-",null,""]
["-","-",null,""]
["-","-",null,""]
["-","-",null,""]
["-","-",null,""]
["-","-",null,""]
["-","-",null,""]
["-","-",null,""]
["-","-",null,""]
["-","-",null,""]
["-","-",null,""]
["-","-",null,""]
["-","-",null,""]
["-","-",null,""]
["-","-",null,""]
["-","-",null,""]
["-","-",null,""]
["-","-",null,""]
["-","-",null,""]
["-","-",null,""]
["-","-",null,""]
["-","-",null,""]
["-","-",null,""]
["-","-",null,""]
["-","-",null,""]
["-","-",null,""]
["-","-",null,""]
["-","-",null,""]
["-","-",null,""]
["-","-",null,""]
["-","-",null,""]
["-","-",null,""]
["-",{"$f":"IF(ISBLANK(C69),\"-\",INDIRECT(\"VEGSAMPLINGTASKS!A\"&MATCH(C69,TaskLabel,0)+4))","v":"-"},null,""]
["-","-",null,{"$f":"IF(ISBLANK(C70),\"\",IF(ISBLANK(D69),1,D69))","v":""}]
[{"$f":"IF(ISBLANK(C71),\"-\",GenGuid())","v":"-"},"-",null,""]
["-","-",null,""]
["-","-",null,""]
["-","-",null,""]
["-","-",null,""]
["-","-",null,""]
["-","-",null,""]
["-","-",null,""]
["-","-",null,""]
["-","-",null,""]
["-","-",null,""]
["-","-",null,""]
["-","-",null,""]
["-","-",null,""]
["-","-",null,""]
["-","-",null,""]
["-","-",null,""]
["-","-",null,""]
["-","-",null,""]
["-","-",null,""]
["-","-",null,""]
["-","-",null,""]
["-","-",null,""]
["-","-",null,""]
["-","-",null,""]
["-","-",null,""]
["-","-",null,""]
["-","-",null,""]
["-","-",null,""]
["-","-",null,""]
["-","-",null,""]
["-","-",null,""]
["-","-",null,""]
["-","-",null,""]
["-","-",null,""]
["-","-",null,""]
["-","-",null,""]
["-","-",null,""]
["-","-",null,""]
["-","-",null,""]
["-","-",null,""]
["-","-",null,""]
["-","-",null,""]
["-","-",null,""]
["-","-",null,""]
["-","-",null,""]
["-","-",null,""]
["-","-",null,""]
["-","-",null,""]
["-","-",null,""]
["-","-",null,""]
["-","-",null,""]
["-","-",null,""]
["-","-",null,""]
["-","-",null,""]
["-","-",null,""]
["-","-",null,""]
["-","-",null,""]
["-","-",null,""]
["-","-",null,""]
["-","-",null,""]
["-","-",null,""]
["-",{"$f":"IF(ISBLANK(C133),\"-\",INDIRECT(\"VEGSAMPLINGTASKS!A\"&MATCH(C133,TaskLabel,0)+4))","v":"-"},null,""]
["-","-",null,{"$f":"IF(ISBLANK(C134),\"\",IF(ISBLANK(D133),1,D133))","v":""}]
[{"$f":"IF(ISBLANK(C135),\"-\",GenGuid())","v":"-"},"-",null,""]
["-","-",null,""]
["-","-",null,""]
["-","-",null,""]
["-","-",null,""]
["-","-",null,""]
["-","-",null,""]
["-","-",null,""]
["-","-",null,""]
["-","-",null,""]
["-","-",null,""]
["-","-",null,""]
["-","-",null,""]
["-","-",null,""]
["-","-",null,""]
["-","-",null,""]
["-","-",null,""]
["-","-",null,""]
["-","-",null,""]
["-","-",null,""]
["-","-",null,""]
["-","-",null,""]
["-","-",null,""]
["-","-",null,""]
["-","-",null,""]
["-","-",null,""]
["-","-",null,""]
["-","-",null,""]
["-","-",null,""]
["-","-",null,""]
["-","-",null,""]
["-","-",null,""]
["-","-",null,""]
["-","-",null,""]
["-","-",null,""]
["-","-",null,""]
["-","-",null,""]
["-","-",null,""]
["-","-",null,""]
["-","-",null,""]
["-","-",null,""]
["-","-",null,""]
["-","-",null,""]
["-","-",null,""]
["-","-",null,""]
["-","-",null,""]
["-","-",null,""]
["-","-",null,""]
["-","-",null,""]
["-","-",null,""]
["-","-",null,""]
["-","-",null,""]
["-","-",null,""]
["-","-",null,""]
["-","-",null,""]
["-","-",null,""]
["-","-",null,""]
["-","-",null,""]
["-","-",null,""]
["-","-",null,""]
["-","-",null,""]
["-","-",null,""]
["-",{"$f":"IF(ISBLANK(C197),\"-\",INDIRECT(\"VEGSAMPLINGTASKS!A\"&MATCH(C197,TaskLabel,0)+4))","v":"-"},null,""]
["-","-",null,{"$f":"IF(ISBLANK(C198),\"\",IF(ISBLANK(D197),1,D197))","v":""}]
[{"$f":"IF(ISBLANK(C199),\"-\",GenGuid())","v":"-"},"-",null,""]
["-","-",null,""]
["-","-",null,""]
["-","-",null,""]
["-","-",null,""]
["-","-",null,""]
["-","-",null,""]
["-","-",null,""]
["-","-",null,""]
["-","-",null,""]
["-","-",null,""]
["-","-",null,""]
["-","-",null,""]
["-","-",null,""]
["-","-",null,""]
["-","-",null,""]
["-","-",null,""]
["-","-",null,""]
["-","-",null,""]
["-","-",null,""]
["-","-",null,""]
["-","-",null,""]
["-","-",null,""]
["-","-",null,""]
["-","-",null,""]
["-","-",null,""]
["-","-",null,""]
["-","-",null,""]
["-","-",null,""]
["-","-",null,""]
["-","-",null,""]
["-","-",null,""]
["-","-",null,""]
["-","-",null,""]
["-","-",null,""]
["-","-",null,""]
["-","-",null,""]
["-","-",null,""]
["-","-",null,""]
["-","-",null,""]
["-","-",null,""]
["-","-",null,""]
["-","-",null,""]
["-","-",null,""]
["-","-",null,""]
["-","-",null,""]
["-","-",null,""]
["-","-",null,""]
["-","-",null,""]
["-","-",null,""]
["-","-",null,""]
["-","-",null,""]
["-","-",null,""]
["-","-",null,""]
["-","-",null,""]
["-","-",null,""]
["-","-",null,""]
["-","-",null,""]
["-","-",null,""]
["-","-",null,""]
["-","-",null,""]
["-","-",null,""]
["-",{"$f":"IF(ISBLANK(C261),\"-\",INDIRECT(\"VEGSAMPLINGTASKS!A\"&MATCH(C261,TaskLabel,0)+4))","v":"-"},null,""]
["-","-",null,{"$f":"IF(ISBLANK(C262),\"\",IF(ISBLANK(D261),1,D261))","v":""}]
[{"$f":"IF(ISBLANK(C263),\"-\",GenGuid())","v":"-"},"-",null,""]
["-","-",null,""]
["-","-",null,""]
["-","-",null,""]
["-","-",null,""]
["-","-",null,""]
["-","-",null,""]
["-","-",null,""]
["-","-",null,""]
["-","-",null,""]
["-","-",null,""]
["-","-",null,""]
["-","-",null,""]
["-","-",null,""]
["-","-",null,""]
["-","-",null,""]
["-","-",null,""]
["-","-",null,""]
["-","-",null,""]
["-","-",null,""]
["-","-",null,""]
["-","-",null,""]
["-","-",null,""]
["-","-",null,""]
["-","-",null,""]
["-","-",null,""]
["-","-",null,""]
["-","-",null,""]
["-","-",null,""]
["-","-",null,""]
["-","-",null,""]
["-","-",null,""]
["-","-",null,""]
["-","-",null,""]
["-","-",null,""]
["-","-",null,""]
["-","-",null,""]
["-","-",null,""]
["-","-",null,""]
["-","-",null,""]
["-","-",null,""]
["-","-",null,""]
["-","-",null,""]
["-","-",null,""]
["-","-",null,""]
["-","-",null,""]
["-","-",null,""]
["-","-",null,""]
["-","-",null,""]
["-","-",null,""]
["-","-",null,""]
["-","-",null,""]
["-","-",null,""]
["-","-",null,""]
["-","-",null,""]
["-","-",null,""]
["-","-",null,""]
["-","-",null,""]
["-","-",null,""]
["-","-",null,""]
["-","-",null,""]
["-","-",null,""]
["-",{"$f":"IF(ISBLANK(C325),\"-\",INDIRECT(\"VEGSAMPLINGTASKS!A\"&MATCH(C325,TaskLabel,0)+4))","v":"-"},null,""]
["-","-",null,{"$f":"IF(ISBLANK(C326),\"\",IF(ISBLANK(D325),1,D325))","v":""}]
[{"$f":"IF(ISBLANK(C327),\"-\",GenGuid())","v":"-"},"-",null,""]
["-","-",null,""]
["-","-",null,""]
["-","-",null,""]
["-","-",null,""]
["-","-",null,""]
["-","-",null,""]
["-","-",null,""]
["-","-",null,""]
["-","-",null,""]
["-","-",null,""]
["-","-",null,""]
["-","-",null,""]
["-","-",null,""]
["-","-",null,""]
["-","-",null,""]
["-","-",null,""]
["-","-",null,""]
["-","-",null,""]
["-","-",null,""]
["-","-",null,""]
["-","-",null,""]
["-","-",null,""]
["-","-",null,""]
["-","-",null,""]
["-","-",null,""]
["-","-",null,""]
["-","-",null,""]
["-","-",null,""]
["-","-",null,""]
["-","-",null,""]
["-","-",null,""]
["-","-",null,""]
["-","-",null,""]
["-","-",null,""]
["-","-",null,""]
["-","-",null,""]
["-","-",null,""]
["-","-",null,""]
["-","-",null,""]
["-","-",null,""]
["-","-",null,""]
["-","-",null,""]
["-","-",null,""]
["-","-",null,""]
["-","-",null,""]
["-","-",null,""]
["-","-",null,""]
["-","-",null,""]
["-","-",null,""]
["-","-",null,""]
["-","-",null,""]
["-","-",null,""]
["-","-",null,""]
["-","-",null,""]
["-","-",null,""]
["-","-",null,""]
["-","-",null,""]
["-","-",null,""]
["-","-",null,""]
["-","-",null,""]
["-","-",null,""]
["-",{"$f":"IF(ISBLANK(C389),\"-\",INDIRECT(\"VEGSAMPLINGTASKS!A\"&MATCH(C389,TaskLabel,0)+4))","v":"-"},null,""]
["-","-",null,{"$f":"IF(ISBLANK(C390),\"\",IF(ISBLANK(D389),1,D389))","v":""}]
[{"$f":"IF(ISBLANK(C391),\"-\",GenGuid())","v":"-"},"-",null,""]
["-","-",null,""]
["-","-",null,""]
["-","-",null,""]
["-","-",null,""]
["-","-",null,""]
["-","-",null,""]
["-","-",null,""]
["-","-",null,""]
["-","-",null,""]
["-","-",null,""]
["-","-",null,""]
["-","-",null,""]
["-","-",null,""]
["-","-",null,""]
["-","-",null,""]
["-","-",null,""]
["-","-",null,""]
["-","-",null,""]
["-","-",null,""]
["-","-",null,""]
["-","-",null,""]
["-","-",null,""]
["-","-",null,""]
["-","-",null,""]
["-","-",null,""]
["-","-",null,""]
["-","-",null,""]
["-","-",null,""]
["-","-",null,""]
["-","-",null,""]
["-","-",null,""]
["-","-",null,""]
["-","-",null,""]
["-","-",null,""]
["-","-",null,""]
["-","-",null,""]
["-","-",null,""]
["-","-",null,""]
["-","-",null,""]
["-","-",null,""]
["-","-",null,""]
["-","-",null,""]
["-","-",null,""]
["-","-",null,""]
["-","-",null,""]
["-","-",null,""]
["-","-",null,""]
["-","-",null,""]
["-","-",null,""]
["-","-",null,""]
["-","-",null,""]
["-","-",null,""]
["-","-",null,""]
["-","-",null,""]
["-","-",null,""]
["-","-",null,""]
["-","-",null,""]
["-","-",null,""]
["-","-",null,""]
["-","-",null,""]
["-","-",null,""]
["-",{"$f":"IF(ISBLANK(C453),\"-\",INDIRECT(\"VEGSAMPLINGTASKS!A\"&MATCH(C453,TaskLabel,0)+4))","v":"-"},null,""]
["-","-",null,{"$f":"IF(ISBLANK(C454),\"\",IF(ISBLANK(D453),1,D453))","v":""}]
[{"$f":"IF(ISBLANK(C455),\"-\",GenGuid())","v":"-"},"-",null,""]
["-","-",null,""]
["-","-",null,""]
["-","-",null,""]
["-","-",null,""]
["-","-",null,""]
["-","-",null,""]
["-","-",null,""]
["-","-",null,""]
["-","-",null,""]
["-","-",null,""]
["-","-",null,""]
["-","-",null,""]
["-","-",null,""]
["-","-",null,""]
["-","-",null,""]
["-","-",null,""]
["-","-",null,""]
["-","-",null,""]
["-","-",null,""]
["-","-",null,""]
["-","-",null,""]
["-","-",null,""]
["-","-",null,""]
["-","-",null,""]
["-","-",null,""]
["-","-",null,""]
["-","-",null,""]
["-","-",null,""]
["-","-",null,""]
["-","-",null,""]
["-","-",null,""]
["-","-",null,""]
["-","-",null,""]
["-","-",null,""]
["-","-",null,""]
["-","-",null,""]
["-","-",null,""]
["-","-",null,""]
["-","-",null,""]
["-","-",null,""]
["-","-",null,""]
["-","-",null,""]
["-","-",null,""]
["-","-",null,""]
["-","-",null,""]
["-","-",null,""]
["-","-",null,""]
["-","-",null,""]
["-","-",null,""]
["-","-",null,""]
["-","-",null,""]
["-","-",null,""]
["-","-",null,""]
["-","-",null,""]
["-","-",null,""]
["-","-",null,""]
["-","-",null,""]
["-","-",null,""]
["-","-",null,""]
["-","-",null,""]
["-","-",null,""]
["-",{"$f":"IF(ISBLANK(C517),\"-\",INDIRECT(\"VEGSAMPLINGTASKS!A\"&MATCH(C517,TaskLabel,0)+4))","v":"-"},null,""]
["-","-",null,{"$f":"IF(ISBLANK(C518),\"\",IF(ISBLANK(D517),1,D517))","v":""}]
[{"$f":"IF(ISBLANK(C519),\"-\",GenGuid())","v":"-"},"-",null,""]
["-","-",null,""]
["-","-",null,""]
["-","-",null,""]
["-","-",null,""]
["-","-",null,""]
["-","-",null,""]
["-","-",null,""]
["-","-",null,""]
["-","-",null,""]
["-","-",null,""]
["-","-",null,""]
["-","-",null,""]
["-","-",null,""]
["-","-",null,""]
["-","-",null,""]
["-","-",null,""]
["-","-",null,""]
["-","-",null,""]
["-","-",null,""]
["-","-",null,""]
["-","-",null,""]
["-","-",null,""]
["-","-",null,""]
["-","-",null,""]
["-","-",null,""]
["-","-",null,""]
["-","-",null,""]
["-","-",null,""]
["-","-",null,""]
["-","-",null,""]
["-","-",null,""]
["-","-",null,""]
["-","-",null,""]
["-","-",null,""]
["-","-",null,""]
["-","-",null,""]
["-","-",null,""]
["-","-",null,""]
["-","-",null,""]
["-","-",null,""]
["-","-",null,""]
["-","-",null,""]
["-","-",null,""]
["-","-",null,""]
["-","-",null,""]
["-","-",null,""]
["-","-",null,""]
["-","-",null,""]
["-","-",null,""]
["-","-",null,""]
["-","-",null,""]
["-","-",null,""]
["-","-",null,""]
["-","-",null,""]
["-","-",null,""]
["-","-",null,""]
["-","-",null,""]
["-","-",null,""]
["-","-",null,""]
["-","-",null,""]
["-","-",null,""]
["-",{"$f":"IF(ISBLANK(C581),\"-\",INDIRECT(\"VEGSAMPLINGTASKS!A\"&MATCH(C581,TaskLabel,0)+4))","v":"-"},null,""]
["-","-",null,{"$f":"IF(ISBLANK(C582),\"\",IF(ISBLANK(D581),1,D581))","v":""}]
[{"$f":"IF(ISBLANK(C583),\"-\",GenGuid())","v":"-"},"-",null,""]
["-","-",null,""]
["-","-",null,""]
["-","-",null,""]
["-","-",null,""]
["-","-",null,""]
["-","-",null,""]
["-","-",null,""]
["-","-",null,""]
["-","-",null,""]
["-","-",null,""]
["-","-",null,""]
["-","-",null,""]
["-","-",null,""]
["-","-",null,""]
["-","-",null,""]
["-","-",null,""]
["-","-",null,""]
["-","-",null,""]
["-","-",null,""]
["-","-",null,""]
["-","-",null,""]
["-","-",null,""]
["-","-",null,""]
["-","-",null,""]
["-","-",null,""]
["-","-",null,""]
["-","-",null,""]
["-","-",null,""]
["-","-",null,""]
["-","-",null,""]
["-","-",null,""]
["-","-",null,""]
["-","-",null,""]
["-","-",null,""]
["-","-",null,""]
["-","-",null,""]
["-","-",null,""]
["-","-",null,""]
["-","-",null,""]
["-","-",null,""]
["-","-",null,""]
["-","-",null,""]
["-","-",null,""]
["-","-",null,""]
["-","-",null,""]
["-","-",null,""]
["-","-",null,""]
["-","-",null,""]
["-","-",null,""]
["-","-",null,""]
["-","-",null,""]
["-","-",null,""]
["-","-",null,""]
["-","-",null,""]
["-","-",null,""]
["-","-",null,""]
["-","-",null,""]
["-","-",null,""]
["-","-",null,""]
["-","-",null,""]
["-","-",null,""]
["-",{"$f":"IF(ISBLANK(C645),\"-\",INDIRECT(\"VEGSAMPLINGTASKS!A\"&MATCH(C645,TaskLabel,0)+4))","v":"-"},null,""]
["-","-",null,{"$f":"IF(ISBLANK(C646),\"\",IF(ISBLANK(D645),1,D645))","v":""}]
[{"$f":"IF(ISBLANK(C647),\"-\",GenGuid())","v":"-"},"-",null,""]
["-","-",null,""]
["-","-",null,""]
["-","-",null,""]
["-","-",null,""]
["-","-",null,""]
["-","-",null,""]
["-","-",null,""]
["-","-",null,""]
["-","-",null,""]
["-","-",null,""]
["-","-",null,""]
["-","-",null,""]
["-","-",null,""]
["-","-",null,""]
["-","-",null,""]
["-","-",null,""]
["-","-",null,""]
["-","-",null,""]
["-","-",null,""]
["-","-",null,""]
["-","-",null,""]
["-","-",null,""]
["-","-",null,""]
["-","-",null,""]
["-","-",null,""]
["-","-",null,""]
["-","-",null,""]
["-","-",null,""]
["-","-",null,""]
["-","-",null,""]
["-","-",null,""]
["-","-",null,""]
["-","-",null,""]
["-","-",null,""]
["-","-",null,""]
["-","-",null,""]
["-","-",null,""]
["-","-",null,""]
["-","-",null,""]
["-","-",null,""]
["-","-",null,""]
["-","-",null,""]
["-","-",null,""]
["-","-",null,""]
["-","-",null,""]
["-","-",null,""]
["-","-",null,""]
["-","-",null,""]
["-","-",null,""]
["-","-",null,""]
["-","-",null,""]
["-","-",null,""]
["-","-",null,""]
["-","-",null,""]
["-","-",null,""]
["-","-",null,""]
["-","-",null,""]
["-","-",null,""]
["-","-",null,""]
["-","-",null,""]
["-","-",null,""]
["-",{"$f":"IF(ISBLANK(C709),\"-\",INDIRECT(\"VEGSAMPLINGTASKS!A\"&MATCH(C709,TaskLabel,0)+4))","v":"-"},null,""]
["-","-",null,{"$f":"IF(ISBLANK(C710),\"\",IF(ISBLANK(D709),1,D709))","v":""}]
[{"$f":"IF(ISBLANK(C711),\"-\",GenGuid())","v":"-"},"-",null,""]
["-","-",null,""]
["-","-",null,""]
["-","-",null,""]
["-","-",null,""]
["-","-",null,""]
["-","-",null,""]
["-","-",null,""]
["-","-",null,""]
["-","-",null,""]
["-","-",null,""]
["-","-",null,""]
["-","-",null,""]
["-","-",null,""]
["-","-",null,""]
["-","-",null,""]
["-","-",null,""]
["-","-",null,""]
["-","-",null,""]
["-","-",null,""]
["-","-",null,""]
["-","-",null,""]
["-","-",null,""]
["-","-",null,""]
["-","-",null,""]
["-","-",null,""]
["-","-",null,""]
["-","-",null,""]
["-","-",null,""]
["-","-",null,""]
["-","-",null,""]
["-","-",null,""]
["-","-",null,""]
["-","-",null,""]
["-","-",null,""]
["-","-",null,""]
["-","-",null,""]
["-","-",null,""]
["-","-",null,""]
["-","-",null,""]
["-","-",null,""]
["-","-",null,""]
["-","-",null,""]
["-","-",null,""]
["-","-",null,""]
["-","-",null,""]
["-","-",null,""]
["-","-",null,""]
["-","-",null,""]
["-","-",null,""]
["-","-",null,""]
["-","-",null,""]
["-","-",null,""]
["-","-",null,""]
["-","-",null,""]
["-","-",null,""]
["-","-",null,""]
["-","-",null,""]
["-","-",null,""]
["-","-",null,""]
["-","-",null,""]
["-","-",null,""]
["-",{"$f":"IF(ISBLANK(C773),\"-\",INDIRECT(\"VEGSAMPLINGTASKS!A\"&MATCH(C773,TaskLabel,0)+4))","v":"-"},null,""]
["-","-",null,{"$f":"IF(ISBLANK(C774),\"\",IF(ISBLANK(D773),1,D773))","v":""}]
[{"$f":"IF(ISBLANK(C775),\"-\",GenGuid())","v":"-"},"-",null,""]
["-","-",null,""]
["-","-",null,""]
["-","-",null,""]
["-","-",null,""]
["-","-",null,""]
["-","-",null,""]
["-","-",null,""]
["-","-",null,""]
["-","-",null,""]
["-","-",null,""]
["-","-",null,""]
["-","-",null,""]
["-","-",null,""]
["-","-",null,""]
["-","-",null,""]
["-","-",null,""]
["-","-",null,""]
["-","-",null,""]
["-","-",null,""]
["-","-",null,""]
["-","-",null,""]
["-","-",null,""]
["-","-",null,""]
["-","-",null,""]
["-","-",null,""]
["-","-",null,""]
["-","-",null,""]
["-","-",null,""]
["-","-",null,""]
["-","-",null,""]
["-","-",null,""]
["-","-",null,""]
["-","-",null,""]
["-","-",null,""]
["-","-",null,""]
["-","-",null,""]
["-","-",null,""]
["-","-",null,""]
["-","-",null,""]
["-","-",null,""]
["-","-",null,""]
["-","-",null,""]
["-","-",null,""]
["-","-",null,""]
["-","-",null,""]
["-","-",null,""]
["-","-",null,""]
["-","-",null,""]
["-","-",null,""]
["-","-",null,""]
["-","-",null,""]
["-","-",null,""]
["-","-",null,""]
["-","-",null,""]
["-","-",null,""]
["-","-",null,""]
["-","-",null,""]
["-","-",null,""]
["-","-",null,""]
["-","-",null,""]
["-","-",null,""]
["-",{"$f":"IF(ISBLANK(C837),\"-\",INDIRECT(\"VEGSAMPLINGTASKS!A\"&MATCH(C837,TaskLabel,0)+4))","v":"-"},null,""]
["-","-",null,{"$f":"IF(ISBLANK(C838),\"\",IF(ISBLANK(D837),1,D837))","v":""}]
[{"$f":"IF(ISBLANK(C839),\"-\",GenGuid())","v":"-"},"-",null,""]
["-","-",null,""]
["-","-",null,""]
["-","-",null,""]
["-","-",null,""]
["-","-",null,""]
["-","-",null,""]
["-","-",null,""]
["-","-",null,""]
["-","-",null,""]
["-","-",null,""]
["-","-",null,""]
["-","-",null,""]
["-","-",null,""]
["-","-",null,""]
["-","-",null,""]
["-","-",null,""]
["-","-",null,""]
["-","-",null,""]
["-","-",null,""]
["-","-",null,""]
["-","-",null,""]
["-","-",null,""]
["-","-",null,""]
["-","-",null,""]
["-","-",null,""]
["-","-",null,""]
["-","-",null,""]
["-","-",null,""]
["-","-",null,""]
["-","-",null,""]
["-","-",null,""]
["-","-",null,""]
["-","-",null,""]
["-","-",null,""]
["-","-",null,""]
["-","-",null,""]
["-","-",null,""]
["-","-",null,""]
["-","-",null,""]
["-","-",null,""]
["-","-",null,""]
["-","-",null,""]
["-","-",null,""]
["-","-",null,""]
["-","-",null,""]
["-","-",null,""]
["-","-",null,""]
["-","-",null,""]
["-","-",null,""]
["-","-",null,""]
["-","-",null,""]
["-","-",null,""]
["-","-",null,""]
["-","-",null,""]
["-","-",null,""]
["-","-",null,""]
["-","-",null,""]
["-","-",null,""]
["-","-",null,""]
["-","-",null,""]
["-","-",null,""]
["-",{"$f":"IF(ISBLANK(C901),\"-\",INDIRECT(\"VEGSAMPLINGTASKS!A\"&MATCH(C901,TaskLabel,0)+4))","v":"-"},null,""]
["-","-",null,{"$f":"IF(ISBLANK(C902),\"\",IF(ISBLANK(D901),1,D901))","v":""}]
[{"$f":"IF(ISBLANK(C903),\"-\",GenGuid())","v":"-"},"-",null,""]
["-","-",null,""]
["-","-",null,""]
["-","-",null,""]
["-","-",null,""]
["-","-",null,""]
["-","-",null,""]
["-","-",null,""]
["-","-",null,""]
["-","-",null,""]
["-","-",null,""]
["-","-",null,""]
["-","-",null,""]
["-","-",null,""]
["-","-",null,""]
["-","-",null,""]
["-","-",null,""]
["-","-",null,""]
["-","-",null,""]
["-","-",null,""]
["-","-",null,""]
["-","-",null,""]
["-","-",null,""]
["-","-",null,""]
["-","-",null,""]
["-","-",null,""]
["-","-",null,""]
["-","-",null,""]
["-","-",null,""]
["-","-",null,""]
["-","-",null,""]
["-","-",null,""]
["-","-",null,""]
["-","-",null,""]
["-","-",null,""]
["-","-",null,""]
["-","-",null,""]
["-","-",null,""]
["-","-",null,""]
["-","-",null,""]
["-","-",null,""]
["-","-",null,""]
["-","-",null,""]
["-","-",null,""]
["-","-",null,""]
["-","-",null,""]
["-","-",null,""]
["-","-",null,""]
["-","-",null,""]
["-","-",null,""]
["-","-",null,""]
["-","-",null,""]
["-","-",null,""]
["-","-",null,""]
["-","-",null,""]
["-","-",null,""]
["-","-",null,""]
["-","-",null,""]
["-","-",null,""]
["-","-",null,""]
["-","-",null,""]
["-","-",null,""]
["-",{"$f":"IF(ISBLANK(C965),\"-\",INDIRECT(\"VEGSAMPLINGTASKS!A\"&MATCH(C965,TaskLabel,0)+4))","v":"-"},null,""]
["-","-",null,{"$f":"IF(ISBLANK(C966),\"\",IF(ISBLANK(D965),1,D965))","v":""}]
[{"$f":"IF(ISBLANK(C967),\"-\",GenGuid())","v":"-"},"-",null,""]
["-","-",null,""]
["-","-",null,""]
["-","-",null,""]
["-","-",null,""]
["-","-",null,""]
["-","-",null,""]
["-","-",null,""]
["-","-",null,""]
["-","-",null,""]
["-","-",null,""]
["-","-",null,""]
["-","-",null,""]
["-","-",null,""]
["-","-",null,""]
["-","-",null,""]
["-","-",null,""]
["-","-",null,""]
["-","-",null,""]
["-","-",null,""]
["-","-",null,""]
["-","-",null,""]
["-","-",null,""]
["-","-",null,""]
["-","-",null,""]
["-","-",null,""]
["-","-",null,""]
["-","-",null,""]
["-","-",null,""]
["-","-",null,""]
["-","-",null,""]
["-","-",null,""]
["-","-",null,""]
["-","-",null,""]
["-","-",null,""]
["-","-",null,""]
["-","-",null,""]
["-","-",null,""]
["To add more rows, copy from the previous line to ensure the proper formatting/formulas are in place."]

{"sheet":"PlotSPECIESGrid","index":14,"n_rows":1005,"n_cols":34,"rows_kept":1005,"cut":false,"hidden":false,"merged":[]}
["PlotSpeciesID","VegSamplingTaskID","TaskLabel","PercentType",{"$f":"\"Spp\"&TEXT(COLUMN()-4,\"00#\")","v":"Spp001"},{"$f":"\"Spp\"&TEXT(COLUMN()-4,\"00#\")","v":"Spp002"},"Spp003","Spp004","Spp005","Spp006","Spp007","Spp008","Spp009","Spp010","Spp011","Spp012","Spp013","Spp014","Spp015","Spp016","Spp017","Spp018","Spp019","Spp020","Spp021","Spp022","Spp023","Spp024","Spp025","Spp026","Spp027","Spp028","Spp029","Spp030"]
["Name","Survey ID","Task Label","Percent Type (from VST)",{"$f":"\"Spp Pct No \"&VALUE(MID(E1,4,3))&\" assigned as\"","v":"Spp Pct No 1 assigned as"},{"$f":"\"Spp Pct No \"&VALUE(MID(F1,4,3))&\" assigned as\"","v":"Spp Pct No 2 assigned as"},{"$f":"\"Spp Pct No \"&VALUE(MID(G1,4,3))&\" assigned as\"","v":"Spp Pct No 3 assigned as"},"Spp Pct No 4 assigned as","Spp Pct No 5 assigned as","Spp Pct No 6 assigned as","Spp Pct No 7 assigned as","Spp Pct No 8 assigned as","Spp Pct No 9 assigned as","Spp Pct No 10 assigned as","Spp Pct No 11 assigned as","Spp Pct No 12 assigned as","Spp Pct No 13 assigned as","Spp Pct No 14 assigned as","Spp Pct No 15 assigned as","Spp Pct No 16 assigned as","Spp Pct No 17 assigned as","Spp Pct No 18 assigned as","Spp Pct No 19 assigned as","Spp Pct No 20 assigned as","Spp Pct No 21 assigned as","Spp Pct No 22 assigned as","Spp Pct No 23 assigned as","Spp Pct No 24 assigned as","Spp Pct No 25 assigned as","Spp Pct No 26 assigned as","Spp Pct No 27 assigned as","Spp Pct No 28 assigned as","Spp Pct No 29 assigned as","Spp Pct No 30 assigned as"]
["Type",null,"Text","Text"]
["Max Length",null,100,25,{"$f":"IF(ISBLANK(E3),\"-\",PROPER(INDIRECT(\"CODES2!G\"&MATCH(E3,VT_Species,0)+2)))","v":"-"},"-","-","-","-","-","-","-","-","-","-","-","-","-","-","-","-","-","-","-","-","-","-","-","-","-","-","-","-","-"]
[{"$f":"IF(ISBLANK(C5),\"-\",GenGuid())","v":"-"},{"$f":"IF(ISBLANK(C5),\"-\",INDIRECT(\"VEGSAMPLINGTASKS!A\"&MATCH(C5,TaskLabel,0)+4))","v":"-"},null,{"$f":"IF(ISBLANK(C5),\"-\",VLOOKUP(INDIRECT(\"VEGSAMPLINGTASKS!G\"&MATCH(C5,TaskLabel,0)+4),VT_PlotPercentTypeDescrip,2,FALSE))","v":"-"}]
[{"$f":"IF(ISBLANK(C6),\"-\",GenGuid())","v":"-"},"-",null,"-"]
[{"$f":"IF(ISBLANK(C7),\"-\",GenGuid())","v":"-"},"-",null,"-"]
["-","-",null,"-"]
["-","-",null,"-"]
["-","-",null,"-"]
["-","-",null,"-"]
["-","-",null,"-"]
["-","-",null,"-"]
["-","-",null,"-"]
["-","-",null,"-"]
["-","-",null,"-"]
["-","-",null,"-"]
["-","-",null,"-"]
["-","-",null,"-"]
["-","-",null,"-"]
["-","-",null,"-"]
["-","-",null,"-"]
["-","-",null,"-"]
["-","-",null,"-"]
["-","-",null,"-"]
["-","-",null,"-"]
["-","-",null,"-"]
["-","-",null,"-"]
["-","-",null,"-"]
["-","-",null,"-"]
["-","-",null,"-"]
["-","-",null,"-"]
["-","-",null,"-"]
["-","-",null,"-"]
["-","-",null,"-"]
["-","-",null,"-"]
["-","-",null,"-"]
["-","-",null,"-"]
["-","-",null,"-"]
["-","-",null,"-"]
["-","-",null,"-"]
["-","-",null,"-"]
["-","-",null,"-"]
["-","-",null,"-"]
["-","-",null,"-"]
["-","-",null,"-"]
["-","-",null,"-"]
["-","-",null,"-"]
["-","-",null,"-"]
["-","-",null,"-"]
["-","-",null,"-"]
["-","-",null,"-"]
["-","-",null,"-"]
["-","-",null,"-"]
["-","-",null,"-"]
["-","-",null,"-"]
["-","-",null,"-"]
["-","-",null,"-"]
["-","-",null,"-"]
["-","-",null,"-"]
["-","-",null,"-"]
["-","-",null,"-"]
["-","-",null,"-"]
["-","-",null,"-"]
["-","-",null,"-"]
["-","-",null,"-"]
["-","-",null,"-"]
["-","-",null,"-"]
["-",{"$f":"IF(ISBLANK(C69),\"-\",INDIRECT(\"VEGSAMPLINGTASKS!A\"&MATCH(C69,TaskLabel,0)+4))","v":"-"},null,{"$f":"IF(ISBLANK(C69),\"-\",VLOOKUP(INDIRECT(\"VEGSAMPLINGTASKS!G\"&MATCH(C69,TaskLabel,0)+4),VT_PlotPercentTypeDescrip,2,FALSE))","v":"-"}]
["-","-",null,"-"]
[{"$f":"IF(ISBLANK(C71),\"-\",GenGuid())","v":"-"},"-",null,"-"]
["-","-",null,"-"]
["-","-",null,"-"]
["-","-",null,"-"]
["-","-",null,"-"]
["-","-",null,"-"]
["-","-",null,"-"]
["-","-",null,"-"]
["-","-",null,"-"]
["-","-",null,"-"]
["-","-",null,"-"]
["-","-",null,"-"]
["-","-",null,"-"]
["-","-",null,"-"]
["-","-",null,"-"]
["-","-",null,"-"]
["-","-",null,"-"]
["-","-",null,"-"]
["-","-",null,"-"]
["-","-",null,"-"]
["-","-",null,"-"]
["-","-",null,"-"]
["-","-",null,"-"]
["-","-",null,"-"]
["-","-",null,"-"]
["-","-",null,"-"]
["-","-",null,"-"]
["-","-",null,"-"]
["-","-",null,"-"]
["-","-",null,"-"]
["-","-",null,"-"]
["-","-",null,"-"]
["-","-",null,"-"]
["-","-",null,"-"]
["-","-",null,"-"]
["-","-",null,"-"]
["-","-",null,"-"]
["-","-",null,"-"]
["-","-",null,"-"]
["-","-",null,"-"]
["-","-",null,"-"]
["-","-",null,"-"]
["-","-",null,"-"]
["-","-",null,"-"]
["-","-",null,"-"]
["-","-",null,"-"]
["-","-",null,"-"]
["-","-",null,"-"]
["-","-",null,"-"]
["-","-",null,"-"]
["-","-",null,"-"]
["-","-",null,"-"]
["-","-",null,"-"]
["-","-",null,"-"]
["-","-",null,"-"]
["-","-",null,"-"]
["-","-",null,"-"]
["-","-",null,"-"]
["-","-",null,"-"]
["-","-",null,"-"]
["-","-",null,"-"]
["-","-",null,"-"]
["-",{"$f":"IF(ISBLANK(C133),\"-\",INDIRECT(\"VEGSAMPLINGTASKS!A\"&MATCH(C133,TaskLabel,0)+4))","v":"-"},null,{"$f":"IF(ISBLANK(C133),\"-\",VLOOKUP(INDIRECT(\"VEGSAMPLINGTASKS!G\"&MATCH(C133,TaskLabel,0)+4),VT_PlotPercentTypeDescrip,2,FALSE))","v":"-"}]
["-","-",null,"-"]
[{"$f":"IF(ISBLANK(C135),\"-\",GenGuid())","v":"-"},"-",null,"-"]
["-","-",null,"-"]
["-","-",null,"-"]
["-","-",null,"-"]
["-","-",null,"-"]
["-","-",null,"-"]
["-","-",null,"-"]
["-","-",null,"-"]
["-","-",null,"-"]
["-","-",null,"-"]
["-","-",null,"-"]
["-","-",null,"-"]
["-","-",null,"-"]
["-","-",null,"-"]
["-","-",null,"-"]
["-","-",null,"-"]
["-","-",null,"-"]
["-","-",null,"-"]
["-","-",null,"-"]
["-","-",null,"-"]
["-","-",null,"-"]
["-","-",null,"-"]
["-","-",null,"-"]
["-","-",null,"-"]
["-","-",null,"-"]
["-","-",null,"-"]
["-","-",null,"-"]
["-","-",null,"-"]
["-","-",null,"-"]
["-","-",null,"-"]
["-","-",null,"-"]
["-","-",null,"-"]
["-","-",null,"-"]
["-","-",null,"-"]
["-","-",null,"-"]
["-","-",null,"-"]
["-","-",null,"-"]
["-","-",null,"-"]
["-","-",null,"-"]
["-","-",null,"-"]
["-","-",null,"-"]
["-","-",null,"-"]
["-","-",null,"-"]
["-","-",null,"-"]
["-","-",null,"-"]
["-","-",null,"-"]
["-","-",null,"-"]
["-","-",null,"-"]
["-","-",null,"-"]
["-","-",null,"-"]
["-","-",null,"-"]
["-","-",null,"-"]
["-","-",null,"-"]
["-","-",null,"-"]
["-","-",null,"-"]
["-","-",null,"-"]
["-","-",null,"-"]
["-","-",null,"-"]
["-","-",null,"-"]
["-","-",null,"-"]
["-","-",null,"-"]
["-","-",null,"-"]
["-",{"$f":"IF(ISBLANK(C197),\"-\",INDIRECT(\"VEGSAMPLINGTASKS!A\"&MATCH(C197,TaskLabel,0)+4))","v":"-"},null,{"$f":"IF(ISBLANK(C197),\"-\",VLOOKUP(INDIRECT(\"VEGSAMPLINGTASKS!G\"&MATCH(C197,TaskLabel,0)+4),VT_PlotPercentTypeDescrip,2,FALSE))","v":"-"}]
["-","-",null,"-"]
[{"$f":"IF(ISBLANK(C199),\"-\",GenGuid())","v":"-"},"-",null,"-"]
["-","-",null,"-"]
["-","-",null,"-"]
["-","-",null,"-"]
["-","-",null,"-"]
["-","-",null,"-"]
["-","-",null,"-"]
["-","-",null,"-"]
["-","-",null,"-"]
["-","-",null,"-"]
["-","-",null,"-"]
["-","-",null,"-"]
["-","-",null,"-"]
["-","-",null,"-"]
["-","-",null,"-"]
["-","-",null,"-"]
["-","-",null,"-"]
["-","-",null,"-"]
["-","-",null,"-"]
["-","-",null,"-"]
["-","-",null,"-"]
["-","-",null,"-"]
["-","-",null,"-"]
["-","-",null,"-"]
["-","-",null,"-"]
["-","-",null,"-"]
["-","-",null,"-"]
["-","-",null,"-"]
["-","-",null,"-"]
["-","-",null,"-"]
["-","-",null,"-"]
["-","-",null,"-"]
["-","-",null,"-"]
["-","-",null,"-"]
["-","-",null,"-"]
["-","-",null,"-"]
["-","-",null,"-"]
["-","-",null,"-"]
["-","-",null,"-"]
["-","-",null,"-"]
["-","-",null,"-"]
["-","-",null,"-"]
["-","-",null,"-"]
["-","-",null,"-"]
["-","-",null,"-"]
["-","-",null,"-"]
["-","-",null,"-"]
["-","-",null,"-"]
["-","-",null,"-"]
["-","-",null,"-"]
["-","-",null,"-"]
["-","-",null,"-"]
["-","-",null,"-"]
["-","-",null,"-"]
["-","-",null,"-"]
["-","-",null,"-"]
["-","-",null,"-"]
["-","-",null,"-"]
["-","-",null,"-"]
["-","-",null,"-"]
["-","-",null,"-"]
["-","-",null,"-"]
["-",{"$f":"IF(ISBLANK(C261),\"-\",INDIRECT(\"VEGSAMPLINGTASKS!A\"&MATCH(C261,TaskLabel,0)+4))","v":"-"},null,{"$f":"IF(ISBLANK(C261),\"-\",VLOOKUP(INDIRECT(\"VEGSAMPLINGTASKS!G\"&MATCH(C261,TaskLabel,0)+4),VT_PlotPercentTypeDescrip,2,FALSE))","v":"-"}]
["-","-",null,"-"]
[{"$f":"IF(ISBLANK(C263),\"-\",GenGuid())","v":"-"},"-",null,"-"]
["-","-",null,"-"]
["-","-",null,"-"]
["-","-",null,"-"]
["-","-",null,"-"]
["-","-",null,"-"]
["-","-",null,"-"]
["-","-",null,"-"]
["-","-",null,"-"]
["-","-",null,"-"]
["-","-",null,"-"]
["-","-",null,"-"]
["-","-",null,"-"]
["-","-",null,"-"]
["-","-",null,"-"]
["-","-",null,"-"]
["-","-",null,"-"]
["-","-",null,"-"]
["-","-",null,"-"]
["-","-",null,"-"]
["-","-",null,"-"]
["-","-",null,"-"]
["-","-",null,"-"]
["-","-",null,"-"]
["-","-",null,"-"]
["-","-",null,"-"]
["-","-",null,"-"]
["-","-",null,"-"]
["-","-",null,"-"]
["-","-",null,"-"]
["-","-",null,"-"]
["-","-",null,"-"]
["-","-",null,"-"]
["-","-",null,"-"]
["-","-",null,"-"]
["-","-",null,"-"]
["-","-",null,"-"]
["-","-",null,"-"]
["-","-",null,"-"]
["-","-",null,"-"]
["-","-",null,"-"]
["-","-",null,"-"]
["-","-",null,"-"]
["-","-",null,"-"]
["-","-",null,"-"]
["-","-",null,"-"]
["-","-",null,"-"]
["-","-",null,"-"]
["-","-",null,"-"]
["-","-",null,"-"]
["-","-",null,"-"]
["-","-",null,"-"]
["-","-",null,"-"]
["-","-",null,"-"]
["-","-",null,"-"]
["-","-",null,"-"]
["-","-",null,"-"]
["-","-",null,"-"]
["-","-",null,"-"]
["-","-",null,"-"]
["-","-",null,"-"]
["-","-",null,"-"]
["-",{"$f":"IF(ISBLANK(C325),\"-\",INDIRECT(\"VEGSAMPLINGTASKS!A\"&MATCH(C325,TaskLabel,0)+4))","v":"-"},null,{"$f":"IF(ISBLANK(C325),\"-\",VLOOKUP(INDIRECT(\"VEGSAMPLINGTASKS!G\"&MATCH(C325,TaskLabel,0)+4),VT_PlotPercentTypeDescrip,2,FALSE))","v":"-"}]
["-","-",null,"-"]
[{"$f":"IF(ISBLANK(C327),\"-\",GenGuid())","v":"-"},"-",null,"-"]
["-","-",null,"-"]
["-","-",null,"-"]
["-","-",null,"-"]
["-","-",null,"-"]
["-","-",null,"-"]
["-","-",null,"-"]
["-","-",null,"-"]
["-","-",null,"-"]
["-","-",null,"-"]
["-","-",null,"-"]
["-","-",null,"-"]
["-","-",null,"-"]
["-","-",null,"-"]
["-","-",null,"-"]
["-","-",null,"-"]
["-","-",null,"-"]
["-","-",null,"-"]
["-","-",null,"-"]
["-","-",null,"-"]
["-","-",null,"-"]
["-","-",null,"-"]
["-","-",null,"-"]
["-","-",null,"-"]
["-","-",null,"-"]
["-","-",null,"-"]
["-","-",null,"-"]
["-","-",null,"-"]
["-","-",null,"-"]
["-","-",null,"-"]
["-","-",null,"-"]
["-","-",null,"-"]
["-","-",null,"-"]
["-","-",null,"-"]
["-","-",null,"-"]
["-","-",null,"-"]
["-","-",null,"-"]
["-","-",null,"-"]
["-","-",null,"-"]
["-","-",null,"-"]
["-","-",null,"-"]
["-","-",null,"-"]
["-","-",null,"-"]
["-","-",null,"-"]
["-","-",null,"-"]
["-","-",null,"-"]
["-","-",null,"-"]
["-","-",null,"-"]
["-","-",null,"-"]
["-","-",null,"-"]
["-","-",null,"-"]
["-","-",null,"-"]
["-","-",null,"-"]
["-","-",null,"-"]
["-","-",null,"-"]
["-","-",null,"-"]
["-","-",null,"-"]
["-","-",null,"-"]
["-","-",null,"-"]
["-","-",null,"-"]
["-","-",null,"-"]
["-","-",null,"-"]
["-",{"$f":"IF(ISBLANK(C389),\"-\",INDIRECT(\"VEGSAMPLINGTASKS!A\"&MATCH(C389,TaskLabel,0)+4))","v":"-"},null,{"$f":"IF(ISBLANK(C389),\"-\",VLOOKUP(INDIRECT(\"VEGSAMPLINGTASKS!G\"&MATCH(C389,TaskLabel,0)+4),VT_PlotPercentTypeDescrip,2,FALSE))","v":"-"}]
["-","-",null,"-"]
[{"$f":"IF(ISBLANK(C391),\"-\",GenGuid())","v":"-"},"-",null,"-"]
["-","-",null,"-"]
["-","-",null,"-"]
["-","-",null,"-"]
["-","-",null,"-"]
["-","-",null,"-"]
["-","-",null,"-"]
["-","-",null,"-"]
["-","-",null,"-"]
["-","-",null,"-"]
["-","-",null,"-"]
["-","-",null,"-"]
["-","-",null,"-"]
["-","-",null,"-"]
["-","-",null,"-"]
["-","-",null,"-"]
["-","-",null,"-"]
["-","-",null,"-"]
["-","-",null,"-"]
["-","-",null,"-"]
["-","-",null,"-"]
["-","-",null,"-"]
["-","-",null,"-"]
["-","-",null,"-"]
["-","-",null,"-"]
["-","-",null,"-"]
["-","-",null,"-"]
["-","-",null,"-"]
["-","-",null,"-"]
["-","-",null,"-"]
["-","-",null,"-"]
["-","-",null,"-"]
["-","-",null,"-"]
["-","-",null,"-"]
["-","-",null,"-"]
["-","-",null,"-"]
["-","-",null,"-"]
["-","-",null,"-"]
["-","-",null,"-"]
["-","-",null,"-"]
["-","-",null,"-"]
["-","-",null,"-"]
["-","-",null,"-"]
["-","-",null,"-"]
["-","-",null,"-"]
["-","-",null,"-"]
["-","-",null,"-"]
["-","-",null,"-"]
["-","-",null,"-"]
["-","-",null,"-"]
["-","-",null,"-"]
["-","-",null,"-"]
["-","-",null,"-"]
["-","-",null,"-"]
["-","-",null,"-"]
["-","-",null,"-"]
["-","-",null,"-"]
["-","-",null,"-"]
["-","-",null,"-"]
["-","-",null,"-"]
["-","-",null,"-"]
["-","-",null,"-"]
["-",{"$f":"IF(ISBLANK(C453),\"-\",INDIRECT(\"VEGSAMPLINGTASKS!A\"&MATCH(C453,TaskLabel,0)+4))","v":"-"},null,{"$f":"IF(ISBLANK(C453),\"-\",VLOOKUP(INDIRECT(\"VEGSAMPLINGTASKS!G\"&MATCH(C453,TaskLabel,0)+4),VT_PlotPercentTypeDescrip,2,FALSE))","v":"-"}]
["-","-",null,"-"]
[{"$f":"IF(ISBLANK(C455),\"-\",GenGuid())","v":"-"},"-",null,"-"]
["-","-",null,"-"]
["-","-",null,"-"]
["-","-",null,"-"]
["-","-",null,"-"]
["-","-",null,"-"]
["-","-",null,"-"]
["-","-",null,"-"]
["-","-",null,"-"]
["-","-",null,"-"]
["-","-",null,"-"]
["-","-",null,"-"]
["-","-",null,"-"]
["-","-",null,"-"]
["-","-",null,"-"]
["-","-",null,"-"]
["-","-",null,"-"]
["-","-",null,"-"]
["-","-",null,"-"]
["-","-",null,"-"]
["-","-",null,"-"]
["-","-",null,"-"]
["-","-",null,"-"]
["-","-",null,"-"]
["-","-",null,"-"]
["-","-",null,"-"]
["-","-",null,"-"]
["-","-",null,"-"]
["-","-",null,"-"]
["-","-",null,"-"]
["-","-",null,"-"]
["-","-",null,"-"]
["-","-",null,"-"]
["-","-",null,"-"]
["-","-",null,"-"]
["-","-",null,"-"]
["-","-",null,"-"]
["-","-",null,"-"]
["-","-",null,"-"]
["-","-",null,"-"]
["-","-",null,"-"]
["-","-",null,"-"]
["-","-",null,"-"]
["-","-",null,"-"]
["-","-",null,"-"]
["-","-",null,"-"]
["-","-",null,"-"]
["-","-",null,"-"]
["-","-",null,"-"]
["-","-",null,"-"]
["-","-",null,"-"]
["-","-",null,"-"]
["-","-",null,"-"]
["-","-",null,"-"]
["-","-",null,"-"]
["-","-",null,"-"]
["-","-",null,"-"]
["-","-",null,"-"]
["-","-",null,"-"]
["-","-",null,"-"]
["-","-",null,"-"]
["-","-",null,"-"]
["-",{"$f":"IF(ISBLANK(C517),\"-\",INDIRECT(\"VEGSAMPLINGTASKS!A\"&MATCH(C517,TaskLabel,0)+4))","v":"-"},null,{"$f":"IF(ISBLANK(C517),\"-\",VLOOKUP(INDIRECT(\"VEGSAMPLINGTASKS!G\"&MATCH(C517,TaskLabel,0)+4),VT_PlotPercentTypeDescrip,2,FALSE))","v":"-"}]
["-","-",null,"-"]
[{"$f":"IF(ISBLANK(C519),\"-\",GenGuid())","v":"-"},"-",null,"-"]
["-","-",null,"-"]
["-","-",null,"-"]
["-","-",null,"-"]
["-","-",null,"-"]
["-","-",null,"-"]
["-","-",null,"-"]
["-","-",null,"-"]
["-","-",null,"-"]
["-","-",null,"-"]
["-","-",null,"-"]
["-","-",null,"-"]
["-","-",null,"-"]
["-","-",null,"-"]
["-","-",null,"-"]
["-","-",null,"-"]
["-","-",null,"-"]
["-","-",null,"-"]
["-","-",null,"-"]
["-","-",null,"-"]
["-","-",null,"-"]
["-","-",null,"-"]
["-","-",null,"-"]
["-","-",null,"-"]
["-","-",null,"-"]
["-","-",null,"-"]
["-","-",null,"-"]
["-","-",null,"-"]
["-","-",null,"-"]
["-","-",null,"-"]
["-","-",null,"-"]
["-","-",null,"-"]
["-","-",null,"-"]
["-","-",null,"-"]
["-","-",null,"-"]
["-","-",null,"-"]
["-","-",null,"-"]
["-","-",null,"-"]
["-","-",null,"-"]
["-","-",null,"-"]
["-","-",null,"-"]
["-","-",null,"-"]
["-","-",null,"-"]
["-","-",null,"-"]
["-","-",null,"-"]
["-","-",null,"-"]
["-","-",null,"-"]
["-","-",null,"-"]
["-","-",null,"-"]
["-","-",null,"-"]
["-","-",null,"-"]
["-","-",null,"-"]
["-","-",null,"-"]
["-","-",null,"-"]
["-","-",null,"-"]
["-","-",null,"-"]
["-","-",null,"-"]
["-","-",null,"-"]
["-","-",null,"-"]
["-","-",null,"-"]
["-","-",null,"-"]
["-","-",null,"-"]
["-",{"$f":"IF(ISBLANK(C581),\"-\",INDIRECT(\"VEGSAMPLINGTASKS!A\"&MATCH(C581,TaskLabel,0)+4))","v":"-"},null,{"$f":"IF(ISBLANK(C581),\"-\",VLOOKUP(INDIRECT(\"VEGSAMPLINGTASKS!G\"&MATCH(C581,TaskLabel,0)+4),VT_PlotPercentTypeDescrip,2,FALSE))","v":"-"}]
["-","-",null,"-"]
[{"$f":"IF(ISBLANK(C583),\"-\",GenGuid())","v":"-"},"-",null,"-"]
["-","-",null,"-"]
["-","-",null,"-"]
["-","-",null,"-"]
["-","-",null,"-"]
["-","-",null,"-"]
["-","-",null,"-"]
["-","-",null,"-"]
["-","-",null,"-"]
["-","-",null,"-"]
["-","-",null,"-"]
["-","-",null,"-"]
["-","-",null,"-"]
["-","-",null,"-"]
["-","-",null,"-"]
["-","-",null,"-"]
["-","-",null,"-"]
["-","-",null,"-"]
["-","-",null,"-"]
["-","-",null,"-"]
["-","-",null,"-"]
["-","-",null,"-"]
["-","-",null,"-"]
["-","-",null,"-"]
["-","-",null,"-"]
["-","-",null,"-"]
["-","-",null,"-"]
["-","-",null,"-"]
["-","-",null,"-"]
["-","-",null,"-"]
["-","-",null,"-"]
["-","-",null,"-"]
["-","-",null,"-"]
["-","-",null,"-"]
["-","-",null,"-"]
["-","-",null,"-"]
["-","-",null,"-"]
["-","-",null,"-"]
["-","-",null,"-"]
["-","-",null,"-"]
["-","-",null,"-"]
["-","-",null,"-"]
["-","-",null,"-"]
["-","-",null,"-"]
["-","-",null,"-"]
["-","-",null,"-"]
["-","-",null,"-"]
["-","-",null,"-"]
["-","-",null,"-"]
["-","-",null,"-"]
["-","-",null,"-"]
["-","-",null,"-"]
["-","-",null,"-"]
["-","-",null,"-"]
["-","-",null,"-"]
["-","-",null,"-"]
["-","-",null,"-"]
["-","-",null,"-"]
["-","-",null,"-"]
["-","-",null,"-"]
["-","-",null,"-"]
["-","-",null,"-"]
["-",{"$f":"IF(ISBLANK(C645),\"-\",INDIRECT(\"VEGSAMPLINGTASKS!A\"&MATCH(C645,TaskLabel,0)+4))","v":"-"},null,{"$f":"IF(ISBLANK(C645),\"-\",VLOOKUP(INDIRECT(\"VEGSAMPLINGTASKS!G\"&MATCH(C645,TaskLabel,0)+4),VT_PlotPercentTypeDescrip,2,FALSE))","v":"-"}]
["-","-",null,"-"]
[{"$f":"IF(ISBLANK(C647),\"-\",GenGuid())","v":"-"},"-",null,"-"]
["-","-",null,"-"]
["-","-",null,"-"]
["-","-",null,"-"]
["-","-",null,"-"]
["-","-",null,"-"]
["-","-",null,"-"]
["-","-",null,"-"]
["-","-",null,"-"]
["-","-",null,"-"]
["-","-",null,"-"]
["-","-",null,"-"]
["-","-",null,"-"]
["-","-",null,"-"]
["-","-",null,"-"]
["-","-",null,"-"]
["-","-",null,"-"]
["-","-",null,"-"]
["-","-",null,"-"]
["-","-",null,"-"]
["-","-",null,"-"]
["-","-",null,"-"]
["-","-",null,"-"]
["-","-",null,"-"]
["-","-",null,"-"]
["-","-",null,"-"]
["-","-",null,"-"]
["-","-",null,"-"]
["-","-",null,"-"]
["-","-",null,"-"]
["-","-",null,"-"]
["-","-",null,"-"]
["-","-",null,"-"]
["-","-",null,"-"]
["-","-",null,"-"]
["-","-",null,"-"]
["-","-",null,"-"]
["-","-",null,"-"]
["-","-",null,"-"]
["-","-",null,"-"]
["-","-",null,"-"]
["-","-",null,"-"]
["-","-",null,"-"]
["-","-",null,"-"]
["-","-",null,"-"]
["-","-",null,"-"]
["-","-",null,"-"]
["-","-",null,"-"]
["-","-",null,"-"]
["-","-",null,"-"]
["-","-",null,"-"]
["-","-",null,"-"]
["-","-",null,"-"]
["-","-",null,"-"]
["-","-",null,"-"]
["-","-",null,"-"]
["-","-",null,"-"]
["-","-",null,"-"]
["-","-",null,"-"]
["-","-",null,"-"]
["-","-",null,"-"]
["-","-",null,"-"]
["-",{"$f":"IF(ISBLANK(C709),\"-\",INDIRECT(\"VEGSAMPLINGTASKS!A\"&MATCH(C709,TaskLabel,0)+4))","v":"-"},null,{"$f":"IF(ISBLANK(C709),\"-\",VLOOKUP(INDIRECT(\"VEGSAMPLINGTASKS!G\"&MATCH(C709,TaskLabel,0)+4),VT_PlotPercentTypeDescrip,2,FALSE))","v":"-"}]
["-","-",null,"-"]
[{"$f":"IF(ISBLANK(C711),\"-\",GenGuid())","v":"-"},"-",null,"-"]
["-","-",null,"-"]
["-","-",null,"-"]
["-","-",null,"-"]
["-","-",null,"-"]
["-","-",null,"-"]
["-","-",null,"-"]
["-","-",null,"-"]
["-","-",null,"-"]
["-","-",null,"-"]
["-","-",null,"-"]
["-","-",null,"-"]
["-","-",null,"-"]
["-","-",null,"-"]
["-","-",null,"-"]
["-","-",null,"-"]
["-","-",null,"-"]
["-","-",null,"-"]
["-","-",null,"-"]
["-","-",null,"-"]
["-","-",null,"-"]
["-","-",null,"-"]
["-","-",null,"-"]
["-","-",null,"-"]
["-","-",null,"-"]
["-","-",null,"-"]
["-","-",null,"-"]
["-","-",null,"-"]
["-","-",null,"-"]
["-","-",null,"-"]
["-","-",null,"-"]
["-","-",null,"-"]
["-","-",null,"-"]
["-","-",null,"-"]
["-","-",null,"-"]
["-","-",null,"-"]
["-","-",null,"-"]
["-","-",null,"-"]
["-","-",null,"-"]
["-","-",null,"-"]
["-","-",null,"-"]
["-","-",null,"-"]
["-","-",null,"-"]
["-","-",null,"-"]
["-","-",null,"-"]
["-","-",null,"-"]
["-","-",null,"-"]
["-","-",null,"-"]
["-","-",null,"-"]
["-","-",null,"-"]
["-","-",null,"-"]
["-","-",null,"-"]
["-","-",null,"-"]
["-","-",null,"-"]
["-","-",null,"-"]
["-","-",null,"-"]
["-","-",null,"-"]
["-","-",null,"-"]
["-","-",null,"-"]
["-","-",null,"-"]
["-","-",null,"-"]
["-","-",null,"-"]
["-",{"$f":"IF(ISBLANK(C773),\"-\",INDIRECT(\"VEGSAMPLINGTASKS!A\"&MATCH(C773,TaskLabel,0)+4))","v":"-"},null,{"$f":"IF(ISBLANK(C773),\"-\",VLOOKUP(INDIRECT(\"VEGSAMPLINGTASKS!G\"&MATCH(C773,TaskLabel,0)+4),VT_PlotPercentTypeDescrip,2,FALSE))","v":"-"}]
["-","-",null,"-"]
[{"$f":"IF(ISBLANK(C775),\"-\",GenGuid())","v":"-"},"-",null,"-"]
["-","-",null,"-"]
["-","-",null,"-"]
["-","-",null,"-"]
["-","-",null,"-"]
["-","-",null,"-"]
["-","-",null,"-"]
["-","-",null,"-"]
["-","-",null,"-"]
["-","-",null,"-"]
["-","-",null,"-"]
["-","-",null,"-"]
["-","-",null,"-"]
["-","-",null,"-"]
["-","-",null,"-"]
["-","-",null,"-"]
["-","-",null,"-"]
["-","-",null,"-"]
["-","-",null,"-"]
["-","-",null,"-"]
["-","-",null,"-"]
["-","-",null,"-"]
["-","-",null,"-"]
["-","-",null,"-"]
["-","-",null,"-"]
["-","-",null,"-"]
["-","-",null,"-"]
["-","-",null,"-"]
["-","-",null,"-"]
["-","-",null,"-"]
["-","-",null,"-"]
["-","-",null,"-"]
["-","-",null,"-"]
["-","-",null,"-"]
["-","-",null,"-"]
["-","-",null,"-"]
["-","-",null,"-"]
["-","-",null,"-"]
["-","-",null,"-"]
["-","-",null,"-"]
["-","-",null,"-"]
["-","-",null,"-"]
["-","-",null,"-"]
["-","-",null,"-"]
["-","-",null,"-"]
["-","-",null,"-"]
["-","-",null,"-"]
["-","-",null,"-"]
["-","-",null,"-"]
["-","-",null,"-"]
["-","-",null,"-"]
["-","-",null,"-"]
["-","-",null,"-"]
["-","-",null,"-"]
["-","-",null,"-"]
["-","-",null,"-"]
["-","-",null,"-"]
["-","-",null,"-"]
["-","-",null,"-"]
["-","-",null,"-"]
["-","-",null,"-"]
["-","-",null,"-"]
["-",{"$f":"IF(ISBLANK(C837),\"-\",INDIRECT(\"VEGSAMPLINGTASKS!A\"&MATCH(C837,TaskLabel,0)+4))","v":"-"},null,{"$f":"IF(ISBLANK(C837),\"-\",VLOOKUP(INDIRECT(\"VEGSAMPLINGTASKS!G\"&MATCH(C837,TaskLabel,0)+4),VT_PlotPercentTypeDescrip,2,FALSE))","v":"-"}]
["-","-",null,"-"]
[{"$f":"IF(ISBLANK(C839),\"-\",GenGuid())","v":"-"},"-",null,"-"]
["-","-",null,"-"]
["-","-",null,"-"]
["-","-",null,"-"]
["-","-",null,"-"]
["-","-",null,"-"]
["-","-",null,"-"]
["-","-",null,"-"]
["-","-",null,"-"]
["-","-",null,"-"]
["-","-",null,"-"]
["-","-",null,"-"]
["-","-",null,"-"]
["-","-",null,"-"]
["-","-",null,"-"]
["-","-",null,"-"]
["-","-",null,"-"]
["-","-",null,"-"]
["-","-",null,"-"]
["-","-",null,"-"]
["-","-",null,"-"]
["-","-",null,"-"]
["-","-",null,"-"]
["-","-",null,"-"]
["-","-",null,"-"]
["-","-",null,"-"]
["-","-",null,"-"]
["-","-",null,"-"]
["-","-",null,"-"]
["-","-",null,"-"]
["-","-",null,"-"]
["-","-",null,"-"]
["-","-",null,"-"]
["-","-",null,"-"]
["-","-",null,"-"]
["-","-",null,"-"]
["-","-",null,"-"]
["-","-",null,"-"]
["-","-",null,"-"]
["-","-",null,"-"]
["-","-",null,"-"]
["-","-",null,"-"]
["-","-",null,"-"]
["-","-",null,"-"]
["-","-",null,"-"]
["-","-",null,"-"]
["-","-",null,"-"]
["-","-",null,"-"]
["-","-",null,"-"]
["-","-",null,"-"]
["-","-",null,"-"]
["-","-",null,"-"]
["-","-",null,"-"]
["-","-",null,"-"]
["-","-",null,"-"]
["-","-",null,"-"]
["-","-",null,"-"]
["-","-",null,"-"]
["-","-",null,"-"]
["-","-",null,"-"]
["-","-",null,"-"]
["-","-",null,"-"]
["-",{"$f":"IF(ISBLANK(C901),\"-\",INDIRECT(\"VEGSAMPLINGTASKS!A\"&MATCH(C901,TaskLabel,0)+4))","v":"-"},null,{"$f":"IF(ISBLANK(C901),\"-\",VLOOKUP(INDIRECT(\"VEGSAMPLINGTASKS!G\"&MATCH(C901,TaskLabel,0)+4),VT_PlotPercentTypeDescrip,2,FALSE))","v":"-"}]
["-","-",null,"-"]
[{"$f":"IF(ISBLANK(C903),\"-\",GenGuid())","v":"-"},"-",null,"-"]
["-","-",null,"-"]
["-","-",null,"-"]
["-","-",null,"-"]
["-","-",null,"-"]
["-","-",null,"-"]
["-","-",null,"-"]
["-","-",null,"-"]
["-","-",null,"-"]
["-","-",null,"-"]
["-","-",null,"-"]
["-","-",null,"-"]
["-","-",null,"-"]
["-","-",null,"-"]
["-","-",null,"-"]
["-","-",null,"-"]
["-","-",null,"-"]
["-","-",null,"-"]
["-","-",null,"-"]
["-","-",null,"-"]
["-","-",null,"-"]
["-","-",null,"-"]
["-","-",null,"-"]
["-","-",null,"-"]
["-","-",null,"-"]
["-","-",null,"-"]
["-","-",null,"-"]
["-","-",null,"-"]
["-","-",null,"-"]
["-","-",null,"-"]
["-","-",null,"-"]
["-","-",null,"-"]
["-","-",null,"-"]
["-","-",null,"-"]
["-","-",null,"-"]
["-","-",null,"-"]
["-","-",null,"-"]
["-","-",null,"-"]
["-","-",null,"-"]
["-","-",null,"-"]
["-","-",null,"-"]
["-","-",null,"-"]
["-","-",null,"-"]
["-","-",null,"-"]
["-","-",null,"-"]
["-","-",null,"-"]
["-","-",null,"-"]
["-","-",null,"-"]
["-","-",null,"-"]
["-","-",null,"-"]
["-","-",null,"-"]
["-","-",null,"-"]
["-","-",null,"-"]
["-","-",null,"-"]
["-","-",null,"-"]
["-","-",null,"-"]
["-","-",null,"-"]
["-","-",null,"-"]
["-","-",null,"-"]
["-","-",null,"-"]
["-","-",null,"-"]
["-","-",null,"-"]
["-",{"$f":"IF(ISBLANK(C965),\"-\",INDIRECT(\"VEGSAMPLINGTASKS!A\"&MATCH(C965,TaskLabel,0)+4))","v":"-"},null,{"$f":"IF(ISBLANK(C965),\"-\",VLOOKUP(INDIRECT(\"VEGSAMPLINGTASKS!G\"&MATCH(C965,TaskLabel,0)+4),VT_PlotPercentTypeDescrip,2,FALSE))","v":"-"}]
["-","-",null,"-"]
[{"$f":"IF(ISBLANK(C967),\"-\",GenGuid())","v":"-"},"-",null,"-"]
["-","-",null,"-"]
["-","-",null,"-"]
["-","-",null,"-"]
["-","-",null,"-"]
["-","-",null,"-"]
["-","-",null,"-"]
["-","-",null,"-"]
["-","-",null,"-"]
["-","-",null,"-"]
["-","-",null,"-"]
["-","-",null,"-"]
["-","-",null,"-"]
["-","-",null,"-"]
["-","-",null,"-"]
["-","-",null,"-"]
["-","-",null,"-"]
["-","-",null,"-"]
["-","-",null,"-"]
["-","-",null,"-"]
["-","-",null,"-"]
["-","-",null,"-"]
["-","-",null,"-"]
["-","-",null,"-"]
["-","-",null,"-"]
["-","-",null,"-"]
["-","-",null,"-"]
["-","-",null,"-"]
["-","-",null,"-"]
["-","-",null,"-"]
["-","-",null,"-"]
["-","-",null,"-"]
["-","-",null,"-"]
["-","-",null,"-"]
["-","-",null,"-"]
["-","-",null,"-"]
["-","-",null,"-"]
["-","-",null,"-"]
["To add more rows, copy from the previous line to ensure the proper formatting/formulas are in place."]

{"sheet":"PlotSPECIESRows","index":15,"n_rows":1005,"n_cols":11,"rows_kept":1005,"cut":false,"hidden":false,"merged":[]}
["PlotSpeciesID","VegSamplingTaskID","TaskLabel","SpeciesCode","Percentage","CoverClass","Biomass","BasalArea","Density","DensityDistrClass","PercentType"]
["Name","Survey ID","Task Label","Species Acronym","Percent","Cover Class","Biomass Weight","Basal Area","Density","Density Distrib. Class","Percent Type (from VST)"]
["Type",null,"Text","Text","single","Text","Double","Single","Double","Integer","Text"]
["Max Length",null,100,12,null,5,null,null,null,null,25]
[{"$f":"IF(ISBLANK(C5),\"-\",GenGuid())","v":"-"},{"$f":"IF(ISBLANK(C5),\"-\",INDIRECT(\"VEGSAMPLINGTASKS!A\"&MATCH(C5,TaskLabel,0)+4))","v":"-"},null,null,null,null,null,null,null,null,{"$f":"IF(ISBLANK(C5),\"-\",VLOOKUP(INDIRECT(\"VEGSAMPLINGTASKS!G\"&MATCH(C5,TaskLabel,0)+4),VT_PlotPercentTypeDescrip,2,FALSE))","v":"-"}]
[{"$f":"IF(ISBLANK(C6),\"-\",GenGuid())","v":"-"},"-",null,null,null,null,null,null,null,null,"-"]
[{"$f":"IF(ISBLANK(C7),\"-\",GenGuid())","v":"-"},"-",null,null,null,null,null,null,null,null,"-"]
["-","-",null,null,null,null,null,null,null,null,"-"]
["-","-",null,null,null,null,null,null,null,null,"-"]
["-","-",null,null,null,null,null,null,null,null,"-"]
["-","-",null,null,null,null,null,null,null,null,"-"]
["-","-",null,null,null,null,null,null,null,null,"-"]
["-","-",null,null,null,null,null,null,null,null,"-"]
["-","-",null,null,null,null,null,null,null,null,"-"]
["-","-",null,null,null,null,null,null,null,null,"-"]
["-","-",null,null,null,null,null,null,null,null,"-"]
["-","-",null,null,null,null,null,null,null,null,"-"]
["-","-",null,null,null,null,null,null,null,null,"-"]
["-","-",null,null,null,null,null,null,null,null,"-"]
["-","-",null,null,null,null,null,null,null,null,"-"]
["-","-",null,null,null,null,null,null,null,null,"-"]
["-","-",null,null,null,null,null,null,null,null,"-"]
["-","-",null,null,null,null,null,null,null,null,"-"]
["-","-",null,null,null,null,null,null,null,null,"-"]
["-","-",null,null,null,null,null,null,null,null,"-"]
["-","-",null,null,null,null,null,null,null,null,"-"]
["-","-",null,null,null,null,null,null,null,null,"-"]
["-","-",null,null,null,null,null,null,null,null,"-"]
["-","-",null,null,null,null,null,null,null,null,"-"]
["-","-",null,null,null,null,null,null,null,null,"-"]
["-","-",null,null,null,null,null,null,null,null,"-"]
["-","-",null,null,null,null,null,null,null,null,"-"]
["-","-",null,null,null,null,null,null,null,null,"-"]
["-","-",null,null,null,null,null,null,null,null,"-"]
["-","-",null,null,null,null,null,null,null,null,"-"]
["-","-",null,null,null,null,null,null,null,null,"-"]
["-","-",null,null,null,null,null,null,null,null,"-"]
["-","-",null,null,null,null,null,null,null,null,"-"]
["-","-",null,null,null,null,null,null,null,null,"-"]
["-","-",null,null,null,null,null,null,null,null,"-"]
["-","-",null,null,null,null,null,null,null,null,"-"]
["-","-",null,null,null,null,null,null,null,null,"-"]
["-","-",null,null,null,null,null,null,null,null,"-"]
["-","-",null,null,null,null,null,null,null,null,"-"]
["-","-",null,null,null,null,null,null,null,null,"-"]
["-","-",null,null,null,null,null,null,null,null,"-"]
["-","-",null,null,null,null,null,null,null,null,"-"]
["-","-",null,null,null,null,null,null,null,null,"-"]
["-","-",null,null,null,null,null,null,null,null,"-"]
["-","-",null,null,null,null,null,null,null,null,"-"]
["-","-",null,null,null,null,null,null,null,null,"-"]
["-","-",null,null,null,null,null,null,null,null,"-"]
["-","-",null,null,null,null,null,null,null,null,"-"]
["-","-",null,null,null,null,null,null,null,null,"-"]
["-","-",null,null,null,null,null,null,null,null,"-"]
["-","-",null,null,null,null,null,null,null,null,"-"]
["-","-",null,null,null,null,null,null,null,null,"-"]
["-","-",null,null,null,null,null,null,null,null,"-"]
["-","-",null,null,null,null,null,null,null,null,"-"]
["-","-",null,null,null,null,null,null,null,null,"-"]
["-","-",null,null,null,null,null,null,null,null,"-"]
["-","-",null,null,null,null,null,null,null,null,"-"]
["-","-",null,null,null,null,null,null,null,null,"-"]
["-","-",null,null,null,null,null,null,null,null,"-"]
["-","-",null,null,null,null,null,null,null,null,"-"]
["-","-",null,null,null,null,null,null,null,null,"-"]
["-","-",null,null,null,null,null,null,null,null,"-"]
["-","-",null,null,null,null,null,null,null,null,"-"]
["-",{"$f":"IF(ISBLANK(C69),\"-\",INDIRECT(\"VEGSAMPLINGTASKS!A\"&MATCH(C69,TaskLabel,0)+4))","v":"-"},null,null,null,null,null,null,null,null,{"$f":"IF(ISBLANK(C69),\"-\",VLOOKUP(INDIRECT(\"VEGSAMPLINGTASKS!G\"&MATCH(C69,TaskLabel,0)+4),VT_PlotPercentTypeDescrip,2,FALSE))","v":"-"}]
["-","-",null,null,null,null,null,null,null,null,"-"]
[{"$f":"IF(ISBLANK(C71),\"-\",GenGuid())","v":"-"},"-",null,null,null,null,null,null,null,null,"-"]
["-","-",null,null,null,null,null,null,null,null,"-"]
["-","-",null,null,null,null,null,null,null,null,"-"]
["-","-",null,null,null,null,null,null,null,null,"-"]
["-","-",null,null,null,null,null,null,null,null,"-"]
["-","-",null,null,null,null,null,null,null,null,"-"]
["-","-",null,null,null,null,null,null,null,null,"-"]
["-","-",null,null,null,null,null,null,null,null,"-"]
["-","-",null,null,null,null,null,null,null,null,"-"]
["-","-",null,null,null,null,null,null,null,null,"-"]
["-","-",null,null,null,null,null,null,null,null,"-"]
["-","-",null,null,null,null,null,null,null,null,"-"]
["-","-",null,null,null,null,null,null,null,null,"-"]
["-","-",null,null,null,null,null,null,null,null,"-"]
["-","-",null,null,null,null,null,null,null,null,"-"]
["-","-",null,null,null,null,null,null,null,null,"-"]
["-","-",null,null,null,null,null,null,null,null,"-"]
["-","-",null,null,null,null,null,null,null,null,"-"]
["-","-",null,null,null,null,null,null,null,null,"-"]
["-","-",null,null,null,null,null,null,null,null,"-"]
["-","-",null,null,null,null,null,null,null,null,"-"]
["-","-",null,null,null,null,null,null,null,null,"-"]
["-","-",null,null,null,null,null,null,null,null,"-"]
["-","-",null,null,null,null,null,null,null,null,"-"]
["-","-",null,null,null,null,null,null,null,null,"-"]
["-","-",null,null,null,null,null,null,null,null,"-"]
["-","-",null,null,null,null,null,null,null,null,"-"]
["-","-",null,null,null,null,null,null,null,null,"-"]
["-","-",null,null,null,null,null,null,null,null,"-"]
["-","-",null,null,null,null,null,null,null,null,"-"]
["-","-",null,null,null,null,null,null,null,null,"-"]
["-","-",null,null,null,null,null,null,null,null,"-"]
["-","-",null,null,null,null,null,null,null,null,"-"]
["-","-",null,null,null,null,null,null,null,null,"-"]
["-","-",null,null,null,null,null,null,null,null,"-"]
["-","-",null,null,null,null,null,null,null,null,"-"]
["-","-",null,null,null,null,null,null,null,null,"-"]
["-","-",null,null,null,null,null,null,null,null,"-"]
["-","-",null,null,null,null,null,null,null,null,"-"]
["-","-",null,null,null,null,null,null,null,null,"-"]
["-","-",null,null,null,null,null,null,null,null,"-"]
["-","-",null,null,null,null,null,null,null,null,"-"]
["-","-",null,null,null,null,null,null,null,null,"-"]
["-","-",null,null,null,null,null,null,null,null,"-"]
["-","-",null,null,null,null,null,null,null,null,"-"]
["-","-",null,null,null,null,null,null,null,null,"-"]
["-","-",null,null,null,null,null,null,null,null,"-"]
["-","-",null,null,null,null,null,null,null,null,"-"]
["-","-",null,null,null,null,null,null,null,null,"-"]
["-","-",null,null,null,null,null,null,null,null,"-"]
["-","-",null,null,null,null,null,null,null,null,"-"]
["-","-",null,null,null,null,null,null,null,null,"-"]
["-","-",null,null,null,null,null,null,null,null,"-"]
["-","-",null,null,null,null,null,null,null,null,"-"]
["-","-",null,null,null,null,null,null,null,null,"-"]
["-","-",null,null,null,null,null,null,null,null,"-"]
["-","-",null,null,null,null,null,null,null,null,"-"]
["-","-",null,null,null,null,null,null,null,null,"-"]
["-","-",null,null,null,null,null,null,null,null,"-"]
["-","-",null,null,null,null,null,null,null,null,"-"]
["-","-",null,null,null,null,null,null,null,null,"-"]
["-","-",null,null,null,null,null,null,null,null,"-"]
["-",{"$f":"IF(ISBLANK(C133),\"-\",INDIRECT(\"VEGSAMPLINGTASKS!A\"&MATCH(C133,TaskLabel,0)+4))","v":"-"},null,null,null,null,null,null,null,null,{"$f":"IF(ISBLANK(C133),\"-\",VLOOKUP(INDIRECT(\"VEGSAMPLINGTASKS!G\"&MATCH(C133,TaskLabel,0)+4),VT_PlotPercentTypeDescrip,2,FALSE))","v":"-"}]
["-","-",null,null,null,null,null,null,null,null,"-"]
[{"$f":"IF(ISBLANK(C135),\"-\",GenGuid())","v":"-"},"-",null,null,null,null,null,null,null,null,"-"]
["-","-",null,null,null,null,null,null,null,null,"-"]
["-","-",null,null,null,null,null,null,null,null,"-"]
["-","-",null,null,null,null,null,null,null,null,"-"]
["-","-",null,null,null,null,null,null,null,null,"-"]
["-","-",null,null,null,null,null,null,null,null,"-"]
["-","-",null,null,null,null,null,null,null,null,"-"]
["-","-",null,null,null,null,null,null,null,null,"-"]
["-","-",null,null,null,null,null,null,null,null,"-"]
["-","-",null,null,null,null,null,null,null,null,"-"]
["-","-",null,null,null,null,null,null,null,null,"-"]
["-","-",null,null,null,null,null,null,null,null,"-"]
["-","-",null,null,null,null,null,null,null,null,"-"]
["-","-",null,null,null,null,null,null,null,null,"-"]
["-","-",null,null,null,null,null,null,null,null,"-"]
["-","-",null,null,null,null,null,null,null,null,"-"]
["-","-",null,null,null,null,null,null,null,null,"-"]
["-","-",null,null,null,null,null,null,null,null,"-"]
["-","-",null,null,null,null,null,null,null,null,"-"]
["-","-",null,null,null,null,null,null,null,null,"-"]
["-","-",null,null,null,null,null,null,null,null,"-"]
["-","-",null,null,null,null,null,null,null,null,"-"]
["-","-",null,null,null,null,null,null,null,null,"-"]
["-","-",null,null,null,null,null,null,null,null,"-"]
["-","-",null,null,null,null,null,null,null,null,"-"]
["-","-",null,null,null,null,null,null,null,null,"-"]
["-","-",null,null,null,null,null,null,null,null,"-"]
["-","-",null,null,null,null,null,null,null,null,"-"]
["-","-",null,null,null,null,null,null,null,null,"-"]
["-","-",null,null,null,null,null,null,null,null,"-"]
["-","-",null,null,null,null,null,null,null,null,"-"]
["-","-",null,null,null,null,null,null,null,null,"-"]
["-","-",null,null,null,null,null,null,null,null,"-"]
["-","-",null,null,null,null,null,null,null,null,"-"]
["-","-",null,null,null,null,null,null,null,null,"-"]
["-","-",null,null,null,null,null,null,null,null,"-"]
["-","-",null,null,null,null,null,null,null,null,"-"]
["-","-",null,null,null,null,null,null,null,null,"-"]
["-","-",null,null,null,null,null,null,null,null,"-"]
["-","-",null,null,null,null,null,null,null,null,"-"]
["-","-",null,null,null,null,null,null,null,null,"-"]
["-","-",null,null,null,null,null,null,null,null,"-"]
["-","-",null,null,null,null,null,null,null,null,"-"]
["-","-",null,null,null,null,null,null,null,null,"-"]
["-","-",null,null,null,null,null,null,null,null,"-"]
["-","-",null,null,null,null,null,null,null,null,"-"]
["-","-",null,null,null,null,null,null,null,null,"-"]
["-","-",null,null,null,null,null,null,null,null,"-"]
["-","-",null,null,null,null,null,null,null,null,"-"]
["-","-",null,null,null,null,null,null,null,null,"-"]
["-","-",null,null,null,null,null,null,null,null,"-"]
["-","-",null,null,null,null,null,null,null,null,"-"]
["-","-",null,null,null,null,null,null,null,null,"-"]
["-","-",null,null,null,null,null,null,null,null,"-"]
["-","-",null,null,null,null,null,null,null,null,"-"]
["-","-",null,null,null,null,null,null,null,null,"-"]
["-","-",null,null,null,null,null,null,null,null,"-"]
["-","-",null,null,null,null,null,null,null,null,"-"]
["-","-",null,null,null,null,null,null,null,null,"-"]
["-","-",null,null,null,null,null,null,null,null,"-"]
["-","-",null,null,null,null,null,null,null,null,"-"]
["-","-",null,null,null,null,null,null,null,null,"-"]
["-",{"$f":"IF(ISBLANK(C197),\"-\",INDIRECT(\"VEGSAMPLINGTASKS!A\"&MATCH(C197,TaskLabel,0)+4))","v":"-"},null,null,null,null,null,null,null,null,{"$f":"IF(ISBLANK(C197),\"-\",VLOOKUP(INDIRECT(\"VEGSAMPLINGTASKS!G\"&MATCH(C197,TaskLabel,0)+4),VT_PlotPercentTypeDescrip,2,FALSE))","v":"-"}]
["-","-",null,null,null,null,null,null,null,null,"-"]
[{"$f":"IF(ISBLANK(C199),\"-\",GenGuid())","v":"-"},"-",null,null,null,null,null,null,null,null,"-"]
["-","-",null,null,null,null,null,null,null,null,"-"]
["-","-",null,null,null,null,null,null,null,null,"-"]
["-","-",null,null,null,null,null,null,null,null,"-"]
["-","-",null,null,null,null,null,null,null,null,"-"]
["-","-",null,null,null,null,null,null,null,null,"-"]
["-","-",null,null,null,null,null,null,null,null,"-"]
["-","-",null,null,null,null,null,null,null,null,"-"]
["-","-",null,null,null,null,null,null,null,null,"-"]
["-","-",null,null,null,null,null,null,null,null,"-"]
["-","-",null,null,null,null,null,null,null,null,"-"]
["-","-",null,null,null,null,null,null,null,null,"-"]
["-","-",null,null,null,null,null,null,null,null,"-"]
["-","-",null,null,null,null,null,null,null,null,"-"]
["-","-",null,null,null,null,null,null,null,null,"-"]
["-","-",null,null,null,null,null,null,null,null,"-"]
["-","-",null,null,null,null,null,null,null,null,"-"]
["-","-",null,null,null,null,null,null,null,null,"-"]
["-","-",null,null,null,null,null,null,null,null,"-"]
["-","-",null,null,null,null,null,null,null,null,"-"]
["-","-",null,null,null,null,null,null,null,null,"-"]
["-","-",null,null,null,null,null,null,null,null,"-"]
["-","-",null,null,null,null,null,null,null,null,"-"]
["-","-",null,null,null,null,null,null,null,null,"-"]
["-","-",null,null,null,null,null,null,null,null,"-"]
["-","-",null,null,null,null,null,null,null,null,"-"]
["-","-",null,null,null,null,null,null,null,null,"-"]
["-","-",null,null,null,null,null,null,null,null,"-"]
["-","-",null,null,null,null,null,null,null,null,"-"]
["-","-",null,null,null,null,null,null,null,null,"-"]
["-","-",null,null,null,null,null,null,null,null,"-"]
["-","-",null,null,null,null,null,null,null,null,"-"]
["-","-",null,null,null,null,null,null,null,null,"-"]
["-","-",null,null,null,null,null,null,null,null,"-"]
["-","-",null,null,null,null,null,null,null,null,"-"]
["-","-",null,null,null,null,null,null,null,null,"-"]
["-","-",null,null,null,null,null,null,null,null,"-"]
["-","-",null,null,null,null,null,null,null,null,"-"]
["-","-",null,null,null,null,null,null,null,null,"-"]
["-","-",null,null,null,null,null,null,null,null,"-"]
["-","-",null,null,null,null,null,null,null,null,"-"]
["-","-",null,null,null,null,null,null,null,null,"-"]
["-","-",null,null,null,null,null,null,null,null,"-"]
["-","-",null,null,null,null,null,null,null,null,"-"]
["-","-",null,null,null,null,null,null,null,null,"-"]
["-","-",null,null,null,null,null,null,null,null,"-"]
["-","-",null,null,null,null,null,null,null,null,"-"]
["-","-",null,null,null,null,null,null,null,null,"-"]
["-","-",null,null,null,null,null,null,null,null,"-"]
["-","-",null,null,null,null,null,null,null,null,"-"]
["-","-",null,null,null,null,null,null,null,null,"-"]
["-","-",null,null,null,null,null,null,null,null,"-"]
["-","-",null,null,null,null,null,null,null,null,"-"]
["-","-",null,null,null,null,null,null,null,null,"-"]
["-","-",null,null,null,null,null,null,null,null,"-"]
["-","-",null,null,null,null,null,null,null,null,"-"]
["-","-",null,null,null,null,null,null,null,null,"-"]
["-","-",null,null,null,null,null,null,null,null,"-"]
["-","-",null,null,null,null,null,null,null,null,"-"]
["-","-",null,null,null,null,null,null,null,null,"-"]
["-","-",null,null,null,null,null,null,null,null,"-"]
["-","-",null,null,null,null,null,null,null,null,"-"]
["-",{"$f":"IF(ISBLANK(C261),\"-\",INDIRECT(\"VEGSAMPLINGTASKS!A\"&MATCH(C261,TaskLabel,0)+4))","v":"-"},null,null,null,null,null,null,null,null,{"$f":"IF(ISBLANK(C261),\"-\",VLOOKUP(INDIRECT(\"VEGSAMPLINGTASKS!G\"&MATCH(C261,TaskLabel,0)+4),VT_PlotPercentTypeDescrip,2,FALSE))","v":"-"}]
["-","-",null,null,null,null,null,null,null,null,"-"]
[{"$f":"IF(ISBLANK(C263),\"-\",GenGuid())","v":"-"},"-",null,null,null,null,null,null,null,null,"-"]
["-","-",null,null,null,null,null,null,null,null,"-"]
["-","-",null,null,null,null,null,null,null,null,"-"]
["-","-",null,null,null,null,null,null,null,null,"-"]
["-","-",null,null,null,null,null,null,null,null,"-"]
["-","-",null,null,null,null,null,null,null,null,"-"]
["-","-",null,null,null,null,null,null,null,null,"-"]
["-","-",null,null,null,null,null,null,null,null,"-"]
["-","-",null,null,null,null,null,null,null,null,"-"]
["-","-",null,null,null,null,null,null,null,null,"-"]
["-","-",null,null,null,null,null,null,null,null,"-"]
["-","-",null,null,null,null,null,null,null,null,"-"]
["-","-",null,null,null,null,null,null,null,null,"-"]
["-","-",null,null,null,null,null,null,null,null,"-"]
["-","-",null,null,null,null,null,null,null,null,"-"]
["-","-",null,null,null,null,null,null,null,null,"-"]
["-","-",null,null,null,null,null,null,null,null,"-"]
["-","-",null,null,null,null,null,null,null,null,"-"]
["-","-",null,null,null,null,null,null,null,null,"-"]
["-","-",null,null,null,null,null,null,null,null,"-"]
["-","-",null,null,null,null,null,null,null,null,"-"]
["-","-",null,null,null,null,null,null,null,null,"-"]
["-","-",null,null,null,null,null,null,null,null,"-"]
["-","-",null,null,null,null,null,null,null,null,"-"]
["-","-",null,null,null,null,null,null,null,null,"-"]
["-","-",null,null,null,null,null,null,null,null,"-"]
["-","-",null,null,null,null,null,null,null,null,"-"]
["-","-",null,null,null,null,null,null,null,null,"-"]
["-","-",null,null,null,null,null,null,null,null,"-"]
["-","-",null,null,null,null,null,null,null,null,"-"]
["-","-",null,null,null,null,null,null,null,null,"-"]
["-","-",null,null,null,null,null,null,null,null,"-"]
["-","-",null,null,null,null,null,null,null,null,"-"]
["-","-",null,null,null,null,null,null,null,null,"-"]
["-","-",null,null,null,null,null,null,null,null,"-"]
["-","-",null,null,null,null,null,null,null,null,"-"]
["-","-",null,null,null,null,null,null,null,null,"-"]
["-","-",null,null,null,null,null,null,null,null,"-"]
["-","-",null,null,null,null,null,null,null,null,"-"]
["-","-",null,null,null,null,null,null,null,null,"-"]
["-","-",null,null,null,null,null,null,null,null,"-"]
["-","-",null,null,null,null,null,null,null,null,"-"]
["-","-",null,null,null,null,null,null,null,null,"-"]
["-","-",null,null,null,null,null,null,null,null,"-"]
["-","-",null,null,null,null,null,null,null,null,"-"]
["-","-",null,null,null,null,null,null,null,null,"-"]
["-","-",null,null,null,null,null,null,null,null,"-"]
["-","-",null,null,null,null,null,null,null,null,"-"]
["-","-",null,null,null,null,null,null,null,null,"-"]
["-","-",null,null,null,null,null,null,null,null,"-"]
["-","-",null,null,null,null,null,null,null,null,"-"]
["-","-",null,null,null,null,null,null,null,null,"-"]
["-","-",null,null,null,null,null,null,null,null,"-"]
["-","-",null,null,null,null,null,null,null,null,"-"]
["-","-",null,null,null,null,null,null,null,null,"-"]
["-","-",null,null,null,null,null,null,null,null,"-"]
["-","-",null,null,null,null,null,null,null,null,"-"]
["-","-",null,null,null,null,null,null,null,null,"-"]
["-","-",null,null,null,null,null,null,null,null,"-"]
["-","-",null,null,null,null,null,null,null,null,"-"]
["-","-",null,null,null,null,null,null,null,null,"-"]
["-","-",null,null,null,null,null,null,null,null,"-"]
["-",{"$f":"IF(ISBLANK(C325),\"-\",INDIRECT(\"VEGSAMPLINGTASKS!A\"&MATCH(C325,TaskLabel,0)+4))","v":"-"},null,null,null,null,null,null,null,null,{"$f":"IF(ISBLANK(C325),\"-\",VLOOKUP(INDIRECT(\"VEGSAMPLINGTASKS!G\"&MATCH(C325,TaskLabel,0)+4),VT_PlotPercentTypeDescrip,2,FALSE))","v":"-"}]
["-","-",null,null,null,null,null,null,null,null,"-"]
[{"$f":"IF(ISBLANK(C327),\"-\",GenGuid())","v":"-"},"-",null,null,null,null,null,null,null,null,"-"]
["-","-",null,null,null,null,null,null,null,null,"-"]
["-","-",null,null,null,null,null,null,null,null,"-"]
["-","-",null,null,null,null,null,null,null,null,"-"]
["-","-",null,null,null,null,null,null,null,null,"-"]
["-","-",null,null,null,null,null,null,null,null,"-"]
["-","-",null,null,null,null,null,null,null,null,"-"]
["-","-",null,null,null,null,null,null,null,null,"-"]
["-","-",null,null,null,null,null,null,null,null,"-"]
["-","-",null,null,null,null,null,null,null,null,"-"]
["-","-",null,null,null,null,null,null,null,null,"-"]
["-","-",null,null,null,null,null,null,null,null,"-"]
["-","-",null,null,null,null,null,null,null,null,"-"]
["-","-",null,null,null,null,null,null,null,null,"-"]
["-","-",null,null,null,null,null,null,null,null,"-"]
["-","-",null,null,null,null,null,null,null,null,"-"]
["-","-",null,null,null,null,null,null,null,null,"-"]
["-","-",null,null,null,null,null,null,null,null,"-"]
["-","-",null,null,null,null,null,null,null,null,"-"]
["-","-",null,null,null,null,null,null,null,null,"-"]
["-","-",null,null,null,null,null,null,null,null,"-"]
["-","-",null,null,null,null,null,null,null,null,"-"]
["-","-",null,null,null,null,null,null,null,null,"-"]
["-","-",null,null,null,null,null,null,null,null,"-"]
["-","-",null,null,null,null,null,null,null,null,"-"]
["-","-",null,null,null,null,null,null,null,null,"-"]
["-","-",null,null,null,null,null,null,null,null,"-"]
["-","-",null,null,null,null,null,null,null,null,"-"]
["-","-",null,null,null,null,null,null,null,null,"-"]
["-","-",null,null,null,null,null,null,null,null,"-"]
["-","-",null,null,null,null,null,null,null,null,"-"]
["-","-",null,null,null,null,null,null,null,null,"-"]
["-","-",null,null,null,null,null,null,null,null,"-"]
["-","-",null,null,null,null,null,null,null,null,"-"]
["-","-",null,null,null,null,null,null,null,null,"-"]
["-","-",null,null,null,null,null,null,null,null,"-"]
["-","-",null,null,null,null,null,null,null,null,"-"]
["-","-",null,null,null,null,null,null,null,null,"-"]
["-","-",null,null,null,null,null,null,null,null,"-"]
["-","-",null,null,null,null,null,null,null,null,"-"]
["-","-",null,null,null,null,null,null,null,null,"-"]
["-","-",null,null,null,null,null,null,null,null,"-"]
["-","-",null,null,null,null,null,null,null,null,"-"]
["-","-",null,null,null,null,null,null,null,null,"-"]
["-","-",null,null,null,null,null,null,null,null,"-"]
["-","-",null,null,null,null,null,null,null,null,"-"]
["-","-",null,null,null,null,null,null,null,null,"-"]
["-","-",null,null,null,null,null,null,null,null,"-"]
["-","-",null,null,null,null,null,null,null,null,"-"]
["-","-",null,null,null,null,null,null,null,null,"-"]
["-","-",null,null,null,null,null,null,null,null,"-"]
["-","-",null,null,null,null,null,null,null,null,"-"]
["-","-",null,null,null,null,null,null,null,null,"-"]
["-","-",null,null,null,null,null,null,null,null,"-"]
["-","-",null,null,null,null,null,null,null,null,"-"]
["-","-",null,null,null,null,null,null,null,null,"-"]
["-","-",null,null,null,null,null,null,null,null,"-"]
["-","-",null,null,null,null,null,null,null,null,"-"]
["-","-",null,null,null,null,null,null,null,null,"-"]
["-","-",null,null,null,null,null,null,null,null,"-"]
["-","-",null,null,null,null,null,null,null,null,"-"]
["-","-",null,null,null,null,null,null,null,null,"-"]
["-",{"$f":"IF(ISBLANK(C389),\"-\",INDIRECT(\"VEGSAMPLINGTASKS!A\"&MATCH(C389,TaskLabel,0)+4))","v":"-"},null,null,null,null,null,null,null,null,{"$f":"IF(ISBLANK(C389),\"-\",VLOOKUP(INDIRECT(\"VEGSAMPLINGTASKS!G\"&MATCH(C389,TaskLabel,0)+4),VT_PlotPercentTypeDescrip,2,FALSE))","v":"-"}]
["-","-",null,null,null,null,null,null,null,null,"-"]
[{"$f":"IF(ISBLANK(C391),\"-\",GenGuid())","v":"-"},"-",null,null,null,null,null,null,null,null,"-"]
["-","-",null,null,null,null,null,null,null,null,"-"]
["-","-",null,null,null,null,null,null,null,null,"-"]
["-","-",null,null,null,null,null,null,null,null,"-"]
["-","-",null,null,null,null,null,null,null,null,"-"]
["-","-",null,null,null,null,null,null,null,null,"-"]
["-","-",null,null,null,null,null,null,null,null,"-"]
["-","-",null,null,null,null,null,null,null,null,"-"]
["-","-",null,null,null,null,null,null,null,null,"-"]
["-","-",null,null,null,null,null,null,null,null,"-"]
["-","-",null,null,null,null,null,null,null,null,"-"]
["-","-",null,null,null,null,null,null,null,null,"-"]
["-","-",null,null,null,null,null,null,null,null,"-"]
["-","-",null,null,null,null,null,null,null,null,"-"]
["-","-",null,null,null,null,null,null,null,null,"-"]
["-","-",null,null,null,null,null,null,null,null,"-"]
["-","-",null,null,null,null,null,null,null,null,"-"]
["-","-",null,null,null,null,null,null,null,null,"-"]
["-","-",null,null,null,null,null,null,null,null,"-"]
["-","-",null,null,null,null,null,null,null,null,"-"]
["-","-",null,null,null,null,null,null,null,null,"-"]
["-","-",null,null,null,null,null,null,null,null,"-"]
["-","-",null,null,null,null,null,null,null,null,"-"]
["-","-",null,null,null,null,null,null,null,null,"-"]
["-","-",null,null,null,null,null,null,null,null,"-"]
["-","-",null,null,null,null,null,null,null,null,"-"]
["-","-",null,null,null,null,null,null,null,null,"-"]
["-","-",null,null,null,null,null,null,null,null,"-"]
["-","-",null,null,null,null,null,null,null,null,"-"]
["-","-",null,null,null,null,null,null,null,null,"-"]
["-","-",null,null,null,null,null,null,null,null,"-"]
["-","-",null,null,null,null,null,null,null,null,"-"]
["-","-",null,null,null,null,null,null,null,null,"-"]
["-","-",null,null,null,null,null,null,null,null,"-"]
["-","-",null,null,null,null,null,null,null,null,"-"]
["-","-",null,null,null,null,null,null,null,null,"-"]
["-","-",null,null,null,null,null,null,null,null,"-"]
["-","-",null,null,null,null,null,null,null,null,"-"]
["-","-",null,null,null,null,null,null,null,null,"-"]
["-","-",null,null,null,null,null,null,null,null,"-"]
["-","-",null,null,null,null,null,null,null,null,"-"]
["-","-",null,null,null,null,null,null,null,null,"-"]
["-","-",null,null,null,null,null,null,null,null,"-"]
["-","-",null,null,null,null,null,null,null,null,"-"]
["-","-",null,null,null,null,null,null,null,null,"-"]
["-","-",null,null,null,null,null,null,null,null,"-"]
["-","-",null,null,null,null,null,null,null,null,"-"]
["-","-",null,null,null,null,null,null,null,null,"-"]
["-","-",null,null,null,null,null,null,null,null,"-"]
["-","-",null,null,null,null,null,null,null,null,"-"]
["-","-",null,null,null,null,null,null,null,null,"-"]
["-","-",null,null,null,null,null,null,null,null,"-"]
["-","-",null,null,null,null,null,null,null,null,"-"]
["-","-",null,null,null,null,null,null,null,null,"-"]
["-","-",null,null,null,null,null,null,null,null,"-"]
["-","-",null,null,null,null,null,null,null,null,"-"]
["-","-",null,null,null,null,null,null,null,null,"-"]
["-","-",null,null,null,null,null,null,null,null,"-"]
["-","-",null,null,null,null,null,null,null,null,"-"]
["-","-",null,null,null,null,null,null,null,null,"-"]
["-","-",null,null,null,null,null,null,null,null,"-"]
["-","-",null,null,null,null,null,null,null,null,"-"]
["-",{"$f":"IF(ISBLANK(C453),\"-\",INDIRECT(\"VEGSAMPLINGTASKS!A\"&MATCH(C453,TaskLabel,0)+4))","v":"-"},null,null,null,null,null,null,null,null,{"$f":"IF(ISBLANK(C453),\"-\",VLOOKUP(INDIRECT(\"VEGSAMPLINGTASKS!G\"&MATCH(C453,TaskLabel,0)+4),VT_PlotPercentTypeDescrip,2,FALSE))","v":"-"}]
["-","-",null,null,null,null,null,null,null,null,"-"]
[{"$f":"IF(ISBLANK(C455),\"-\",GenGuid())","v":"-"},"-",null,null,null,null,null,null,null,null,"-"]
["-","-",null,null,null,null,null,null,null,null,"-"]
["-","-",null,null,null,null,null,null,null,null,"-"]
["-","-",null,null,null,null,null,null,null,null,"-"]
["-","-",null,null,null,null,null,null,null,null,"-"]
["-","-",null,null,null,null,null,null,null,null,"-"]
["-","-",null,null,null,null,null,null,null,null,"-"]
["-","-",null,null,null,null,null,null,null,null,"-"]
["-","-",null,null,null,null,null,null,null,null,"-"]
["-","-",null,null,null,null,null,null,null,null,"-"]
["-","-",null,null,null,null,null,null,null,null,"-"]
["-","-",null,null,null,null,null,null,null,null,"-"]
["-","-",null,null,null,null,null,null,null,null,"-"]
["-","-",null,null,null,null,null,null,null,null,"-"]
["-","-",null,null,null,null,null,null,null,null,"-"]
["-","-",null,null,null,null,null,null,null,null,"-"]
["-","-",null,null,null,null,null,null,null,null,"-"]
["-","-",null,null,null,null,null,null,null,null,"-"]
["-","-",null,null,null,null,null,null,null,null,"-"]
["-","-",null,null,null,null,null,null,null,null,"-"]
["-","-",null,null,null,null,null,null,null,null,"-"]
["-","-",null,null,null,null,null,null,null,null,"-"]
["-","-",null,null,null,null,null,null,null,null,"-"]
["-","-",null,null,null,null,null,null,null,null,"-"]
["-","-",null,null,null,null,null,null,null,null,"-"]
["-","-",null,null,null,null,null,null,null,null,"-"]
["-","-",null,null,null,null,null,null,null,null,"-"]
["-","-",null,null,null,null,null,null,null,null,"-"]
["-","-",null,null,null,null,null,null,null,null,"-"]
["-","-",null,null,null,null,null,null,null,null,"-"]
["-","-",null,null,null,null,null,null,null,null,"-"]
["-","-",null,null,null,null,null,null,null,null,"-"]
["-","-",null,null,null,null,null,null,null,null,"-"]
["-","-",null,null,null,null,null,null,null,null,"-"]
["-","-",null,null,null,null,null,null,null,null,"-"]
["-","-",null,null,null,null,null,null,null,null,"-"]
["-","-",null,null,null,null,null,null,null,null,"-"]
["-","-",null,null,null,null,null,null,null,null,"-"]
["-","-",null,null,null,null,null,null,null,null,"-"]
["-","-",null,null,null,null,null,null,null,null,"-"]
["-","-",null,null,null,null,null,null,null,null,"-"]
["-","-",null,null,null,null,null,null,null,null,"-"]
["-","-",null,null,null,null,null,null,null,null,"-"]
["-","-",null,null,null,null,null,null,null,null,"-"]
["-","-",null,null,null,null,null,null,null,null,"-"]
["-","-",null,null,null,null,null,null,null,null,"-"]
["-","-",null,null,null,null,null,null,null,null,"-"]
["-","-",null,null,null,null,null,null,null,null,"-"]
["-","-",null,null,null,null,null,null,null,null,"-"]
["-","-",null,null,null,null,null,null,null,null,"-"]
["-","-",null,null,null,null,null,null,null,null,"-"]
["-","-",null,null,null,null,null,null,null,null,"-"]
["-","-",null,null,null,null,null,null,null,null,"-"]
["-","-",null,null,null,null,null,null,null,null,"-"]
["-","-",null,null,null,null,null,null,null,null,"-"]
["-","-",null,null,null,null,null,null,null,null,"-"]
["-","-",null,null,null,null,null,null,null,null,"-"]
["-","-",null,null,null,null,null,null,null,null,"-"]
["-","-",null,null,null,null,null,null,null,null,"-"]
["-","-",null,null,null,null,null,null,null,null,"-"]
["-","-",null,null,null,null,null,null,null,null,"-"]
["-","-",null,null,null,null,null,null,null,null,"-"]
["-",{"$f":"IF(ISBLANK(C517),\"-\",INDIRECT(\"VEGSAMPLINGTASKS!A\"&MATCH(C517,TaskLabel,0)+4))","v":"-"},null,null,null,null,null,null,null,null,{"$f":"IF(ISBLANK(C517),\"-\",VLOOKUP(INDIRECT(\"VEGSAMPLINGTASKS!G\"&MATCH(C517,TaskLabel,0)+4),VT_PlotPercentTypeDescrip,2,FALSE))","v":"-"}]
["-","-",null,null,null,null,null,null,null,null,"-"]
[{"$f":"IF(ISBLANK(C519),\"-\",GenGuid())","v":"-"},"-",null,null,null,null,null,null,null,null,"-"]
["-","-",null,null,null,null,null,null,null,null,"-"]
["-","-",null,null,null,null,null,null,null,null,"-"]
["-","-",null,null,null,null,null,null,null,null,"-"]
["-","-",null,null,null,null,null,null,null,null,"-"]
["-","-",null,null,null,null,null,null,null,null,"-"]
["-","-",null,null,null,null,null,null,null,null,"-"]
["-","-",null,null,null,null,null,null,null,null,"-"]
["-","-",null,null,null,null,null,null,null,null,"-"]
["-","-",null,null,null,null,null,null,null,null,"-"]
["-","-",null,null,null,null,null,null,null,null,"-"]
["-","-",null,null,null,null,null,null,null,null,"-"]
["-","-",null,null,null,null,null,null,null,null,"-"]
["-","-",null,null,null,null,null,null,null,null,"-"]
["-","-",null,null,null,null,null,null,null,null,"-"]
["-","-",null,null,null,null,null,null,null,null,"-"]
["-","-",null,null,null,null,null,null,null,null,"-"]
["-","-",null,null,null,null,null,null,null,null,"-"]
["-","-",null,null,null,null,null,null,null,null,"-"]
["-","-",null,null,null,null,null,null,null,null,"-"]
["-","-",null,null,null,null,null,null,null,null,"-"]
["-","-",null,null,null,null,null,null,null,null,"-"]
["-","-",null,null,null,null,null,null,null,null,"-"]
["-","-",null,null,null,null,null,null,null,null,"-"]
["-","-",null,null,null,null,null,null,null,null,"-"]
["-","-",null,null,null,null,null,null,null,null,"-"]
["-","-",null,null,null,null,null,null,null,null,"-"]
["-","-",null,null,null,null,null,null,null,null,"-"]
["-","-",null,null,null,null,null,null,null,null,"-"]
["-","-",null,null,null,null,null,null,null,null,"-"]
["-","-",null,null,null,null,null,null,null,null,"-"]
["-","-",null,null,null,null,null,null,null,null,"-"]
["-","-",null,null,null,null,null,null,null,null,"-"]
["-","-",null,null,null,null,null,null,null,null,"-"]
["-","-",null,null,null,null,null,null,null,null,"-"]
["-","-",null,null,null,null,null,null,null,null,"-"]
["-","-",null,null,null,null,null,null,null,null,"-"]
["-","-",null,null,null,null,null,null,null,null,"-"]
["-","-",null,null,null,null,null,null,null,null,"-"]
["-","-",null,null,null,null,null,null,null,null,"-"]
["-","-",null,null,null,null,null,null,null,null,"-"]
["-","-",null,null,null,null,null,null,null,null,"-"]
["-","-",null,null,null,null,null,null,null,null,"-"]
["-","-",null,null,null,null,null,null,null,null,"-"]
["-","-",null,null,null,null,null,null,null,null,"-"]
["-","-",null,null,null,null,null,null,null,null,"-"]
["-","-",null,null,null,null,null,null,null,null,"-"]
["-","-",null,null,null,null,null,null,null,null,"-"]
["-","-",null,null,null,null,null,null,null,null,"-"]
["-","-",null,null,null,null,null,null,null,null,"-"]
["-","-",null,null,null,null,null,null,null,null,"-"]
["-","-",null,null,null,null,null,null,null,null,"-"]
["-","-",null,null,null,null,null,null,null,null,"-"]
["-","-",null,null,null,null,null,null,null,null,"-"]
["-","-",null,null,null,null,null,null,null,null,"-"]
["-","-",null,null,null,null,null,null,null,null,"-"]
["-","-",null,null,null,null,null,null,null,null,"-"]
["-","-",null,null,null,null,null,null,null,null,"-"]
["-","-",null,null,null,null,null,null,null,null,"-"]
["-","-",null,null,null,null,null,null,null,null,"-"]
["-","-",null,null,null,null,null,null,null,null,"-"]
["-","-",null,null,null,null,null,null,null,null,"-"]
["-",{"$f":"IF(ISBLANK(C581),\"-\",INDIRECT(\"VEGSAMPLINGTASKS!A\"&MATCH(C581,TaskLabel,0)+4))","v":"-"},null,null,null,null,null,null,null,null,{"$f":"IF(ISBLANK(C581),\"-\",VLOOKUP(INDIRECT(\"VEGSAMPLINGTASKS!G\"&MATCH(C581,TaskLabel,0)+4),VT_PlotPercentTypeDescrip,2,FALSE))","v":"-"}]
["-","-",null,null,null,null,null,null,null,null,"-"]
[{"$f":"IF(ISBLANK(C583),\"-\",GenGuid())","v":"-"},"-",null,null,null,null,null,null,null,null,"-"]
["-","-",null,null,null,null,null,null,null,null,"-"]
["-","-",null,null,null,null,null,null,null,null,"-"]
["-","-",null,null,null,null,null,null,null,null,"-"]
["-","-",null,null,null,null,null,null,null,null,"-"]
["-","-",null,null,null,null,null,null,null,null,"-"]
["-","-",null,null,null,null,null,null,null,null,"-"]
["-","-",null,null,null,null,null,null,null,null,"-"]
["-","-",null,null,null,null,null,null,null,null,"-"]
["-","-",null,null,null,null,null,null,null,null,"-"]
["-","-",null,null,null,null,null,null,null,null,"-"]
["-","-",null,null,null,null,null,null,null,null,"-"]
["-","-",null,null,null,null,null,null,null,null,"-"]
["-","-",null,null,null,null,null,null,null,null,"-"]
["-","-",null,null,null,null,null,null,null,null,"-"]
["-","-",null,null,null,null,null,null,null,null,"-"]
["-","-",null,null,null,null,null,null,null,null,"-"]
["-","-",null,null,null,null,null,null,null,null,"-"]
["-","-",null,null,null,null,null,null,null,null,"-"]
["-","-",null,null,null,null,null,null,null,null,"-"]
["-","-",null,null,null,null,null,null,null,null,"-"]
["-","-",null,null,null,null,null,null,null,null,"-"]
["-","-",null,null,null,null,null,null,null,null,"-"]
["-","-",null,null,null,null,null,null,null,null,"-"]
["-","-",null,null,null,null,null,null,null,null,"-"]
["-","-",null,null,null,null,null,null,null,null,"-"]
["-","-",null,null,null,null,null,null,null,null,"-"]
["-","-",null,null,null,null,null,null,null,null,"-"]
["-","-",null,null,null,null,null,null,null,null,"-"]
["-","-",null,null,null,null,null,null,null,null,"-"]
["-","-",null,null,null,null,null,null,null,null,"-"]
["-","-",null,null,null,null,null,null,null,null,"-"]
["-","-",null,null,null,null,null,null,null,null,"-"]
["-","-",null,null,null,null,null,null,null,null,"-"]
["-","-",null,null,null,null,null,null,null,null,"-"]
["-","-",null,null,null,null,null,null,null,null,"-"]
["-","-",null,null,null,null,null,null,null,null,"-"]
["-","-",null,null,null,null,null,null,null,null,"-"]
["-","-",null,null,null,null,null,null,null,null,"-"]
["-","-",null,null,null,null,null,null,null,null,"-"]
["-","-",null,null,null,null,null,null,null,null,"-"]
["-","-",null,null,null,null,null,null,null,null,"-"]
["-","-",null,null,null,null,null,null,null,null,"-"]
["-","-",null,null,null,null,null,null,null,null,"-"]
["-","-",null,null,null,null,null,null,null,null,"-"]
["-","-",null,null,null,null,null,null,null,null,"-"]
["-","-",null,null,null,null,null,null,null,null,"-"]
["-","-",null,null,null,null,null,null,null,null,"-"]
["-","-",null,null,null,null,null,null,null,null,"-"]
["-","-",null,null,null,null,null,null,null,null,"-"]
["-","-",null,null,null,null,null,null,null,null,"-"]
["-","-",null,null,null,null,null,null,null,null,"-"]
["-","-",null,null,null,null,null,null,null,null,"-"]
["-","-",null,null,null,null,null,null,null,null,"-"]
["-","-",null,null,null,null,null,null,null,null,"-"]
["-","-",null,null,null,null,null,null,null,null,"-"]
["-","-",null,null,null,null,null,null,null,null,"-"]
["-","-",null,null,null,null,null,null,null,null,"-"]
["-","-",null,null,null,null,null,null,null,null,"-"]
["-","-",null,null,null,null,null,null,null,null,"-"]
["-","-",null,null,null,null,null,null,null,null,"-"]
["-","-",null,null,null,null,null,null,null,null,"-"]
["-",{"$f":"IF(ISBLANK(C645),\"-\",INDIRECT(\"VEGSAMPLINGTASKS!A\"&MATCH(C645,TaskLabel,0)+4))","v":"-"},null,null,null,null,null,null,null,null,{"$f":"IF(ISBLANK(C645),\"-\",VLOOKUP(INDIRECT(\"VEGSAMPLINGTASKS!G\"&MATCH(C645,TaskLabel,0)+4),VT_PlotPercentTypeDescrip,2,FALSE))","v":"-"}]
["-","-",null,null,null,null,null,null,null,null,"-"]
[{"$f":"IF(ISBLANK(C647),\"-\",GenGuid())","v":"-"},"-",null,null,null,null,null,null,null,null,"-"]
["-","-",null,null,null,null,null,null,null,null,"-"]
["-","-",null,null,null,null,null,null,null,null,"-"]
["-","-",null,null,null,null,null,null,null,null,"-"]
["-","-",null,null,null,null,null,null,null,null,"-"]
["-","-",null,null,null,null,null,null,null,null,"-"]
["-","-",null,null,null,null,null,null,null,null,"-"]
["-","-",null,null,null,null,null,null,null,null,"-"]
["-","-",null,null,null,null,null,null,null,null,"-"]
["-","-",null,null,null,null,null,null,null,null,"-"]
["-","-",null,null,null,null,null,null,null,null,"-"]
["-","-",null,null,null,null,null,null,null,null,"-"]
["-","-",null,null,null,null,null,null,null,null,"-"]
["-","-",null,null,null,null,null,null,null,null,"-"]
["-","-",null,null,null,null,null,null,null,null,"-"]
["-","-",null,null,null,null,null,null,null,null,"-"]
["-","-",null,null,null,null,null,null,null,null,"-"]
["-","-",null,null,null,null,null,null,null,null,"-"]
["-","-",null,null,null,null,null,null,null,null,"-"]
["-","-",null,null,null,null,null,null,null,null,"-"]
["-","-",null,null,null,null,null,null,null,null,"-"]
["-","-",null,null,null,null,null,null,null,null,"-"]
["-","-",null,null,null,null,null,null,null,null,"-"]
["-","-",null,null,null,null,null,null,null,null,"-"]
["-","-",null,null,null,null,null,null,null,null,"-"]
["-","-",null,null,null,null,null,null,null,null,"-"]
["-","-",null,null,null,null,null,null,null,null,"-"]
["-","-",null,null,null,null,null,null,null,null,"-"]
["-","-",null,null,null,null,null,null,null,null,"-"]
["-","-",null,null,null,null,null,null,null,null,"-"]
["-","-",null,null,null,null,null,null,null,null,"-"]
["-","-",null,null,null,null,null,null,null,null,"-"]
["-","-",null,null,null,null,null,null,null,null,"-"]
["-","-",null,null,null,null,null,null,null,null,"-"]
["-","-",null,null,null,null,null,null,null,null,"-"]
["-","-",null,null,null,null,null,null,null,null,"-"]
["-","-",null,null,null,null,null,null,null,null,"-"]
["-","-",null,null,null,null,null,null,null,null,"-"]
["-","-",null,null,null,null,null,null,null,null,"-"]
["-","-",null,null,null,null,null,null,null,null,"-"]
["-","-",null,null,null,null,null,null,null,null,"-"]
["-","-",null,null,null,null,null,null,null,null,"-"]
["-","-",null,null,null,null,null,null,null,null,"-"]
["-","-",null,null,null,null,null,null,null,null,"-"]
["-","-",null,null,null,null,null,null,null,null,"-"]
["-","-",null,null,null,null,null,null,null,null,"-"]
["-","-",null,null,null,null,null,null,null,null,"-"]
["-","-",null,null,null,null,null,null,null,null,"-"]
["-","-",null,null,null,null,null,null,null,null,"-"]
["-","-",null,null,null,null,null,null,null,null,"-"]
["-","-",null,null,null,null,null,null,null,null,"-"]
["-","-",null,null,null,null,null,null,null,null,"-"]
["-","-",null,null,null,null,null,null,null,null,"-"]
["-","-",null,null,null,null,null,null,null,null,"-"]
["-","-",null,null,null,null,null,null,null,null,"-"]
["-","-",null,null,null,null,null,null,null,null,"-"]
["-","-",null,null,null,null,null,null,null,null,"-"]
["-","-",null,null,null,null,null,null,null,null,"-"]
["-","-",null,null,null,null,null,null,null,null,"-"]
["-","-",null,null,null,null,null,null,null,null,"-"]
["-","-",null,null,null,null,null,null,null,null,"-"]
["-","-",null,null,null,null,null,null,null,null,"-"]
["-",{"$f":"IF(ISBLANK(C709),\"-\",INDIRECT(\"VEGSAMPLINGTASKS!A\"&MATCH(C709,TaskLabel,0)+4))","v":"-"},null,null,null,null,null,null,null,null,{"$f":"IF(ISBLANK(C709),\"-\",VLOOKUP(INDIRECT(\"VEGSAMPLINGTASKS!G\"&MATCH(C709,TaskLabel,0)+4),VT_PlotPercentTypeDescrip,2,FALSE))","v":"-"}]
["-","-",null,null,null,null,null,null,null,null,"-"]
[{"$f":"IF(ISBLANK(C711),\"-\",GenGuid())","v":"-"},"-",null,null,null,null,null,null,null,null,"-"]
["-","-",null,null,null,null,null,null,null,null,"-"]
["-","-",null,null,null,null,null,null,null,null,"-"]
["-","-",null,null,null,null,null,null,null,null,"-"]
["-","-",null,null,null,null,null,null,null,null,"-"]
["-","-",null,null,null,null,null,null,null,null,"-"]
["-","-",null,null,null,null,null,null,null,null,"-"]
["-","-",null,null,null,null,null,null,null,null,"-"]
["-","-",null,null,null,null,null,null,null,null,"-"]
["-","-",null,null,null,null,null,null,null,null,"-"]
["-","-",null,null,null,null,null,null,null,null,"-"]
["-","-",null,null,null,null,null,null,null,null,"-"]
["-","-",null,null,null,null,null,null,null,null,"-"]
["-","-",null,null,null,null,null,null,null,null,"-"]
["-","-",null,null,null,null,null,null,null,null,"-"]
["-","-",null,null,null,null,null,null,null,null,"-"]
["-","-",null,null,null,null,null,null,null,null,"-"]
["-","-",null,null,null,null,null,null,null,null,"-"]
["-","-",null,null,null,null,null,null,null,null,"-"]
["-","-",null,null,null,null,null,null,null,null,"-"]
["-","-",null,null,null,null,null,null,null,null,"-"]
["-","-",null,null,null,null,null,null,null,null,"-"]
["-","-",null,null,null,null,null,null,null,null,"-"]
["-","-",null,null,null,null,null,null,null,null,"-"]
["-","-",null,null,null,null,null,null,null,null,"-"]
["-","-",null,null,null,null,null,null,null,null,"-"]
["-","-",null,null,null,null,null,null,null,null,"-"]
["-","-",null,null,null,null,null,null,null,null,"-"]
["-","-",null,null,null,null,null,null,null,null,"-"]
["-","-",null,null,null,null,null,null,null,null,"-"]
["-","-",null,null,null,null,null,null,null,null,"-"]
["-","-",null,null,null,null,null,null,null,null,"-"]
["-","-",null,null,null,null,null,null,null,null,"-"]
["-","-",null,null,null,null,null,null,null,null,"-"]
["-","-",null,null,null,null,null,null,null,null,"-"]
["-","-",null,null,null,null,null,null,null,null,"-"]
["-","-",null,null,null,null,null,null,null,null,"-"]
["-","-",null,null,null,null,null,null,null,null,"-"]
["-","-",null,null,null,null,null,null,null,null,"-"]
["-","-",null,null,null,null,null,null,null,null,"-"]
["-","-",null,null,null,null,null,null,null,null,"-"]
["-","-",null,null,null,null,null,null,null,null,"-"]
["-","-",null,null,null,null,null,null,null,null,"-"]
["-","-",null,null,null,null,null,null,null,null,"-"]
["-","-",null,null,null,null,null,null,null,null,"-"]
["-","-",null,null,null,null,null,null,null,null,"-"]
["-","-",null,null,null,null,null,null,null,null,"-"]
["-","-",null,null,null,null,null,null,null,null,"-"]
["-","-",null,null,null,null,null,null,null,null,"-"]
["-","-",null,null,null,null,null,null,null,null,"-"]
["-","-",null,null,null,null,null,null,null,null,"-"]
["-","-",null,null,null,null,null,null,null,null,"-"]
["-","-",null,null,null,null,null,null,null,null,"-"]
["-","-",null,null,null,null,null,null,null,null,"-"]
["-","-",null,null,null,null,null,null,null,null,"-"]
["-","-",null,null,null,null,null,null,null,null,"-"]
["-","-",null,null,null,null,null,null,null,null,"-"]
["-","-",null,null,null,null,null,null,null,null,"-"]
["-","-",null,null,null,null,null,null,null,null,"-"]
["-","-",null,null,null,null,null,null,null,null,"-"]
["-","-",null,null,null,null,null,null,null,null,"-"]
["-","-",null,null,null,null,null,null,null,null,"-"]
["-",{"$f":"IF(ISBLANK(C773),\"-\",INDIRECT(\"VEGSAMPLINGTASKS!A\"&MATCH(C773,TaskLabel,0)+4))","v":"-"},null,null,null,null,null,null,null,null,{"$f":"IF(ISBLANK(C773),\"-\",VLOOKUP(INDIRECT(\"VEGSAMPLINGTASKS!G\"&MATCH(C773,TaskLabel,0)+4),VT_PlotPercentTypeDescrip,2,FALSE))","v":"-"}]
["-","-",null,null,null,null,null,null,null,null,"-"]
[{"$f":"IF(ISBLANK(C775),\"-\",GenGuid())","v":"-"},"-",null,null,null,null,null,null,null,null,"-"]
["-","-",null,null,null,null,null,null,null,null,"-"]
["-","-",null,null,null,null,null,null,null,null,"-"]
["-","-",null,null,null,null,null,null,null,null,"-"]
["-","-",null,null,null,null,null,null,null,null,"-"]
["-","-",null,null,null,null,null,null,null,null,"-"]
["-","-",null,null,null,null,null,null,null,null,"-"]
["-","-",null,null,null,null,null,null,null,null,"-"]
["-","-",null,null,null,null,null,null,null,null,"-"]
["-","-",null,null,null,null,null,null,null,null,"-"]
["-","-",null,null,null,null,null,null,null,null,"-"]
["-","-",null,null,null,null,null,null,null,null,"-"]
["-","-",null,null,null,null,null,null,null,null,"-"]
["-","-",null,null,null,null,null,null,null,null,"-"]
["-","-",null,null,null,null,null,null,null,null,"-"]
["-","-",null,null,null,null,null,null,null,null,"-"]
["-","-",null,null,null,null,null,null,null,null,"-"]
["-","-",null,null,null,null,null,null,null,null,"-"]
["-","-",null,null,null,null,null,null,null,null,"-"]
["-","-",null,null,null,null,null,null,null,null,"-"]
["-","-",null,null,null,null,null,null,null,null,"-"]
["-","-",null,null,null,null,null,null,null,null,"-"]
["-","-",null,null,null,null,null,null,null,null,"-"]
["-","-",null,null,null,null,null,null,null,null,"-"]
["-","-",null,null,null,null,null,null,null,null,"-"]
["-","-",null,null,null,null,null,null,null,null,"-"]
["-","-",null,null,null,null,null,null,null,null,"-"]
["-","-",null,null,null,null,null,null,null,null,"-"]
["-","-",null,null,null,null,null,null,null,null,"-"]
["-","-",null,null,null,null,null,null,null,null,"-"]
["-","-",null,null,null,null,null,null,null,null,"-"]
["-","-",null,null,null,null,null,null,null,null,"-"]
["-","-",null,null,null,null,null,null,null,null,"-"]
["-","-",null,null,null,null,null,null,null,null,"-"]
["-","-",null,null,null,null,null,null,null,null,"-"]
["-","-",null,null,null,null,null,null,null,null,"-"]
["-","-",null,null,null,null,null,null,null,null,"-"]
["-","-",null,null,null,null,null,null,null,null,"-"]
["-","-",null,null,null,null,null,null,null,null,"-"]
["-","-",null,null,null,null,null,null,null,null,"-"]
["-","-",null,null,null,null,null,null,null,null,"-"]
["-","-",null,null,null,null,null,null,null,null,"-"]
["-","-",null,null,null,null,null,null,null,null,"-"]
["-","-",null,null,null,null,null,null,null,null,"-"]
["-","-",null,null,null,null,null,null,null,null,"-"]
["-","-",null,null,null,null,null,null,null,null,"-"]
["-","-",null,null,null,null,null,null,null,null,"-"]
["-","-",null,null,null,null,null,null,null,null,"-"]
["-","-",null,null,null,null,null,null,null,null,"-"]
["-","-",null,null,null,null,null,null,null,null,"-"]
["-","-",null,null,null,null,null,null,null,null,"-"]
["-","-",null,null,null,null,null,null,null,null,"-"]
["-","-",null,null,null,null,null,null,null,null,"-"]
["-","-",null,null,null,null,null,null,null,null,"-"]
["-","-",null,null,null,null,null,null,null,null,"-"]
["-","-",null,null,null,null,null,null,null,null,"-"]
["-","-",null,null,null,null,null,null,null,null,"-"]
["-","-",null,null,null,null,null,null,null,null,"-"]
["-","-",null,null,null,null,null,null,null,null,"-"]
["-","-",null,null,null,null,null,null,null,null,"-"]
["-","-",null,null,null,null,null,null,null,null,"-"]
["-","-",null,null,null,null,null,null,null,null,"-"]
["-",{"$f":"IF(ISBLANK(C837),\"-\",INDIRECT(\"VEGSAMPLINGTASKS!A\"&MATCH(C837,TaskLabel,0)+4))","v":"-"},null,null,null,null,null,null,null,null,{"$f":"IF(ISBLANK(C837),\"-\",VLOOKUP(INDIRECT(\"VEGSAMPLINGTASKS!G\"&MATCH(C837,TaskLabel,0)+4),VT_PlotPercentTypeDescrip,2,FALSE))","v":"-"}]
["-","-",null,null,null,null,null,null,null,null,"-"]
[{"$f":"IF(ISBLANK(C839),\"-\",GenGuid())","v":"-"},"-",null,null,null,null,null,null,null,null,"-"]
["-","-",null,null,null,null,null,null,null,null,"-"]
["-","-",null,null,null,null,null,null,null,null,"-"]
["-","-",null,null,null,null,null,null,null,null,"-"]
["-","-",null,null,null,null,null,null,null,null,"-"]
["-","-",null,null,null,null,null,null,null,null,"-"]
["-","-",null,null,null,null,null,null,null,null,"-"]
["-","-",null,null,null,null,null,null,null,null,"-"]
["-","-",null,null,null,null,null,null,null,null,"-"]
["-","-",null,null,null,null,null,null,null,null,"-"]
["-","-",null,null,null,null,null,null,null,null,"-"]
["-","-",null,null,null,null,null,null,null,null,"-"]
["-","-",null,null,null,null,null,null,null,null,"-"]
["-","-",null,null,null,null,null,null,null,null,"-"]
["-","-",null,null,null,null,null,null,null,null,"-"]
["-","-",null,null,null,null,null,null,null,null,"-"]
["-","-",null,null,null,null,null,null,null,null,"-"]
["-","-",null,null,null,null,null,null,null,null,"-"]
["-","-",null,null,null,null,null,null,null,null,"-"]
["-","-",null,null,null,null,null,null,null,null,"-"]
["-","-",null,null,null,null,null,null,null,null,"-"]
["-","-",null,null,null,null,null,null,null,null,"-"]
["-","-",null,null,null,null,null,null,null,null,"-"]
["-","-",null,null,null,null,null,null,null,null,"-"]
["-","-",null,null,null,null,null,null,null,null,"-"]
["-","-",null,null,null,null,null,null,null,null,"-"]
["-","-",null,null,null,null,null,null,null,null,"-"]
["-","-",null,null,null,null,null,null,null,null,"-"]
["-","-",null,null,null,null,null,null,null,null,"-"]
["-","-",null,null,null,null,null,null,null,null,"-"]
["-","-",null,null,null,null,null,null,null,null,"-"]
["-","-",null,null,null,null,null,null,null,null,"-"]
["-","-",null,null,null,null,null,null,null,null,"-"]
["-","-",null,null,null,null,null,null,null,null,"-"]
["-","-",null,null,null,null,null,null,null,null,"-"]
["-","-",null,null,null,null,null,null,null,null,"-"]
["-","-",null,null,null,null,null,null,null,null,"-"]
["-","-",null,null,null,null,null,null,null,null,"-"]
["-","-",null,null,null,null,null,null,null,null,"-"]
["-","-",null,null,null,null,null,null,null,null,"-"]
["-","-",null,null,null,null,null,null,null,null,"-"]
["-","-",null,null,null,null,null,null,null,null,"-"]
["-","-",null,null,null,null,null,null,null,null,"-"]
["-","-",null,null,null,null,null,null,null,null,"-"]
["-","-",null,null,null,null,null,null,null,null,"-"]
["-","-",null,null,null,null,null,null,null,null,"-"]
["-","-",null,null,null,null,null,null,null,null,"-"]
["-","-",null,null,null,null,null,null,null,null,"-"]
["-","-",null,null,null,null,null,null,null,null,"-"]
["-","-",null,null,null,null,null,null,null,null,"-"]
["-","-",null,null,null,null,null,null,null,null,"-"]
["-","-",null,null,null,null,null,null,null,null,"-"]
["-","-",null,null,null,null,null,null,null,null,"-"]
["-","-",null,null,null,null,null,null,null,null,"-"]
["-","-",null,null,null,null,null,null,null,null,"-"]
["-","-",null,null,null,null,null,null,null,null,"-"]
["-","-",null,null,null,null,null,null,null,null,"-"]
["-","-",null,null,null,null,null,null,null,null,"-"]
["-","-",null,null,null,null,null,null,null,null,"-"]
["-","-",null,null,null,null,null,null,null,null,"-"]
["-","-",null,null,null,null,null,null,null,null,"-"]
["-","-",null,null,null,null,null,null,null,null,"-"]
["-",{"$f":"IF(ISBLANK(C901),\"-\",INDIRECT(\"VEGSAMPLINGTASKS!A\"&MATCH(C901,TaskLabel,0)+4))","v":"-"},null,null,null,null,null,null,null,null,{"$f":"IF(ISBLANK(C901),\"-\",VLOOKUP(INDIRECT(\"VEGSAMPLINGTASKS!G\"&MATCH(C901,TaskLabel,0)+4),VT_PlotPercentTypeDescrip,2,FALSE))","v":"-"}]
["-","-",null,null,null,null,null,null,null,null,"-"]
[{"$f":"IF(ISBLANK(C903),\"-\",GenGuid())","v":"-"},"-",null,null,null,null,null,null,null,null,"-"]
["-","-",null,null,null,null,null,null,null,null,"-"]
["-","-",null,null,null,null,null,null,null,null,"-"]
["-","-",null,null,null,null,null,null,null,null,"-"]
["-","-",null,null,null,null,null,null,null,null,"-"]
["-","-",null,null,null,null,null,null,null,null,"-"]
["-","-",null,null,null,null,null,null,null,null,"-"]
["-","-",null,null,null,null,null,null,null,null,"-"]
["-","-",null,null,null,null,null,null,null,null,"-"]
["-","-",null,null,null,null,null,null,null,null,"-"]
["-","-",null,null,null,null,null,null,null,null,"-"]
["-","-",null,null,null,null,null,null,null,null,"-"]
["-","-",null,null,null,null,null,null,null,null,"-"]
["-","-",null,null,null,null,null,null,null,null,"-"]
["-","-",null,null,null,null,null,null,null,null,"-"]
["-","-",null,null,null,null,null,null,null,null,"-"]
["-","-",null,null,null,null,null,null,null,null,"-"]
["-","-",null,null,null,null,null,null,null,null,"-"]
["-","-",null,null,null,null,null,null,null,null,"-"]
["-","-",null,null,null,null,null,null,null,null,"-"]
["-","-",null,null,null,null,null,null,null,null,"-"]
["-","-",null,null,null,null,null,null,null,null,"-"]
["-","-",null,null,null,null,null,null,null,null,"-"]
["-","-",null,null,null,null,null,null,null,null,"-"]
["-","-",null,null,null,null,null,null,null,null,"-"]
["-","-",null,null,null,null,null,null,null,null,"-"]
["-","-",null,null,null,null,null,null,null,null,"-"]
["-","-",null,null,null,null,null,null,null,null,"-"]
["-","-",null,null,null,null,null,null,null,null,"-"]
["-","-",null,null,null,null,null,null,null,null,"-"]
["-","-",null,null,null,null,null,null,null,null,"-"]
["-","-",null,null,null,null,null,null,null,null,"-"]
["-","-",null,null,null,null,null,null,null,null,"-"]
["-","-",null,null,null,null,null,null,null,null,"-"]
["-","-",null,null,null,null,null,null,null,null,"-"]
["-","-",null,null,null,null,null,null,null,null,"-"]
["-","-",null,null,null,null,null,null,null,null,"-"]
["-","-",null,null,null,null,null,null,null,null,"-"]
["-","-",null,null,null,null,null,null,null,null,"-"]
["-","-",null,null,null,null,null,null,null,null,"-"]
["-","-",null,null,null,null,null,null,null,null,"-"]
["-","-",null,null,null,null,null,null,null,null,"-"]
["-","-",null,null,null,null,null,null,null,null,"-"]
["-","-",null,null,null,null,null,null,null,null,"-"]
["-","-",null,null,null,null,null,null,null,null,"-"]
["-","-",null,null,null,null,null,null,null,null,"-"]
["-","-",null,null,null,null,null,null,null,null,"-"]
["-","-",null,null,null,null,null,null,null,null,"-"]
["-","-",null,null,null,null,null,null,null,null,"-"]
["-","-",null,null,null,null,null,null,null,null,"-"]
["-","-",null,null,null,null,null,null,null,null,"-"]
["-","-",null,null,null,null,null,null,null,null,"-"]
["-","-",null,null,null,null,null,null,null,null,"-"]
["-","-",null,null,null,null,null,null,null,null,"-"]
["-","-",null,null,null,null,null,null,null,null,"-"]
["-","-",null,null,null,null,null,null,null,null,"-"]
["-","-",null,null,null,null,null,null,null,null,"-"]
["-","-",null,null,null,null,null,null,null,null,"-"]
["-","-",null,null,null,null,null,null,null,null,"-"]
["-","-",null,null,null,null,null,null,null,null,"-"]
["-","-",null,null,null,null,null,null,null,null,"-"]
["-","-",null,null,null,null,null,null,null,null,"-"]
["-",{"$f":"IF(ISBLANK(C965),\"-\",INDIRECT(\"VEGSAMPLINGTASKS!A\"&MATCH(C965,TaskLabel,0)+4))","v":"-"},null,null,null,null,null,null,null,null,{"$f":"IF(ISBLANK(C965),\"-\",VLOOKUP(INDIRECT(\"VEGSAMPLINGTASKS!G\"&MATCH(C965,TaskLabel,0)+4),VT_PlotPercentTypeDescrip,2,FALSE))","v":"-"}]
["-","-",null,null,null,null,null,null,null,null,"-"]
[{"$f":"IF(ISBLANK(C967),\"-\",GenGuid())","v":"-"},"-",null,null,null,null,null,null,null,null,"-"]
["-","-",null,null,null,null,null,null,null,null,"-"]
["-","-",null,null,null,null,null,null,null,null,"-"]
["-","-",null,null,null,null,null,null,null,null,"-"]
["-","-",null,null,null,null,null,null,null,null,"-"]
["-","-",null,null,null,null,null,null,null,null,"-"]
["-","-",null,null,null,null,null,null,null,null,"-"]
["-","-",null,null,null,null,null,null,null,null,"-"]
["-","-",null,null,null,null,null,null,null,null,"-"]
["-","-",null,null,null,null,null,null,null,null,"-"]
["-","-",null,null,null,null,null,null,null,null,"-"]
["-","-",null,null,null,null,null,null,null,null,"-"]
["-","-",null,null,null,null,null,null,null,null,"-"]
["-","-",null,null,null,null,null,null,null,null,"-"]
["-","-",null,null,null,null,null,null,null,null,"-"]
["-","-",null,null,null,null,null,null,null,null,"-"]
["-","-",null,null,null,null,null,null,null,null,"-"]
["-","-",null,null,null,null,null,null,null,null,"-"]
["-","-",null,null,null,null,null,null,null,null,"-"]
["-","-",null,null,null,null,null,null,null,null,"-"]
["-","-",null,null,null,null,null,null,null,null,"-"]
["-","-",null,null,null,null,null,null,null,null,"-"]
["-","-",null,null,null,null,null,null,null,null,"-"]
["-","-",null,null,null,null,null,null,null,null,"-"]
["-","-",null,null,null,null,null,null,null,null,"-"]
["-","-",null,null,null,null,null,null,null,null,"-"]
["-","-",null,null,null,null,null,null,null,null,"-"]
["-","-",null,null,null,null,null,null,null,null,"-"]
["-","-",null,null,null,null,null,null,null,null,"-"]
["-","-",null,null,null,null,null,null,null,null,"-"]
["-","-",null,null,null,null,null,null,null,null,"-"]
["-","-",null,null,null,null,null,null,null,null,"-"]
["-","-",null,null,null,null,null,null,null,null,"-"]
["-","-",null,null,null,null,null,null,null,null,"-"]
["-","-",null,null,null,null,null,null,null,null,"-"]
["-","-",null,null,null,null,null,null,null,null,"-"]
["-","-",null,null,null,null,null,null,null,null,"-"]
["-","-",null,null,null,null,null,null,null,null,"-"]
["To add more rows, copy from the previous line to ensure the proper formatting/formulas are in place."]

{"sheet":"PlotSTRUCTUREGrid","index":16,"n_rows":1005,"n_cols":33,"rows_kept":1005,"cut":false,"hidden":false,"merged":[]}
["PlotStructureID","VegSamplingTaskID","TaskLabel",{"$f":"\"Layer\"&TEXT(COLUMN()-3,\"0#\")","v":"Layer01"},{"$f":"\"Layer\"&TEXT(COLUMN()-3,\"0#\")","v":"Layer02"},"Layer03","Layer04","Layer05","Layer06","Layer07","Layer08","Layer09","Layer10","Layer11","Layer12","Layer13","Layer14","Layer15","Layer16","Layer17","Layer18","Layer19","Layer20","Layer21","Layer22","Layer23","Layer24","Layer25","Layer26","Layer27","Layer28","Layer29","Layer30"]
["Name","Survey ID","Task Label",{"$f":"\"Layer Pct Cover No \"&VALUE(MID(D1,6,2))&\" assigned as\"","v":"Layer Pct Cover No 1 assigned as"},{"$f":"\"Layer Pct Cover No \"&VALUE(MID(E1,6,2))&\" assigned as\"","v":"Layer Pct Cover No 2 assigned as"},"Layer Pct Cover No 3 assigned as","Layer Pct Cover No 4 assigned as","Layer Pct Cover No 5 assigned as","Layer Pct Cover No 6 assigned as","Layer Pct Cover No 7 assigned as","Layer Pct Cover No 8 assigned as","Layer Pct Cover No 9 assigned as","Layer Pct Cover No 10 assigned as","Layer Pct Cover No 11 assigned as","Layer Pct Cover No 12 assigned as","Layer Pct Cover No 13 assigned as","Layer Pct Cover No 14 assigned as","Layer Pct Cover No 15 assigned as","Layer Pct Cover No 16 assigned as","Layer Pct Cover No 17 assigned as","Layer Pct Cover No 18 assigned as","Layer Pct Cover No 19 assigned as","Layer Pct Cover No 20 assigned as","Layer Pct Cover No 21 assigned as","Layer Pct Cover No 22 assigned as","Layer Pct Cover No 23 assigned as","Layer Pct Cover No 24 assigned as","Layer Pct Cover No 25 assigned as","Layer Pct Cover No 26 assigned as","Layer Pct Cover No 27 assigned as","Layer Pct Cover No 28 assigned as","Layer Pct Cover No 29 assigned as","Layer Pct Cover No 30 assigned as"]
["Type",null,"Text"]
["Max Length",null,100,{"$f":"IF(ISBLANK(D3),\"-\",PROPER(INDIRECT(\"CODES1!C\"&MATCH(D3,VT_PlotLayers,0)+289)))","v":"-"},{"$f":"IF(ISBLANK(E3),\"-\",PROPER(INDIRECT(\"CODES1!C\"&MATCH(E3,VT_PlotLayers,0)+289)))","v":"-"},{"$f":"IF(ISBLANK(F3),\"-\",PROPER(INDIRECT(\"CODES1!C\"&MATCH(F3,VT_PlotLayers,0)+289)))","v":"-"},{"$f":"IF(ISBLANK(G3),\"-\",PROPER(INDIRECT(\"CODES1!C\"&MATCH(G3,VT_PlotLayers,0)+289)))","v":"-"},{"$f":"IF(ISBLANK(H3),\"-\",PROPER(INDIRECT(\"CODES1!C\"&MATCH(H3,VT_PlotLayers,0)+289)))","v":"-"},{"$f":"IF(ISBLANK(I3),\"-\",PROPER(INDIRECT(\"CODES1!C\"&MATCH(I3,VT_PlotLayers,0)+289)))","v":"-"},{"$f":"IF(ISBLANK(J3),\"-\",PROPER(INDIRECT(\"CODES1!C\"&MATCH(J3,VT_PlotLayers,0)+289)))","v":"-"},{"$f":"IF(ISBLANK(K3),\"-\",PROPER(INDIRECT(\"CODES1!C\"&MATCH(K3,VT_PlotLayers,0)+289)))","v":"-"},{"$f":"IF(ISBLANK(L3),\"-\",PROPER(INDIRECT(\"CODES1!C\"&MATCH(L3,VT_PlotLayers,0)+289)))","v":"-"},{"$f":"IF(ISBLANK(M3),\"-\",PROPER(INDIRECT(\"CODES1!C\"&MATCH(M3,VT_PlotLayers,0)+289)))","v":"-"},{"$f":"IF(ISBLANK(N3),\"-\",PROPER(INDIRECT(\"CODES1!C\"&MATCH(N3,VT_PlotLayers,0)+289)))","v":"-"},{"$f":"IF(ISBLANK(O3),\"-\",PROPER(INDIRECT(\"CODES1!C\"&MATCH(O3,VT_PlotLayers,0)+289)))","v":"-"},{"$f":"IF(ISBLANK(P3),\"-\",PROPER(INDIRECT(\"CODES1!C\"&MATCH(P3,VT_PlotLayers,0)+289)))","v":"-"},{"$f":"IF(ISBLANK(Q3),\"-\",PROPER(INDIRECT(\"CODES1!C\"&MATCH(Q3,VT_PlotLayers,0)+289)))","v":"-"},{"$f":"IF(ISBLANK(R3),\"-\",PROPER(INDIRECT(\"CODES1!C\"&MATCH(R3,VT_PlotLayers,0)+289)))","v":"-"},{"$f":"IF(ISBLANK(S3),\"-\",PROPER(INDIRECT(\"CODES1!C\"&MATCH(S3,VT_PlotLayers,0)+289)))","v":"-"},{"$f":"IF(ISBLANK(T3),\"-\",PROPER(INDIRECT(\"CODES1!C\"&MATCH(T3,VT_PlotLayers,0)+289)))","v":"-"},{"$f":"IF(ISBLANK(U3),\"-\",PROPER(INDIRECT(\"CODES1!C\"&MATCH(U3,VT_PlotLayers,0)+289)))","v":"-"},{"$f":"IF(ISBLANK(V3),\"-\",PROPER(INDIRECT(\"CODES1!C\"&MATCH(V3,VT_PlotLayers,0)+289)))","v":"-"},{"$f":"IF(ISBLANK(W3),\"-\",PROPER(INDIRECT(\"CODES1!C\"&MATCH(W3,VT_PlotLayers,0)+289)))","v":"-"},{"$f":"IF(ISBLANK(X3),\"-\",PROPER(INDIRECT(\"CODES1!C\"&MATCH(X3,VT_PlotLayers,0)+289)))","v":"-"},{"$f":"IF(ISBLANK(Y3),\"-\",PROPER(INDIRECT(\"CODES1!C\"&MATCH(Y3,VT_PlotLayers,0)+289)))","v":"-"},{"$f":"IF(ISBLANK(Z3),\"-\",PROPER(INDIRECT(\"CODES1!C\"&MATCH(Z3,VT_PlotLayers,0)+289)))","v":"-"},{"$f":"IF(ISBLANK(AA3),\"-\",PROPER(INDIRECT(\"CODES1!C\"&MATCH(AA3,VT_PlotLayers,0)+289)))","v":"-"},{"$f":"IF(ISBLANK(AB3),\"-\",PROPER(INDIRECT(\"CODES1!C\"&MATCH(AB3,VT_PlotLayers,0)+289)))","v":"-"},{"$f":"IF(ISBLANK(AC3),\"-\",PROPER(INDIRECT(\"CODES1!C\"&MATCH(AC3,VT_PlotLayers,0)+289)))","v":"-"},{"$f":"IF(ISBLANK(AD3),\"-\",PROPER(INDIRECT(\"CODES1!C\"&MATCH(AD3,VT_PlotLayers,0)+289)))","v":"-"},{"$f":"IF(ISBLANK(AE3),\"-\",PROPER(INDIRECT(\"CODES1!C\"&MATCH(AE3,VT_PlotLayers,0)+289)))","v":"-"},{"$f":"IF(ISBLANK(AF3),\"-\",PROPER(INDIRECT(\"CODES1!C\"&MATCH(AF3,VT_PlotLayers,0)+289)))","v":"-"},{"$f":"IF(ISBLANK(AG3),\"-\",PROPER(INDIRECT(\"CODES1!C\"&MATCH(AG3,VT_PlotLayers,0)+289)))","v":"-"}]
[{"$f":"IF(ISBLANK(C5),\"-\",GenGuid())","v":"-"},{"$f":"IF(ISBLANK(C5),\"-\",INDIRECT(\"VEGSAMPLINGTASKS!A\"&MATCH(C5,TaskLabel,0)+4))","v":"-"}]
[{"$f":"IF(ISBLANK(C6),\"-\",GenGuid())","v":"-"},"-"]
[{"$f":"IF(ISBLANK(C7),\"-\",GenGuid())","v":"-"},"-"]
["-","-"]
["-","-"]
["-","-"]
["-","-"]
["-","-"]
["-","-"]
["-","-"]
["-","-"]
["-","-"]
["-","-"]
["-","-"]
["-","-"]
["-","-"]
["-","-"]
["-","-"]
["-","-"]
["-","-"]
["-","-"]
["-","-"]
["-","-"]
["-","-"]
["-","-"]
["-","-"]
["-","-"]
["-","-"]
["-","-"]
["-","-"]
["-","-"]
["-","-"]
["-","-"]
["-","-"]
["-","-"]
["-","-"]
["-","-"]
["-","-"]
["-","-"]
["-","-"]
["-","-"]
["-","-"]
["-","-"]
["-","-"]
["-","-"]
["-","-"]
["-","-"]
["-","-"]
["-","-"]
["-","-"]
["-","-"]
["-","-"]
["-","-"]
["-","-"]
["-","-"]
["-","-"]
["-","-"]
["-","-"]
["-","-"]
["-","-"]
["-","-"]
["-","-"]
["-","-"]
["-","-"]
["-",{"$f":"IF(ISBLANK(C69),\"-\",INDIRECT(\"VEGSAMPLINGTASKS!A\"&MATCH(C69,TaskLabel,0)+4))","v":"-"}]
["-","-"]
[{"$f":"IF(ISBLANK(C71),\"-\",GenGuid())","v":"-"},"-"]
["-","-"]
["-","-"]
["-","-"]
["-","-"]
["-","-"]
["-","-"]
["-","-"]
["-","-"]
["-","-"]
["-","-"]
["-","-"]
["-","-"]
["-","-"]
["-","-"]
["-","-"]
["-","-"]
["-","-"]
["-","-"]
["-","-"]
["-","-"]
["-","-"]
["-","-"]
["-","-"]
["-","-"]
["-","-"]
["-","-"]
["-","-"]
["-","-"]
["-","-"]
["-","-"]
["-","-"]
["-","-"]
["-","-"]
["-","-"]
["-","-"]
["-","-"]
["-","-"]
["-","-"]
["-","-"]
["-","-"]
["-","-"]
["-","-"]
["-","-"]
["-","-"]
["-","-"]
["-","-"]
["-","-"]
["-","-"]
["-","-"]
["-","-"]
["-","-"]
["-","-"]
["-","-"]
["-","-"]
["-","-"]
["-","-"]
["-","-"]
["-","-"]
["-","-"]
["-","-"]
["-","-"]
["-",{"$f":"IF(ISBLANK(C133),\"-\",INDIRECT(\"VEGSAMPLINGTASKS!A\"&MATCH(C133,TaskLabel,0)+4))","v":"-"}]
["-","-"]
[{"$f":"IF(ISBLANK(C135),\"-\",GenGuid())","v":"-"},"-"]
["-","-"]
["-","-"]
["-","-"]
["-","-"]
["-","-"]
["-","-"]
["-","-"]
["-","-"]
["-","-"]
["-","-"]
["-","-"]
["-","-"]
["-","-"]
["-","-"]
["-","-"]
["-","-"]
["-","-"]
["-","-"]
["-","-"]
["-","-"]
["-","-"]
["-","-"]
["-","-"]
["-","-"]
["-","-"]
["-","-"]
["-","-"]
["-","-"]
["-","-"]
["-","-"]
["-","-"]
["-","-"]
["-","-"]
["-","-"]
["-","-"]
["-","-"]
["-","-"]
["-","-"]
["-","-"]
["-","-"]
["-","-"]
["-","-"]
["-","-"]
["-","-"]
["-","-"]
["-","-"]
["-","-"]
["-","-"]
["-","-"]
["-","-"]
["-","-"]
["-","-"]
["-","-"]
["-","-"]
["-","-"]
["-","-"]
["-","-"]
["-","-"]
["-","-"]
["-","-"]
["-","-"]
["-",{"$f":"IF(ISBLANK(C197),\"-\",INDIRECT(\"VEGSAMPLINGTASKS!A\"&MATCH(C197,TaskLabel,0)+4))","v":"-"}]
["-","-"]
[{"$f":"IF(ISBLANK(C199),\"-\",GenGuid())","v":"-"},"-"]
["-","-"]
["-","-"]
["-","-"]
["-","-"]
["-","-"]
["-","-"]
["-","-"]
["-","-"]
["-","-"]
["-","-"]
["-","-"]
["-","-"]
["-","-"]
["-","-"]
["-","-"]
["-","-"]
["-","-"]
["-","-"]
["-","-"]
["-","-"]
["-","-"]
["-","-"]
["-","-"]
["-","-"]
["-","-"]
["-","-"]
["-","-"]
["-","-"]
["-","-"]
["-","-"]
["-","-"]
["-","-"]
["-","-"]
["-","-"]
["-","-"]
["-","-"]
["-","-"]
["-","-"]
["-","-"]
["-","-"]
["-","-"]
["-","-"]
["-","-"]
["-","-"]
["-","-"]
["-","-"]
["-","-"]
["-","-"]
["-","-"]
["-","-"]
["-","-"]
["-","-"]
["-","-"]
["-","-"]
["-","-"]
["-","-"]
["-","-"]
["-","-"]
["-","-"]
["-","-"]
["-","-"]
["-",{"$f":"IF(ISBLANK(C261),\"-\",INDIRECT(\"VEGSAMPLINGTASKS!A\"&MATCH(C261,TaskLabel,0)+4))","v":"-"}]
["-","-"]
[{"$f":"IF(ISBLANK(C263),\"-\",GenGuid())","v":"-"},"-"]
["-","-"]
["-","-"]
["-","-"]
["-","-"]
["-","-"]
["-","-"]
["-","-"]
["-","-"]
["-","-"]
["-","-"]
["-","-"]
["-","-"]
["-","-"]
["-","-"]
["-","-"]
["-","-"]
["-","-"]
["-","-"]
["-","-"]
["-","-"]
["-","-"]
["-","-"]
["-","-"]
["-","-"]
["-","-"]
["-","-"]
["-","-"]
["-","-"]
["-","-"]
["-","-"]
["-","-"]
["-","-"]
["-","-"]
["-","-"]
["-","-"]
["-","-"]
["-","-"]
["-","-"]
["-","-"]
["-","-"]
["-","-"]
["-","-"]
["-","-"]
["-","-"]
["-","-"]
["-","-"]
["-","-"]
["-","-"]
["-","-"]
["-","-"]
["-","-"]
["-","-"]
["-","-"]
["-","-"]
["-","-"]
["-","-"]
["-","-"]
["-","-"]
["-","-"]
["-","-"]
["-","-"]
["-",{"$f":"IF(ISBLANK(C325),\"-\",INDIRECT(\"VEGSAMPLINGTASKS!A\"&MATCH(C325,TaskLabel,0)+4))","v":"-"}]
["-","-"]
[{"$f":"IF(ISBLANK(C327),\"-\",GenGuid())","v":"-"},"-"]
["-","-"]
["-","-"]
["-","-"]
["-","-"]
["-","-"]
["-","-"]
["-","-"]
["-","-"]
["-","-"]
["-","-"]
["-","-"]
["-","-"]
["-","-"]
["-","-"]
["-","-"]
["-","-"]
["-","-"]
["-","-"]
["-","-"]
["-","-"]
["-","-"]
["-","-"]
["-","-"]
["-","-"]
["-","-"]
["-","-"]
["-","-"]
["-","-"]
["-","-"]
["-","-"]
["-","-"]
["-","-"]
["-","-"]
["-","-"]
["-","-"]
["-","-"]
["-","-"]
["-","-"]
["-","-"]
["-","-"]
["-","-"]
["-","-"]
["-","-"]
["-","-"]
["-","-"]
["-","-"]
["-","-"]
["-","-"]
["-","-"]
["-","-"]
["-","-"]
["-","-"]
["-","-"]
["-","-"]
["-","-"]
["-","-"]
["-","-"]
["-","-"]
["-","-"]
["-","-"]
["-","-"]
["-",{"$f":"IF(ISBLANK(C389),\"-\",INDIRECT(\"VEGSAMPLINGTASKS!A\"&MATCH(C389,TaskLabel,0)+4))","v":"-"}]
["-","-"]
[{"$f":"IF(ISBLANK(C391),\"-\",GenGuid())","v":"-"},"-"]
["-","-"]
["-","-"]
["-","-"]
["-","-"]
["-","-"]
["-","-"]
["-","-"]
["-","-"]
["-","-"]
["-","-"]
["-","-"]
["-","-"]
["-","-"]
["-","-"]
["-","-"]
["-","-"]
["-","-"]
["-","-"]
["-","-"]
["-","-"]
["-","-"]
["-","-"]
["-","-"]
["-","-"]
["-","-"]
["-","-"]
["-","-"]
["-","-"]
["-","-"]
["-","-"]
["-","-"]
["-","-"]
["-","-"]
["-","-"]
["-","-"]
["-","-"]
["-","-"]
["-","-"]
["-","-"]
["-","-"]
["-","-"]
["-","-"]
["-","-"]
["-","-"]
["-","-"]
["-","-"]
["-","-"]
["-","-"]
["-","-"]
["-","-"]
["-","-"]
["-","-"]
["-","-"]
["-","-"]
["-","-"]
["-","-"]
["-","-"]
["-","-"]
["-","-"]
["-","-"]
["-","-"]
["-",{"$f":"IF(ISBLANK(C453),\"-\",INDIRECT(\"VEGSAMPLINGTASKS!A\"&MATCH(C453,TaskLabel,0)+4))","v":"-"}]
["-","-"]
[{"$f":"IF(ISBLANK(C455),\"-\",GenGuid())","v":"-"},"-"]
["-","-"]
["-","-"]
["-","-"]
["-","-"]
["-","-"]
["-","-"]
["-","-"]
["-","-"]
["-","-"]
["-","-"]
["-","-"]
["-","-"]
["-","-"]
["-","-"]
["-","-"]
["-","-"]
["-","-"]
["-","-"]
["-","-"]
["-","-"]
["-","-"]
["-","-"]
["-","-"]
["-","-"]
["-","-"]
["-","-"]
["-","-"]
["-","-"]
["-","-"]
["-","-"]
["-","-"]
["-","-"]
["-","-"]
["-","-"]
["-","-"]
["-","-"]
["-","-"]
["-","-"]
["-","-"]
["-","-"]
["-","-"]
["-","-"]
["-","-"]
["-","-"]
["-","-"]
["-","-"]
["-","-"]
["-","-"]
["-","-"]
["-","-"]
["-","-"]
["-","-"]
["-","-"]
["-","-"]
["-","-"]
["-","-"]
["-","-"]
["-","-"]
["-","-"]
["-","-"]
["-","-"]
["-",{"$f":"IF(ISBLANK(C517),\"-\",INDIRECT(\"VEGSAMPLINGTASKS!A\"&MATCH(C517,TaskLabel,0)+4))","v":"-"}]
["-","-"]
[{"$f":"IF(ISBLANK(C519),\"-\",GenGuid())","v":"-"},"-"]
["-","-"]
["-","-"]
["-","-"]
["-","-"]
["-","-"]
["-","-"]
["-","-"]
["-","-"]
["-","-"]
["-","-"]
["-","-"]
["-","-"]
["-","-"]
["-","-"]
["-","-"]
["-","-"]
["-","-"]
["-","-"]
["-","-"]
["-","-"]
["-","-"]
["-","-"]
["-","-"]
["-","-"]
["-","-"]
["-","-"]
["-","-"]
["-","-"]
["-","-"]
["-","-"]
["-","-"]
["-","-"]
["-","-"]
["-","-"]
["-","-"]
["-","-"]
["-","-"]
["-","-"]
["-","-"]
["-","-"]
["-","-"]
["-","-"]
["-","-"]
["-","-"]
["-","-"]
["-","-"]
["-","-"]
["-","-"]
["-","-"]
["-","-"]
["-","-"]
["-","-"]
["-","-"]
["-","-"]
["-","-"]
["-","-"]
["-","-"]
["-","-"]
["-","-"]
["-","-"]
["-","-"]
["-",{"$f":"IF(ISBLANK(C581),\"-\",INDIRECT(\"VEGSAMPLINGTASKS!A\"&MATCH(C581,TaskLabel,0)+4))","v":"-"}]
["-","-"]
[{"$f":"IF(ISBLANK(C583),\"-\",GenGuid())","v":"-"},"-"]
["-","-"]
["-","-"]
["-","-"]
["-","-"]
["-","-"]
["-","-"]
["-","-"]
["-","-"]
["-","-"]
["-","-"]
["-","-"]
["-","-"]
["-","-"]
["-","-"]
["-","-"]
["-","-"]
["-","-"]
["-","-"]
["-","-"]
["-","-"]
["-","-"]
["-","-"]
["-","-"]
["-","-"]
["-","-"]
["-","-"]
["-","-"]
["-","-"]
["-","-"]
["-","-"]
["-","-"]
["-","-"]
["-","-"]
["-","-"]
["-","-"]
["-","-"]
["-","-"]
["-","-"]
["-","-"]
["-","-"]
["-","-"]
["-","-"]
["-","-"]
["-","-"]
["-","-"]
["-","-"]
["-","-"]
["-","-"]
["-","-"]
["-","-"]
["-","-"]
["-","-"]
["-","-"]
["-","-"]
["-","-"]
["-","-"]
["-","-"]
["-","-"]
["-","-"]
["-","-"]
["-","-"]
["-",{"$f":"IF(ISBLANK(C645),\"-\",INDIRECT(\"VEGSAMPLINGTASKS!A\"&MATCH(C645,TaskLabel,0)+4))","v":"-"}]
["-","-"]
[{"$f":"IF(ISBLANK(C647),\"-\",GenGuid())","v":"-"},"-"]
["-","-"]
["-","-"]
["-","-"]
["-","-"]
["-","-"]
["-","-"]
["-","-"]
["-","-"]
["-","-"]
["-","-"]
["-","-"]
["-","-"]
["-","-"]
["-","-"]
["-","-"]
["-","-"]
["-","-"]
["-","-"]
["-","-"]
["-","-"]
["-","-"]
["-","-"]
["-","-"]
["-","-"]
["-","-"]
["-","-"]
["-","-"]
["-","-"]
["-","-"]
["-","-"]
["-","-"]
["-","-"]
["-","-"]
["-","-"]
["-","-"]
["-","-"]
["-","-"]
["-","-"]
["-","-"]
["-","-"]
["-","-"]
["-","-"]
["-","-"]
["-","-"]
["-","-"]
["-","-"]
["-","-"]
["-","-"]
["-","-"]
["-","-"]
["-","-"]
["-","-"]
["-","-"]
["-","-"]
["-","-"]
["-","-"]
["-","-"]
["-","-"]
["-","-"]
["-","-"]
["-","-"]
["-",{"$f":"IF(ISBLANK(C709),\"-\",INDIRECT(\"VEGSAMPLINGTASKS!A\"&MATCH(C709,TaskLabel,0)+4))","v":"-"}]
["-","-"]
[{"$f":"IF(ISBLANK(C711),\"-\",GenGuid())","v":"-"},"-"]
["-","-"]
["-","-"]
["-","-"]
["-","-"]
["-","-"]
["-","-"]
["-","-"]
["-","-"]
["-","-"]
["-","-"]
["-","-"]
["-","-"]
["-","-"]
["-","-"]
["-","-"]
["-","-"]
["-","-"]
["-","-"]
["-","-"]
["-","-"]
["-","-"]
["-","-"]
["-","-"]
["-","-"]
["-","-"]
["-","-"]
["-","-"]
["-","-"]
["-","-"]
["-","-"]
["-","-"]
["-","-"]
["-","-"]
["-","-"]
["-","-"]
["-","-"]
["-","-"]
["-","-"]
["-","-"]
["-","-"]
["-","-"]
["-","-"]
["-","-"]
["-","-"]
["-","-"]
["-","-"]
["-","-"]
["-","-"]
["-","-"]
["-","-"]
["-","-"]
["-","-"]
["-","-"]
["-","-"]
["-","-"]
["-","-"]
["-","-"]
["-","-"]
["-","-"]
["-","-"]
["-","-"]
["-",{"$f":"IF(ISBLANK(C773),\"-\",INDIRECT(\"VEGSAMPLINGTASKS!A\"&MATCH(C773,TaskLabel,0)+4))","v":"-"}]
["-","-"]
[{"$f":"IF(ISBLANK(C775),\"-\",GenGuid())","v":"-"},"-"]
["-","-"]
["-","-"]
["-","-"]
["-","-"]
["-","-"]
["-","-"]
["-","-"]
["-","-"]
["-","-"]
["-","-"]
["-","-"]
["-","-"]
["-","-"]
["-","-"]
["-","-"]
["-","-"]
["-","-"]
["-","-"]
["-","-"]
["-","-"]
["-","-"]
["-","-"]
["-","-"]
["-","-"]
["-","-"]
["-","-"]
["-","-"]
["-","-"]
["-","-"]
["-","-"]
["-","-"]
["-","-"]
["-","-"]
["-","-"]
["-","-"]
["-","-"]
["-","-"]
["-","-"]
["-","-"]
["-","-"]
["-","-"]
["-","-"]
["-","-"]
["-","-"]
["-","-"]
["-","-"]
["-","-"]
["-","-"]
["-","-"]
["-","-"]
["-","-"]
["-","-"]
["-","-"]
["-","-"]
["-","-"]
["-","-"]
["-","-"]
["-","-"]
["-","-"]
["-","-"]
["-","-"]
["-",{"$f":"IF(ISBLANK(C837),\"-\",INDIRECT(\"VEGSAMPLINGTASKS!A\"&MATCH(C837,TaskLabel,0)+4))","v":"-"}]
["-","-"]
[{"$f":"IF(ISBLANK(C839),\"-\",GenGuid())","v":"-"},"-"]
["-","-"]
["-","-"]
["-","-"]
["-","-"]
["-","-"]
["-","-"]
["-","-"]
["-","-"]
["-","-"]
["-","-"]
["-","-"]
["-","-"]
["-","-"]
["-","-"]
["-","-"]
["-","-"]
["-","-"]
["-","-"]
["-","-"]
["-","-"]
["-","-"]
["-","-"]
["-","-"]
["-","-"]
["-","-"]
["-","-"]
["-","-"]
["-","-"]
["-","-"]
["-","-"]
["-","-"]
["-","-"]
["-","-"]
["-","-"]
["-","-"]
["-","-"]
["-","-"]
["-","-"]
["-","-"]
["-","-"]
["-","-"]
["-","-"]
["-","-"]
["-","-"]
["-","-"]
["-","-"]
["-","-"]
["-","-"]
["-","-"]
["-","-"]
["-","-"]
["-","-"]
["-","-"]
["-","-"]
["-","-"]
["-","-"]
["-","-"]
["-","-"]
["-","-"]
["-","-"]
["-","-"]
["-",{"$f":"IF(ISBLANK(C901),\"-\",INDIRECT(\"VEGSAMPLINGTASKS!A\"&MATCH(C901,TaskLabel,0)+4))","v":"-"}]
["-","-"]
[{"$f":"IF(ISBLANK(C903),\"-\",GenGuid())","v":"-"},"-"]
["-","-"]
["-","-"]
["-","-"]
["-","-"]
["-","-"]
["-","-"]
["-","-"]
["-","-"]
["-","-"]
["-","-"]
["-","-"]
["-","-"]
["-","-"]
["-","-"]
["-","-"]
["-","-"]
["-","-"]
["-","-"]
["-","-"]
["-","-"]
["-","-"]
["-","-"]
["-","-"]
["-","-"]
["-","-"]
["-","-"]
["-","-"]
["-","-"]
["-","-"]
["-","-"]
["-","-"]
["-","-"]
["-","-"]
["-","-"]
["-","-"]
["-","-"]
["-","-"]
["-","-"]
["-","-"]
["-","-"]
["-","-"]
["-","-"]
["-","-"]
["-","-"]
["-","-"]
["-","-"]
["-","-"]
["-","-"]
["-","-"]
["-","-"]
["-","-"]
["-","-"]
["-","-"]
["-","-"]
["-","-"]
["-","-"]
["-","-"]
["-","-"]
["-","-"]
["-","-"]
["-","-"]
["-",{"$f":"IF(ISBLANK(C965),\"-\",INDIRECT(\"VEGSAMPLINGTASKS!A\"&MATCH(C965,TaskLabel,0)+4))","v":"-"}]
["-","-"]
[{"$f":"IF(ISBLANK(C967),\"-\",GenGuid())","v":"-"},"-"]
["-","-"]
["-","-"]
["-","-"]
["-","-"]
["-","-"]
["-","-"]
["-","-"]
["-","-"]
["-","-"]
["-","-"]
["-","-"]
["-","-"]
["-","-"]
["-","-"]
["-","-"]
["-","-"]
["-","-"]
["-","-"]
["-","-"]
["-","-"]
["-","-"]
["-","-"]
["-","-"]
["-","-"]
["-","-"]
["-","-"]
["-","-"]
["-","-"]
["-","-"]
["-","-"]
["-","-"]
["-","-"]
["-","-"]
["-","-"]
["-","-"]
["-","-"]
["-","-"]
["To add more rows, copy from the previous line to ensure the proper formatting/formulas are in place."]

{"sheet":"PlotSTRUCTURERows","index":17,"n_rows":1005,"n_cols":9,"rows_kept":1005,"cut":false,"hidden":false,"merged":[]}
["PlotStructureID","VegSamplingTaskID","TaskLabel","Layer","Cover","CoverClass","Weight","LowerHeight","UpperHeight"]
["Name","Survey ID","Task Label","Layer","Cover %","Cover Class","Weight","Lower Height","Upper Height"]
["Type",null,"Text","Text","Single","Text","Single","Integer","Integer"]
["Max Length",null,100,"3",4,5,4,2,3]
[{"$f":"IF(ISBLANK(C5),\"-\",GenGuid())","v":"-"},{"$f":"IF(ISBLANK(C5),\"-\",INDIRECT(\"VEGSAMPLINGTASKS!A\"&MATCH(C5,TaskLabel,0)+4))","v":"-"}]
[{"$f":"IF(ISBLANK(C6),\"-\",GenGuid())","v":"-"},"-"]
[{"$f":"IF(ISBLANK(C7),\"-\",GenGuid())","v":"-"},"-"]
["-","-"]
["-","-"]
["-","-"]
["-","-"]
["-","-"]
["-","-"]
["-","-"]
["-","-"]
["-","-"]
["-","-"]
["-","-"]
["-","-"]
["-","-"]
["-","-"]
["-","-"]
["-","-"]
["-","-"]
["-","-"]
["-","-"]
["-","-"]
["-","-"]
["-","-"]
["-","-"]
["-","-"]
["-","-"]
["-","-"]
["-","-"]
["-","-"]
["-","-"]
["-","-"]
["-","-"]
["-","-"]
["-","-"]
["-","-"]
["-","-"]
["-","-"]
["-","-"]
["-","-"]
["-","-"]
["-","-"]
["-","-"]
["-","-"]
["-","-"]
["-","-"]
["-","-"]
["-","-"]
["-","-"]
["-","-"]
["-","-"]
["-","-"]
["-","-"]
["-","-"]
["-","-"]
["-","-"]
["-","-"]
["-","-"]
["-","-"]
["-","-"]
["-","-"]
["-","-"]
["-","-"]
["-",{"$f":"IF(ISBLANK(C69),\"-\",INDIRECT(\"VEGSAMPLINGTASKS!A\"&MATCH(C69,TaskLabel,0)+4))","v":"-"}]
["-","-"]
[{"$f":"IF(ISBLANK(C71),\"-\",GenGuid())","v":"-"},"-"]
["-","-"]
["-","-"]
["-","-"]
["-","-"]
["-","-"]
["-","-"]
["-","-"]
["-","-"]
["-","-"]
["-","-"]
["-","-"]
["-","-"]
["-","-"]
["-","-"]
["-","-"]
["-","-"]
["-","-"]
["-","-"]
["-","-"]
["-","-"]
["-","-"]
["-","-"]
["-","-"]
["-","-"]
["-","-"]
["-","-"]
["-","-"]
["-","-"]
["-","-"]
["-","-"]
["-","-"]
["-","-"]
["-","-"]
["-","-"]
["-","-"]
["-","-"]
["-","-"]
["-","-"]
["-","-"]
["-","-"]
["-","-"]
["-","-"]
["-","-"]
["-","-"]
["-","-"]
["-","-"]
["-","-"]
["-","-"]
["-","-"]
["-","-"]
["-","-"]
["-","-"]
["-","-"]
["-","-"]
["-","-"]
["-","-"]
["-","-"]
["-","-"]
["-","-"]
["-","-"]
["-","-"]
["-",{"$f":"IF(ISBLANK(C133),\"-\",INDIRECT(\"VEGSAMPLINGTASKS!A\"&MATCH(C133,TaskLabel,0)+4))","v":"-"}]
["-","-"]
[{"$f":"IF(ISBLANK(C135),\"-\",GenGuid())","v":"-"},"-"]
["-","-"]
["-","-"]
["-","-"]
["-","-"]
["-","-"]
["-","-"]
["-","-"]
["-","-"]
["-","-"]
["-","-"]
["-","-"]
["-","-"]
["-","-"]
["-","-"]
["-","-"]
["-","-"]
["-","-"]
["-","-"]
["-","-"]
["-","-"]
["-","-"]
["-","-"]
["-","-"]
["-","-"]
["-","-"]
["-","-"]
["-","-"]
["-","-"]
["-","-"]
["-","-"]
["-","-"]
["-","-"]
["-","-"]
["-","-"]
["-","-"]
["-","-"]
["-","-"]
["-","-"]
["-","-"]
["-","-"]
["-","-"]
["-","-"]
["-","-"]
["-","-"]
["-","-"]
["-","-"]
["-","-"]
["-","-"]
["-","-"]
["-","-"]
["-","-"]
["-","-"]
["-","-"]
["-","-"]
["-","-"]
["-","-"]
["-","-"]
["-","-"]
["-","-"]
["-","-"]
["-","-"]
["-",{"$f":"IF(ISBLANK(C197),\"-\",INDIRECT(\"VEGSAMPLINGTASKS!A\"&MATCH(C197,TaskLabel,0)+4))","v":"-"}]
["-","-"]
[{"$f":"IF(ISBLANK(C199),\"-\",GenGuid())","v":"-"},"-"]
["-","-"]
["-","-"]
["-","-"]
["-","-"]
["-","-"]
["-","-"]
["-","-"]
["-","-"]
["-","-"]
["-","-"]
["-","-"]
["-","-"]
["-","-"]
["-","-"]
["-","-"]
["-","-"]
["-","-"]
["-","-"]
["-","-"]
["-","-"]
["-","-"]
["-","-"]
["-","-"]
["-","-"]
["-","-"]
["-","-"]
["-","-"]
["-","-"]
["-","-"]
["-","-"]
["-","-"]
["-","-"]
["-","-"]
["-","-"]
["-","-"]
["-","-"]
["-","-"]
["-","-"]
["-","-"]
["-","-"]
["-","-"]
["-","-"]
["-","-"]
["-","-"]
["-","-"]
["-","-"]
["-","-"]
["-","-"]
["-","-"]
["-","-"]
["-","-"]
["-","-"]
["-","-"]
["-","-"]
["-","-"]
["-","-"]
["-","-"]
["-","-"]
["-","-"]
["-","-"]
["-","-"]
["-",{"$f":"IF(ISBLANK(C261),\"-\",INDIRECT(\"VEGSAMPLINGTASKS!A\"&MATCH(C261,TaskLabel,0)+4))","v":"-"}]
["-","-"]
[{"$f":"IF(ISBLANK(C263),\"-\",GenGuid())","v":"-"},"-"]
["-","-"]
["-","-"]
["-","-"]
["-","-"]
["-","-"]
["-","-"]
["-","-"]
["-","-"]
["-","-"]
["-","-"]
["-","-"]
["-","-"]
["-","-"]
["-","-"]
["-","-"]
["-","-"]
["-","-"]
["-","-"]
["-","-"]
["-","-"]
["-","-"]
["-","-"]
["-","-"]
["-","-"]
["-","-"]
["-","-"]
["-","-"]
["-","-"]
["-","-"]
["-","-"]
["-","-"]
["-","-"]
["-","-"]
["-","-"]
["-","-"]
["-","-"]
["-","-"]
["-","-"]
["-","-"]
["-","-"]
["-","-"]
["-","-"]
["-","-"]
["-","-"]
["-","-"]
["-","-"]
["-","-"]
["-","-"]
["-","-"]
["-","-"]
["-","-"]
["-","-"]
["-","-"]
["-","-"]
["-","-"]
["-","-"]
["-","-"]
["-","-"]
["-","-"]
["-","-"]
["-","-"]
["-",{"$f":"IF(ISBLANK(C325),\"-\",INDIRECT(\"VEGSAMPLINGTASKS!A\"&MATCH(C325,TaskLabel,0)+4))","v":"-"}]
["-","-"]
[{"$f":"IF(ISBLANK(C327),\"-\",GenGuid())","v":"-"},"-"]
["-","-"]
["-","-"]
["-","-"]
["-","-"]
["-","-"]
["-","-"]
["-","-"]
["-","-"]
["-","-"]
["-","-"]
["-","-"]
["-","-"]
["-","-"]
["-","-"]
["-","-"]
["-","-"]
["-","-"]
["-","-"]
["-","-"]
["-","-"]
["-","-"]
["-","-"]
["-","-"]
["-","-"]
["-","-"]
["-","-"]
["-","-"]
["-","-"]
["-","-"]
["-","-"]
["-","-"]
["-","-"]
["-","-"]
["-","-"]
["-","-"]
["-","-"]
["-","-"]
["-","-"]
["-","-"]
["-","-"]
["-","-"]
["-","-"]
["-","-"]
["-","-"]
["-","-"]
["-","-"]
["-","-"]
["-","-"]
["-","-"]
["-","-"]
["-","-"]
["-","-"]
["-","-"]
["-","-"]
["-","-"]
["-","-"]
["-","-"]
["-","-"]
["-","-"]
["-","-"]
["-","-"]
["-",{"$f":"IF(ISBLANK(C389),\"-\",INDIRECT(\"VEGSAMPLINGTASKS!A\"&MATCH(C389,TaskLabel,0)+4))","v":"-"}]
["-","-"]
[{"$f":"IF(ISBLANK(C391),\"-\",GenGuid())","v":"-"},"-"]
["-","-"]
["-","-"]
["-","-"]
["-","-"]
["-","-"]
["-","-"]
["-","-"]
["-","-"]
["-","-"]
["-","-"]
["-","-"]
["-","-"]
["-","-"]
["-","-"]
["-","-"]
["-","-"]
["-","-"]
["-","-"]
["-","-"]
["-","-"]
["-","-"]
["-","-"]
["-","-"]
["-","-"]
["-","-"]
["-","-"]
["-","-"]
["-","-"]
["-","-"]
["-","-"]
["-","-"]
["-","-"]
["-","-"]
["-","-"]
["-","-"]
["-","-"]
["-","-"]
["-","-"]
["-","-"]
["-","-"]
["-","-"]
["-","-"]
["-","-"]
["-","-"]
["-","-"]
["-","-"]
["-","-"]
["-","-"]
["-","-"]
["-","-"]
["-","-"]
["-","-"]
["-","-"]
["-","-"]
["-","-"]
["-","-"]
["-","-"]
["-","-"]
["-","-"]
["-","-"]
["-","-"]
["-",{"$f":"IF(ISBLANK(C453),\"-\",INDIRECT(\"VEGSAMPLINGTASKS!A\"&MATCH(C453,TaskLabel,0)+4))","v":"-"}]
["-","-"]
[{"$f":"IF(ISBLANK(C455),\"-\",GenGuid())","v":"-"},"-"]
["-","-"]
["-","-"]
["-","-"]
["-","-"]
["-","-"]
["-","-"]
["-","-"]
["-","-"]
["-","-"]
["-","-"]
["-","-"]
["-","-"]
["-","-"]
["-","-"]
["-","-"]
["-","-"]
["-","-"]
["-","-"]
["-","-"]
["-","-"]
["-","-"]
["-","-"]
["-","-"]
["-","-"]
["-","-"]
["-","-"]
["-","-"]
["-","-"]
["-","-"]
["-","-"]
["-","-"]
["-","-"]
["-","-"]
["-","-"]
["-","-"]
["-","-"]
["-","-"]
["-","-"]
["-","-"]
["-","-"]
["-","-"]
["-","-"]
["-","-"]
["-","-"]
["-","-"]
["-","-"]
["-","-"]
["-","-"]
["-","-"]
["-","-"]
["-","-"]
["-","-"]
["-","-"]
["-","-"]
["-","-"]
["-","-"]
["-","-"]
["-","-"]
["-","-"]
["-","-"]
["-","-"]
["-",{"$f":"IF(ISBLANK(C517),\"-\",INDIRECT(\"VEGSAMPLINGTASKS!A\"&MATCH(C517,TaskLabel,0)+4))","v":"-"}]
["-","-"]
[{"$f":"IF(ISBLANK(C519),\"-\",GenGuid())","v":"-"},"-"]
["-","-"]
["-","-"]
["-","-"]
["-","-"]
["-","-"]
["-","-"]
["-","-"]
["-","-"]
["-","-"]
["-","-"]
["-","-"]
["-","-"]
["-","-"]
["-","-"]
["-","-"]
["-","-"]
["-","-"]
["-","-"]
["-","-"]
["-","-"]
["-","-"]
["-","-"]
["-","-"]
["-","-"]
["-","-"]
["-","-"]
["-","-"]
["-","-"]
["-","-"]
["-","-"]
["-","-"]
["-","-"]
["-","-"]
["-","-"]
["-","-"]
["-","-"]
["-","-"]
["-","-"]
["-","-"]
["-","-"]
["-","-"]
["-","-"]
["-","-"]
["-","-"]
["-","-"]
["-","-"]
["-","-"]
["-","-"]
["-","-"]
["-","-"]
["-","-"]
["-","-"]
["-","-"]
["-","-"]
["-","-"]
["-","-"]
["-","-"]
["-","-"]
["-","-"]
["-","-"]
["-","-"]
["-",{"$f":"IF(ISBLANK(C581),\"-\",INDIRECT(\"VEGSAMPLINGTASKS!A\"&MATCH(C581,TaskLabel,0)+4))","v":"-"}]
["-","-"]
[{"$f":"IF(ISBLANK(C583),\"-\",GenGuid())","v":"-"},"-"]
["-","-"]
["-","-"]
["-","-"]
["-","-"]
["-","-"]
["-","-"]
["-","-"]
["-","-"]
["-","-"]
["-","-"]
["-","-"]
["-","-"]
["-","-"]
["-","-"]
["-","-"]
["-","-"]
["-","-"]
["-","-"]
["-","-"]
["-","-"]
["-","-"]
["-","-"]
["-","-"]
["-","-"]
["-","-"]
["-","-"]
["-","-"]
["-","-"]
["-","-"]
["-","-"]
["-","-"]
["-","-"]
["-","-"]
["-","-"]
["-","-"]
["-","-"]
["-","-"]
["-","-"]
["-","-"]
["-","-"]
["-","-"]
["-","-"]
["-","-"]
["-","-"]
["-","-"]
["-","-"]
["-","-"]
["-","-"]
["-","-"]
["-","-"]
["-","-"]
["-","-"]
["-","-"]
["-","-"]
["-","-"]
["-","-"]
["-","-"]
["-","-"]
["-","-"]
["-","-"]
["-","-"]
["-",{"$f":"IF(ISBLANK(C645),\"-\",INDIRECT(\"VEGSAMPLINGTASKS!A\"&MATCH(C645,TaskLabel,0)+4))","v":"-"}]
["-","-"]
[{"$f":"IF(ISBLANK(C647),\"-\",GenGuid())","v":"-"},"-"]
["-","-"]
["-","-"]
["-","-"]
["-","-"]
["-","-"]
["-","-"]
["-","-"]
["-","-"]
["-","-"]
["-","-"]
["-","-"]
["-","-"]
["-","-"]
["-","-"]
["-","-"]
["-","-"]
["-","-"]
["-","-"]
["-","-"]
["-","-"]
["-","-"]
["-","-"]
["-","-"]
["-","-"]
["-","-"]
["-","-"]
["-","-"]
["-","-"]
["-","-"]
["-","-"]
["-","-"]
["-","-"]
["-","-"]
["-","-"]
["-","-"]
["-","-"]
["-","-"]
["-","-"]
["-","-"]
["-","-"]
["-","-"]
["-","-"]
["-","-"]
["-","-"]
["-","-"]
["-","-"]
["-","-"]
["-","-"]
["-","-"]
["-","-"]
["-","-"]
["-","-"]
["-","-"]
["-","-"]
["-","-"]
["-","-"]
["-","-"]
["-","-"]
["-","-"]
["-","-"]
["-","-"]
["-",{"$f":"IF(ISBLANK(C709),\"-\",INDIRECT(\"VEGSAMPLINGTASKS!A\"&MATCH(C709,TaskLabel,0)+4))","v":"-"}]
["-","-"]
[{"$f":"IF(ISBLANK(C711),\"-\",GenGuid())","v":"-"},"-"]
["-","-"]
["-","-"]
["-","-"]
["-","-"]
["-","-"]
["-","-"]
["-","-"]
["-","-"]
["-","-"]
["-","-"]
["-","-"]
["-","-"]
["-","-"]
["-","-"]
["-","-"]
["-","-"]
["-","-"]
["-","-"]
["-","-"]
["-","-"]
["-","-"]
["-","-"]
["-","-"]
["-","-"]
["-","-"]
["-","-"]
["-","-"]
["-","-"]
["-","-"]
["-","-"]
["-","-"]
["-","-"]
["-","-"]
["-","-"]
["-","-"]
["-","-"]
["-","-"]
["-","-"]
["-","-"]
["-","-"]
["-","-"]
["-","-"]
["-","-"]
["-","-"]
["-","-"]
["-","-"]
["-","-"]
["-","-"]
["-","-"]
["-","-"]
["-","-"]
["-","-"]
["-","-"]
["-","-"]
["-","-"]
["-","-"]
["-","-"]
["-","-"]
["-","-"]
["-","-"]
["-","-"]
["-",{"$f":"IF(ISBLANK(C773),\"-\",INDIRECT(\"VEGSAMPLINGTASKS!A\"&MATCH(C773,TaskLabel,0)+4))","v":"-"}]
["-","-"]
[{"$f":"IF(ISBLANK(C775),\"-\",GenGuid())","v":"-"},"-"]
["-","-"]
["-","-"]
["-","-"]
["-","-"]
["-","-"]
["-","-"]
["-","-"]
["-","-"]
["-","-"]
["-","-"]
["-","-"]
["-","-"]
["-","-"]
["-","-"]
["-","-"]
["-","-"]
["-","-"]
["-","-"]
["-","-"]
["-","-"]
["-","-"]
["-","-"]
["-","-"]
["-","-"]
["-","-"]
["-","-"]
["-","-"]
["-","-"]
["-","-"]
["-","-"]
["-","-"]
["-","-"]
["-","-"]
["-","-"]
["-","-"]
["-","-"]
["-","-"]
["-","-"]
["-","-"]
["-","-"]
["-","-"]
["-","-"]
["-","-"]
["-","-"]
["-","-"]
["-","-"]
["-","-"]
["-","-"]
["-","-"]
["-","-"]
["-","-"]
["-","-"]
["-","-"]
["-","-"]
["-","-"]
["-","-"]
["-","-"]
["-","-"]
["-","-"]
["-","-"]
["-","-"]
["-",{"$f":"IF(ISBLANK(C837),\"-\",INDIRECT(\"VEGSAMPLINGTASKS!A\"&MATCH(C837,TaskLabel,0)+4))","v":"-"}]
["-","-"]
[{"$f":"IF(ISBLANK(C839),\"-\",GenGuid())","v":"-"},"-"]
["-","-"]
["-","-"]
["-","-"]
["-","-"]
["-","-"]
["-","-"]
["-","-"]
["-","-"]
["-","-"]
["-","-"]
["-","-"]
["-","-"]
["-","-"]
["-","-"]
["-","-"]
["-","-"]
["-","-"]
["-","-"]
["-","-"]
["-","-"]
["-","-"]
["-","-"]
["-","-"]
["-","-"]
["-","-"]
["-","-"]
["-","-"]
["-","-"]
["-","-"]
["-","-"]
["-","-"]
["-","-"]
["-","-"]
["-","-"]
["-","-"]
["-","-"]
["-","-"]
["-","-"]
["-","-"]
["-","-"]
["-","-"]
["-","-"]
["-","-"]
["-","-"]
["-","-"]
["-","-"]
["-","-"]
["-","-"]
["-","-"]
["-","-"]
["-","-"]
["-","-"]
["-","-"]
["-","-"]
["-","-"]
["-","-"]
["-","-"]
["-","-"]
["-","-"]
["-","-"]
["-","-"]
["-",{"$f":"IF(ISBLANK(C901),\"-\",INDIRECT(\"VEGSAMPLINGTASKS!A\"&MATCH(C901,TaskLabel,0)+4))","v":"-"}]
["-","-"]
[{"$f":"IF(ISBLANK(C903),\"-\",GenGuid())","v":"-"},"-"]
["-","-"]
["-","-"]
["-","-"]
["-","-"]
["-","-"]
["-","-"]
["-","-"]
["-","-"]
["-","-"]
["-","-"]
["-","-"]
["-","-"]
["-","-"]
["-","-"]
["-","-"]
["-","-"]
["-","-"]
["-","-"]
["-","-"]
["-","-"]
["-","-"]
["-","-"]
["-","-"]
["-","-"]
["-","-"]
["-","-"]
["-","-"]
["-","-"]
["-","-"]
["-","-"]
["-","-"]
["-","-"]
["-","-"]
["-","-"]
["-","-"]
["-","-"]
["-","-"]
["-","-"]
["-","-"]
["-","-"]
["-","-"]
["-","-"]
["-","-"]
["-","-"]
["-","-"]
["-","-"]
["-","-"]
["-","-"]
["-","-"]
["-","-"]
["-","-"]
["-","-"]
["-","-"]
["-","-"]
["-","-"]
["-","-"]
["-","-"]
["-","-"]
["-","-"]
["-","-"]
["-","-"]
["-",{"$f":"IF(ISBLANK(C965),\"-\",INDIRECT(\"VEGSAMPLINGTASKS!A\"&MATCH(C965,TaskLabel,0)+4))","v":"-"}]
["-","-"]
[{"$f":"IF(ISBLANK(C967),\"-\",GenGuid())","v":"-"},"-"]
["-","-"]
["-","-"]
["-","-"]
["-","-"]
["-","-"]
["-","-"]
["-","-"]
["-","-"]
["-","-"]
["-","-"]
["-","-"]
["-","-"]
["-","-"]
["-","-"]
["-","-"]
["-","-"]
["-","-"]
["-","-"]
["-","-"]
["-","-"]
["-","-"]
["-","-"]
["-","-"]
["-","-"]
["-","-"]
["-","-"]
["-","-"]
["-","-"]
["-","-"]
["-","-"]
["-","-"]
["-","-"]
["-","-"]
["-","-"]
["-","-"]
["-","-"]
["-","-"]
["To add more rows, copy from the previous line to ensure the proper formatting/formulas are in place."]

{"sheet":"GrasslandHealth","index":18,"n_rows":1005,"n_cols":15,"rows_kept":1005,"cut":false,"hidden":false,"merged":[]}
["GrasslandHealthID","PlotID","PlotLabel","ReferenceCommunity","PlantCommunityMethod","InvasiveCoverPercent","InvasiveDistributionClass","Q1PlantCommunityScore","Q2VegetationLayersScore","Q31InvasiveCoverScore","Q32InvasiveDistributionScore","Q41SoilErosionScore","Q42BareSoilScore","Q5LitterScore","TotalScore"]
["Name","Survey ID","Survey Label","Reference Community","Plant Community Method","Invasive Cover Percent","Invasive Distribution Class","Q1 - Plant Community Score","Q2 - Veg Layers Score","Q3.1 -Inv. Cover Score","Q3.2 - Inv. Distrib. Score","Q4.1 - Soil Erosion Score","Q4.2 - Bare Soil Score","Q5 - Litter Score","Total Score"]
["Type",null,"Text","Text","Text","Single","Integer","Integer","Integer","Integer","Integer","Integer","Integer","Integer","Integer"]
["Max Length",null,"50",12,"3"]
[{"$f":"IF(ISBLANK(C5),\"-\",GenGuid())","v":"-"},{"$f":"IF(ISBLANK(C5),\"-\",INDIRECT(\"SURVEYS!A\"&MATCH(C5,SurveyLabels,0)+4))","v":"-"},null,null,null,null,null,null,null,null,null,null,null,null,{"$f":"SUM(H5:N5)","v":0}]
[{"$f":"IF(ISBLANK(C6),\"-\",GenGuid())","v":"-"},"-",null,null,null,null,null,null,null,null,null,null,null,null,0]
[{"$f":"IF(ISBLANK(C7),\"-\",GenGuid())","v":"-"},"-",null,null,null,null,null,null,null,null,null,null,null,null,0]
["-","-",null,null,null,null,null,null,null,null,null,null,null,null,0]
["-","-",null,null,null,null,null,null,null,null,null,null,null,null,0]
["-","-",null,null,null,null,null,null,null,null,null,null,null,null,0]
["-","-",null,null,null,null,null,null,null,null,null,null,null,null,0]
["-","-",null,null,null,null,null,null,null,null,null,null,null,null,0]
["-","-",null,null,null,null,null,null,null,null,null,null,null,null,0]
["-","-",null,null,null,null,null,null,null,null,null,null,null,null,0]
["-","-",null,null,null,null,null,null,null,null,null,null,null,null,0]
["-","-",null,null,null,null,null,null,null,null,null,null,null,null,0]
["-","-",null,null,null,null,null,null,null,null,null,null,null,null,0]
["-","-",null,null,null,null,null,null,null,null,null,null,null,null,0]
["-","-",null,null,null,null,null,null,null,null,null,null,null,null,0]
["-","-",null,null,null,null,null,null,null,null,null,null,null,null,0]
["-","-",null,null,null,null,null,null,null,null,null,null,null,null,0]
["-","-",null,null,null,null,null,null,null,null,null,null,null,null,0]
["-","-",null,null,null,null,null,null,null,null,null,null,null,null,0]
["-","-",null,null,null,null,null,null,null,null,null,null,null,null,0]
["-","-",null,null,null,null,null,null,null,null,null,null,null,null,0]
["-","-",null,null,null,null,null,null,null,null,null,null,null,null,0]
["-","-",null,null,null,null,null,null,null,null,null,null,null,null,0]
["-","-",null,null,null,null,null,null,null,null,null,null,null,null,0]
["-","-",null,null,null,null,null,null,null,null,null,null,null,null,0]
["-","-",null,null,null,null,null,null,null,null,null,null,null,null,0]
["-","-",null,null,null,null,null,null,null,null,null,null,null,null,0]
["-","-",null,null,null,null,null,null,null,null,null,null,null,null,0]
["-","-",null,null,null,null,null,null,null,null,null,null,null,null,0]
["-","-",null,null,null,null,null,null,null,null,null,null,null,null,0]
["-","-",null,null,null,null,null,null,null,null,null,null,null,null,0]
["-","-",null,null,null,null,null,null,null,null,null,null,null,null,0]
["-","-",null,null,null,null,null,null,null,null,null,null,null,null,0]
["-","-",null,null,null,null,null,null,null,null,null,null,null,null,0]
["-","-",null,null,null,null,null,null,null,null,null,null,null,null,0]
["-","-",null,null,null,null,null,null,null,null,null,null,null,null,0]
["-","-",null,null,null,null,null,null,null,null,null,null,null,null,0]
["-","-",null,null,null,null,null,null,null,null,null,null,null,null,0]
["-","-",null,null,null,null,null,null,null,null,null,null,null,null,0]
["-","-",null,null,null,null,null,null,null,null,null,null,null,null,0]
["-","-",null,null,null,null,null,null,null,null,null,null,null,null,0]
["-","-",null,null,null,null,null,null,null,null,null,null,null,null,0]
["-","-",null,null,null,null,null,null,null,null,null,null,null,null,0]
["-","-",null,null,null,null,null,null,null,null,null,null,null,null,0]
["-","-",null,null,null,null,null,null,null,null,null,null,null,null,0]
["-","-",null,null,null,null,null,null,null,null,null,null,null,null,0]
["-","-",null,null,null,null,null,null,null,null,null,null,null,null,0]
["-","-",null,null,null,null,null,null,null,null,null,null,null,null,0]
["-","-",null,null,null,null,null,null,null,null,null,null,null,null,0]
["-","-",null,null,null,null,null,null,null,null,null,null,null,null,0]
["-","-",null,null,null,null,null,null,null,null,null,null,null,null,0]
["-","-",null,null,null,null,null,null,null,null,null,null,null,null,0]
["-","-",null,null,null,null,null,null,null,null,null,null,null,null,0]
["-","-",null,null,null,null,null,null,null,null,null,null,null,null,0]
["-","-",null,null,null,null,null,null,null,null,null,null,null,null,0]
["-","-",null,null,null,null,null,null,null,null,null,null,null,null,0]
["-","-",null,null,null,null,null,null,null,null,null,null,null,null,0]
["-","-",null,null,null,null,null,null,null,null,null,null,null,null,0]
["-","-",null,null,null,null,null,null,null,null,null,null,null,null,0]
["-","-",null,null,null,null,null,null,null,null,null,null,null,null,0]
["-","-",null,null,null,null,null,null,null,null,null,null,null,null,0]
["-","-",null,null,null,null,null,null,null,null,null,null,null,null,0]
["-","-",null,null,null,null,null,null,null,null,null,null,null,null,0]
["-","-",null,null,null,null,null,null,null,null,null,null,null,null,0]
["-",{"$f":"IF(ISBLANK(C69),\"-\",INDIRECT(\"SURVEYS!A\"&MATCH(C69,SurveyLabels,0)+4))","v":"-"},null,null,null,null,null,null,null,null,null,null,null,null,0]
["-","-",null,null,null,null,null,null,null,null,null,null,null,null,{"$f":"SUM(H70:N70)","v":0}]
[{"$f":"IF(ISBLANK(C71),\"-\",GenGuid())","v":"-"},"-",null,null,null,null,null,null,null,null,null,null,null,null,0]
["-","-",null,null,null,null,null,null,null,null,null,null,null,null,0]
["-","-",null,null,null,null,null,null,null,null,null,null,null,null,0]
["-","-",null,null,null,null,null,null,null,null,null,null,null,null,0]
["-","-",null,null,null,null,null,null,null,null,null,null,null,null,0]
["-","-",null,null,null,null,null,null,null,null,null,null,null,null,0]
["-","-",null,null,null,null,null,null,null,null,null,null,null,null,0]
["-","-",null,null,null,null,null,null,null,null,null,null,null,null,0]
["-","-",null,null,null,null,null,null,null,null,null,null,null,null,0]
["-","-",null,null,null,null,null,null,null,null,null,null,null,null,0]
["-","-",null,null,null,null,null,null,null,null,null,null,null,null,0]
["-","-",null,null,null,null,null,null,null,null,null,null,null,null,0]
["-","-",null,null,null,null,null,null,null,null,null,null,null,null,0]
["-","-",null,null,null,null,null,null,null,null,null,null,null,null,0]
["-","-",null,null,null,null,null,null,null,null,null,null,null,null,0]
["-","-",null,null,null,null,null,null,null,null,null,null,null,null,0]
["-","-",null,null,null,null,null,null,null,null,null,null,null,null,0]
["-","-",null,null,null,null,null,null,null,null,null,null,null,null,0]
["-","-",null,null,null,null,null,null,null,null,null,null,null,null,0]
["-","-",null,null,null,null,null,null,null,null,null,null,null,null,0]
["-","-",null,null,null,null,null,null,null,null,null,null,null,null,0]
["-","-",null,null,null,null,null,null,null,null,null,null,null,null,0]
["-","-",null,null,null,null,null,null,null,null,null,null,null,null,0]
["-","-",null,null,null,null,null,null,null,null,null,null,null,null,0]
["-","-",null,null,null,null,null,null,null,null,null,null,null,null,0]
["-","-",null,null,null,null,null,null,null,null,null,null,null,null,0]
["-","-",null,null,null,null,null,null,null,null,null,null,null,null,0]
["-","-",null,null,null,null,null,null,null,null,null,null,null,null,0]
["-","-",null,null,null,null,null,null,null,null,null,null,null,null,0]
["-","-",null,null,null,null,null,null,null,null,null,null,null,null,0]
["-","-",null,null,null,null,null,null,null,null,null,null,null,null,0]
["-","-",null,null,null,null,null,null,null,null,null,null,null,null,0]
["-","-",null,null,null,null,null,null,null,null,null,null,null,null,0]
["-","-",null,null,null,null,null,null,null,null,null,null,null,null,0]
["-","-",null,null,null,null,null,null,null,null,null,null,null,null,0]
["-","-",null,null,null,null,null,null,null,null,null,null,null,null,0]
["-","-",null,null,null,null,null,null,null,null,null,null,null,null,0]
["-","-",null,null,null,null,null,null,null,null,null,null,null,null,0]
["-","-",null,null,null,null,null,null,null,null,null,null,null,null,0]
["-","-",null,null,null,null,null,null,null,null,null,null,null,null,0]
["-","-",null,null,null,null,null,null,null,null,null,null,null,null,0]
["-","-",null,null,null,null,null,null,null,null,null,null,null,null,0]
["-","-",null,null,null,null,null,null,null,null,null,null,null,null,0]
["-","-",null,null,null,null,null,null,null,null,null,null,null,null,0]
["-","-",null,null,null,null,null,null,null,null,null,null,null,null,0]
["-","-",null,null,null,null,null,null,null,null,null,null,null,null,0]
["-","-",null,null,null,null,null,null,null,null,null,null,null,null,0]
["-","-",null,null,null,null,null,null,null,null,null,null,null,null,0]
["-","-",null,null,null,null,null,null,null,null,null,null,null,null,0]
["-","-",null,null,null,null,null,null,null,null,null,null,null,null,0]
["-","-",null,null,null,null,null,null,null,null,null,null,null,null,0]
["-","-",null,null,null,null,null,null,null,null,null,null,null,null,0]
["-","-",null,null,null,null,null,null,null,null,null,null,null,null,0]
["-","-",null,null,null,null,null,null,null,null,null,null,null,null,0]
["-","-",null,null,null,null,null,null,null,null,null,null,null,null,0]
["-","-",null,null,null,null,null,null,null,null,null,null,null,null,0]
["-","-",null,null,null,null,null,null,null,null,null,null,null,null,0]
["-","-",null,null,null,null,null,null,null,null,null,null,null,null,0]
["-","-",null,null,null,null,null,null,null,null,null,null,null,null,0]
["-","-",null,null,null,null,null,null,null,null,null,null,null,null,0]
["-","-",null,null,null,null,null,null,null,null,null,null,null,null,0]
["-","-",null,null,null,null,null,null,null,null,null,null,null,null,0]
["-",{"$f":"IF(ISBLANK(C133),\"-\",INDIRECT(\"SURVEYS!A\"&MATCH(C133,SurveyLabels,0)+4))","v":"-"},null,null,null,null,null,null,null,null,null,null,null,null,0]
["-","-",null,null,null,null,null,null,null,null,null,null,null,null,{"$f":"SUM(H134:N134)","v":0}]
[{"$f":"IF(ISBLANK(C135),\"-\",GenGuid())","v":"-"},"-",null,null,null,null,null,null,null,null,null,null,null,null,0]
["-","-",null,null,null,null,null,null,null,null,null,null,null,null,0]
["-","-",null,null,null,null,null,null,null,null,null,null,null,null,0]
["-","-",null,null,null,null,null,null,null,null,null,null,null,null,0]
["-","-",null,null,null,null,null,null,null,null,null,null,null,null,0]
["-","-",null,null,null,null,null,null,null,null,null,null,null,null,0]
["-","-",null,null,null,null,null,null,null,null,null,null,null,null,0]
["-","-",null,null,null,null,null,null,null,null,null,null,null,null,0]
["-","-",null,null,null,null,null,null,null,null,null,null,null,null,0]
["-","-",null,null,null,null,null,null,null,null,null,null,null,null,0]
["-","-",null,null,null,null,null,null,null,null,null,null,null,null,0]
["-","-",null,null,null,null,null,null,null,null,null,null,null,null,0]
["-","-",null,null,null,null,null,null,null,null,null,null,null,null,0]
["-","-",null,null,null,null,null,null,null,null,null,null,null,null,0]
["-","-",null,null,null,null,null,null,null,null,null,null,null,null,0]
["-","-",null,null,null,null,null,null,null,null,null,null,null,null,0]
["-","-",null,null,null,null,null,null,null,null,null,null,null,null,0]
["-","-",null,null,null,null,null,null,null,null,null,null,null,null,0]
["-","-",null,null,null,null,null,null,null,null,null,null,null,null,0]
["-","-",null,null,null,null,null,null,null,null,null,null,null,null,0]
["-","-",null,null,null,null,null,null,null,null,null,null,null,null,0]
["-","-",null,null,null,null,null,null,null,null,null,null,null,null,0]
["-","-",null,null,null,null,null,null,null,null,null,null,null,null,0]
["-","-",null,null,null,null,null,null,null,null,null,null,null,null,0]
["-","-",null,null,null,null,null,null,null,null,null,null,null,null,0]
["-","-",null,null,null,null,null,null,null,null,null,null,null,null,0]
["-","-",null,null,null,null,null,null,null,null,null,null,null,null,0]
["-","-",null,null,null,null,null,null,null,null,null,null,null,null,0]
["-","-",null,null,null,null,null,null,null,null,null,null,null,null,0]
["-","-",null,null,null,null,null,null,null,null,null,null,null,null,0]
["-","-",null,null,null,null,null,null,null,null,null,null,null,null,0]
["-","-",null,null,null,null,null,null,null,null,null,null,null,null,0]
["-","-",null,null,null,null,null,null,null,null,null,null,null,null,0]
["-","-",null,null,null,null,null,null,null,null,null,null,null,null,0]
["-","-",null,null,null,null,null,null,null,null,null,null,null,null,0]
["-","-",null,null,null,null,null,null,null,null,null,null,null,null,0]
["-","-",null,null,null,null,null,null,null,null,null,null,null,null,0]
["-","-",null,null,null,null,null,null,null,null,null,null,null,null,0]
["-","-",null,null,null,null,null,null,null,null,null,null,null,null,0]
["-","-",null,null,null,null,null,null,null,null,null,null,null,null,0]
["-","-",null,null,null,null,null,null,null,null,null,null,null,null,0]
["-","-",null,null,null,null,null,null,null,null,null,null,null,null,0]
["-","-",null,null,null,null,null,null,null,null,null,null,null,null,0]
["-","-",null,null,null,null,null,null,null,null,null,null,null,null,0]
["-","-",null,null,null,null,null,null,null,null,null,null,null,null,0]
["-","-",null,null,null,null,null,null,null,null,null,null,null,null,0]
["-","-",null,null,null,null,null,null,null,null,null,null,null,null,0]
["-","-",null,null,null,null,null,null,null,null,null,null,null,null,0]
["-","-",null,null,null,null,null,null,null,null,null,null,null,null,0]
["-","-",null,null,null,null,null,null,null,null,null,null,null,null,0]
["-","-",null,null,null,null,null,null,null,null,null,null,null,null,0]
["-","-",null,null,null,null,null,null,null,null,null,null,null,null,0]
["-","-",null,null,null,null,null,null,null,null,null,null,null,null,0]
["-","-",null,null,null,null,null,null,null,null,null,null,null,null,0]
["-","-",null,null,null,null,null,null,null,null,null,null,null,null,0]
["-","-",null,null,null,null,null,null,null,null,null,null,null,null,0]
["-","-",null,null,null,null,null,null,null,null,null,null,null,null,0]
["-","-",null,null,null,null,null,null,null,null,null,null,null,null,0]
["-","-",null,null,null,null,null,null,null,null,null,null,null,null,0]
["-","-",null,null,null,null,null,null,null,null,null,null,null,null,0]
["-","-",null,null,null,null,null,null,null,null,null,null,null,null,0]
["-","-",null,null,null,null,null,null,null,null,null,null,null,null,0]
["-",{"$f":"IF(ISBLANK(C197),\"-\",INDIRECT(\"SURVEYS!A\"&MATCH(C197,SurveyLabels,0)+4))","v":"-"},null,null,null,null,null,null,null,null,null,null,null,null,0]
["-","-",null,null,null,null,null,null,null,null,null,null,null,null,{"$f":"SUM(H198:N198)","v":0}]
[{"$f":"IF(ISBLANK(C199),\"-\",GenGuid())","v":"-"},"-",null,null,null,null,null,null,null,null,null,null,null,null,0]
["-","-",null,null,null,null,null,null,null,null,null,null,null,null,0]
["-","-",null,null,null,null,null,null,null,null,null,null,null,null,0]
["-","-",null,null,null,null,null,null,null,null,null,null,null,null,0]
["-","-",null,null,null,null,null,null,null,null,null,null,null,null,0]
["-","-",null,null,null,null,null,null,null,null,null,null,null,null,0]
["-","-",null,null,null,null,null,null,null,null,null,null,null,null,0]
["-","-",null,null,null,null,null,null,null,null,null,null,null,null,0]
["-","-",null,null,null,null,null,null,null,null,null,null,null,null,0]
["-","-",null,null,null,null,null,null,null,null,null,null,null,null,0]
["-","-",null,null,null,null,null,null,null,null,null,null,null,null,0]
["-","-",null,null,null,null,null,null,null,null,null,null,null,null,0]
["-","-",null,null,null,null,null,null,null,null,null,null,null,null,0]
["-","-",null,null,null,null,null,null,null,null,null,null,null,null,0]
["-","-",null,null,null,null,null,null,null,null,null,null,null,null,0]
["-","-",null,null,null,null,null,null,null,null,null,null,null,null,0]
["-","-",null,null,null,null,null,null,null,null,null,null,null,null,0]
["-","-",null,null,null,null,null,null,null,null,null,null,null,null,0]
["-","-",null,null,null,null,null,null,null,null,null,null,null,null,0]
["-","-",null,null,null,null,null,null,null,null,null,null,null,null,0]
["-","-",null,null,null,null,null,null,null,null,null,null,null,null,0]
["-","-",null,null,null,null,null,null,null,null,null,null,null,null,0]
["-","-",null,null,null,null,null,null,null,null,null,null,null,null,0]
["-","-",null,null,null,null,null,null,null,null,null,null,null,null,0]
["-","-",null,null,null,null,null,null,null,null,null,null,null,null,0]
["-","-",null,null,null,null,null,null,null,null,null,null,null,null,0]
["-","-",null,null,null,null,null,null,null,null,null,null,null,null,0]
["-","-",null,null,null,null,null,null,null,null,null,null,null,null,0]
["-","-",null,null,null,null,null,null,null,null,null,null,null,null,0]
["-","-",null,null,null,null,null,null,null,null,null,null,null,null,0]
["-","-",null,null,null,null,null,null,null,null,null,null,null,null,0]
["-","-",null,null,null,null,null,null,null,null,null,null,null,null,0]
["-","-",null,null,null,null,null,null,null,null,null,null,null,null,0]
["-","-",null,null,null,null,null,null,null,null,null,null,null,null,0]
["-","-",null,null,null,null,null,null,null,null,null,null,null,null,0]
["-","-",null,null,null,null,null,null,null,null,null,null,null,null,0]
["-","-",null,null,null,null,null,null,null,null,null,null,null,null,0]
["-","-",null,null,null,null,null,null,null,null,null,null,null,null,0]
["-","-",null,null,null,null,null,null,null,null,null,null,null,null,0]
["-","-",null,null,null,null,null,null,null,null,null,null,null,null,0]
["-","-",null,null,null,null,null,null,null,null,null,null,null,null,0]
["-","-",null,null,null,null,null,null,null,null,null,null,null,null,0]
["-","-",null,null,null,null,null,null,null,null,null,null,null,null,0]
["-","-",null,null,null,null,null,null,null,null,null,null,null,null,0]
["-","-",null,null,null,null,null,null,null,null,null,null,null,null,0]
["-","-",null,null,null,null,null,null,null,null,null,null,null,null,0]
["-","-",null,null,null,null,null,null,null,null,null,null,null,null,0]
["-","-",null,null,null,null,null,null,null,null,null,null,null,null,0]
["-","-",null,null,null,null,null,null,null,null,null,null,null,null,0]
["-","-",null,null,null,null,null,null,null,null,null,null,null,null,0]
["-","-",null,null,null,null,null,null,null,null,null,null,null,null,0]
["-","-",null,null,null,null,null,null,null,null,null,null,null,null,0]
["-","-",null,null,null,null,null,null,null,null,null,null,null,null,0]
["-","-",null,null,null,null,null,null,null,null,null,null,null,null,0]
["-","-",null,null,null,null,null,null,null,null,null,null,null,null,0]
["-","-",null,null,null,null,null,null,null,null,null,null,null,null,0]
["-","-",null,null,null,null,null,null,null,null,null,null,null,null,0]
["-","-",null,null,null,null,null,null,null,null,null,null,null,null,0]
["-","-",null,null,null,null,null,null,null,null,null,null,null,null,0]
["-","-",null,null,null,null,null,null,null,null,null,null,null,null,0]
["-","-",null,null,null,null,null,null,null,null,null,null,null,null,0]
["-","-",null,null,null,null,null,null,null,null,null,null,null,null,0]
["-",{"$f":"IF(ISBLANK(C261),\"-\",INDIRECT(\"SURVEYS!A\"&MATCH(C261,SurveyLabels,0)+4))","v":"-"},null,null,null,null,null,null,null,null,null,null,null,null,0]
["-","-",null,null,null,null,null,null,null,null,null,null,null,null,{"$f":"SUM(H262:N262)","v":0}]
[{"$f":"IF(ISBLANK(C263),\"-\",GenGuid())","v":"-"},"-",null,null,null,null,null,null,null,null,null,null,null,null,0]
["-","-",null,null,null,null,null,null,null,null,null,null,null,null,0]
["-","-",null,null,null,null,null,null,null,null,null,null,null,null,0]
["-","-",null,null,null,null,null,null,null,null,null,null,null,null,0]
["-","-",null,null,null,null,null,null,null,null,null,null,null,null,0]
["-","-",null,null,null,null,null,null,null,null,null,null,null,null,0]
["-","-",null,null,null,null,null,null,null,null,null,null,null,null,0]
["-","-",null,null,null,null,null,null,null,null,null,null,null,null,0]
["-","-",null,null,null,null,null,null,null,null,null,null,null,null,0]
["-","-",null,null,null,null,null,null,null,null,null,null,null,null,0]
["-","-",null,null,null,null,null,null,null,null,null,null,null,null,0]
["-","-",null,null,null,null,null,null,null,null,null,null,null,null,0]
["-","-",null,null,null,null,null,null,null,null,null,null,null,null,0]
["-","-",null,null,null,null,null,null,null,null,null,null,null,null,0]
["-","-",null,null,null,null,null,null,null,null,null,null,null,null,0]
["-","-",null,null,null,null,null,null,null,null,null,null,null,null,0]
["-","-",null,null,null,null,null,null,null,null,null,null,null,null,0]
["-","-",null,null,null,null,null,null,null,null,null,null,null,null,0]
["-","-",null,null,null,null,null,null,null,null,null,null,null,null,0]
["-","-",null,null,null,null,null,null,null,null,null,null,null,null,0]
["-","-",null,null,null,null,null,null,null,null,null,null,null,null,0]
["-","-",null,null,null,null,null,null,null,null,null,null,null,null,0]
["-","-",null,null,null,null,null,null,null,null,null,null,null,null,0]
["-","-",null,null,null,null,null,null,null,null,null,null,null,null,0]
["-","-",null,null,null,null,null,null,null,null,null,null,null,null,0]
["-","-",null,null,null,null,null,null,null,null,null,null,null,null,0]
["-","-",null,null,null,null,null,null,null,null,null,null,null,null,0]
["-","-",null,null,null,null,null,null,null,null,null,null,null,null,0]
["-","-",null,null,null,null,null,null,null,null,null,null,null,null,0]
["-","-",null,null,null,null,null,null,null,null,null,null,null,null,0]
["-","-",null,null,null,null,null,null,null,null,null,null,null,null,0]
["-","-",null,null,null,null,null,null,null,null,null,null,null,null,0]
["-","-",null,null,null,null,null,null,null,null,null,null,null,null,0]
["-","-",null,null,null,null,null,null,null,null,null,null,null,null,0]
["-","-",null,null,null,null,null,null,null,null,null,null,null,null,0]
["-","-",null,null,null,null,null,null,null,null,null,null,null,null,0]
["-","-",null,null,null,null,null,null,null,null,null,null,null,null,0]
["-","-",null,null,null,null,null,null,null,null,null,null,null,null,0]
["-","-",null,null,null,null,null,null,null,null,null,null,null,null,0]
["-","-",null,null,null,null,null,null,null,null,null,null,null,null,0]
["-","-",null,null,null,null,null,null,null,null,null,null,null,null,0]
["-","-",null,null,null,null,null,null,null,null,null,null,null,null,0]
["-","-",null,null,null,null,null,null,null,null,null,null,null,null,0]
["-","-",null,null,null,null,null,null,null,null,null,null,null,null,0]
["-","-",null,null,null,null,null,null,null,null,null,null,null,null,0]
["-","-",null,null,null,null,null,null,null,null,null,null,null,null,0]
["-","-",null,null,null,null,null,null,null,null,null,null,null,null,0]
["-","-",null,null,null,null,null,null,null,null,null,null,null,null,0]
["-","-",null,null,null,null,null,null,null,null,null,null,null,null,0]
["-","-",null,null,null,null,null,null,null,null,null,null,null,null,0]
["-","-",null,null,null,null,null,null,null,null,null,null,null,null,0]
["-","-",null,null,null,null,null,null,null,null,null,null,null,null,0]
["-","-",null,null,null,null,null,null,null,null,null,null,null,null,0]
["-","-",null,null,null,null,null,null,null,null,null,null,null,null,0]
["-","-",null,null,null,null,null,null,null,null,null,null,null,null,0]
["-","-",null,null,null,null,null,null,null,null,null,null,null,null,0]
["-","-",null,null,null,null,null,null,null,null,null,null,null,null,0]
["-","-",null,null,null,null,null,null,null,null,null,null,null,null,0]
["-","-",null,null,null,null,null,null,null,null,null,null,null,null,0]
["-","-",null,null,null,null,null,null,null,null,null,null,null,null,0]
["-","-",null,null,null,null,null,null,null,null,null,null,null,null,0]
["-","-",null,null,null,null,null,null,null,null,null,null,null,null,0]
["-",{"$f":"IF(ISBLANK(C325),\"-\",INDIRECT(\"SURVEYS!A\"&MATCH(C325,SurveyLabels,0)+4))","v":"-"},null,null,null,null,null,null,null,null,null,null,null,null,0]
["-","-",null,null,null,null,null,null,null,null,null,null,null,null,{"$f":"SUM(H326:N326)","v":0}]
[{"$f":"IF(ISBLANK(C327),\"-\",GenGuid())","v":"-"},"-",null,null,null,null,null,null,null,null,null,null,null,null,0]
["-","-",null,null,null,null,null,null,null,null,null,null,null,null,0]
["-","-",null,null,null,null,null,null,null,null,null,null,null,null,0]
["-","-",null,null,null,null,null,null,null,null,null,null,null,null,0]
["-","-",null,null,null,null,null,null,null,null,null,null,null,null,0]
["-","-",null,null,null,null,null,null,null,null,null,null,null,null,0]
["-","-",null,null,null,null,null,null,null,null,null,null,null,null,0]
["-","-",null,null,null,null,null,null,null,null,null,null,null,null,0]
["-","-",null,null,null,null,null,null,null,null,null,null,null,null,0]
["-","-",null,null,null,null,null,null,null,null,null,null,null,null,0]
["-","-",null,null,null,null,null,null,null,null,null,null,null,null,0]
["-","-",null,null,null,null,null,null,null,null,null,null,null,null,0]
["-","-",null,null,null,null,null,null,null,null,null,null,null,null,0]
["-","-",null,null,null,null,null,null,null,null,null,null,null,null,0]
["-","-",null,null,null,null,null,null,null,null,null,null,null,null,0]
["-","-",null,null,null,null,null,null,null,null,null,null,null,null,0]
["-","-",null,null,null,null,null,null,null,null,null,null,null,null,0]
["-","-",null,null,null,null,null,null,null,null,null,null,null,null,0]
["-","-",null,null,null,null,null,null,null,null,null,null,null,null,0]
["-","-",null,null,null,null,null,null,null,null,null,null,null,null,0]
["-","-",null,null,null,null,null,null,null,null,null,null,null,null,0]
["-","-",null,null,null,null,null,null,null,null,null,null,null,null,0]
["-","-",null,null,null,null,null,null,null,null,null,null,null,null,0]
["-","-",null,null,null,null,null,null,null,null,null,null,null,null,0]
["-","-",null,null,null,null,null,null,null,null,null,null,null,null,0]
["-","-",null,null,null,null,null,null,null,null,null,null,null,null,0]
["-","-",null,null,null,null,null,null,null,null,null,null,null,null,0]
["-","-",null,null,null,null,null,null,null,null,null,null,null,null,0]
["-","-",null,null,null,null,null,null,null,null,null,null,null,null,0]
["-","-",null,null,null,null,null,null,null,null,null,null,null,null,0]
["-","-",null,null,null,null,null,null,null,null,null,null,null,null,0]
["-","-",null,null,null,null,null,null,null,null,null,null,null,null,0]
["-","-",null,null,null,null,null,null,null,null,null,null,null,null,0]
["-","-",null,null,null,null,null,null,null,null,null,null,null,null,0]
["-","-",null,null,null,null,null,null,null,null,null,null,null,null,0]
["-","-",null,null,null,null,null,null,null,null,null,null,null,null,0]
["-","-",null,null,null,null,null,null,null,null,null,null,null,null,0]
["-","-",null,null,null,null,null,null,null,null,null,null,null,null,0]
["-","-",null,null,null,null,null,null,null,null,null,null,null,null,0]
["-","-",null,null,null,null,null,null,null,null,null,null,null,null,0]
["-","-",null,null,null,null,null,null,null,null,null,null,null,null,0]
["-","-",null,null,null,null,null,null,null,null,null,null,null,null,0]
["-","-",null,null,null,null,null,null,null,null,null,null,null,null,0]
["-","-",null,null,null,null,null,null,null,null,null,null,null,null,0]
["-","-",null,null,null,null,null,null,null,null,null,null,null,null,0]
["-","-",null,null,null,null,null,null,null,null,null,null,null,null,0]
["-","-",null,null,null,null,null,null,null,null,null,null,null,null,0]
["-","-",null,null,null,null,null,null,null,null,null,null,null,null,0]
["-","-",null,null,null,null,null,null,null,null,null,null,null,null,0]
["-","-",null,null,null,null,null,null,null,null,null,null,null,null,0]
["-","-",null,null,null,null,null,null,null,null,null,null,null,null,0]
["-","-",null,null,null,null,null,null,null,null,null,null,null,null,0]
["-","-",null,null,null,null,null,null,null,null,null,null,null,null,0]
["-","-",null,null,null,null,null,null,null,null,null,null,null,null,0]
["-","-",null,null,null,null,null,null,null,null,null,null,null,null,0]
["-","-",null,null,null,null,null,null,null,null,null,null,null,null,0]
["-","-",null,null,null,null,null,null,null,null,null,null,null,null,0]
["-","-",null,null,null,null,null,null,null,null,null,null,null,null,0]
["-","-",null,null,null,null,null,null,null,null,null,null,null,null,0]
["-","-",null,null,null,null,null,null,null,null,null,null,null,null,0]
["-","-",null,null,null,null,null,null,null,null,null,null,null,null,0]
["-","-",null,null,null,null,null,null,null,null,null,null,null,null,0]
["-",{"$f":"IF(ISBLANK(C389),\"-\",INDIRECT(\"SURVEYS!A\"&MATCH(C389,SurveyLabels,0)+4))","v":"-"},null,null,null,null,null,null,null,null,null,null,null,null,0]
["-","-",null,null,null,null,null,null,null,null,null,null,null,null,{"$f":"SUM(H390:N390)","v":0}]
[{"$f":"IF(ISBLANK(C391),\"-\",GenGuid())","v":"-"},"-",null,null,null,null,null,null,null,null,null,null,null,null,0]
["-","-",null,null,null,null,null,null,null,null,null,null,null,null,0]
["-","-",null,null,null,null,null,null,null,null,null,null,null,null,0]
["-","-",null,null,null,null,null,null,null,null,null,null,null,null,0]
["-","-",null,null,null,null,null,null,null,null,null,null,null,null,0]
["-","-",null,null,null,null,null,null,null,null,null,null,null,null,0]
["-","-",null,null,null,null,null,null,null,null,null,null,null,null,0]
["-","-",null,null,null,null,null,null,null,null,null,null,null,null,0]
["-","-",null,null,null,null,null,null,null,null,null,null,null,null,0]
["-","-",null,null,null,null,null,null,null,null,null,null,null,null,0]
["-","-",null,null,null,null,null,null,null,null,null,null,null,null,0]
["-","-",null,null,null,null,null,null,null,null,null,null,null,null,0]
["-","-",null,null,null,null,null,null,null,null,null,null,null,null,0]
["-","-",null,null,null,null,null,null,null,null,null,null,null,null,0]
["-","-",null,null,null,null,null,null,null,null,null,null,null,null,0]
["-","-",null,null,null,null,null,null,null,null,null,null,null,null,0]
["-","-",null,null,null,null,null,null,null,null,null,null,null,null,0]
["-","-",null,null,null,null,null,null,null,null,null,null,null,null,0]
["-","-",null,null,null,null,null,null,null,null,null,null,null,null,0]
["-","-",null,null,null,null,null,null,null,null,null,null,null,null,0]
["-","-",null,null,null,null,null,null,null,null,null,null,null,null,0]
["-","-",null,null,null,null,null,null,null,null,null,null,null,null,0]
["-","-",null,null,null,null,null,null,null,null,null,null,null,null,0]
["-","-",null,null,null,null,null,null,null,null,null,null,null,null,0]
["-","-",null,null,null,null,null,null,null,null,null,null,null,null,0]
["-","-",null,null,null,null,null,null,null,null,null,null,null,null,0]
["-","-",null,null,null,null,null,null,null,null,null,null,null,null,0]
["-","-",null,null,null,null,null,null,null,null,null,null,null,null,0]
["-","-",null,null,null,null,null,null,null,null,null,null,null,null,0]
["-","-",null,null,null,null,null,null,null,null,null,null,null,null,0]
["-","-",null,null,null,null,null,null,null,null,null,null,null,null,0]
["-","-",null,null,null,null,null,null,null,null,null,null,null,null,0]
["-","-",null,null,null,null,null,null,null,null,null,null,null,null,0]
["-","-",null,null,null,null,null,null,null,null,null,null,null,null,0]
["-","-",null,null,null,null,null,null,null,null,null,null,null,null,0]
["-","-",null,null,null,null,null,null,null,null,null,null,null,null,0]
["-","-",null,null,null,null,null,null,null,null,null,null,null,null,0]
["-","-",null,null,null,null,null,null,null,null,null,null,null,null,0]
["-","-",null,null,null,null,null,null,null,null,null,null,null,null,0]
["-","-",null,null,null,null,null,null,null,null,null,null,null,null,0]
["-","-",null,null,null,null,null,null,null,null,null,null,null,null,0]
["-","-",null,null,null,null,null,null,null,null,null,null,null,null,0]
["-","-",null,null,null,null,null,null,null,null,null,null,null,null,0]
["-","-",null,null,null,null,null,null,null,null,null,null,null,null,0]
["-","-",null,null,null,null,null,null,null,null,null,null,null,null,0]
["-","-",null,null,null,null,null,null,null,null,null,null,null,null,0]
["-","-",null,null,null,null,null,null,null,null,null,null,null,null,0]
["-","-",null,null,null,null,null,null,null,null,null,null,null,null,0]
["-","-",null,null,null,null,null,null,null,null,null,null,null,null,0]
["-","-",null,null,null,null,null,null,null,null,null,null,null,null,0]
["-","-",null,null,null,null,null,null,null,null,null,null,null,null,0]
["-","-",null,null,null,null,null,null,null,null,null,null,null,null,0]
["-","-",null,null,null,null,null,null,null,null,null,null,null,null,0]
["-","-",null,null,null,null,null,null,null,null,null,null,null,null,0]
["-","-",null,null,null,null,null,null,null,null,null,null,null,null,0]
["-","-",null,null,null,null,null,null,null,null,null,null,null,null,0]
["-","-",null,null,null,null,null,null,null,null,null,null,null,null,0]
["-","-",null,null,null,null,null,null,null,null,null,null,null,null,0]
["-","-",null,null,null,null,null,null,null,null,null,null,null,null,0]
["-","-",null,null,null,null,null,null,null,null,null,null,null,null,0]
["-","-",null,null,null,null,null,null,null,null,null,null,null,null,0]
["-","-",null,null,null,null,null,null,null,null,null,null,null,null,0]
["-",{"$f":"IF(ISBLANK(C453),\"-\",INDIRECT(\"SURVEYS!A\"&MATCH(C453,SurveyLabels,0)+4))","v":"-"},null,null,null,null,null,null,null,null,null,null,null,null,0]
["-","-",null,null,null,null,null,null,null,null,null,null,null,null,{"$f":"SUM(H454:N454)","v":0}]
[{"$f":"IF(ISBLANK(C455),\"-\",GenGuid())","v":"-"},"-",null,null,null,null,null,null,null,null,null,null,null,null,0]
["-","-",null,null,null,null,null,null,null,null,null,null,null,null,0]
["-","-",null,null,null,null,null,null,null,null,null,null,null,null,0]
["-","-",null,null,null,null,null,null,null,null,null,null,null,null,0]
["-","-",null,null,null,null,null,null,null,null,null,null,null,null,0]
["-","-",null,null,null,null,null,null,null,null,null,null,null,null,0]
["-","-",null,null,null,null,null,null,null,null,null,null,null,null,0]
["-","-",null,null,null,null,null,null,null,null,null,null,null,null,0]
["-","-",null,null,null,null,null,null,null,null,null,null,null,null,0]
["-","-",null,null,null,null,null,null,null,null,null,null,null,null,0]
["-","-",null,null,null,null,null,null,null,null,null,null,null,null,0]
["-","-",null,null,null,null,null,null,null,null,null,null,null,null,0]
["-","-",null,null,null,null,null,null,null,null,null,null,null,null,0]
["-","-",null,null,null,null,null,null,null,null,null,null,null,null,0]
["-","-",null,null,null,null,null,null,null,null,null,null,null,null,0]
["-","-",null,null,null,null,null,null,null,null,null,null,null,null,0]
["-","-",null,null,null,null,null,null,null,null,null,null,null,null,0]
["-","-",null,null,null,null,null,null,null,null,null,null,null,null,0]
["-","-",null,null,null,null,null,null,null,null,null,null,null,null,0]
["-","-",null,null,null,null,null,null,null,null,null,null,null,null,0]
["-","-",null,null,null,null,null,null,null,null,null,null,null,null,0]
["-","-",null,null,null,null,null,null,null,null,null,null,null,null,0]
["-","-",null,null,null,null,null,null,null,null,null,null,null,null,0]
["-","-",null,null,null,null,null,null,null,null,null,null,null,null,0]
["-","-",null,null,null,null,null,null,null,null,null,null,null,null,0]
["-","-",null,null,null,null,null,null,null,null,null,null,null,null,0]
["-","-",null,null,null,null,null,null,null,null,null,null,null,null,0]
["-","-",null,null,null,null,null,null,null,null,null,null,null,null,0]
["-","-",null,null,null,null,null,null,null,null,null,null,null,null,0]
["-","-",null,null,null,null,null,null,null,null,null,null,null,null,0]
["-","-",null,null,null,null,null,null,null,null,null,null,null,null,0]
["-","-",null,null,null,null,null,null,null,null,null,null,null,null,0]
["-","-",null,null,null,null,null,null,null,null,null,null,null,null,0]
["-","-",null,null,null,null,null,null,null,null,null,null,null,null,0]
["-","-",null,null,null,null,null,null,null,null,null,null,null,null,0]
["-","-",null,null,null,null,null,null,null,null,null,null,null,null,0]
["-","-",null,null,null,null,null,null,null,null,null,null,null,null,0]
["-","-",null,null,null,null,null,null,null,null,null,null,null,null,0]
["-","-",null,null,null,null,null,null,null,null,null,null,null,null,0]
["-","-",null,null,null,null,null,null,null,null,null,null,null,null,0]
["-","-",null,null,null,null,null,null,null,null,null,null,null,null,0]
["-","-",null,null,null,null,null,null,null,null,null,null,null,null,0]
["-","-",null,null,null,null,null,null,null,null,null,null,null,null,0]
["-","-",null,null,null,null,null,null,null,null,null,null,null,null,0]
["-","-",null,null,null,null,null,null,null,null,null,null,null,null,0]
["-","-",null,null,null,null,null,null,null,null,null,null,null,null,0]
["-","-",null,null,null,null,null,null,null,null,null,null,null,null,0]
["-","-",null,null,null,null,null,null,null,null,null,null,null,null,0]
["-","-",null,null,null,null,null,null,null,null,null,null,null,null,0]
["-","-",null,null,null,null,null,null,null,null,null,null,null,null,0]
["-","-",null,null,null,null,null,null,null,null,null,null,null,null,0]
["-","-",null,null,null,null,null,null,null,null,null,null,null,null,0]
["-","-",null,null,null,null,null,null,null,null,null,null,null,null,0]
["-","-",null,null,null,null,null,null,null,null,null,null,null,null,0]
["-","-",null,null,null,null,null,null,null,null,null,null,null,null,0]
["-","-",null,null,null,null,null,null,null,null,null,null,null,null,0]
["-","-",null,null,null,null,null,null,null,null,null,null,null,null,0]
["-","-",null,null,null,null,null,null,null,null,null,null,null,null,0]
["-","-",null,null,null,null,null,null,null,null,null,null,null,null,0]
["-","-",null,null,null,null,null,null,null,null,null,null,null,null,0]
["-","-",null,null,null,null,null,null,null,null,null,null,null,null,0]
["-","-",null,null,null,null,null,null,null,null,null,null,null,null,0]
["-",{"$f":"IF(ISBLANK(C517),\"-\",INDIRECT(\"SURVEYS!A\"&MATCH(C517,SurveyLabels,0)+4))","v":"-"},null,null,null,null,null,null,null,null,null,null,null,null,0]
["-","-",null,null,null,null,null,null,null,null,null,null,null,null,{"$f":"SUM(H518:N518)","v":0}]
[{"$f":"IF(ISBLANK(C519),\"-\",GenGuid())","v":"-"},"-",null,null,null,null,null,null,null,null,null,null,null,null,0]
["-","-",null,null,null,null,null,null,null,null,null,null,null,null,0]
["-","-",null,null,null,null,null,null,null,null,null,null,null,null,0]
["-","-",null,null,null,null,null,null,null,null,null,null,null,null,0]
["-","-",null,null,null,null,null,null,null,null,null,null,null,null,0]
["-","-",null,null,null,null,null,null,null,null,null,null,null,null,0]
["-","-",null,null,null,null,null,null,null,null,null,null,null,null,0]
["-","-",null,null,null,null,null,null,null,null,null,null,null,null,0]
["-","-",null,null,null,null,null,null,null,null,null,null,null,null,0]
["-","-",null,null,null,null,null,null,null,null,null,null,null,null,0]
["-","-",null,null,null,null,null,null,null,null,null,null,null,null,0]
["-","-",null,null,null,null,null,null,null,null,null,null,null,null,0]
["-","-",null,null,null,null,null,null,null,null,null,null,null,null,0]
["-","-",null,null,null,null,null,null,null,null,null,null,null,null,0]
["-","-",null,null,null,null,null,null,null,null,null,null,null,null,0]
["-","-",null,null,null,null,null,null,null,null,null,null,null,null,0]
["-","-",null,null,null,null,null,null,null,null,null,null,null,null,0]
["-","-",null,null,null,null,null,null,null,null,null,null,null,null,0]
["-","-",null,null,null,null,null,null,null,null,null,null,null,null,0]
["-","-",null,null,null,null,null,null,null,null,null,null,null,null,0]
["-","-",null,null,null,null,null,null,null,null,null,null,null,null,0]
["-","-",null,null,null,null,null,null,null,null,null,null,null,null,0]
["-","-",null,null,null,null,null,null,null,null,null,null,null,null,0]
["-","-",null,null,null,null,null,null,null,null,null,null,null,null,0]
["-","-",null,null,null,null,null,null,null,null,null,null,null,null,0]
["-","-",null,null,null,null,null,null,null,null,null,null,null,null,0]
["-","-",null,null,null,null,null,null,null,null,null,null,null,null,0]
["-","-",null,null,null,null,null,null,null,null,null,null,null,null,0]
["-","-",null,null,null,null,null,null,null,null,null,null,null,null,0]
["-","-",null,null,null,null,null,null,null,null,null,null,null,null,0]
["-","-",null,null,null,null,null,null,null,null,null,null,null,null,0]
["-","-",null,null,null,null,null,null,null,null,null,null,null,null,0]
["-","-",null,null,null,null,null,null,null,null,null,null,null,null,0]
["-","-",null,null,null,null,null,null,null,null,null,null,null,null,0]
["-","-",null,null,null,null,null,null,null,null,null,null,null,null,0]
["-","-",null,null,null,null,null,null,null,null,null,null,null,null,0]
["-","-",null,null,null,null,null,null,null,null,null,null,null,null,0]
["-","-",null,null,null,null,null,null,null,null,null,null,null,null,0]
["-","-",null,null,null,null,null,null,null,null,null,null,null,null,0]
["-","-",null,null,null,null,null,null,null,null,null,null,null,null,0]
["-","-",null,null,null,null,null,null,null,null,null,null,null,null,0]
["-","-",null,null,null,null,null,null,null,null,null,null,null,null,0]
["-","-",null,null,null,null,null,null,null,null,null,null,null,null,0]
["-","-",null,null,null,null,null,null,null,null,null,null,null,null,0]
["-","-",null,null,null,null,null,null,null,null,null,null,null,null,0]
["-","-",null,null,null,null,null,null,null,null,null,null,null,null,0]
["-","-",null,null,null,null,null,null,null,null,null,null,null,null,0]
["-","-",null,null,null,null,null,null,null,null,null,null,null,null,0]
["-","-",null,null,null,null,null,null,null,null,null,null,null,null,0]
["-","-",null,null,null,null,null,null,null,null,null,null,null,null,0]
["-","-",null,null,null,null,null,null,null,null,null,null,null,null,0]
["-","-",null,null,null,null,null,null,null,null,null,null,null,null,0]
["-","-",null,null,null,null,null,null,null,null,null,null,null,null,0]
["-","-",null,null,null,null,null,null,null,null,null,null,null,null,0]
["-","-",null,null,null,null,null,null,null,null,null,null,null,null,0]
["-","-",null,null,null,null,null,null,null,null,null,null,null,null,0]
["-","-",null,null,null,null,null,null,null,null,null,null,null,null,0]
["-","-",null,null,null,null,null,null,null,null,null,null,null,null,0]
["-","-",null,null,null,null,null,null,null,null,null,null,null,null,0]
["-","-",null,null,null,null,null,null,null,null,null,null,null,null,0]
["-","-",null,null,null,null,null,null,null,null,null,null,null,null,0]
["-","-",null,null,null,null,null,null,null,null,null,null,null,null,0]
["-",{"$f":"IF(ISBLANK(C581),\"-\",INDIRECT(\"SURVEYS!A\"&MATCH(C581,SurveyLabels,0)+4))","v":"-"},null,null,null,null,null,null,null,null,null,null,null,null,0]
["-","-",null,null,null,null,null,null,null,null,null,null,null,null,{"$f":"SUM(H582:N582)","v":0}]
[{"$f":"IF(ISBLANK(C583),\"-\",GenGuid())","v":"-"},"-",null,null,null,null,null,null,null,null,null,null,null,null,0]
["-","-",null,null,null,null,null,null,null,null,null,null,null,null,0]
["-","-",null,null,null,null,null,null,null,null,null,null,null,null,0]
["-","-",null,null,null,null,null,null,null,null,null,null,null,null,0]
["-","-",null,null,null,null,null,null,null,null,null,null,null,null,0]
["-","-",null,null,null,null,null,null,null,null,null,null,null,null,0]
["-","-",null,null,null,null,null,null,null,null,null,null,null,null,0]
["-","-",null,null,null,null,null,null,null,null,null,null,null,null,0]
["-","-",null,null,null,null,null,null,null,null,null,null,null,null,0]
["-","-",null,null,null,null,null,null,null,null,null,null,null,null,0]
["-","-",null,null,null,null,null,null,null,null,null,null,null,null,0]
["-","-",null,null,null,null,null,null,null,null,null,null,null,null,0]
["-","-",null,null,null,null,null,null,null,null,null,null,null,null,0]
["-","-",null,null,null,null,null,null,null,null,null,null,null,null,0]
["-","-",null,null,null,null,null,null,null,null,null,null,null,null,0]
["-","-",null,null,null,null,null,null,null,null,null,null,null,null,0]
["-","-",null,null,null,null,null,null,null,null,null,null,null,null,0]
["-","-",null,null,null,null,null,null,null,null,null,null,null,null,0]
["-","-",null,null,null,null,null,null,null,null,null,null,null,null,0]
["-","-",null,null,null,null,null,null,null,null,null,null,null,null,0]
["-","-",null,null,null,null,null,null,null,null,null,null,null,null,0]
["-","-",null,null,null,null,null,null,null,null,null,null,null,null,0]
["-","-",null,null,null,null,null,null,null,null,null,null,null,null,0]
["-","-",null,null,null,null,null,null,null,null,null,null,null,null,0]
["-","-",null,null,null,null,null,null,null,null,null,null,null,null,0]
["-","-",null,null,null,null,null,null,null,null,null,null,null,null,0]
["-","-",null,null,null,null,null,null,null,null,null,null,null,null,0]
["-","-",null,null,null,null,null,null,null,null,null,null,null,null,0]
["-","-",null,null,null,null,null,null,null,null,null,null,null,null,0]
["-","-",null,null,null,null,null,null,null,null,null,null,null,null,0]
["-","-",null,null,null,null,null,null,null,null,null,null,null,null,0]
["-","-",null,null,null,null,null,null,null,null,null,null,null,null,0]
["-","-",null,null,null,null,null,null,null,null,null,null,null,null,0]
["-","-",null,null,null,null,null,null,null,null,null,null,null,null,0]
["-","-",null,null,null,null,null,null,null,null,null,null,null,null,0]
["-","-",null,null,null,null,null,null,null,null,null,null,null,null,0]
["-","-",null,null,null,null,null,null,null,null,null,null,null,null,0]
["-","-",null,null,null,null,null,null,null,null,null,null,null,null,0]
["-","-",null,null,null,null,null,null,null,null,null,null,null,null,0]
["-","-",null,null,null,null,null,null,null,null,null,null,null,null,0]
["-","-",null,null,null,null,null,null,null,null,null,null,null,null,0]
["-","-",null,null,null,null,null,null,null,null,null,null,null,null,0]
["-","-",null,null,null,null,null,null,null,null,null,null,null,null,0]
["-","-",null,null,null,null,null,null,null,null,null,null,null,null,0]
["-","-",null,null,null,null,null,null,null,null,null,null,null,null,0]
["-","-",null,null,null,null,null,null,null,null,null,null,null,null,0]
["-","-",null,null,null,null,null,null,null,null,null,null,null,null,0]
["-","-",null,null,null,null,null,null,null,null,null,null,null,null,0]
["-","-",null,null,null,null,null,null,null,null,null,null,null,null,0]
["-","-",null,null,null,null,null,null,null,null,null,null,null,null,0]
["-","-",null,null,null,null,null,null,null,null,null,null,null,null,0]
["-","-",null,null,null,null,null,null,null,null,null,null,null,null,0]
["-","-",null,null,null,null,null,null,null,null,null,null,null,null,0]
["-","-",null,null,null,null,null,null,null,null,null,null,null,null,0]
["-","-",null,null,null,null,null,null,null,null,null,null,null,null,0]
["-","-",null,null,null,null,null,null,null,null,null,null,null,null,0]
["-","-",null,null,null,null,null,null,null,null,null,null,null,null,0]
["-","-",null,null,null,null,null,null,null,null,null,null,null,null,0]
["-","-",null,null,null,null,null,null,null,null,null,null,null,null,0]
["-","-",null,null,null,null,null,null,null,null,null,null,null,null,0]
["-","-",null,null,null,null,null,null,null,null,null,null,null,null,0]
["-","-",null,null,null,null,null,null,null,null,null,null,null,null,0]
["-",{"$f":"IF(ISBLANK(C645),\"-\",INDIRECT(\"SURVEYS!A\"&MATCH(C645,SurveyLabels,0)+4))","v":"-"},null,null,null,null,null,null,null,null,null,null,null,null,0]
["-","-",null,null,null,null,null,null,null,null,null,null,null,null,{"$f":"SUM(H646:N646)","v":0}]
[{"$f":"IF(ISBLANK(C647),\"-\",GenGuid())","v":"-"},"-",null,null,null,null,null,null,null,null,null,null,null,null,0]
["-","-",null,null,null,null,null,null,null,null,null,null,null,null,0]
["-","-",null,null,null,null,null,null,null,null,null,null,null,null,0]
["-","-",null,null,null,null,null,null,null,null,null,null,null,null,0]
["-","-",null,null,null,null,null,null,null,null,null,null,null,null,0]
["-","-",null,null,null,null,null,null,null,null,null,null,null,null,0]
["-","-",null,null,null,null,null,null,null,null,null,null,null,null,0]
["-","-",null,null,null,null,null,null,null,null,null,null,null,null,0]
["-","-",null,null,null,null,null,null,null,null,null,null,null,null,0]
["-","-",null,null,null,null,null,null,null,null,null,null,null,null,0]
["-","-",null,null,null,null,null,null,null,null,null,null,null,null,0]
["-","-",null,null,null,null,null,null,null,null,null,null,null,null,0]
["-","-",null,null,null,null,null,null,null,null,null,null,null,null,0]
["-","-",null,null,null,null,null,null,null,null,null,null,null,null,0]
["-","-",null,null,null,null,null,null,null,null,null,null,null,null,0]
["-","-",null,null,null,null,null,null,null,null,null,null,null,null,0]
["-","-",null,null,null,null,null,null,null,null,null,null,null,null,0]
["-","-",null,null,null,null,null,null,null,null,null,null,null,null,0]
["-","-",null,null,null,null,null,null,null,null,null,null,null,null,0]
["-","-",null,null,null,null,null,null,null,null,null,null,null,null,0]
["-","-",null,null,null,null,null,null,null,null,null,null,null,null,0]
["-","-",null,null,null,null,null,null,null,null,null,null,null,null,0]
["-","-",null,null,null,null,null,null,null,null,null,null,null,null,0]
["-","-",null,null,null,null,null,null,null,null,null,null,null,null,0]
["-","-",null,null,null,null,null,null,null,null,null,null,null,null,0]
["-","-",null,null,null,null,null,null,null,null,null,null,null,null,0]
["-","-",null,null,null,null,null,null,null,null,null,null,null,null,0]
["-","-",null,null,null,null,null,null,null,null,null,null,null,null,0]
["-","-",null,null,null,null,null,null,null,null,null,null,null,null,0]
["-","-",null,null,null,null,null,null,null,null,null,null,null,null,0]
["-","-",null,null,null,null,null,null,null,null,null,null,null,null,0]
["-","-",null,null,null,null,null,null,null,null,null,null,null,null,0]
["-","-",null,null,null,null,null,null,null,null,null,null,null,null,0]
["-","-",null,null,null,null,null,null,null,null,null,null,null,null,0]
["-","-",null,null,null,null,null,null,null,null,null,null,null,null,0]
["-","-",null,null,null,null,null,null,null,null,null,null,null,null,0]
["-","-",null,null,null,null,null,null,null,null,null,null,null,null,0]
["-","-",null,null,null,null,null,null,null,null,null,null,null,null,0]
["-","-",null,null,null,null,null,null,null,null,null,null,null,null,0]
["-","-",null,null,null,null,null,null,null,null,null,null,null,null,0]
["-","-",null,null,null,null,null,null,null,null,null,null,null,null,0]
["-","-",null,null,null,null,null,null,null,null,null,null,null,null,0]
["-","-",null,null,null,null,null,null,null,null,null,null,null,null,0]
["-","-",null,null,null,null,null,null,null,null,null,null,null,null,0]
["-","-",null,null,null,null,null,null,null,null,null,null,null,null,0]
["-","-",null,null,null,null,null,null,null,null,null,null,null,null,0]
["-","-",null,null,null,null,null,null,null,null,null,null,null,null,0]
["-","-",null,null,null,null,null,null,null,null,null,null,null,null,0]
["-","-",null,null,null,null,null,null,null,null,null,null,null,null,0]
["-","-",null,null,null,null,null,null,null,null,null,null,null,null,0]
["-","-",null,null,null,null,null,null,null,null,null,null,null,null,0]
["-","-",null,null,null,null,null,null,null,null,null,null,null,null,0]
["-","-",null,null,null,null,null,null,null,null,null,null,null,null,0]
["-","-",null,null,null,null,null,null,null,null,null,null,null,null,0]
["-","-",null,null,null,null,null,null,null,null,null,null,null,null,0]
["-","-",null,null,null,null,null,null,null,null,null,null,null,null,0]
["-","-",null,null,null,null,null,null,null,null,null,null,null,null,0]
["-","-",null,null,null,null,null,null,null,null,null,null,null,null,0]
["-","-",null,null,null,null,null,null,null,null,null,null,null,null,0]
["-","-",null,null,null,null,null,null,null,null,null,null,null,null,0]
["-","-",null,null,null,null,null,null,null,null,null,null,null,null,0]
["-","-",null,null,null,null,null,null,null,null,null,null,null,null,0]
["-",{"$f":"IF(ISBLANK(C709),\"-\",INDIRECT(\"SURVEYS!A\"&MATCH(C709,SurveyLabels,0)+4))","v":"-"},null,null,null,null,null,null,null,null,null,null,null,null,0]
["-","-",null,null,null,null,null,null,null,null,null,null,null,null,{"$f":"SUM(H710:N710)","v":0}]
[{"$f":"IF(ISBLANK(C711),\"-\",GenGuid())","v":"-"},"-",null,null,null,null,null,null,null,null,null,null,null,null,0]
["-","-",null,null,null,null,null,null,null,null,null,null,null,null,0]
["-","-",null,null,null,null,null,null,null,null,null,null,null,null,0]
["-","-",null,null,null,null,null,null,null,null,null,null,null,null,0]
["-","-",null,null,null,null,null,null,null,null,null,null,null,null,0]
["-","-",null,null,null,null,null,null,null,null,null,null,null,null,0]
["-","-",null,null,null,null,null,null,null,null,null,null,null,null,0]
["-","-",null,null,null,null,null,null,null,null,null,null,null,null,0]
["-","-",null,null,null,null,null,null,null,null,null,null,null,null,0]
["-","-",null,null,null,null,null,null,null,null,null,null,null,null,0]
["-","-",null,null,null,null,null,null,null,null,null,null,null,null,0]
["-","-",null,null,null,null,null,null,null,null,null,null,null,null,0]
["-","-",null,null,null,null,null,null,null,null,null,null,null,null,0]
["-","-",null,null,null,null,null,null,null,null,null,null,null,null,0]
["-","-",null,null,null,null,null,null,null,null,null,null,null,null,0]
["-","-",null,null,null,null,null,null,null,null,null,null,null,null,0]
["-","-",null,null,null,null,null,null,null,null,null,null,null,null,0]
["-","-",null,null,null,null,null,null,null,null,null,null,null,null,0]
["-","-",null,null,null,null,null,null,null,null,null,null,null,null,0]
["-","-",null,null,null,null,null,null,null,null,null,null,null,null,0]
["-","-",null,null,null,null,null,null,null,null,null,null,null,null,0]
["-","-",null,null,null,null,null,null,null,null,null,null,null,null,0]
["-","-",null,null,null,null,null,null,null,null,null,null,null,null,0]
["-","-",null,null,null,null,null,null,null,null,null,null,null,null,0]
["-","-",null,null,null,null,null,null,null,null,null,null,null,null,0]
["-","-",null,null,null,null,null,null,null,null,null,null,null,null,0]
["-","-",null,null,null,null,null,null,null,null,null,null,null,null,0]
["-","-",null,null,null,null,null,null,null,null,null,null,null,null,0]
["-","-",null,null,null,null,null,null,null,null,null,null,null,null,0]
["-","-",null,null,null,null,null,null,null,null,null,null,null,null,0]
["-","-",null,null,null,null,null,null,null,null,null,null,null,null,0]
["-","-",null,null,null,null,null,null,null,null,null,null,null,null,0]
["-","-",null,null,null,null,null,null,null,null,null,null,null,null,0]
["-","-",null,null,null,null,null,null,null,null,null,null,null,null,0]
["-","-",null,null,null,null,null,null,null,null,null,null,null,null,0]
["-","-",null,null,null,null,null,null,null,null,null,null,null,null,0]
["-","-",null,null,null,null,null,null,null,null,null,null,null,null,0]
["-","-",null,null,null,null,null,null,null,null,null,null,null,null,0]
["-","-",null,null,null,null,null,null,null,null,null,null,null,null,0]
["-","-",null,null,null,null,null,null,null,null,null,null,null,null,0]
["-","-",null,null,null,null,null,null,null,null,null,null,null,null,0]
["-","-",null,null,null,null,null,null,null,null,null,null,null,null,0]
["-","-",null,null,null,null,null,null,null,null,null,null,null,null,0]
["-","-",null,null,null,null,null,null,null,null,null,null,null,null,0]
["-","-",null,null,null,null,null,null,null,null,null,null,null,null,0]
["-","-",null,null,null,null,null,null,null,null,null,null,null,null,0]
["-","-",null,null,null,null,null,null,null,null,null,null,null,null,0]
["-","-",null,null,null,null,null,null,null,null,null,null,null,null,0]
["-","-",null,null,null,null,null,null,null,null,null,null,null,null,0]
["-","-",null,null,null,null,null,null,null,null,null,null,null,null,0]
["-","-",null,null,null,null,null,null,null,null,null,null,null,null,0]
["-","-",null,null,null,null,null,null,null,null,null,null,null,null,0]
["-","-",null,null,null,null,null,null,null,null,null,null,null,null,0]
["-","-",null,null,null,null,null,null,null,null,null,null,null,null,0]
["-","-",null,null,null,null,null,null,null,null,null,null,null,null,0]
["-","-",null,null,null,null,null,null,null,null,null,null,null,null,0]
["-","-",null,null,null,null,null,null,null,null,null,null,null,null,0]
["-","-",null,null,null,null,null,null,null,null,null,null,null,null,0]
["-","-",null,null,null,null,null,null,null,null,null,null,null,null,0]
["-","-",null,null,null,null,null,null,null,null,null,null,null,null,0]
["-","-",null,null,null,null,null,null,null,null,null,null,null,null,0]
["-","-",null,null,null,null,null,null,null,null,null,null,null,null,0]
["-",{"$f":"IF(ISBLANK(C773),\"-\",INDIRECT(\"SURVEYS!A\"&MATCH(C773,SurveyLabels,0)+4))","v":"-"},null,null,null,null,null,null,null,null,null,null,null,null,0]
["-","-",null,null,null,null,null,null,null,null,null,null,null,null,{"$f":"SUM(H774:N774)","v":0}]
[{"$f":"IF(ISBLANK(C775),\"-\",GenGuid())","v":"-"},"-",null,null,null,null,null,null,null,null,null,null,null,null,0]
["-","-",null,null,null,null,null,null,null,null,null,null,null,null,0]
["-","-",null,null,null,null,null,null,null,null,null,null,null,null,0]
["-","-",null,null,null,null,null,null,null,null,null,null,null,null,0]
["-","-",null,null,null,null,null,null,null,null,null,null,null,null,0]
["-","-",null,null,null,null,null,null,null,null,null,null,null,null,0]
["-","-",null,null,null,null,null,null,null,null,null,null,null,null,0]
["-","-",null,null,null,null,null,null,null,null,null,null,null,null,0]
["-","-",null,null,null,null,null,null,null,null,null,null,null,null,0]
["-","-",null,null,null,null,null,null,null,null,null,null,null,null,0]
["-","-",null,null,null,null,null,null,null,null,null,null,null,null,0]
["-","-",null,null,null,null,null,null,null,null,null,null,null,null,0]
["-","-",null,null,null,null,null,null,null,null,null,null,null,null,0]
["-","-",null,null,null,null,null,null,null,null,null,null,null,null,0]
["-","-",null,null,null,null,null,null,null,null,null,null,null,null,0]
["-","-",null,null,null,null,null,null,null,null,null,null,null,null,0]
["-","-",null,null,null,null,null,null,null,null,null,null,null,null,0]
["-","-",null,null,null,null,null,null,null,null,null,null,null,null,0]
["-","-",null,null,null,null,null,null,null,null,null,null,null,null,0]
["-","-",null,null,null,null,null,null,null,null,null,null,null,null,0]
["-","-",null,null,null,null,null,null,null,null,null,null,null,null,0]
["-","-",null,null,null,null,null,null,null,null,null,null,null,null,0]
["-","-",null,null,null,null,null,null,null,null,null,null,null,null,0]
["-","-",null,null,null,null,null,null,null,null,null,null,null,null,0]
["-","-",null,null,null,null,null,null,null,null,null,null,null,null,0]
["-","-",null,null,null,null,null,null,null,null,null,null,null,null,0]
["-","-",null,null,null,null,null,null,null,null,null,null,null,null,0]
["-","-",null,null,null,null,null,null,null,null,null,null,null,null,0]
["-","-",null,null,null,null,null,null,null,null,null,null,null,null,0]
["-","-",null,null,null,null,null,null,null,null,null,null,null,null,0]
["-","-",null,null,null,null,null,null,null,null,null,null,null,null,0]
["-","-",null,null,null,null,null,null,null,null,null,null,null,null,0]
["-","-",null,null,null,null,null,null,null,null,null,null,null,null,0]
["-","-",null,null,null,null,null,null,null,null,null,null,null,null,0]
["-","-",null,null,null,null,null,null,null,null,null,null,null,null,0]
["-","-",null,null,null,null,null,null,null,null,null,null,null,null,0]
["-","-",null,null,null,null,null,null,null,null,null,null,null,null,0]
["-","-",null,null,null,null,null,null,null,null,null,null,null,null,0]
["-","-",null,null,null,null,null,null,null,null,null,null,null,null,0]
["-","-",null,null,null,null,null,null,null,null,null,null,null,null,0]
["-","-",null,null,null,null,null,null,null,null,null,null,null,null,0]
["-","-",null,null,null,null,null,null,null,null,null,null,null,null,0]
["-","-",null,null,null,null,null,null,null,null,null,null,null,null,0]
["-","-",null,null,null,null,null,null,null,null,null,null,null,null,0]
["-","-",null,null,null,null,null,null,null,null,null,null,null,null,0]
["-","-",null,null,null,null,null,null,null,null,null,null,null,null,0]
["-","-",null,null,null,null,null,null,null,null,null,null,null,null,0]
["-","-",null,null,null,null,null,null,null,null,null,null,null,null,0]
["-","-",null,null,null,null,null,null,null,null,null,null,null,null,0]
["-","-",null,null,null,null,null,null,null,null,null,null,null,null,0]
["-","-",null,null,null,null,null,null,null,null,null,null,null,null,0]
["-","-",null,null,null,null,null,null,null,null,null,null,null,null,0]
["-","-",null,null,null,null,null,null,null,null,null,null,null,null,0]
["-","-",null,null,null,null,null,null,null,null,null,null,null,null,0]
["-","-",null,null,null,null,null,null,null,null,null,null,null,null,0]
["-","-",null,null,null,null,null,null,null,null,null,null,null,null,0]
["-","-",null,null,null,null,null,null,null,null,null,null,null,null,0]
["-","-",null,null,null,null,null,null,null,null,null,null,null,null,0]
["-","-",null,null,null,null,null,null,null,null,null,null,null,null,0]
["-","-",null,null,null,null,null,null,null,null,null,null,null,null,0]
["-","-",null,null,null,null,null,null,null,null,null,null,null,null,0]
["-","-",null,null,null,null,null,null,null,null,null,null,null,null,0]
["-",{"$f":"IF(ISBLANK(C837),\"-\",INDIRECT(\"SURVEYS!A\"&MATCH(C837,SurveyLabels,0)+4))","v":"-"},null,null,null,null,null,null,null,null,null,null,null,null,0]
["-","-",null,null,null,null,null,null,null,null,null,null,null,null,{"$f":"SUM(H838:N838)","v":0}]
[{"$f":"IF(ISBLANK(C839),\"-\",GenGuid())","v":"-"},"-",null,null,null,null,null,null,null,null,null,null,null,null,0]
["-","-",null,null,null,null,null,null,null,null,null,null,null,null,0]
["-","-",null,null,null,null,null,null,null,null,null,null,null,null,0]
["-","-",null,null,null,null,null,null,null,null,null,null,null,null,0]
["-","-",null,null,null,null,null,null,null,null,null,null,null,null,0]
["-","-",null,null,null,null,null,null,null,null,null,null,null,null,0]
["-","-",null,null,null,null,null,null,null,null,null,null,null,null,0]
["-","-",null,null,null,null,null,null,null,null,null,null,null,null,0]
["-","-",null,null,null,null,null,null,null,null,null,null,null,null,0]
["-","-",null,null,null,null,null,null,null,null,null,null,null,null,0]
["-","-",null,null,null,null,null,null,null,null,null,null,null,null,0]
["-","-",null,null,null,null,null,null,null,null,null,null,null,null,0]
["-","-",null,null,null,null,null,null,null,null,null,null,null,null,0]
["-","-",null,null,null,null,null,null,null,null,null,null,null,null,0]
["-","-",null,null,null,null,null,null,null,null,null,null,null,null,0]
["-","-",null,null,null,null,null,null,null,null,null,null,null,null,0]
["-","-",null,null,null,null,null,null,null,null,null,null,null,null,0]
["-","-",null,null,null,null,null,null,null,null,null,null,null,null,0]
["-","-",null,null,null,null,null,null,null,null,null,null,null,null,0]
["-","-",null,null,null,null,null,null,null,null,null,null,null,null,0]
["-","-",null,null,null,null,null,null,null,null,null,null,null,null,0]
["-","-",null,null,null,null,null,null,null,null,null,null,null,null,0]
["-","-",null,null,null,null,null,null,null,null,null,null,null,null,0]
["-","-",null,null,null,null,null,null,null,null,null,null,null,null,0]
["-","-",null,null,null,null,null,null,null,null,null,null,null,null,0]
["-","-",null,null,null,null,null,null,null,null,null,null,null,null,0]
["-","-",null,null,null,null,null,null,null,null,null,null,null,null,0]
["-","-",null,null,null,null,null,null,null,null,null,null,null,null,0]
["-","-",null,null,null,null,null,null,null,null,null,null,null,null,0]
["-","-",null,null,null,null,null,null,null,null,null,null,null,null,0]
["-","-",null,null,null,null,null,null,null,null,null,null,null,null,0]
["-","-",null,null,null,null,null,null,null,null,null,null,null,null,0]
["-","-",null,null,null,null,null,null,null,null,null,null,null,null,0]
["-","-",null,null,null,null,null,null,null,null,null,null,null,null,0]
["-","-",null,null,null,null,null,null,null,null,null,null,null,null,0]
["-","-",null,null,null,null,null,null,null,null,null,null,null,null,0]
["-","-",null,null,null,null,null,null,null,null,null,null,null,null,0]
["-","-",null,null,null,null,null,null,null,null,null,null,null,null,0]
["-","-",null,null,null,null,null,null,null,null,null,null,null,null,0]
["-","-",null,null,null,null,null,null,null,null,null,null,null,null,0]
["-","-",null,null,null,null,null,null,null,null,null,null,null,null,0]
["-","-",null,null,null,null,null,null,null,null,null,null,null,null,0]
["-","-",null,null,null,null,null,null,null,null,null,null,null,null,0]
["-","-",null,null,null,null,null,null,null,null,null,null,null,null,0]
["-","-",null,null,null,null,null,null,null,null,null,null,null,null,0]
["-","-",null,null,null,null,null,null,null,null,null,null,null,null,0]
["-","-",null,null,null,null,null,null,null,null,null,null,null,null,0]
["-","-",null,null,null,null,null,null,null,null,null,null,null,null,0]
["-","-",null,null,null,null,null,null,null,null,null,null,null,null,0]
["-","-",null,null,null,null,null,null,null,null,null,null,null,null,0]
["-","-",null,null,null,null,null,null,null,null,null,null,null,null,0]
["-","-",null,null,null,null,null,null,null,null,null,null,null,null,0]
["-","-",null,null,null,null,null,null,null,null,null,null,null,null,0]
["-","-",null,null,null,null,null,null,null,null,null,null,null,null,0]
["-","-",null,null,null,null,null,null,null,null,null,null,null,null,0]
["-","-",null,null,null,null,null,null,null,null,null,null,null,null,0]
["-","-",null,null,null,null,null,null,null,null,null,null,null,null,0]
["-","-",null,null,null,null,null,null,null,null,null,null,null,null,0]
["-","-",null,null,null,null,null,null,null,null,null,null,null,null,0]
["-","-",null,null,null,null,null,null,null,null,null,null,null,null,0]
["-","-",null,null,null,null,null,null,null,null,null,null,null,null,0]
["-","-",null,null,null,null,null,null,null,null,null,null,null,null,0]
["-",{"$f":"IF(ISBLANK(C901),\"-\",INDIRECT(\"SURVEYS!A\"&MATCH(C901,SurveyLabels,0)+4))","v":"-"},null,null,null,null,null,null,null,null,null,null,null,null,0]
["-","-",null,null,null,null,null,null,null,null,null,null,null,null,{"$f":"SUM(H902:N902)","v":0}]
[{"$f":"IF(ISBLANK(C903),\"-\",GenGuid())","v":"-"},"-",null,null,null,null,null,null,null,null,null,null,null,null,0]
["-","-",null,null,null,null,null,null,null,null,null,null,null,null,0]
["-","-",null,null,null,null,null,null,null,null,null,null,null,null,0]
["-","-",null,null,null,null,null,null,null,null,null,null,null,null,0]
["-","-",null,null,null,null,null,null,null,null,null,null,null,null,0]
["-","-",null,null,null,null,null,null,null,null,null,null,null,null,0]
["-","-",null,null,null,null,null,null,null,null,null,null,null,null,0]
["-","-",null,null,null,null,null,null,null,null,null,null,null,null,0]
["-","-",null,null,null,null,null,null,null,null,null,null,null,null,0]
["-","-",null,null,null,null,null,null,null,null,null,null,null,null,0]
["-","-",null,null,null,null,null,null,null,null,null,null,null,null,0]
["-","-",null,null,null,null,null,null,null,null,null,null,null,null,0]
["-","-",null,null,null,null,null,null,null,null,null,null,null,null,0]
["-","-",null,null,null,null,null,null,null,null,null,null,null,null,0]
["-","-",null,null,null,null,null,null,null,null,null,null,null,null,0]
["-","-",null,null,null,null,null,null,null,null,null,null,null,null,0]
["-","-",null,null,null,null,null,null,null,null,null,null,null,null,0]
["-","-",null,null,null,null,null,null,null,null,null,null,null,null,0]
["-","-",null,null,null,null,null,null,null,null,null,null,null,null,0]
["-","-",null,null,null,null,null,null,null,null,null,null,null,null,0]
["-","-",null,null,null,null,null,null,null,null,null,null,null,null,0]
["-","-",null,null,null,null,null,null,null,null,null,null,null,null,0]
["-","-",null,null,null,null,null,null,null,null,null,null,null,null,0]
["-","-",null,null,null,null,null,null,null,null,null,null,null,null,0]
["-","-",null,null,null,null,null,null,null,null,null,null,null,null,0]
["-","-",null,null,null,null,null,null,null,null,null,null,null,null,0]
["-","-",null,null,null,null,null,null,null,null,null,null,null,null,0]
["-","-",null,null,null,null,null,null,null,null,null,null,null,null,0]
["-","-",null,null,null,null,null,null,null,null,null,null,null,null,0]
["-","-",null,null,null,null,null,null,null,null,null,null,null,null,0]
["-","-",null,null,null,null,null,null,null,null,null,null,null,null,0]
["-","-",null,null,null,null,null,null,null,null,null,null,null,null,0]
["-","-",null,null,null,null,null,null,null,null,null,null,null,null,0]
["-","-",null,null,null,null,null,null,null,null,null,null,null,null,0]
["-","-",null,null,null,null,null,null,null,null,null,null,null,null,0]
["-","-",null,null,null,null,null,null,null,null,null,null,null,null,0]
["-","-",null,null,null,null,null,null,null,null,null,null,null,null,0]
["-","-",null,null,null,null,null,null,null,null,null,null,null,null,0]
["-","-",null,null,null,null,null,null,null,null,null,null,null,null,0]
["-","-",null,null,null,null,null,null,null,null,null,null,null,null,0]
["-","-",null,null,null,null,null,null,null,null,null,null,null,null,0]
["-","-",null,null,null,null,null,null,null,null,null,null,null,null,0]
["-","-",null,null,null,null,null,null,null,null,null,null,null,null,0]
["-","-",null,null,null,null,null,null,null,null,null,null,null,null,0]
["-","-",null,null,null,null,null,null,null,null,null,null,null,null,0]
["-","-",null,null,null,null,null,null,null,null,null,null,null,null,0]
["-","-",null,null,null,null,null,null,null,null,null,null,null,null,0]
["-","-",null,null,null,null,null,null,null,null,null,null,null,null,0]
["-","-",null,null,null,null,null,null,null,null,null,null,null,null,0]
["-","-",null,null,null,null,null,null,null,null,null,null,null,null,0]
["-","-",null,null,null,null,null,null,null,null,null,null,null,null,0]
["-","-",null,null,null,null,null,null,null,null,null,null,null,null,0]
["-","-",null,null,null,null,null,null,null,null,null,null,null,null,0]
["-","-",null,null,null,null,null,null,null,null,null,null,null,null,0]
["-","-",null,null,null,null,null,null,null,null,null,null,null,null,0]
["-","-",null,null,null,null,null,null,null,null,null,null,null,null,0]
["-","-",null,null,null,null,null,null,null,null,null,null,null,null,0]
["-","-",null,null,null,null,null,null,null,null,null,null,null,null,0]
["-","-",null,null,null,null,null,null,null,null,null,null,null,null,0]
["-","-",null,null,null,null,null,null,null,null,null,null,null,null,0]
["-","-",null,null,null,null,null,null,null,null,null,null,null,null,0]
["-","-",null,null,null,null,null,null,null,null,null,null,null,null,0]
["-",{"$f":"IF(ISBLANK(C965),\"-\",INDIRECT(\"SURVEYS!A\"&MATCH(C965,SurveyLabels,0)+4))","v":"-"},null,null,null,null,null,null,null,null,null,null,null,null,0]
["-","-",null,null,null,null,null,null,null,null,null,null,null,null,{"$f":"SUM(H966:N966)","v":0}]
[{"$f":"IF(ISBLANK(C967),\"-\",GenGuid())","v":"-"},"-",null,null,null,null,null,null,null,null,null,null,null,null,0]
["-","-",null,null,null,null,null,null,null,null,null,null,null,null,0]
["-","-",null,null,null,null,null,null,null,null,null,null,null,null,0]
["-","-",null,null,null,null,null,null,null,null,null,null,null,null,0]
["-","-",null,null,null,null,null,null,null,null,null,null,null,null,0]
["-","-",null,null,null,null,null,null,null,null,null,null,null,null,0]
["-","-",null,null,null,null,null,null,null,null,null,null,null,null,0]
["-","-",null,null,null,null,null,null,null,null,null,null,null,null,0]
["-","-",null,null,null,null,null,null,null,null,null,null,null,null,0]
["-","-",null,null,null,null,null,null,null,null,null,null,null,null,0]
["-","-",null,null,null,null,null,null,null,null,null,null,null,null,0]
["-","-",null,null,null,null,null,null,null,null,null,null,null,null,0]
["-","-",null,null,null,null,null,null,null,null,null,null,null,null,0]
["-","-",null,null,null,null,null,null,null,null,null,null,null,null,0]
["-","-",null,null,null,null,null,null,null,null,null,null,null,null,0]
["-","-",null,null,null,null,null,null,null,null,null,null,null,null,0]
["-","-",null,null,null,null,null,null,null,null,null,null,null,null,0]
["-","-",null,null,null,null,null,null,null,null,null,null,null,null,0]
["-","-",null,null,null,null,null,null,null,null,null,null,null,null,0]
["-","-",null,null,null,null,null,null,null,null,null,null,null,null,0]
["-","-",null,null,null,null,null,null,null,null,null,null,null,null,0]
["-","-",null,null,null,null,null,null,null,null,null,null,null,null,0]
["-","-",null,null,null,null,null,null,null,null,null,null,null,null,0]
["-","-",null,null,null,null,null,null,null,null,null,null,null,null,0]
["-","-",null,null,null,null,null,null,null,null,null,null,null,null,0]
["-","-",null,null,null,null,null,null,null,null,null,null,null,null,0]
["-","-",null,null,null,null,null,null,null,null,null,null,null,null,0]
["-","-",null,null,null,null,null,null,null,null,null,null,null,null,0]
["-","-",null,null,null,null,null,null,null,null,null,null,null,null,0]
["-","-",null,null,null,null,null,null,null,null,null,null,null,null,0]
["-","-",null,null,null,null,null,null,null,null,null,null,null,null,0]
["-","-",null,null,null,null,null,null,null,null,null,null,null,null,0]
["-","-",null,null,null,null,null,null,null,null,null,null,null,null,0]
["-","-",null,null,null,null,null,null,null,null,null,null,null,null,0]
["-","-",null,null,null,null,null,null,null,null,null,null,null,null,0]
["-","-",null,null,null,null,null,null,null,null,null,null,null,null,0]
["-","-",null,null,null,null,null,null,null,null,null,null,null,null,0]
["-","-",null,null,null,null,null,null,null,null,null,null,null,null,0]
["To add more rows, copy from the previous line to ensure the proper formatting/formulas are in place."]

{"sheet":"CODES1","index":19,"n_rows":1247,"n_cols":10,"rows_kept":1247,"cut":false,"hidden":false,"merged":[]}
["Table","Code","Short_Desc","Long_Desc","Active","Sort_Order","Other1","Other2","Other3"]
["VT_CoverClass","CoverClass","Short_Desc","Long_Desc","Active","Sort_Order","Range_Minimum","Range_Maximum","Midpoint"]
["VT_CoverClass","D1","D1 (0-5%)","Daubenmire Class 1 (0-5%)","T",11,0,5,2.5]
["VT_CoverClass","D2","D2 (5-25%)","Daubenmire Class 2 (5-25%)","T",12,5,25,15]
["VT_CoverClass","D3","D3 (25-50%)","Daubenmire Class 3 (25-50%)","T",13,25,50,37.5]
["VT_CoverClass","D4","D4 (50-75%)","Daubenmire Class 4 (50-75%)","T",14,50,75,62.5]
["VT_CoverClass","D5","D5  (75-95%)","Daubenmire Class 5 (75-95%)","T",15,75,95,85]
["VT_CoverClass","D6","D6 (95-100%)","Daubenmire Class 6 (95-100%)","T",16,95,100,97.5]
["VT_CoverClass","MD1","MD1 (0-1%)","Modified Daubenmire Class 1 (0-1%)","T",1,0,1,0.5]
["VT_CoverClass","MD2","MD2 (1-5%)","Modified Daubenmire Class 2 (1-5%)","T",2,1,5,3]
["VT_CoverClass","MD3","MD3 (5-25%)","Modified Daubenmire Class 3 (5-25%)","T",3,5,25,15]
["VT_CoverClass","MD4","MD4 (25-50%)","Modified Daubenmire Class 4 (25-50%)","T",4,25,50,37.5]
["VT_CoverClass","MD5","MD5 (50-75%)","Modified Daubenmire Class 5 (50-75%)","T",5,50,75,62.5]
["VT_CoverClass","MD6","MD6 (75-95%)","Modified Daubenmire Class 6 (75-95%)","T",6,75,95,85]
["VT_CoverClass","MD7","MD7 (95-100%)","Modified Daubenmire Class 7 (95-100%)","T",7,95,100,97.5]
["VT_Datum","Datum","Short_Desc","Long_Desc","Active","Sort_Order"]
["VT_Datum","NAD27","NAD27","NAD27","T",1]
["VT_Datum","NAD83","NAD83","NAD83","T",2]
["VT_Datum","WGS84","WGS84","WGS84","T",3]
["VT_Datum","NA","NA","Not recorded","T",4]
["VT_Datum","CSR98","CSRS98","CSRS98","T",5]
["VT_DensityDistributionClass","Class","Short_Desc","Long_Desc","Active","Sort_Order"]
["VT_DensityDistributionClass",0,0,"None","T",0]
["VT_DensityDistributionClass",1,1,"Rare","T",1]
["VT_DensityDistributionClass",2,2,"A few sporadically occurring individual plants","T",2]
["VT_DensityDistributionClass",3,3,"A single patch","T",3]
["VT_DensityDistributionClass",4,4,"A single patch plus a few sporadically occurring plants","T",4]
["VT_DensityDistributionClass",5,5,"Several sporadically occurring plants","T",5]
["VT_DensityDistributionClass",6,6,"A single patch plus several sporadically occurring plants","T",6]
["VT_DensityDistributionClass",7,7,"A few patches","T",7]
["VT_DensityDistributionClass",8,8,"A few patches plus several sporadically occurring plants","T",8]
["VT_DensityDistributionClass",9,9,"Several well spaced patches","T",9]
["VT_DensityDistributionClass",10,10,"Continuous uniform occurrences of well spaced plants","T",10]
["VT_DensityDistributionClass",11,11,"Contiuous ocurrence of plants with a few gaps in the distribution","T",11]
["VT_DensityDistributionClass",12,12,"Continuous dense occurrence of plants","T",12]
["VT_DensityDistributionClass",13,13,"Continuous occurrence of plants with a distinct linear edge in the polygon","T",13]
["VT_FHIPlantCommunityMethod","PlantCommunityMethod","Short_Desc","Long_Desc","Active","Sort_Order"]
["VT_FHIPlantCommunityMethod","SUB","Subjective","Subjective assessment based on walkthrough","T",1]
["VT_FHIPlantCommunityMethod","P","Calculation","Calculation of % similarity using composition data","T",2]
["VT_GrassPlantCommMethod","PlantCommunityMethod","Short_Desc","Long_Desc","Active","Sort_Order"]
["VT_GrassPlantCommMethod","SUB","Subjective","Subjective assessment based on walkthrough","T",1]
["VT_GrassPlantCommMethod","CAL","Calculation","Calculation of % similarity using composition data","T",2]
["VT_PLotAgency","AgencyPlotCode","Short_Desc","Long_Desc","Active","Sort_Order"]
["VT_PLotAgency","AESB","AESB","Agri-Environmental Services Branch, Agriculture and Agri-Food Canada","T",1]
["VT_PLotAgency","DUC","DUC","Ducks Unlimited Canada","T",2]
["VT_PLotAgency","NCC","NCC","Nature Conservancy of Canada","T",3]
["VT_PLotAgency","PCA","PCA","Parks Canada Agency","T",4]
["VT_PLotAgency","SMA","SMA","Saskatchewan Ministry of Agriculture","T",5]
["VT_PLotAgency","SME","SME","Saskatchewan Ministry of Environment","T",6]
["VT_PLotAgency","TPCS","TPCS","Saskatchewan Ministry of Parks, Culture and Sport","T",7]
["VT_PLotAgency","SRC","SRC","Saskatchewan Research Council","T",8]
["VT_PLotAgency","SWA","WSA","Water Security Agency","T",9]
["VT_PLotAgency","OTHR","OTHR","Other","T",10]
["VT_PLotAgency","UOFS","UofS","University of Saskatchewan","T",11]
["VT_PLotAgency"]
["VT_PlotConfidentiality","Confidentiality","Short_Desc","Long_Desc","Active","Sort_Order"]
["VT_PlotConfidentiality",0,"No concerns","No confidentiality concerns","T",1]
["VT_PlotConfidentiality",1,"No publishing","Land ownership can be included in DB sharing but not published in reports","T",2]
["VT_PlotConfidentiality",2,"No sharing","Land ownership cannot be shared with other agencies","T",3]
["VT_PlotDimensionType","DimensionType","Short_Desc","Long_Desc","Active","Sort_Order"]
["VT_PlotDimensionType","LL","Line Length","Length of a line plot","T",1]
["VT_PlotDimensionType","DI","Diameter","Diameter of a circular plot","T",2]
["VT_PlotDimensionType","S1","Side 1 length","Length of the longer side of a rectangular plot","T",3]
["VT_PlotDimensionType","S2","Side 2 length","Length of the shorter side of a rectangular plot","T",4]
["VT_PlotDrainageClass","DrainageClass","Short_Desc","Long_Desc","Active","Sort_Order"]
["VT_PlotDrainageClass","VR","VR","Very rapidly drained","T",1]
["VT_PlotDrainageClass","R","R","Rapidly drained","T",1]
["VT_PlotDrainageClass","W","W","Well drained","T",2]
["VT_PlotDrainageClass","MW","MW","Moderately well drained","T",3]
["VT_PlotDrainageClass","I","I","Imperfectly drained","T",4]
["VT_PlotDrainageClass","P","P","Poorly drained","T",5]
["VT_PlotDrainageClass","VP","VP","Very poorly drained","T",6]
["VT_PlotDrainageClass","SB","SB","Submerged","T",7]
["VT_PlotEcoregion","Ecoregion","Short_Desc","Long_Desc","Active","Sort_Order"]
["VT_PlotEcoregion","CU","CU","Cypress Upland","T",1]
["VT_PlotEcoregion","MG","MG","Mixed Grassland","T",2]
["VT_PlotEcoregion","MMG","MMG","Moist Mixed Grassland","T",3]
["VT_PlotEcoregion","AL","AL","Aspen Parkland","T",4]
["VT_PlotEcoregion","BT","BT","Boreal Transition","T",5]
["VT_PlotEcoregion","MBU","MBU","Mid-Boreal Upland","T",6]
["VT_PlotEcoregion","MBL","MBL","Mid-Boreal Lowland","T",7]
["VT_PlotEcoregion","CRU","CRU","Churchill River Upland","T",8]
["VT_PlotEcoregion","AP","AP","Athabasca Plain","T",9]
["VT_PlotEcoregion","TLU","TLU","Tazin Lake Upland","T",10]
["VT_PlotEcoregion","SLU","SLU","Selwyn Lake Upland","T",11]
["VT_PlotEcosite","Ecosite","Short_Desc","Long_Desc","Active","Sort_Order","EcositeReference"]
["VT_PlotEcosite","LOA","LOA","Loam","T",1,"TP2007"]
["VT_PlotEcosite","SAN","SAN","Sand","T",2,"TP2007"]
["VT_PlotEcosite","DMW","DMW","Dry Meadow","T",3,"TP2007"]
["VT_PlotEcosite","CLY","CLY","Clay","T",4,"TP2007"]
["VT_PlotEcosite","SLM","SLM","Sandy Loam","T",5,"TP2007"]
["VT_PlotEcosite","LDU","LDU","Low Dunes","T",6,"TP2007"]
["VT_PlotEcosite","HDU","HDU","High Dunes","T",7,"TP2007"]
["VT_PlotEcosite","GRA","GRA","Gravelly","T",8,"TP2007"]
["VT_PlotEcosite","SOL","SOL","Solonetzic","T",9,"TP2007"]
["VT_PlotEcosite","THI","THI","Thin","T",10,"TP2007"]
["VT_PlotEcosite","BDL","BDL","Badlands","T",11,"TP2007"]
["VT_PlotEcosite","OVF","OVF","Overflow","T",12,"TP2007"]
["VT_PlotEcosite","WMW","WMW","Wet Meadow","T",13,"TP2007"]
["VT_PlotEcosite","SMS","SMS","Shallow Marsh","T",14,"TP2007"]
["VT_PlotEcosite","DMS","DMS","Deep Marsh","T",15,"TP2007"]
["VT_PlotEcosite","SLU","SLU","Saline Upland","T",16,"TP2007"]
["VT_PlotEcosite","SLO","SLO","Saline Overflow","T",17,"TP2007"]
["VT_PlotEcosite","SOO","SOO","Solonetzic Overflow","T",18,"TP2007"]
["VT_PlotEcosite","SLD","SLD","Saline Dry Meadow","T",19,"TP2007"]
["VT_PlotEcosite","SLW","SLW","Saline Wet Meadow","T",20,"TP2007"]
["VT_PlotEcosite","SSM","SSM","Saline Shallow Meadow","T",21,"TP2007"]
["VT_PlotEcosite","SDM","SDM","Saline Deep Meadow","T",22,"TP2007"]
["VT_PlotEcosite","SAN","SAN","Sands","T",1,"AB1990"]
["VT_PlotEcosite","SLM","SLM","Sandy","T",2,"AB1990"]
["VT_PlotEcosite","LOA","LOA","Loamy","T",3,"AB1990"]
["VT_PlotEcosite","CLY","CLY","Clayey","T",4,"AB1990"]
["VT_PlotEcosite","DNS","DNS","Dune Sands","T",5,"AB1990"]
["VT_PlotEcosite","SOL","SOL","Burnouts","T",6,"AB1990"]
["VT_PlotEcosite","THI","THI","Thin Upland","T",7,"AB1990"]
["VT_PlotEcosite","GRA","GRA","Gravelly","T",8,"AB1990"]
["VT_PlotEcosite","GRS","GRS","Shallow-to-gravel","T",9,"AB1990"]
["VT_PlotEcosite","SLU","SLU","Saline Upland","T",10,"AB1990"]
["VT_PlotEcosite","BDL","BDL","Badlands","T",11,"AB1990"]
["VT_PlotEcosite","OVF","OVF","Overflow","T",12,"AB1990"]
["VT_PlotEcosite","SUB","SUB","Subirrigated","T",13,"AB1990"]
["VT_PlotEcosite","WTL","WTL","Wetlands","T",14,"AB1990"]
["VT_PlotEcosite","CLD","CLD","Closed Depression","T",15,"AB1990"]
["VT_PlotEcosite","SAL","SAL","Saline Lowlands","T",16,"AB1990"]
["VT_PlotEcosite","TS1","TS1","TS1 Jack pine/bearberry/lichen","T",1,"MC2011"]
["VT_PlotEcosite","TS2","TS2","TS2 Jack pine-black spruce/lichen","T",2,"MC2011"]
["VT_PlotEcosite","TS3","TS3","TS3 White birch/lingonberry/lichen","T",3,"MC2011"]
["VT_PlotEcosite","TS4","TS4","TS4 Black spruce/lingonberry/feathermoss","T",4,"MC2011"]
["VT_PlotEcosite","TS5","TS5","TS5 Trembling aspen/prickly rose-twinflower","T",5,"MC2011"]
["VT_PlotEcosite","TS6","TS6","TS6 White birch-spruce/green alder","T",6,"MC2011"]
["VT_PlotEcosite","TS7","TS7","TS7 White birch-black spruce/lingonberry","T",7,"MC2011"]
["VT_PlotEcosite","TS8","TS8","TS8 White birch/river alder/feathermoss","T",8,"MC2011"]
["VT_PlotEcosite","TS9","TS9","TS9 Black spruce treed bog","T",9,"MC2011"]
["VT_PlotEcosite","TS10","TS10","TS10 Labrador tea shrubby bog","T",10,"MC2011"]
["VT_PlotEcosite","TS11","TS11","TS11 Graminoid bog","T",11,"MC2011"]
["VT_PlotEcosite","TS12","TS12","TS12 Open bog","T",12,"MC2011"]
["VT_PlotEcosite","TS13","TS13","TS13 Tamarack treed fen","T",13,"MC2011"]
["VT_PlotEcosite","TS14","TS14","TS14 Labrador tea shrubby fen","T",14,"MC2011"]
["VT_PlotEcosite","TS15","TS15","TS15 Graminoid fen","T",15,"MC2011"]
["VT_PlotEcosite","TS16","TS16","TS16 Open fen","T",16,"MC2011"]
["VT_PlotEcosite","TS17","TS17","TS17 Lichen rocky shore","T",17,"MC2011"]
["VT_PlotEcosite","BS1","BS1","BS1 Sand heather-floccose tansy sand dune","T",18,"MC2011"]
["VT_PlotEcosite","BS2","BS2","BS2 Lichen/felsenmeer-bedrock","T",19,"MC2011"]
["VT_PlotEcosite","BS3","BS3","BS3 Jack pine/blueberry/lichen","T",20,"MC2011"]
["VT_PlotEcosite","BS4","BS4","BS4 Jack pine-black spruce/feathermoss","T",21,"MC2011"]
["VT_PlotEcosite","BS5","BS5","BS5 Jack pine-white birch/feathermoss","T",22,"MC2011"]
["VT_PlotEcosite","BS6","BS6","BS6 Jack pine-trembling aspen/green alder","T",23,"MC2011"]
["VT_PlotEcosite","BS7","BS7","BS7 Black spruce/blueberry/lichen","T",24,"MC2011"]
["VT_PlotEcosite","BS8","BS8","BS8 Black spruce-white birch/lichen","T",25,"MC2011"]
["VT_PlotEcosite","BS9","BS9","BS9 Black spruce-jack pine/feathermoss","T",26,"MC2011"]
["VT_PlotEcosite","BS10","BS10","BS10 Black spruce-white birch/feathermoss","T",27,"MC2011"]
["VT_PlotEcosite","BS11","BS11","BS11 White spruce-balsam fir/feathermoss","T",28,"MC2011"]
["VT_PlotEcosite","BS12","BS12","BS12 White spruce/crowberry/feathermoss","T",29,"MC2011"]
["VT_PlotEcosite","BS13","BS13","BS13 White birch-black spruce-trembling aspen","T",30,"MC2011"]
["VT_PlotEcosite","BS14","BS14","BS14 White birch/lingonberry-Labrador tea","T",31,"MC2011"]
["VT_PlotEcosite","BS15","BS15","BS15 Trembling aspen-white birch/green alder","T",32,"MC2011"]
["VT_PlotEcosite","BS16","BS16","BS16 Black spruce/balsam poplar/river alder swamp","T",33,"MC2011"]
["VT_PlotEcosite","BS17","BS17","BS17 Black spruce treed bog","T",34,"MC2011"]
["VT_PlotEcosite","BS18","BS18","BS18 Labrador tea shrubby bog","T",35,"MC2011"]
["VT_PlotEcosite","BS19","BS19","BS19 Graminoid bog","T",36,"MC2011"]
["VT_PlotEcosite","BS20","BS20","BS20 Open bog","T",37,"MC2011"]
["VT_PlotEcosite","BS21","BS21","BS21 Tamarack treed fen","T",38,"MC2011"]
["VT_PlotEcosite","BS22","BS22","BS22 Leatherleaf shrubby poor fen","T",39,"MC2011"]
["VT_PlotEcosite","BS23","BS23","BS23 Willow shrubby rich fen","T",40,"MC2011"]
["VT_PlotEcosite","BS24","BS24","BS24 Graminoid fen","T",41,"MC2011"]
["VT_PlotEcosite","BS25","BS25","BS25 Open fen","T",42,"MC2011"]
["VT_PlotEcosite","BS26","BS26","BS26 Rush sandy shore","T",43,"MC2011"]
["VT_PlotEcosite","BS27","BS27","BS27 Sedge rocky shore","T",44,"MC2011"]
["VT_PlotEcosite","BP1","BP1","BP1 June grass-mountain goldenrod grassland","T",45,"MC2011"]
["VT_PlotEcosite","BP2","BP2","BP2 Jack pine/lichen","T",46,"MC2011"]
["VT_PlotEcosite","BP3","BP3","BP3 Jack pine/feathermoss","T",47,"MC2011"]
["VT_PlotEcosite","BP4","BP4","BP4 Jack pine-trembling aspen/feathermoss","T",48,"MC2011"]
["VT_PlotEcosite","BP5","BP5","BP5 Trembling aspen/prickly rose/grass","T",49,"MC2011"]
["VT_PlotEcosite","BP6","BP6","BP6 Trembling aspen/beaked hazel/sarsaparilla","T",50,"MC2011"]
["VT_PlotEcosite","BP7","BP7","BP7 Trembling aspen-white birch/sarsaparilla","T",51,"MC2011"]
["VT_PlotEcosite","BP8","BP8","BP8 Trembling aspen-white birch/mountain maple","T",52,"MC2011"]
["VT_PlotEcosite","BP9","BP9","BP9 White spruce-trembling aspen/feathermoss","T",53,"MC2011"]
["VT_PlotEcosite","BP10","BP10","BP10 Trembling aspen-white spruce/feathermoss","T",54,"MC2011"]
["VT_PlotEcosite","BP11","BP11","BP11 White birch-white spruce-balsam fir","T",55,"MC2011"]
["VT_PlotEcosite","BP12","BP12","BP12 Jack pine-spruce/feathermoss","T",56,"MC2011"]
["VT_PlotEcosite","BP13","BP13","BP13 White spruce-balsam fir/feathermoss","T",57,"MC2011"]
["VT_PlotEcosite","BP14","BP14","BP14 Black spruce/Labrador tea/feathermoss","T",58,"MC2011"]
["VT_PlotEcosite","BP15","BP15","BP15 Balsam poplar-white spruce/feathermoss","T",59,"MC2011"]
["VT_PlotEcosite","BP16","BP16","BP16 Balsam poplar-trembling aspen/prickly rose","T",60,"MC2011"]
["VT_PlotEcosite","BP17","BP17","BP17 Manitoba maple-balsam poplar/ostrich fern","T",61,"MC2011"]
["VT_PlotEcosite","BP18","BP18","BP18 Black spruce-tamarack treed swamp","T",62,"MC2011"]
["VT_PlotEcosite","BP19","BP19","BP19 Black spruce treed bog","T",63,"MC2011"]
["VT_PlotEcosite","BP20","BP20","BP20 Labrador tea shrubby bog","T",64,"MC2011"]
["VT_PlotEcosite","BP21","BP21","BP21 Graminoid bog","T",65,"MC2011"]
["VT_PlotEcosite","BP22","BP22","BP22 Open bog","T",66,"MC2011"]
["VT_PlotEcosite","BP23","BP23","BP23 Tamarack treed fen","T",67,"MC2011"]
["VT_PlotEcosite","BP24","BP24","BP24 Leatherleaf shrubby poor fen","T",68,"MC2011"]
["VT_PlotEcosite","BP25","BP25","BP25 Willow shrubby rich fen","T",69,"MC2011"]
["VT_PlotEcosite","BP26","BP26","BP26 Graminoid fen","T",70,"MC2011"]
["VT_PlotEcosite","BP27","BP27","BP27 Open fen","T",71,"MC2011"]
["VT_PlotEcosite","BP28","BP28","BP28 Seaside arrow-grass marsh","T",72,"MC2011"]
["VT_PlotEcosite","PR1","PR1","PR1 Plains rough fescue-timber oatgrass grassland","T",73,"MC2011"]
["VT_PlotEcosite","PR2","PR2","PR2 Lodgepole pine/grass","T",74,"MC2011"]
["VT_PlotEcosite","PR3","PR3","PR3 Trembling aspen-lodgepole pine/bearberry","T",75,"MC2011"]
["VT_PlotEcosite","PR4","PR4","PR4 Trembling aspen/bearberry/strawberry","T",76,"MC2011"]
["VT_PlotEcosite","PR5","PR5","PR5 Trembling aspen/beaked hazel/sarsaparilla","T",77,"MC2011"]
["VT_PlotEcosite","PR6","PR6","PR6 White spruce/grass/other mosses","T",78,"MC2011"]
["VT_PlotEcosite","PR7","PR7","PR7 Trembling aspen-white spruce/western snowberry","T",79,"MC2011"]
["VT_PlotEcosite","PR8","PR8","PR8 Balsam poplar-trembling aspen-green ash","T",80,"MC2011"]
["VT_PlotEcosite","PR9","PR9","PR9 Graminoid fen","T",81,"MC2011"]
["VT_PlotEcosite","WTI","WTI","Class I wetland","T",1,"SK1971"]
["VT_PlotEcosite","WTII","WTII","Class II wetland","T",2,"SK1971"]
["VT_PlotEcosite","WTIII","WTIII","Class III wetland","T",3,"SK1971"]
["VT_PlotEcosite","WTIV","WTIV","Class IV wetland","T",4,"SK1971"]
["VT_PlotEcosite","WTV","WTV","Class V wetland","T",5,"SK1971"]
["VT_PlotEcosite","WTVI","WTVI","Class VI wetland","T",6,"SK1971"]
["VT_PlotEcosite","WTVII","WTVII","Class VII wetland","T",7,"SK1971"]
["VT_PlotEcosite","DMD","DMD","Low prairie zone","T",8,"SK1971"]
["VT_PlotEcosite","WMD","WMD","Wet meadow zone","T",9,"SK1971"]
["VT_PlotEcosite","SMH","SMH","Shallow marsh zone","T",10,"SK1971"]
["VT_PlotEcosite","DMH","DMH","Deep marsh zone","T",11,"SK1971"]
["VT_PlotEcosite","OPN","OPN","Permanent open-water zone","T",12,"SK1971"]
["VT_PlotEcosite","ALK","ALK","Intermittent alkali zone","T",13,"SK1971"]
["VT_PlotEcosite","FEN","FEN","Fen zone","T",14,"SK1971"]
["VT_PlotEcosite","PIGL/COST","PIGL/COST","White Spruce/Red-osier Dogwood HT","T",1,"TH2001"]
["VT_PlotEcosite","ACNE/PRVI","ACNE/PRVI","Manitoba Maple/Choke Cherry HT","T",2,"TH2001"]
["VT_PlotEcosite","FRPE/PRVI","FRPE/PRVI","Green Ash/Choke Cherry HT","T",3,"TH2001"]
["VT_PlotEcosite","POTR/COST","POTR/COST","Aspen/Red-osier Dogwood HT","T",4,"TH2001"]
["VT_PlotEcosite","SABE/CAAT","SABE/CAAT","Beaked Willow/Awned Sedge HT","T",5,"TH2001"]
["VT_PlotEcosite","SABE/COST","SABE/COST","Beaked Willow/Red-osier Dogwood HT","T",6,"TH2001"]
["VT_PlotEcosite","SALU/COST","SALU/COST","Yellow Willow/Red-osier Dogwood HT","T",7,"TH2001"]
["VT_PlotEcosite","SAPE/CAAT","SAPE/CAAT","Basket Willow/Awned Sedge HT","T",8,"TH2001"]
["VT_PlotEcosite","SAPE/COST","SAPE/COST","Basket Willow/Red-osier Dogwood HT","T",9,"TH2001"]
["VT_PlotEcosite","ARCA/AGSM","ARCA/AGSM","Silver Sagebrush/Western Wheat Grass HT","T",10,"TH2001"]
["VT_PlotEcosite","SAVE/AGSM","SAVE/AGSM","Greasewood/Western Wheat Grass HT","T",11,"TH2001"]
["VT_PlotEcosite","CAAQ","CAAQ","Water Sedge HT","T",12,"TH2001"]
["VT_PlotEcosite","CAAT","CAAT","Awned Sedge HT","T",13,"TH2001"]
["VT_PlotEcosite","CALA","CALA","Woolly Sedge HT","T",14,"TH2001"]
["VT_PlotEcosite","AGSM","AGSM","Western Wheat Grass HT","T",15,"TH2001"]
["VT_PlotEcosite","DECE","DECE","Tufted Hair Grass HT","T",16,"TH2001"]
["VT_PlotEcosite","DIST","DIST","Salt Grass HT","T",17,"TH2001"]
["VT_PlotEcosite","ELPA","ELPA","Creeping Spike Rush HT","T",18,"TH2001"]
["VT_PlotEcosite","PHAR","PHAR","Reed Canary Grass HT","T",19,"TH2001"]
["VT_PlotEcosite","PHAU","PHAU","Reed HT","T",20,"TH2001"]
["VT_PlotEcosite","PUNU","PUNU","Nuttall's Salt-meadow Grass HT","T",21,"TH2001"]
["VT_PlotEcosite","SCAC","SCAC","Great Bulrush HT","T",22,"TH2001"]
["VT_PlotEcosite","SCPA","SCPA","Prairie Bulrush HT","T",23,"TH2001"]
["VT_PlotEcosite","SCPU","SCPU","Three-square Rush HT","T",24,"TH2001"]
["VT_PlotEcosite","SCFE","SCFE","Spangletop HT","T",25,"TH2001"]
["VT_PlotEcosite","TYLA","TYLA","Common Cattail HT","T",26,"TH2001"]
["VT_PlotEcosite","SAN","SAN","Submesic Sand","T",1,"TG2008"]
["VT_PlotEcosite","LOA","LOA","Mesic Loam","T",2,"TG2008"]
["VT_PlotEcosite","MOI","MOI","Moist","T",3,"TG2008"]
["VT_PlotEcosite","AQU","AQU","Aquatic","T",1,"OTHER"]
["VT_PlotEcosite","SPF","SPF","Shrubby Poor Fen","T",2,"OTHER"]
["VT_PlotEcositeReference","EcositeReference","Short_Desc","Long_Desc","Active","Sort_Order"]
["VT_PlotEcositeReference","AB1990","AB-1990","Abouguendia 1990","T",1]
["VT_PlotEcositeReference","TP2007","TP-2007","Thorpe 2007","T",2]
["VT_PlotEcositeReference","TH2001","TH-2001","Thompson and Hansen 2001","T",3]
["VT_PlotEcositeReference","MC2011","MC2011","McLaughlan et al. 2011","T",4]
["VT_PlotEcositeReference","OTHER","OTHER","Others","T",5]
["VT_PlotEcositeReference","TG2008","TG-2008","Thorpe and Godwin 2008","T",6]
["VT_PlotEcositeReference","SK1971","SK-1971","Stewart and Kantrud 1971","T",7]
["VT_PlotGrazingLevel","GrazingLevel","Short_Desc","Long_Desc","Active","Sort_Order"]
["VT_PlotGrazingLevel","U","U","Ungrazed","T",1]
["VT_PlotGrazingLevel","G","G","Grazed","T",6]
["VT_PlotGrazingLevel","L","L","Light","T",2]
["VT_PlotGrazingLevel","M","M","Moderate","T",3]
["VT_PlotGrazingLevel","H","H","Heavy","T",4]
["VT_PlotGrazingLevel","S","S","Severe","T",5]
["VT_PlotLandForm","LandForm","Short_Desc","Long_Desc","Active","Sort_Order"]
["VT_PlotLandForm","MOR","MOR","Morainal","T",1]
["VT_PlotLandForm","GLS","GLS","Glacio-lacustrine","T",2]
["VT_PlotLandForm","GFV","GFV","Glacio-fluvial","T",3]
["VT_PlotLandForm","FLS","FLS","Fluvial-lacustrine","T",4]
["VT_PlotLandForm","EK","EK","Eskers/kames","T",5]
["VT_PlotLandForm","DUN","DUN","Dunes","T",6]
["VT_PlotLandForm","LOS","LOS","Loess","T",7]
["VT_PlotLandForm","FPL","FPL","Floodplain","T",8]
["VT_PlotLandForm","AFN","AFN","Alluvial fan","T",9]
["VT_PlotLandForm","DIS","DIS","Dissected","T",10]
["VT_PlotLandForm","BRK","BRK","Bedrock","T",11]
["VT_PlotLandForm","PTL","PTL","Peatland","T",12]
["VT_PlotLandUse","LandUse","Short_Desc","Long_Desc","Active","Sort_Order"]
["VT_PlotLandUse","NP","Native pasture","Native pasture","T",1]
["VT_PlotLandUse","NU","Native ungrazed","Native ungrazed","T",2]
["VT_PlotLandUse","SP","Seeded pasture","Seeded pasture","T",3]
["VT_PlotLandUse","SU","Seeded ungrazed","Seeded ungrazed","T",4]
["VT_PlotLandUse","CL","Cultivated","Cultivated","T",5]
["VT_PlotLandUse","DV","Development","Development","T",6]
["VT_PlotLandUse","CF","Commercial Forest","Commercial Forest","T",7]
["VT_PlotLandUse","GF","Grazed Forest","Grazed Forest","T",8]
["VT_PlotLandUse","PF","Protected Forest","Protected Forest","T",9]
["VT_PlotLayers","Layer","Short_Desc","Long_Desc","Active","Sort_Order"]
["VT_PlotLayers","ALL","All Layers","All layers combined (as in Braun-Blanquet releves)","T",1]
["VT_PlotLayers","TRE","Trees","The tree layer, consisting of woody plants with max height > 5m (approx.)","T",2]
["VT_PlotLayers","TSH","Tall shrubs","The tall shrub layer, consisting of woody plants with max height 1.5-5m (approx.)","T",3]
["VT_PlotLayers","SSH","Short shrubs","The short shrub layer, consisting of erect woody plants with max height < 1.5m (approx.)","T",4]
["VT_PlotLayers","PSH","Prostr shrubs","The prostrate shrub layer (eg. creeping juniper, bearberry)","T",5]
["VT_PlotLayers","USH","Undiff shrubs","The shrub layer, not differentiated by height class","T",6]
["VT_PlotLayers","STR","Shrubs/trees","The tree and shrub layers combined","T",7]
["VT_PlotLayers","HCM","Herbs with clubmoss","The herb layer (graminoids with forbs), including low clubmoss (Selaginella densa)","T",8]
["VT_PlotLayers","HWO","Herbs without clubmoss","The herb layer, excluding clubmoss","T",9]
["VT_PlotLayers","GRA","Graminoids","The graminoid (i.e. grass-like) portion of the herb layer","T",10]
["VT_PlotLayers","FCM","Forbs with clubmoss","The forb portion of the herb layer, including clubmoss","T",11]
["VT_PlotLayers","FWO","Forbs without clubmoss","The forb portion of the herb layer, excluding clubmoss","T",12]
["VT_PlotLayers","CBM","Clubmoss","The clubmoss portion of the herb layer","T",13]
["VT_PlotLayers","MSS","Moss","Moss","T",14]
["VT_PlotLayers","LCH","Lichen","Lichen","T",15]
["VT_PlotLayers","MLI","Moss/lichen","Mosses and lichens combined","T",16]
["VT_PlotLayers","LTR","Litter","Litter including LFH layers in forests","T",17]
["VT_PlotLayers","RCK","Rocks","Rocks","T",18]
["VT_PlotLayers","MUR","Manure","Manure","T",19]
["VT_PlotLayers","DWD","Dead wood","Dead wood","T",20]
["VT_PlotLayers","BSL","Bare soil","Bare soil","T",21]
["VT_PlotLayers","HMN","Human","Impervious surface created by humans (i.e. pavement)","T",22]
["VT_PlotLayers","FLT","Floating","Floating","T",23]
["VT_PlotLayers","EMG","Emergent","Emergent","T",24]
["VT_PlotLayers","SMG","Submergent","Submergent","T",25]
["VT_PlotLocationFormat","LocationFormat","Short_Desc","Long_Desc","Active","Sort_Order"]
["VT_PlotLocationFormat","UTM","UTM","Universal Transverse Mercator","T",1]
["VT_PlotLocationFormat","DD","Lat/Long DD","Latitude and longitude in decimal degrees","T",2]
["VT_PlotLocationFormat","LGL","Legal","Location in the land survey grid","T",3]
["VT_PlotLocationFormat","UNK","Unknown","Unknown","T",4]
["VT_PlotLocationSource","LocationSource","Short_Desc","Long_Desc","Active","Sort_Order"]
["VT_PlotLocationSource","GPS","GPS","Recorded with a GPS","T",1]
["VT_PlotLocationSource","MAP","Map","Read from a map","T",2]
["VT_PlotLocationSource","UNK","Unknown","Unknown","T",3]
["VT_PlotLocationType","LocationType","Short_Desc","Long_Desc","Active","Sort_Order"]
["VT_PlotLocationType","PT","Point","Location of a point plot","T",1]
["VT_PlotLocationType","E1","End1","Location of the first end of a line plot","T",2]
["VT_PlotLocationType","E2","End2","Location of the second end of a line plot","T",3]
["VT_PlotLocationType","CT","Centroid","Location of the centroid of a circular or rectangular plot","T",4]
["VT_PlotLocationType","IN","Included","Location of a point other than the centre which is included in a circular/rectangular/irregular plot","T",5]
["VT_PlotPercentType","PercentageType","Short_Desc","Long_Desc","Active","Sort_Order","Apply_Percent"]
["VT_PlotPercentType","FQ","Frequency","Percent of samples in which the species is present","T",1,"F"]
["VT_PlotPercentType","PB","% Biomass","Percent contribution of the species to total biomass of the layer,trace= 0.1%","T",2,"F"]
["VT_PlotPercentType","FC","Foliar cover","Percent of the ground area covered by vertical projection of the leaves/stems/flowers of plants of the species, trace= 0.1%","T",3,"T"]
["VT_PlotPercentType","CC","Canopy cover","Percent of the ground area covered by vertical projection of the canopies of plants of the species, trace= 0.1%","T",4,"T"]
["VT_PlotPercentType","UC","Unspecified cover","Percent cover, but not known whether foliar or canopy","T",5,"T"]
["VT_PlotPercentType","BC","Basal cover","percent of the ground area covered by the bases of plants of the species, Trace = 0.1%","T",6,"F"]
["VT_PlotRangeEcoregion","RangeEcoregion","Short_Desc","Long_Desc","Active","Sort_Order"]
["VT_PlotRangeEcoregion","CUFP","CUFP","Cypress Upland, fescue prairie","T",1]
["VT_PlotRangeEcoregion","CUMP","CUMP","Cypress Upland, mixed prairie","T",2]
["VT_PlotRangeEcoregion","DMG","DMG","Dry Mixed Grassland","T",3]
["VT_PlotRangeEcoregion","MG","MG","Mixed Grassland","T",4]
["VT_PlotRangeEcoregion","MMGD","MMGD","Moist Mixed Grassland, drier","T",5]
["VT_PlotRangeEcoregion","MMGM","MMGM","Moist Mixed Grassland, moister","T",6]
["VT_PlotRangeEcoregion","AP","AP","Aspen Parkland","T",7]
["VT_PlotSalinityClass","SalinityClass","Short_Desc","Long_Desc","Active","Sort_Order"]
["VT_PlotSalinityClass",1,1,"0-3%-Nonsaline (mapped)","T",1,null,null,null,{"$f":"CONCATENATE(D346,\" (mapped)\")","v":"0-3%-Nonsaline (mapped) (mapped)"}]
["VT_PlotSalinityClass","1MA","1MA","0-3%-Moderate-Bottoms of depressions/sloughs (mapped)","T",2,null,null,null,{"$f":"CONCATENATE(D347,\" (mapped)\")","v":"0-3%-Moderate-Bottoms of depressions/sloughs (mapped) (mapped)"}]
["VT_PlotSalinityClass","1MAD","1MAD","0-3%-Moderate-Bottoms of depressions/sloughs-Bottoms of dissections/runways (mapped)","T",3,null,null,null,"0-3%-Moderate-Bottoms of depressions/sloughs-Bottoms of dissections/runways (mapped) (mapped)"]
["VT_PlotSalinityClass","1MAS","1MAS","0-3%-Moderate-Bottoms of depressions/sloughs-Sides of hills and slopes (mapped)","T",4,null,null,null,"0-3%-Moderate-Bottoms of depressions/sloughs-Sides of hills and slopes (mapped) (mapped)"]
["VT_PlotSalinityClass","1MD","1MD","0-3%-Moderate-Bottoms of dissections/runways (mapped)","T",5,null,null,null,"0-3%-Moderate-Bottoms of dissections/runways (mapped) (mapped)"]
["VT_PlotSalinityClass","1MI","1MI","0-3%-Moderate-Within 60cm of soil surface (mapped)","T",6,null,null,null,"0-3%-Moderate-Within 60cm of soil surface (mapped) (mapped)"]
["VT_PlotSalinityClass","1MP","1MP","0-3%-Moderate-Edges of depressions/sloughs/runways (mapped)","T",7,null,null,null,"0-3%-Moderate-Edges of depressions/sloughs/runways (mapped) (mapped)"]
["VT_PlotSalinityClass","1MPA","1MPA","0-3%-Moderate-Edges of depressions/sloughs/runways-Bottoms of depressions/sloughs (mapped)","T",8,null,null,null,"0-3%-Moderate-Edges of depressions/sloughs/runways-Bottoms of depressions/sloughs (mapped) (mapped)"]
["VT_PlotSalinityClass","1MPD","1MPD","0-3%-Moderate-Edges of depressions/sloughs/runways-Bottoms of dissections/runways (mapped)","T",9,null,null,null,"0-3%-Moderate-Edges of depressions/sloughs/runways-Bottoms of dissections/runways (mapped) (mapped)"]
["VT_PlotSalinityClass","1MPS","1MPS","0-3%-Moderate-Edges of depressions/sloughs/runways-Sides of hills and slopes (mapped)","T",10,null,null,null,"0-3%-Moderate-Edges of depressions/sloughs/runways-Sides of hills and slopes (mapped) (mapped)"]
["VT_PlotSalinityClass","1MS","1MS","0-3%-Moderate-Sides of hills and slopes (mapped)","T",11,null,null,null,"0-3%-Moderate-Sides of hills and slopes (mapped) (mapped)"]
["VT_PlotSalinityClass","1SA","1SA","0-3%-Strong-Bottoms of depressions/sloughs (mapped)","T",12,null,null,null,"0-3%-Strong-Bottoms of depressions/sloughs (mapped) (mapped)"]
["VT_PlotSalinityClass","1SAD","1SAD","0-3%-Strong-Bottoms of depressions/sloughs-Bottoms of dissections/runways (mapped)","T",13,null,null,null,"0-3%-Strong-Bottoms of depressions/sloughs-Bottoms of dissections/runways (mapped) (mapped)"]
["VT_PlotSalinityClass","1SAS","1SAS","0-3%-Strong-Bottoms of depressions/sloughs-Sides of hills and slopes (mapped)","T",14,null,null,null,"0-3%-Strong-Bottoms of depressions/sloughs-Sides of hills and slopes (mapped) (mapped)"]
["VT_PlotSalinityClass","1SD","1SD","0-3%-Strong-Bottoms of dissections/runways (mapped)","T",15,null,null,null,"0-3%-Strong-Bottoms of dissections/runways (mapped) (mapped)"]
["VT_PlotSalinityClass","1SP","1SP","0-3%-Strong-Edges of depressions/sloughs/runways (mapped)","T",16,null,null,null,"0-3%-Strong-Edges of depressions/sloughs/runways (mapped) (mapped)"]
["VT_PlotSalinityClass","1SPA","1SPA","0-3%-Strong-Edges of depressions/sloughs/runways-Bottoms of depressions/sloughs (mapped)","T",17,null,null,null,"0-3%-Strong-Edges of depressions/sloughs/runways-Bottoms of depressions/sloughs (mapped) (mapped)"]
["VT_PlotSalinityClass","1SPD","1SPD","0-3%-Strong-Edges of depressions/sloughs/runways-Bottoms of dissections/runways (mapped)","T",18,null,null,null,"0-3%-Strong-Edges of depressions/sloughs/runways-Bottoms of dissections/runways (mapped) (mapped)"]
["VT_PlotSalinityClass","1SS","1SS","0-3%-Strong-Sides of hills and slopes (mapped)","T",19,null,null,null,"0-3%-Strong-Sides of hills and slopes (mapped) (mapped)"]
["VT_PlotSalinityClass","1VA","1VA","0-3%-Very Strong-Bottoms of depressions/sloughs (mapped)","T",20,null,null,null,"0-3%-Very Strong-Bottoms of depressions/sloughs (mapped) (mapped)"]
["VT_PlotSalinityClass","1VD","1VD","0-3%-Very Strong-Bottoms of dissections/runways (mapped)","T",21,null,null,null,"0-3%-Very Strong-Bottoms of dissections/runways (mapped) (mapped)"]
["VT_PlotSalinityClass","1WA","1WA","0-3%-Weak-Bottoms of depressions/sloughs (mapped)","T",22,null,null,null,"0-3%-Weak-Bottoms of depressions/sloughs (mapped) (mapped)"]
["VT_PlotSalinityClass","1WAD","1WAD","0-3%-Weak-Bottoms of depressions/sloughs-Bottoms of dissections/runways (mapped)","T",23,null,null,null,"0-3%-Weak-Bottoms of depressions/sloughs-Bottoms of dissections/runways (mapped) (mapped)"]
["VT_PlotSalinityClass","1WAS","1WAS","0-3%-Weak-Bottoms of depressions/sloughs-Sides of hills and slopes (mapped)","T",24,null,null,null,"0-3%-Weak-Bottoms of depressions/sloughs-Sides of hills and slopes (mapped) (mapped)"]
["VT_PlotSalinityClass","1WD","1WD","0-3%-Weak-Bottoms of dissections/runways (mapped)","T",25,null,null,null,"0-3%-Weak-Bottoms of dissections/runways (mapped) (mapped)"]
["VT_PlotSalinityClass","1WDA","1WDA","0-3%-Weak-Bottoms of dissections/runways-Bottoms of depressions/sloughs (mapped)","T",26,null,null,null,"0-3%-Weak-Bottoms of dissections/runways-Bottoms of depressions/sloughs (mapped) (mapped)"]
["VT_PlotSalinityClass","1WI","1WI","0-3%-Weak-Within 60cm of soil surface (mapped)","T",27,null,null,null,"0-3%-Weak-Within 60cm of soil surface (mapped) (mapped)"]
["VT_PlotSalinityClass","1WP","1WP","0-3%-Weak-Edges of depressions/sloughs/runways (mapped)","T",28,null,null,null,"0-3%-Weak-Edges of depressions/sloughs/runways (mapped) (mapped)"]
["VT_PlotSalinityClass","1WPA","1WPA","0-3%-Weak-Edges of depressions/sloughs/runways-Bottoms of depressions/sloughs (mapped)","T",29,null,null,null,"0-3%-Weak-Edges of depressions/sloughs/runways-Bottoms of depressions/sloughs (mapped) (mapped)"]
["VT_PlotSalinityClass","1WPD","1WPD","0-3%-Weak-Edges of depressions/sloughs/runways-Bottoms of dissections/runways (mapped)","T",30,null,null,null,"0-3%-Weak-Edges of depressions/sloughs/runways-Bottoms of dissections/runways (mapped) (mapped)"]
["VT_PlotSalinityClass","1WS","1WS","0-3%-Weak-Sides of hills and slopes (mapped)","T",31,null,null,null,"0-3%-Weak-Sides of hills and slopes (mapped) (mapped)"]
["VT_PlotSalinityClass",2,2,"3-10%-Nonsaline (mapped)","T",32,null,null,null,"3-10%-Nonsaline (mapped) (mapped)"]
["VT_PlotSalinityClass","2MA","2MA","3-10%-Moderate-Bottoms of depressions/sloughs (mapped)","T",33,null,null,null,"3-10%-Moderate-Bottoms of depressions/sloughs (mapped) (mapped)"]
["VT_PlotSalinityClass","2MAD","2MAD","3-10%-Moderate-Bottoms of depressions/sloughs-Bottoms of dissections/runways (mapped)","T",34,null,null,null,"3-10%-Moderate-Bottoms of depressions/sloughs-Bottoms of dissections/runways (mapped) (mapped)"]
["VT_PlotSalinityClass","2MAI","2MAI","3-10%-Moderate-Bottoms of depressions/sloughs-Within 60cm of soil surface (mapped)","T",35,null,null,null,"3-10%-Moderate-Bottoms of depressions/sloughs-Within 60cm of soil surface (mapped) (mapped)"]
["VT_PlotSalinityClass","2MAS","2MAS","3-10%-Moderate-Bottoms of depressions/sloughs-Sides of hills and slopes (mapped)","T",36,null,null,null,"3-10%-Moderate-Bottoms of depressions/sloughs-Sides of hills and slopes (mapped) (mapped)"]
["VT_PlotSalinityClass","2MD","2MD","3-10%-Moderate-Bottoms of dissections/runways (mapped)","T",37,null,null,null,"3-10%-Moderate-Bottoms of dissections/runways (mapped) (mapped)"]
["VT_PlotSalinityClass","2MI","2MI","3-10%-Moderate-Within 60cm of soil surface (mapped)","T",38,null,null,null,"3-10%-Moderate-Within 60cm of soil surface (mapped) (mapped)"]
["VT_PlotSalinityClass","2MP","2MP","3-10%-Moderate-Edges of depressions/sloughs/runways (mapped)","T",39,null,null,null,"3-10%-Moderate-Edges of depressions/sloughs/runways (mapped) (mapped)"]
["VT_PlotSalinityClass","2MPA","2MPA","3-10%-Moderate-Edges of depressions/sloughs/runways-Bottoms of depressions/sloughs (mapped)","T",40,null,null,null,"3-10%-Moderate-Edges of depressions/sloughs/runways-Bottoms of depressions/sloughs (mapped) (mapped)"]
["VT_PlotSalinityClass","2MPD","2MPD","3-10%-Moderate-Edges of depressions/sloughs/runways-Bottoms of dissections/runways (mapped)","T",41,null,null,null,"3-10%-Moderate-Edges of depressions/sloughs/runways-Bottoms of dissections/runways (mapped) (mapped)"]
["VT_PlotSalinityClass","2MPS","2MPS","3-10%-Moderate-Edges of depressions/sloughs/runways-Sides of hills and slopes (mapped)","T",42,null,null,null,"3-10%-Moderate-Edges of depressions/sloughs/runways-Sides of hills and slopes (mapped) (mapped)"]
["VT_PlotSalinityClass","2MS","2MS","3-10%-Moderate-Sides of hills and slopes (mapped)","T",43,null,null,null,"3-10%-Moderate-Sides of hills and slopes (mapped) (mapped)"]
["VT_PlotSalinityClass","2SA","2SA","3-10%-Strong-Bottoms of depressions/sloughs (mapped)","T",44,null,null,null,"3-10%-Strong-Bottoms of depressions/sloughs (mapped) (mapped)"]
["VT_PlotSalinityClass","2SAD","2SAD","3-10%-Strong-Bottoms of depressions/sloughs-Bottoms of dissections/runways (mapped)","T",45,null,null,null,"3-10%-Strong-Bottoms of depressions/sloughs-Bottoms of dissections/runways (mapped) (mapped)"]
["VT_PlotSalinityClass","2SAS","2SAS","3-10%-Strong-Bottoms of depressions/sloughs-Sides of hills and slopes (mapped)","T",46,null,null,null,"3-10%-Strong-Bottoms of depressions/sloughs-Sides of hills and slopes (mapped) (mapped)"]
["VT_PlotSalinityClass","2SD","2SD","3-10%-Strong-Bottoms of dissections/runways (mapped)","T",47,null,null,null,"3-10%-Strong-Bottoms of dissections/runways (mapped) (mapped)"]
["VT_PlotSalinityClass","2SI","2SI","3-10%-Strong-Within 60cm of soil surface (mapped)","T",48,null,null,null,"3-10%-Strong-Within 60cm of soil surface (mapped) (mapped)"]
["VT_PlotSalinityClass","2SP","2SP","3-10%-Strong-Edges of depressions/sloughs/runways (mapped)","T",49,null,null,null,"3-10%-Strong-Edges of depressions/sloughs/runways (mapped) (mapped)"]
["VT_PlotSalinityClass","2SPA","2SPA","3-10%-Strong-Edges of depressions/sloughs/runways-Bottoms of depressions/sloughs (mapped)","T",50,null,null,null,"3-10%-Strong-Edges of depressions/sloughs/runways-Bottoms of depressions/sloughs (mapped) (mapped)"]
["VT_PlotSalinityClass","2SPS","2SPS","3-10%-Strong-Edges of depressions/sloughs/runways-Sides of hills and slopes (mapped)","T",51,null,null,null,"3-10%-Strong-Edges of depressions/sloughs/runways-Sides of hills and slopes (mapped) (mapped)"]
["VT_PlotSalinityClass","2SS","2SS","3-10%-Strong-Sides of hills and slopes (mapped)","T",52,null,null,null,"3-10%-Strong-Sides of hills and slopes (mapped) (mapped)"]
["VT_PlotSalinityClass","2VA","2VA","3-10%-Very Strong-Bottoms of depressions/sloughs (mapped)","T",53,null,null,null,"3-10%-Very Strong-Bottoms of depressions/sloughs (mapped) (mapped)"]
["VT_PlotSalinityClass","2VAS","2VAS","3-10%-Very Strong-Bottoms of depressions/sloughs-Sides of hills and slopes (mapped)","T",54,null,null,null,"3-10%-Very Strong-Bottoms of depressions/sloughs-Sides of hills and slopes (mapped) (mapped)"]
["VT_PlotSalinityClass","2VP","2VP","3-10%-Very Strong-Edges of depressions/sloughs/runways (mapped)","T",55,null,null,null,"3-10%-Very Strong-Edges of depressions/sloughs/runways (mapped) (mapped)"]
["VT_PlotSalinityClass","2VPA","2VPA","3-10%-Very Strong-Edges of depressions/sloughs/runways-Bottoms of depressions/sloughs (mapped)","T",56,null,null,null,"3-10%-Very Strong-Edges of depressions/sloughs/runways-Bottoms of depressions/sloughs (mapped) (mapped)"]
["VT_PlotSalinityClass","2WA","2WA","3-10%-Weak-Bottoms of depressions/sloughs (mapped)","T",57,null,null,null,"3-10%-Weak-Bottoms of depressions/sloughs (mapped) (mapped)"]
["VT_PlotSalinityClass","2WAD","2WAD","3-10%-Weak-Bottoms of depressions/sloughs-Bottoms of dissections/runways (mapped)","T",58,null,null,null,"3-10%-Weak-Bottoms of depressions/sloughs-Bottoms of dissections/runways (mapped) (mapped)"]
["VT_PlotSalinityClass","2WD","2WD","3-10%-Weak-Bottoms of dissections/runways (mapped)","T",59,null,null,null,"3-10%-Weak-Bottoms of dissections/runways (mapped) (mapped)"]
["VT_PlotSalinityClass","2WI","2WI","3-10%-Weak-Within 60cm of soil surface (mapped)","T",60,null,null,null,"3-10%-Weak-Within 60cm of soil surface (mapped) (mapped)"]
["VT_PlotSalinityClass","2WP","2WP","3-10%-Weak-Edges of depressions/sloughs/runways (mapped)","T",61,null,null,null,"3-10%-Weak-Edges of depressions/sloughs/runways (mapped) (mapped)"]
["VT_PlotSalinityClass","2WPA","2WPA","3-10%-Weak-Edges of depressions/sloughs/runways-Bottoms of depressions/sloughs (mapped)","T",62,null,null,null,"3-10%-Weak-Edges of depressions/sloughs/runways-Bottoms of depressions/sloughs (mapped) (mapped)"]
["VT_PlotSalinityClass","2WPD","2WPD","3-10%-Weak-Edges of depressions/sloughs/runways-Bottoms of dissections/runways (mapped)","T",63,null,null,null,"3-10%-Weak-Edges of depressions/sloughs/runways-Bottoms of dissections/runways (mapped) (mapped)"]
["VT_PlotSalinityClass","2WS","2WS","3-10%-Weak-Sides of hills and slopes (mapped)","T",64,null,null,null,"3-10%-Weak-Sides of hills and slopes (mapped) (mapped)"]
["VT_PlotSalinityClass",3,3,"10-20%-Nonsaline (mapped)","T",65,null,null,null,"10-20%-Nonsaline (mapped) (mapped)"]
["VT_PlotSalinityClass","3MA","3MA","10-20%-Moderate-Bottoms of depressions/sloughs (mapped)","T",66,null,null,null,{"$f":"CONCATENATE(D411,\" (mapped)\")","v":"10-20%-Moderate-Bottoms of depressions/sloughs (mapped) (mapped)"}]
["VT_PlotSalinityClass","3MAD","3MAD","10-20%-Moderate-Bottoms of depressions/sloughs-Bottoms of dissections/runways (mapped)","T",67,null,null,null,"10-20%-Moderate-Bottoms of depressions/sloughs-Bottoms of dissections/runways (mapped) (mapped)"]
["VT_PlotSalinityClass","3MAS","3MAS","10-20%-Moderate-Bottoms of depressions/sloughs-Sides of hills and slopes (mapped)","T",68,null,null,null,"10-20%-Moderate-Bottoms of depressions/sloughs-Sides of hills and slopes (mapped) (mapped)"]
["VT_PlotSalinityClass","3MD","3MD","10-20%-Moderate-Bottoms of dissections/runways (mapped)","T",69,null,null,null,"10-20%-Moderate-Bottoms of dissections/runways (mapped) (mapped)"]
["VT_PlotSalinityClass","3MI","3MI","10-20%-Moderate-Within 60cm of soil surface (mapped)","T",70,null,null,null,"10-20%-Moderate-Within 60cm of soil surface (mapped) (mapped)"]
["VT_PlotSalinityClass","3MP","3MP","10-20%-Moderate-Edges of depressions/sloughs/runways (mapped)","T",71,null,null,null,"10-20%-Moderate-Edges of depressions/sloughs/runways (mapped) (mapped)"]
["VT_PlotSalinityClass","3MPA","3MPA","10-20%-Moderate-Edges of depressions/sloughs/runways-Bottoms of depressions/sloughs (mapped)","T",72,null,null,null,"10-20%-Moderate-Edges of depressions/sloughs/runways-Bottoms of depressions/sloughs (mapped) (mapped)"]
["VT_PlotSalinityClass","3MPD","3MPD","10-20%-Moderate-Edges of depressions/sloughs/runways-Bottoms of dissections/runways (mapped)","T",73,null,null,null,"10-20%-Moderate-Edges of depressions/sloughs/runways-Bottoms of dissections/runways (mapped) (mapped)"]
["VT_PlotSalinityClass","3MPS","3MPS","10-20%-Moderate-Edges of depressions/sloughs/runways-Sides of hills and slopes (mapped)","T",74,null,null,null,"10-20%-Moderate-Edges of depressions/sloughs/runways-Sides of hills and slopes (mapped) (mapped)"]
["VT_PlotSalinityClass","3MS","3MS","10-20%-Moderate-Sides of hills and slopes (mapped)","T",75,null,null,null,"10-20%-Moderate-Sides of hills and slopes (mapped) (mapped)"]
["VT_PlotSalinityClass","3SA","3SA","10-20%-Strong-Bottoms of depressions/sloughs (mapped)","T",76,null,null,null,"10-20%-Strong-Bottoms of depressions/sloughs (mapped) (mapped)"]
["VT_PlotSalinityClass","3SAD","3SAD","10-20%-Strong-Bottoms of depressions/sloughs-Bottoms of dissections/runways (mapped)","T",77,null,null,null,"10-20%-Strong-Bottoms of depressions/sloughs-Bottoms of dissections/runways (mapped) (mapped)"]
["VT_PlotSalinityClass","3SAS","3SAS","10-20%-Strong-Bottoms of depressions/sloughs-Sides of hills and slopes (mapped)","T",78,null,null,null,"10-20%-Strong-Bottoms of depressions/sloughs-Sides of hills and slopes (mapped) (mapped)"]
["VT_PlotSalinityClass","3SD","3SD","10-20%-Strong-Bottoms of dissections/runways (mapped)","T",79,null,null,null,"10-20%-Strong-Bottoms of dissections/runways (mapped) (mapped)"]
["VT_PlotSalinityClass","3SI","3SI","10-20%-Strong-Within 60cm of soil surface (mapped)","T",80,null,null,null,"10-20%-Strong-Within 60cm of soil surface (mapped) (mapped)"]
["VT_PlotSalinityClass","3SP","3SP","10-20%-Strong-Edges of depressions/sloughs/runways (mapped)","T",81,null,null,null,"10-20%-Strong-Edges of depressions/sloughs/runways (mapped) (mapped)"]
["VT_PlotSalinityClass","3SPA","3SPA","10-20%-Strong-Edges of depressions/sloughs/runways-Bottoms of depressions/sloughs (mapped)","T",82,null,null,null,"10-20%-Strong-Edges of depressions/sloughs/runways-Bottoms of depressions/sloughs (mapped) (mapped)"]
["VT_PlotSalinityClass","3VA","3VA","10-20%-Very Strong-Bottoms of depressions/sloughs (mapped)","T",83,null,null,null,"10-20%-Very Strong-Bottoms of depressions/sloughs (mapped) (mapped)"]
["VT_PlotSalinityClass","3VP","3VP","10-20%-Very Strong-Edges of depressions/sloughs/runways (mapped)","T",84,null,null,null,"10-20%-Very Strong-Edges of depressions/sloughs/runways (mapped) (mapped)"]
["VT_PlotSalinityClass","3WA","3WA","10-20%-Weak-Bottoms of depressions/sloughs (mapped)","T",85,null,null,null,"10-20%-Weak-Bottoms of depressions/sloughs (mapped) (mapped)"]
["VT_PlotSalinityClass","3WD","3WD","10-20%-Weak-Bottoms of dissections/runways (mapped)","T",86,null,null,null,"10-20%-Weak-Bottoms of dissections/runways (mapped) (mapped)"]
["VT_PlotSalinityClass","3WI","3WI","10-20%-Weak-Within 60cm of soil surface (mapped)","T",87,null,null,null,"10-20%-Weak-Within 60cm of soil surface (mapped) (mapped)"]
["VT_PlotSalinityClass","3WP","3WP","10-20%-Weak-Edges of depressions/sloughs/runways (mapped)","T",88,null,null,null,"10-20%-Weak-Edges of depressions/sloughs/runways (mapped) (mapped)"]
["VT_PlotSalinityClass","3WPA","3WPA","10-20%-Weak-Edges of depressions/sloughs/runways-Bottoms of depressions/sloughs (mapped)","T",89,null,null,null,"10-20%-Weak-Edges of depressions/sloughs/runways-Bottoms of depressions/sloughs (mapped) (mapped)"]
["VT_PlotSalinityClass",4,4,"20-40%-Nonsaline (mapped)","T",90,null,null,null,"20-40%-Nonsaline (mapped) (mapped)"]
["VT_PlotSalinityClass","4MA","4MA","20-40%-Moderate-Bottoms of depressions/sloughs (mapped)","T",91,null,null,null,"20-40%-Moderate-Bottoms of depressions/sloughs (mapped) (mapped)"]
["VT_PlotSalinityClass","4MAD","4MAD","20-40%-Moderate-Bottoms of depressions/sloughs-Bottoms of dissections/runways (mapped)","T",92,null,null,null,"20-40%-Moderate-Bottoms of depressions/sloughs-Bottoms of dissections/runways (mapped) (mapped)"]
["VT_PlotSalinityClass","4MAS","4MAS","20-40%-Moderate-Bottoms of depressions/sloughs-Sides of hills and slopes (mapped)","T",93,null,null,null,"20-40%-Moderate-Bottoms of depressions/sloughs-Sides of hills and slopes (mapped) (mapped)"]
["VT_PlotSalinityClass","4MD","4MD","20-40%-Moderate-Bottoms of dissections/runways (mapped)","T",94,null,null,null,"20-40%-Moderate-Bottoms of dissections/runways (mapped) (mapped)"]
["VT_PlotSalinityClass","4MI","4MI","20-40%-Moderate-Within 60cm of soil surface (mapped)","T",95,null,null,null,"20-40%-Moderate-Within 60cm of soil surface (mapped) (mapped)"]
["VT_PlotSalinityClass","4MPA","4MPA","20-40%-Moderate-Edges of depressions/sloughs/runways-Bottoms of depressions/sloughs (mapped)","T",96,null,null,null,"20-40%-Moderate-Edges of depressions/sloughs/runways-Bottoms of depressions/sloughs (mapped) (mapped)"]
["VT_PlotSalinityClass","4SA","4SA","20-40%-Strong-Bottoms of depressions/sloughs (mapped)","T",97,null,null,null,"20-40%-Strong-Bottoms of depressions/sloughs (mapped) (mapped)"]
["VT_PlotSalinityClass","4SAD","4SAD","20-40%-Strong-Bottoms of depressions/sloughs-Bottoms of dissections/runways (mapped)","T",98,null,null,null,"20-40%-Strong-Bottoms of depressions/sloughs-Bottoms of dissections/runways (mapped) (mapped)"]
["VT_PlotSalinityClass","4SAI","4SAI","20-40%-Strong-Bottoms of depressions/sloughs-Within 60cm of soil surface (mapped)","T",99,null,null,null,"20-40%-Strong-Bottoms of depressions/sloughs-Within 60cm of soil surface (mapped) (mapped)"]
["VT_PlotSalinityClass","4SAS","4SAS","20-40%-Strong-Bottoms of depressions/sloughs-Sides of hills and slopes (mapped)","T",100,null,null,null,"20-40%-Strong-Bottoms of depressions/sloughs-Sides of hills and slopes (mapped) (mapped)"]
["VT_PlotSalinityClass","4SD","4SD","20-40%-Strong-Bottoms of dissections/runways (mapped)","T",101,null,null,null,"20-40%-Strong-Bottoms of dissections/runways (mapped) (mapped)"]
["VT_PlotSalinityClass","4SI","4SI","20-40%-Strong-Within 60cm of soil surface (mapped)","T",102,null,null,null,"20-40%-Strong-Within 60cm of soil surface (mapped) (mapped)"]
["VT_PlotSalinityClass","4SP","4SP","20-40%-Strong-Edges of depressions/sloughs/runways (mapped)","T",103,null,null,null,"20-40%-Strong-Edges of depressions/sloughs/runways (mapped) (mapped)"]
["VT_PlotSalinityClass","4SPA","4SPA","20-40%-Strong-Edges of depressions/sloughs/runways-Bottoms of depressions/sloughs (mapped)","T",104,null,null,null,"20-40%-Strong-Edges of depressions/sloughs/runways-Bottoms of depressions/sloughs (mapped) (mapped)"]
["VT_PlotSalinityClass","4VA","4VA","20-40%-Very Strong-Bottoms of depressions/sloughs (mapped)","T",105,null,null,null,"20-40%-Very Strong-Bottoms of depressions/sloughs (mapped) (mapped)"]
["VT_PlotSalinityClass","4VAS","4VAS","20-40%-Very Strong-Bottoms of depressions/sloughs-Sides of hills and slopes (mapped)","T",106,null,null,null,"20-40%-Very Strong-Bottoms of depressions/sloughs-Sides of hills and slopes (mapped) (mapped)"]
["VT_PlotSalinityClass","4WA","4WA","20-40%-Weak-Bottoms of depressions/sloughs (mapped)","T",107,null,null,null,"20-40%-Weak-Bottoms of depressions/sloughs (mapped) (mapped)"]
["VT_PlotSalinityClass",5,5,"40-70%-Nonsaline (mapped)","T",108,null,null,null,"40-70%-Nonsaline (mapped) (mapped)"]
["VT_PlotSalinityClass","5MA","5MA","40-70%-Moderate-Bottoms of depressions/sloughs (mapped)","T",109,null,null,null,"40-70%-Moderate-Bottoms of depressions/sloughs (mapped) (mapped)"]
["VT_PlotSalinityClass","5MAD","5MAD","40-70%-Moderate-Bottoms of depressions/sloughs-Bottoms of dissections/runways (mapped)","T",110,null,null,null,"40-70%-Moderate-Bottoms of depressions/sloughs-Bottoms of dissections/runways (mapped) (mapped)"]
["VT_PlotSalinityClass","5MD","5MD","40-70%-Moderate-Bottoms of dissections/runways (mapped)","T",111,null,null,null,"40-70%-Moderate-Bottoms of dissections/runways (mapped) (mapped)"]
["VT_PlotSalinityClass","5MI","5MI","40-70%-Moderate-Within 60cm of soil surface (mapped)","T",112,null,null,null,"40-70%-Moderate-Within 60cm of soil surface (mapped) (mapped)"]
["VT_PlotSalinityClass","5MPA","5MPA","40-70%-Moderate-Edges of depressions/sloughs/runways-Bottoms of depressions/sloughs (mapped)","T",113,null,null,null,"40-70%-Moderate-Edges of depressions/sloughs/runways-Bottoms of depressions/sloughs (mapped) (mapped)"]
["VT_PlotSalinityClass","5MS","5MS","40-70%-Moderate-Sides of hills and slopes (mapped)","T",114,null,null,null,"40-70%-Moderate-Sides of hills and slopes (mapped) (mapped)"]
["VT_PlotSalinityClass","5SA","5SA","40-70%-Strong-Bottoms of depressions/sloughs (mapped)","T",115,null,null,null,"40-70%-Strong-Bottoms of depressions/sloughs (mapped) (mapped)"]
["VT_PlotSalinityClass","5SAD","5SAD","40-70%-Strong-Bottoms of depressions/sloughs-Bottoms of dissections/runways (mapped)","T",116,null,null,null,"40-70%-Strong-Bottoms of depressions/sloughs-Bottoms of dissections/runways (mapped) (mapped)"]
["VT_PlotSalinityClass","5SD","5SD","40-70%-Strong-Bottoms of dissections/runways (mapped)","T",117,null,null,null,"40-70%-Strong-Bottoms of dissections/runways (mapped) (mapped)"]
["VT_PlotSalinityClass","5SI","5SI","40-70%-Strong-Within 60cm of soil surface (mapped)","T",118,null,null,null,"40-70%-Strong-Within 60cm of soil surface (mapped) (mapped)"]
["VT_PlotSalinityClass","5VA","5VA","40-70%-Very Strong-Bottoms of depressions/sloughs (mapped)","T",119,null,null,null,"40-70%-Very Strong-Bottoms of depressions/sloughs (mapped) (mapped)"]
["VT_PlotSalinityClass","5VAS","5VAS","40-70%-Very Strong-Bottoms of depressions/sloughs-Sides of hills and slopes (mapped)","T",120,null,null,null,"40-70%-Very Strong-Bottoms of depressions/sloughs-Sides of hills and slopes (mapped) (mapped)"]
["VT_PlotSalinityClass","5VD","5VD","40-70%-Very Strong-Bottoms of dissections/runways (mapped)","T",121,null,null,null,"40-70%-Very Strong-Bottoms of dissections/runways (mapped) (mapped)"]
["VT_PlotSalinityClass","5WA","5WA","40-70%-Weak-Bottoms of depressions/sloughs (mapped)","T",122,null,null,null,"40-70%-Weak-Bottoms of depressions/sloughs (mapped) (mapped)"]
["VT_PlotSalinityClass",6,6,">70%-Nonsaline (mapped)","T",123,null,null,null,">70%-Nonsaline (mapped) (mapped)"]
["VT_PlotSalinityClass","6MA","6MA",">70%-Moderate-Bottoms of depressions/sloughs (mapped)","T",124,null,null,null,">70%-Moderate-Bottoms of depressions/sloughs (mapped) (mapped)"]
["VT_PlotSalinityClass","6MD","6MD",">70%-Moderate-Bottoms of dissections/runways (mapped)","T",125,null,null,null,">70%-Moderate-Bottoms of dissections/runways (mapped) (mapped)"]
["VT_PlotSalinityClass","6SA","6SA",">70%-Strong-Bottoms of depressions/sloughs (mapped)","T",126,null,null,null,">70%-Strong-Bottoms of depressions/sloughs (mapped) (mapped)"]
["VT_PlotSalinityClass","6SAD","6SAD",">70%-Strong-Bottoms of depressions/sloughs-Bottoms of dissections/runways (mapped)","T",127,null,null,null,">70%-Strong-Bottoms of depressions/sloughs-Bottoms of dissections/runways (mapped) (mapped)"]
["VT_PlotSalinityClass","6SAP","6SAP",">70%-Strong-Bottoms of depressions/sloughs-Edges of depressions/sloughs/runways (mapped)","T",128,null,null,null,">70%-Strong-Bottoms of depressions/sloughs-Edges of depressions/sloughs/runways (mapped) (mapped)"]
["VT_PlotSalinityClass","6SAS","6SAS",">70%-Strong-Bottoms of depressions/sloughs-Sides of hills and slopes (mapped)","T",129,null,null,null,">70%-Strong-Bottoms of depressions/sloughs-Sides of hills and slopes (mapped) (mapped)"]
["VT_PlotSalinityClass","6SI","6SI",">70%-Strong-Within 60cm of soil surface (mapped)","T",130,null,null,null,{"$f":"CONCATENATE(D475,\" (mapped)\")","v":">70%-Strong-Within 60cm of soil surface (mapped) (mapped)"}]
["VT_PlotSalinityClass","6VA","6VA",">70%-Very Strong-Bottoms of depressions/sloughs (mapped)","T",131,null,null,null,">70%-Very Strong-Bottoms of depressions/sloughs (mapped) (mapped)"]
["VT_PlotSalinityClass","6VAP","6VAP",">70%-Very Strong-Bottoms of depressions/sloughs-Edges of depressions/sloughs/runways (mapped)","T",132,null,null,null,">70%-Very Strong-Bottoms of depressions/sloughs-Edges of depressions/sloughs/runways (mapped) (mapped)"]
["VT_PlotSalinityClass","6VI","6VI",">70%-Very Strong-Within 60cm of soil surface (mapped)","T",133,null,null,null,">70%-Very Strong-Within 60cm of soil surface (mapped) (mapped)"]
["VT_PlotSalinityClass","6WA","6WA",">70%-Weak-Bottoms of depressions/sloughs (mapped)","T",134,null,null,null,">70%-Weak-Bottoms of depressions/sloughs (mapped) (mapped)"]
["VT_PlotSalinityClass","U","U","Unclassified (mapped)","T",135,null,null,null,"Unclassified (mapped) (mapped)"]
["VT_PlotSalinityEvidence","SalinityEvidence","Short_Desc","Long_Desc","Active","Sort_Order"]
["VT_PlotSalinityEvidence","VS","VS","Visible salt","T",1]
["VT_PlotSalinityEvidence","STP","STP","Salt-tolerant plants","T",2]
["VT_PlotSalinityEvidence","NO","None","None","T",3]
["VT_PlotShape","PlotShape","Short_Desc","Long_Desc","Active","Sort_Order"]
["VT_PlotShape","P","Point","Point","T",1]
["VT_PlotShape","L","Line","Line","T",2]
["VT_PlotShape","C","Circle","Circle","T",3]
["VT_PlotShape","R","Rectangular","Rectangular","T",4]
["VT_PlotShape","I","Irregular","Irregular","T",5]
["VT_PlotSlopeClass","SlopeClass","Short_Desc","Long_Desc","Active","Sort_Order"]
["VT_PlotSlopeClass","1","1","0-0.5% (mapped)","T",1,null,null,null,{"$f":"CONCATENATE(D492,\" (mapped)\")","v":"0-0.5% (mapped) (mapped)"}]
["VT_PlotSlopeClass","1-2","1-2","0-2.0% (mapped)","T",2,null,null,null,"0-2.0% (mapped) (mapped)"]
["VT_PlotSlopeClass","1-3","1-3","0-5.0% (mapped)","T",3,null,null,null,"0-5.0% (mapped) (mapped)"]
["VT_PlotSlopeClass","2","2","0.5-2.0% (mapped)","T",4,null,null,null,"0.5-2.0% (mapped) (mapped)"]
["VT_PlotSlopeClass","2-1","2-1","0.5-0.5% (mapped)","T",5,null,null,null,"0.5-0.5% (mapped) (mapped)"]
["VT_PlotSlopeClass","2-3","2-3","0.5-5.0% (mapped)","T",6,null,null,null,"0.5-5.0% (mapped) (mapped)"]
["VT_PlotSlopeClass","2-4","2-4","0.5-10.0% (mapped)","T",7,null,null,null,"0.5-10.0% (mapped) (mapped)"]
["VT_PlotSlopeClass","2-5","2-5","0.5-15% (mapped)","T",8,null,null,null,"0.5-15% (mapped) (mapped)"]
["VT_PlotSlopeClass","2-6","2-6","0.5-30% (mapped)","T",9,null,null,null,"0.5-30% (mapped) (mapped)"]
["VT_PlotSlopeClass","3","3","2.0-5.0% (mapped)","T",10,null,null,null,"2.0-5.0% (mapped) (mapped)"]
["VT_PlotSlopeClass","3-2","3-2","2.0-2.0% (mapped)","T",11,null,null,null,"2.0-2.0% (mapped) (mapped)"]
["VT_PlotSlopeClass","3-4","3-4","2.0-10.0% (mapped)","T",12,null,null,null,"2.0-10.0% (mapped) (mapped)"]
["VT_PlotSlopeClass","3-5","3-5","2.0-15% (mapped)","T",13,null,null,null,"2.0-15% (mapped) (mapped)"]
["VT_PlotSlopeClass","3-6","3-6","2.0-30% (mapped)","T",14,null,null,null,"2.0-30% (mapped) (mapped)"]
["VT_PlotSlopeClass","3-7","3-7","2.0-45% (mapped)","T",15,null,null,null,"2.0-45% (mapped) (mapped)"]
["VT_PlotSlopeClass","4","4","5.0-10.0% (mapped)","T",16,null,null,null,"5.0-10.0% (mapped) (mapped)"]
["VT_PlotSlopeClass","4-2","4-2","5.0-2.0% (mapped)","T",17,null,null,null,"5.0-2.0% (mapped) (mapped)"]
["VT_PlotSlopeClass","4-3","4-3","5.0-5.0% (mapped)","T",18,null,null,null,"5.0-5.0% (mapped) (mapped)"]
["VT_PlotSlopeClass","4-5","4-5","5.0-15% (mapped)","T",19,null,null,null,"5.0-15% (mapped) (mapped)"]
["VT_PlotSlopeClass","4-6","4-6","5.0-30% (mapped)","T",20,null,null,null,"5.0-30% (mapped) (mapped)"]
["VT_PlotSlopeClass","4-7","4-7","5.0-45% (mapped)","T",21,null,null,null,"5.0-45% (mapped) (mapped)"]
["VT_PlotSlopeClass","5","5","10-15% (mapped)","T",22,null,null,null,"10-15% (mapped) (mapped)"]
["VT_PlotSlopeClass","5-3","5-3","10-5.0% (mapped)","T",23,null,null,null,"10-5.0% (mapped) (mapped)"]
["VT_PlotSlopeClass","5-4","5-4","10-10.0% (mapped)","T",24,null,null,null,"10-10.0% (mapped) (mapped)"]
["VT_PlotSlopeClass","5-6","5-6","10-30% (mapped)","T",25,null,null,null,"10-30% (mapped) (mapped)"]
["VT_PlotSlopeClass","5-7","5-7","10-45% (mapped)","T",26,null,null,null,"10-45% (mapped) (mapped)"]
["VT_PlotSlopeClass","6","6","15-30% (mapped)","T",27,null,null,null,"15-30% (mapped) (mapped)"]
["VT_PlotSlopeClass","6-3","6-3","15-5.0% (mapped)","T",28,null,null,null,"15-5.0% (mapped) (mapped)"]
["VT_PlotSlopeClass","6-4","6-4","15-10.0% (mapped)","T",29,null,null,null,"15-10.0% (mapped) (mapped)"]
["VT_PlotSlopeClass","6-5","6-5","15-15% (mapped)","T",30,null,null,null,"15-15% (mapped) (mapped)"]
["VT_PlotSlopeClass","6-7","6-7","15-45% (mapped)","T",31,null,null,null,"15-45% (mapped) (mapped)"]
["VT_PlotSlopeClass","7","7","30-45% (mapped)","T",32,null,null,null,"30-45% (mapped) (mapped)"]
["VT_PlotSlopeClass","7-3","7-3","30-5.0% (mapped)","T",33,null,null,null,"30-5.0% (mapped) (mapped)"]
["VT_PlotSlopeClass","7-4","7-4","30-10.0% (mapped)","T",34,null,null,null,"30-10.0% (mapped) (mapped)"]
["VT_PlotSlopeClass","7-5","7-5","30-15% (mapped)","T",35,null,null,null,"30-15% (mapped) (mapped)"]
["VT_PlotSlopeClass","7-6","7-6","30-30% (mapped)","T",36,null,null,null,"30-30% (mapped) (mapped)"]
["VT_PlotSoilAssociation","SoilAssociation","Short_Desc","Long_Desc","Active","Sort_Order"]
["VT_PlotSoilAssociation","AD","ARDILL","ARDILL (field)","T",1,null,null,null,{"$f":"CONCATENATE(D529,\" (field)\")","v":"ARDILL (field) (field)"}]
["VT_PlotSoilAssociation","AM","AMULET","AMULET (field)","T",2,null,null,null,{"$f":"CONCATENATE(D530,\" (field)\")","v":"AMULET (field) (field)"}]
["VT_PlotSoilAssociation","AN","ALLAN","ALLAN (field)","T",3,null,null,null,"ALLAN (field) (field)"]
["VT_PlotSoilAssociation","AO","ARCOLA","ARCOLA (field)","T",4,null,null,null,"ARCOLA (field) (field)"]
["VT_PlotSoilAssociation","AP","ANTELOPE","ANTELOPE (field)","T",5,null,null,null,"ANTELOPE (field) (field)"]
["VT_PlotSoilAssociation","AQ","ASQUITH","ASQUITH (field)","T",6,null,null,null,"ASQUITH (field) (field)"]
["VT_PlotSoilAssociation","AR","ARBORFIELD","ARBORFIELD (field)","T",7,null,null,null,"ARBORFIELD (field) (field)"]
["VT_PlotSoilAssociation","AT","ALERT","ALERT (field)","T",8,null,null,null,"ALERT (field) (field)"]
["VT_PlotSoilAssociation","AV","ALLUVIUM","ALLUVIUM (field)","T",9,null,null,null,"ALLUVIUM (field) (field)"]
["VT_PlotSoilAssociation","AW","ARBOW","ARBOW (field)","T",10,null,null,null,"ARBOW (field) (field)"]
["VT_PlotSoilAssociation","BA","BALCARRES","BALCARRES (field)","T",11,null,null,null,"BALCARRES (field) (field)"]
["VT_PlotSoilAssociation","BB","BLAINE LAKE","BLAINE LAKE (field)","T",12,null,null,null,"BLAINE LAKE (field) (field)"]
["VT_PlotSoilAssociation","BC","BONE CREEK","BONE CREEK (field)","T",13,null,null,null,"BONE CREEK (field) (field)"]
["VT_PlotSoilAssociation","BD","BODMIN","BODMIN (field)","T",14,null,null,null,"BODMIN (field) (field)"]
["VT_PlotSoilAssociation","BE","BEAR","BEAR (field)","T",15,null,null,null,"BEAR (field) (field)"]
["VT_PlotSoilAssociation","BF","BUFFALO HORN","BUFFALO HORN (field)","T",16,null,null,null,"BUFFALO HORN (field) (field)"]
["VT_PlotSoilAssociation","BG","BIGGAR","BIGGAR (field)","T",17,null,null,null,"BIGGAR (field) (field)"]
["VT_PlotSoilAssociation","BH","BATTLE HEIGHTS","BATTLE HEIGHTS (field)","T",18,null,null,null,"BATTLE HEIGHTS (field) (field)"]
["VT_PlotSoilAssociation","BJ","BELANGER","BELANGER (field)","T",19,null,null,null,"BELANGER (field) (field)"]
["VT_PlotSoilAssociation","BK","BROOKING","BROOKING (field)","T",20,null,null,null,"BROOKING (field) (field)"]
["VT_PlotSoilAssociation","BL","BAGWA LAKE","BAGWA LAKE (field)","T",21,null,null,null,"BAGWA LAKE (field) (field)"]
["VT_PlotSoilAssociation","BM","BIG MUDDY","BIG MUDDY (field)","T",22,null,null,null,"BIG MUDDY (field) (field)"]
["VT_PlotSoilAssociation","BN","BAINBRIDGE","BAINBRIDGE (field)","T",23,null,null,null,"BAINBRIDGE (field) (field)"]
["VT_PlotSoilAssociation","BO","BOW RIVER","BOW RIVER (field)","T",24,null,null,null,"BOW RIVER (field) (field)"]
["VT_PlotSoilAssociation","BR","BRADWELL","BRADWELL (field)","T",25,null,null,null,"BRADWELL (field) (field)"]
["VT_PlotSoilAssociation","BT","BITTERN LAKE","BITTERN LAKE (field)","T",26,null,null,null,"BITTERN LAKE (field) (field)"]
["VT_PlotSoilAssociation","BU","BREDENBURY","BREDENBURY (field)","T",27,null,null,null,"BREDENBURY (field) (field)"]
["VT_PlotSoilAssociation","BV","BEAVER RIVER","BEAVER RIVER (field)","T",28,null,null,null,"BEAVER RIVER (field) (field)"]
["VT_PlotSoilAssociation","BX","BEACH","BEACH (field)","T",29,null,null,null,"BEACH (field) (field)"]
["VT_PlotSoilAssociation","BY","BIRSAY","BIRSAY (field)","T",30,null,null,null,"BIRSAY (field) (field)"]
["VT_PlotSoilAssociation","BZ","BORDERLAND","BORDERLAND (field)","T",31,null,null,null,"BORDERLAND (field) (field)"]
["VT_PlotSoilAssociation","CA","CANORA","CANORA (field)","T",32,null,null,null,"CANORA (field) (field)"]
["VT_PlotSoilAssociation","CB","CUMBERLAND","CUMBERLAND (field)","T",33,null,null,null,"CUMBERLAND (field) (field)"]
["VT_PlotSoilAssociation","CC","CATON CREEK","CATON CREEK (field)","T",34,null,null,null,"CATON CREEK (field) (field)"]
["VT_PlotSoilAssociation","CD","CUDWORTH","CUDWORTH (field)","T",35,null,null,null,"CUDWORTH (field) (field)"]
["VT_PlotSoilAssociation","CF","CUT KNIFE","CUT KNIFE (field)","T",36,null,null,null,"CUT KNIFE (field) (field)"]
["VT_PlotSoilAssociation","CH","CHAPLIN","CHAPLIN (field)","T",37,null,null,null,"CHAPLIN (field) (field)"]
["VT_PlotSoilAssociation","CK","CLAYBANK","CLAYBANK (field)","T",38,null,null,null,"CLAYBANK (field) (field)"]
["VT_PlotSoilAssociation","CL","CROOKED LAKE","CROOKED LAKE (field)","T",39,null,null,null,"CROOKED LAKE (field) (field)"]
["VT_PlotSoilAssociation","CM","CRAIGMORE","CRAIGMORE (field)","T",40,null,null,null,"CRAIGMORE (field) (field)"]
["VT_PlotSoilAssociation","CN","CARON","CARON (field)","T",41,null,null,null,"CARON (field) (field)"]
["VT_PlotSoilAssociation","CO","COLLUVIUM","COLLUVIUM (field)","T",42,null,null,null,"COLLUVIUM (field) (field)"]
["VT_PlotSoilAssociation","CP","CANOPUS","CANOPUS (field)","T",43,null,null,null,"CANOPUS (field) (field)"]
["VT_PlotSoilAssociation","CR","CARROT RIVER","CARROT RIVER (field)","T",44,null,null,null,"CARROT RIVER (field) (field)"]
["VT_PlotSoilAssociation","CT","CATHKIN","CATHKIN (field)","T",45,null,null,null,"CATHKIN (field) (field)"]
["VT_PlotSoilAssociation","CX","CLIMAX","CLIMAX (field)","T",46,null,null,null,"CLIMAX (field) (field)"]
["VT_PlotSoilAssociation","CY","CYPRESS","CYPRESS (field)","T",47,null,null,null,"CYPRESS (field) (field)"]
["VT_PlotSoilAssociation","DA","DANBURY","DANBURY (field)","T",48,null,null,null,"DANBURY (field) (field)"]
["VT_PlotSoilAssociation","DM","DUCK MOUNTAIN","DUCK MOUNTAIN (field)","T",49,null,null,null,"DUCK MOUNTAIN (field) (field)"]
["VT_PlotSoilAssociation","DO","DORINTOSH","DORINTOSH (field)","T",50,null,null,null,"DORINTOSH (field) (field)"]
["VT_PlotSoilAssociation","DP","DISSECTED PLATEAU","DISSECTED PLATEAU (field)","T",51,null,null,null,"DISSECTED PLATEAU (field) (field)"]
["VT_PlotSoilAssociation","DS","DUNE SAND","DUNE SAND (field)","T",52,null,null,null,"DUNE SAND (field) (field)"]
["VT_PlotSoilAssociation","EA","EASTEND","EASTEND (field)","T",53,null,null,null,"EASTEND (field) (field)"]
["VT_PlotSoilAssociation","EB","ELLISBORO","ELLISBORO (field)","T",54,null,null,null,"ELLISBORO (field) (field)"]
["VT_PlotSoilAssociation","EC","ECHO","ECHO (field)","T",55,null,null,null,"ECHO (field) (field)"]
["VT_PlotSoilAssociation","ED","ELDERSLEY","ELDERSLEY (field)","T",56,null,null,null,"ELDERSLEY (field) (field)"]
["VT_PlotSoilAssociation","EE","ESME","ESME (field)","T",57,null,null,null,"ESME (field) (field)"]
["VT_PlotSoilAssociation","EG","EDGELEY","EDGELEY (field)","T",58,null,null,null,"EDGELEY (field) (field)"]
["VT_PlotSoilAssociation","EM","EDAM","EDAM (field)","T",59,null,null,null,"EDAM (field) (field)"]
["VT_PlotSoilAssociation","ES","ESTEVAN","ESTEVAN (field)","T",60,null,null,null,"ESTEVAN (field) (field)"]
["VT_PlotSoilAssociation","ET","ETOMAMI","ETOMAMI (field)","T",61,null,null,null,"ETOMAMI (field) (field)"]
["VT_PlotSoilAssociation","EW","ELSTOW","ELSTOW (field)","T",62,null,null,null,"ELSTOW (field) (field)"]
["VT_PlotSoilAssociation","EX","EXPOSURE","EXPOSURE (field)","T",63,null,null,null,"EXPOSURE (field) (field)"]
["VT_PlotSoilAssociation","FA","FIFE LAKE","FIFE LAKE (field)","T",64,null,null,null,"FIFE LAKE (field) (field)"]
["VT_PlotSoilAssociation","FC","FLAXCOMBE","FLAXCOMBE (field)","T",65,null,null,null,"FLAXCOMBE (field) (field)"]
["VT_PlotSoilAssociation","FE","FREMANTLE","FREMANTLE (field)","T",66,null,null,null,{"$f":"CONCATENATE(D594,\" (field)\")","v":"FREMANTLE (field) (field)"}]
["VT_PlotSoilAssociation","FG","FORGET","FORGET (field)","T",67,null,null,null,"FORGET (field) (field)"]
["VT_PlotSoilAssociation","FK","FLAT LAKE","FLAT LAKE (field)","T",68,null,null,null,"FLAT LAKE (field) (field)"]
["VT_PlotSoilAssociation","FP","FEN PEAT","FEN PEAT (field)","T",69,null,null,null,"FEN PEAT (field) (field)"]
["VT_PlotSoilAssociation","FR","FRONTIER","FRONTIER (field)","T",70,null,null,null,"FRONTIER (field) (field)"]
["VT_PlotSoilAssociation","FT","FLOTTEN","FLOTTEN (field)","T",71,null,null,null,"FLOTTEN (field) (field)"]
["VT_PlotSoilAssociation","FW","FAIRWELL","FAIRWELL (field)","T",72,null,null,null,"FAIRWELL (field) (field)"]
["VT_PlotSoilAssociation","FX","FOX VALLEY","FOX VALLEY (field)","T",73,null,null,null,"FOX VALLEY (field) (field)"]
["VT_PlotSoilAssociation","GA","GARRICK","GARRICK (field)","T",74,null,null,null,"GARRICK (field) (field)"]
["VT_PlotSoilAssociation","GB","GLENBUSH","GLENBUSH (field)","T",75,null,null,null,"GLENBUSH (field) (field)"]
["VT_PlotSoilAssociation","GD","GRANDORA","GRANDORA (field)","T",76,null,null,null,"GRANDORA (field) (field)"]
["VT_PlotSoilAssociation","GG","GLEYSOL","GLEYSOL (field)","T",77,null,null,null,"GLEYSOL (field) (field)"]
["VT_PlotSoilAssociation","GH","GH-No Desc","GH-No Desc (field)","T",78,null,null,null,"GH-No Desc (field) (field)"]
["VT_PlotSoilAssociation","GL","GL-No Desc","GL-No Desc (field)","T",79,null,null,null,"GL-No Desc (field) (field)"]
["VT_PlotSoilAssociation","GN","GLENAVON","GLENAVON (field)","T",80,null,null,null,"GLENAVON (field) (field)"]
["VT_PlotSoilAssociation","GO","GRONLID","GRONLID (field)","T",81,null,null,null,"GRONLID (field) (field)"]
["VT_PlotSoilAssociation","GR","GRILL LAKE","GRILL LAKE (field)","T",82,null,null,null,"GRILL LAKE (field) (field)"]
["VT_PlotSoilAssociation","GV","GAP VIEW","GAP VIEW (field)","T",83,null,null,null,"GAP VIEW (field) (field)"]
["VT_PlotSoilAssociation","GX","GLEYSOLIC","GLEYSOLIC (field)","T",84,null,null,null,"GLEYSOLIC (field) (field)"]
["VT_PlotSoilAssociation","GY","GILROY","GILROY (field)","T",85,null,null,null,"GILROY (field) (field)"]
["VT_PlotSoilAssociation","HB","HILLSBOROUGH","HILLSBOROUGH (field)","T",86,null,null,null,"HILLSBOROUGH (field) (field)"]
["VT_PlotSoilAssociation","HC","HORSE CREEK","HORSE CREEK (field)","T",87,null,null,null,"HORSE CREEK (field) (field)"]
["VT_PlotSoilAssociation","HD","HOODOO","HOODOO (field)","T",88,null,null,null,"HOODOO (field) (field)"]
["VT_PlotSoilAssociation","HF","HELLFIRE","HELLFIRE (field)","T",89,null,null,null,"HELLFIRE (field) (field)"]
["VT_PlotSoilAssociation","HH","HOEY","HOEY (field)","T",90,null,null,null,"HOEY (field) (field)"]
["VT_PlotSoilAssociation","HM","HAMLIN","HAMLIN (field)","T",91,null,null,null,"HAMLIN (field) (field)"]
["VT_PlotSoilAssociation","HO","HORSEHEAD","HORSEHEAD (field)","T",92,null,null,null,"HORSEHEAD (field) (field)"]
["VT_PlotSoilAssociation","HR","HAVERHILL","HAVERHILL (field)","T",93,null,null,null,"HAVERHILL (field) (field)"]
["VT_PlotSoilAssociation","HT","HATTON","HATTON (field)","T",94,null,null,null,"HATTON (field) (field)"]
["VT_PlotSoilAssociation","HW","HILLWASH","HILLWASH (field)","T",95,null,null,null,"HILLWASH (field) (field)"]
["VT_PlotSoilAssociation","HY","HANLEY","HANLEY (field)","T",96,null,null,null,"HANLEY (field) (field)"]
["VT_PlotSoilAssociation","IH","INDIAN HEAD","INDIAN HEAD (field)","T",97,null,null,null,"INDIAN HEAD (field) (field)"]
["VT_PlotSoilAssociation","IW","INSTOW","INSTOW (field)","T",98,null,null,null,"INSTOW (field) (field)"]
["VT_PlotSoilAssociation","JC","JONES CREEK","JONES CREEK (field)","T",99,null,null,null,"JONES CREEK (field) (field)"]
["VT_PlotSoilAssociation","JX","JAN LAKE","JAN LAKE (field)","T",100,null,null,null,"JAN LAKE (field) (field)"]
["VT_PlotSoilAssociation","KA","KAMSACK","KAMSACK (field)","T",101,null,null,null,"KAMSACK (field) (field)"]
["VT_PlotSoilAssociation","KD","KINDERSLEY","KINDERSLEY (field)","T",102,null,null,null,"KINDERSLEY (field) (field)"]
["VT_PlotSoilAssociation","KE","KELVINGTON","KELVINGTON (field)","T",103,null,null,null,"KELVINGTON (field) (field)"]
["VT_PlotSoilAssociation","KG","KIPLING MARSH","KIPLING MARSH (field)","T",104,null,null,null,"KIPLING MARSH (field) (field)"]
["VT_PlotSoilAssociation","KH","KETTLEHUT","KETTLEHUT (field)","T",105,null,null,null,"KETTLEHUT (field) (field)"]
["VT_PlotSoilAssociation","KK","KEWANOKE","KEWANOKE (field)","T",106,null,null,null,"KEWANOKE (field) (field)"]
["VT_PlotSoilAssociation","KL","KLINTONEL","KLINTONEL (field)","T",107,null,null,null,"KLINTONEL (field) (field)"]
["VT_PlotSoilAssociation","KN","KELSTERN","KELSTERN (field)","T",108,null,null,null,"KELSTERN (field) (field)"]
["VT_PlotSoilAssociation","KP","KEPPEL","KEPPEL (field)","T",109,null,null,null,"KEPPEL (field) (field)"]
["VT_PlotSoilAssociation","KR","KRYDOR","KRYDOR (field)","T",110,null,null,null,"KRYDOR (field) (field)"]
["VT_PlotSoilAssociation","KS","KISTAPISKAW","KISTAPISKAW (field)","T",111,null,null,null,"KISTAPISKAW (field) (field)"]
["VT_PlotSoilAssociation","KT","KEATLEY","KEATLEY (field)","T",112,null,null,null,"KEATLEY (field) (field)"]
["VT_PlotSoilAssociation","KW","KAKWA","KAKWA (field)","T",113,null,null,null,"KAKWA (field) (field)"]
["VT_PlotSoilAssociation","KY","KELSEY","KELSEY (field)","T",114,null,null,null,"KELSEY (field) (field)"]
["VT_PlotSoilAssociation","LB","LONESOME BUTTE","LONESOME BUTTE (field)","T",115,null,null,null,"LONESOME BUTTE (field) (field)"]
["VT_PlotSoilAssociation","LC","LA CORNE","LA CORNE (field)","T",116,null,null,null,"LA CORNE (field) (field)"]
["VT_PlotSoilAssociation","LE","LESTOCK","LESTOCK (field)","T",117,null,null,null,"LESTOCK (field) (field)"]
["VT_PlotSoilAssociation","LH","LARK HILL","LARK HILL (field)","T",118,null,null,null,"LARK HILL (field) (field)"]
["VT_PlotSoilAssociation","LL","LAVALLEE LAKE","LAVALLEE LAKE (field)","T",119,null,null,null,"LAVALLEE LAKE (field) (field)"]
["VT_PlotSoilAssociation","LN","LOON RIVER","LOON RIVER (field)","T",120,null,null,null,"LOON RIVER (field) (field)"]
["VT_PlotSoilAssociation","LP","LODGEPOLE","LODGEPOLE (field)","T",121,null,null,null,"LODGEPOLE (field) (field)"]
["VT_PlotSoilAssociation","LY","LLOYDMINSTER","LLOYDMINSTER (field)","T",122,null,null,null,"LLOYDMINSTER (field) (field)"]
["VT_PlotSoilAssociation","LZ","LORENZO","LORENZO (field)","T",123,null,null,null,"LORENZO (field) (field)"]
["VT_PlotSoilAssociation","MA","MAKWA","MAKWA (field)","T",124,null,null,null,"MAKWA (field) (field)"]
["VT_PlotSoilAssociation","MC","MCEACHERN","MCEACHERN (field)","T",125,null,null,null,"MCEACHERN (field) (field)"]
["VT_PlotSoilAssociation","MD","MEADOW LAKE","MEADOW LAKE (field)","T",126,null,null,null,"MEADOW LAKE (field) (field)"]
["VT_PlotSoilAssociation","ME","MEOTA","MEOTA (field)","T",127,null,null,null,"MEOTA (field) (field)"]
["VT_PlotSoilAssociation","MF","MAYFAIR","MAYFAIR (field)","T",128,null,null,null,"MAYFAIR (field) (field)"]
["VT_PlotSoilAssociation","MG","MORGAN","MORGAN (field)","T",129,null,null,null,"MORGAN (field) (field)"]
["VT_PlotSoilAssociation","MH","MARSH","MARSH (field)","T",130,null,null,null,{"$f":"CONCATENATE(D658,\" (field)\")","v":"MARSH (field) (field)"}]
["VT_PlotSoilAssociation","MM","MOOSE MOUNTAIN","MOOSE MOUNTAIN (field)","T",131,null,null,null,"MOOSE MOUNTAIN (field) (field)"]
["VT_PlotSoilAssociation","MN","MALONECK","MALONECK (field)","T",132,null,null,null,"MALONECK (field) (field)"]
["VT_PlotSoilAssociation","MO","MACWORTH","MACWORTH (field)","T",133,null,null,null,"MACWORTH (field) (field)"]
["VT_PlotSoilAssociation","MP","MOSS PEAT","MOSS PEAT (field)","T",134,null,null,null,"MOSS PEAT (field) (field)"]
["VT_PlotSoilAssociation","MR","MELFORT","MELFORT (field)","T",135,null,null,null,"MELFORT (field) (field)"]
["VT_PlotSoilAssociation","MT","MEETING LAKE","MEETING LAKE (field)","T",136,null,null,null,"MEETING LAKE (field) (field)"]
["VT_PlotSoilAssociation","MU","MURRYDALE","MURRYDALE (field)","T",137,null,null,null,"MURRYDALE (field) (field)"]
["VT_PlotSoilAssociation","MW","MEADOW","MEADOW (field)","T",138,null,null,null,"MEADOW (field) (field)"]
["VT_PlotSoilAssociation","NC","NAICAM","NAICAM (field)","T",139,null,null,null,"NAICAM (field) (field)"]
["VT_PlotSoilAssociation","NE","NEELBY","NEELBY (field)","T",140,null,null,null,"NEELBY (field) (field)"]
["VT_PlotSoilAssociation","NM","NISTUM","NISTUM (field)","T",141,null,null,null,"NISTUM (field) (field)"]
["VT_PlotSoilAssociation","NN","NITENAI","NITENAI (field)","T",142,null,null,null,"NITENAI (field) (field)"]
["VT_PlotSoilAssociation","NO","NORTH PORTAL","NORTH PORTAL (field)","T",143,null,null,null,"NORTH PORTAL (field) (field)"]
["VT_PlotSoilAssociation","NP","NIPAWIN","NIPAWIN (field)","T",144,null,null,null,"NIPAWIN (field) (field)"]
["VT_PlotSoilAssociation","NR","NORTHERN LIGHT","NORTHERN LIGHT (field)","T",145,null,null,null,"NORTHERN LIGHT (field) (field)"]
["VT_PlotSoilAssociation","NS","NESLAND LAKE","NESLAND LAKE (field)","T",146,null,null,null,"NESLAND LAKE (field) (field)"]
["VT_PlotSoilAssociation","NT","NISBET","NISBET (field)","T",147,null,null,null,"NISBET (field) (field)"]
["VT_PlotSoilAssociation","ON","ONION LAKE","ONION LAKE (field)","T",148,null,null,null,"ONION LAKE (field) (field)"]
["VT_PlotSoilAssociation","OX","OXBOW","OXBOW (field)","T",149,null,null,null,"OXBOW (field) (field)"]
["VT_PlotSoilAssociation","OY","O'LEARY LAKE","O'LEARY LAKE (field)","T",150,null,null,null,"O'LEARY LAKE (field) (field)"]
["VT_PlotSoilAssociation","PA","PATHLOW","PATHLOW (field)","T",151,null,null,null,"PATHLOW (field) (field)"]
["VT_PlotSoilAssociation","PE","PERLEY","PERLEY (field)","T",153,null,null,null,"PERLEY (field) (field)"]
["VT_PlotSoilAssociation","PH","PHEASANT RUMP","PHEASANT RUMP (field)","T",154,null,null,null,"PHEASANT RUMP (field) (field)"]
["VT_PlotSoilAssociation","PK","PORCUPINE CREEK","PORCUPINE CREEK (field)","T",155,null,null,null,"PORCUPINE CREEK (field) (field)"]
["VT_PlotSoilAssociation","PN","PINE","PINE (field)","T",156,null,null,null,"PINE (field) (field)"]
["VT_PlotSoilAssociation","PP","PORCUPINE PLAIN","PORCUPINE PLAIN (field)","T",157,null,null,null,"PORCUPINE PLAIN (field) (field)"]
["VT_PlotSoilAssociation","PR","PIPRELL","PIPRELL (field)","T",158,null,null,null,"PIPRELL (field) (field)"]
["VT_PlotSoilAssociation","PU","PUNNICHY","PUNNICHY (field)","T",159,null,null,null,"PUNNICHY (field) (field)"]
["VT_PlotSoilAssociation","PW","PADDOCKWOOD","PADDOCKWOOD (field)","T",160,null,null,null,"PADDOCKWOOD (field) (field)"]
["VT_PlotSoilAssociation","PY","PELLY","PELLY (field)","T",161,null,null,null,"PELLY (field) (field)"]
["VT_PlotSoilAssociation","QK","QUANTOCK","QUANTOCK (field)","T",162,null,null,null,"QUANTOCK (field) (field)"]
["VT_PlotSoilAssociation","QU","QUILL LAKE","QUILL LAKE (field)","T",163,null,null,null,"QUILL LAKE (field) (field)"]
["VT_PlotSoilAssociation","RA","REGINA","REGINA (field)","T",164,null,null,null,"REGINA (field) (field)"]
["VT_PlotSoilAssociation","RB","ROUGHBARK","ROUGHBARK (field)","T",165,null,null,null,"ROUGHBARK (field) (field)"]
["VT_PlotSoilAssociation","RC","ROCK CREEK","ROCK CREEK (field)","T",166,null,null,null,"ROCK CREEK (field) (field)"]
["VT_PlotSoilAssociation","RM","ROSEMAE","ROSEMAE (field)","T",167,null,null,null,"ROSEMAE (field) (field)"]
["VT_PlotSoilAssociation","RN","RELIANCE","RELIANCE (field)","T",168,null,null,null,"RELIANCE (field) (field)"]
["VT_PlotSoilAssociation","RO","ROBSART","ROBSART (field)","T",169,null,null,null,"ROBSART (field) (field)"]
["VT_PlotSoilAssociation","RU","ROULEAU","ROULEAU (field)","T",170,null,null,null,"ROULEAU (field) (field)"]
["VT_PlotSoilAssociation","RV","ROCANVILLE","ROCANVILLE (field)","T",171,null,null,null,"ROCANVILLE (field) (field)"]
["VT_PlotSoilAssociation","RW","RUNWAY","RUNWAY (field)","T",172,null,null,null,"RUNWAY (field) (field)"]
["VT_PlotSoilAssociation","SA","SALINE","SALINE (field)","T",173,null,null,null,"SALINE (field) (field)"]
["VT_PlotSoilAssociation","SB","SHELLBROOK","SHELLBROOK (field)","T",174,null,null,null,"SHELLBROOK (field) (field)"]
["VT_PlotSoilAssociation","SC","SCEPTRE","SCEPTRE (field)","T",175,null,null,null,"SCEPTRE (field) (field)"]
["VT_PlotSoilAssociation","SD","SONNINGDALE","SONNINGDALE (field)","T",176,null,null,null,"SONNINGDALE (field) (field)"]
["VT_PlotSoilAssociation","SF","SWIFT CREEK","SWIFT CREEK (field)","T",177,null,null,null,"SWIFT CREEK (field) (field)"]
["VT_PlotSoilAssociation","SG","SCOTSGUARD","SCOTSGUARD (field)","T",178,null,null,null,"SCOTSGUARD (field) (field)"]
["VT_PlotSoilAssociation","SH","SHELL LAKE","SHELL LAKE (field)","T",179,null,null,null,"SHELL LAKE (field) (field)"]
["VT_PlotSoilAssociation","SK","SIPANOK","SIPANOK (field)","T",180,null,null,null,"SIPANOK (field) (field)"]
["VT_PlotSoilAssociation","SL","STURGEON LAKE","STURGEON LAKE (field)","T",181,null,null,null,"STURGEON LAKE (field) (field)"]
["VT_PlotSoilAssociation","SM","SMEATON","SMEATON (field)","T",182,null,null,null,"SMEATON (field) (field)"]
["VT_PlotSoilAssociation","SN","SWINTON","SWINTON (field)","T",183,null,null,null,"SWINTON (field) (field)"]
["VT_PlotSoilAssociation","SO","SMOKY BURN","SMOKY BURN (field)","T",184,null,null,null,"SMOKY BURN (field) (field)"]
["VT_PlotSoilAssociation","SP","SEDGE PEAT","SEDGE PEAT (field)","T",185,null,null,null,"SEDGE PEAT (field) (field)"]
["VT_PlotSoilAssociation","SS","SPEERS","SPEERS (field)","T",186,null,null,null,"SPEERS (field) (field)"]
["VT_PlotSoilAssociation","ST","SCOTT","SCOTT (field)","T",187,null,null,null,"SCOTT (field) (field)"]
["VT_PlotSoilAssociation","SU","SUTHERLAND","SUTHERLAND (field)","T",188,null,null,null,"SUTHERLAND (field) (field)"]
["VT_PlotSoilAssociation","SV","SYLVITE","SYLVITE (field)","T",189,null,null,null,"SYLVITE (field) (field)"]
["VT_PlotSoilAssociation","SW","SWAN PLAIN","SWAN PLAIN (field)","T",190,null,null,null,"SWAN PLAIN (field) (field)"]
["VT_PlotSoilAssociation","SX","SHORT CREEK","SHORT CREEK (field)","T",191,null,null,null,"SHORT CREEK (field) (field)"]
["VT_PlotSoilAssociation","SY","SYLVANIA","SYLVANIA (field)","T",192,null,null,null,"SYLVANIA (field) (field)"]
["VT_PlotSoilAssociation","TA","TANTALLON","TANTALLON (field)","T",193,null,null,null,"TANTALLON (field) (field)"]
["VT_PlotSoilAssociation","TG","TIGER HILLS","TIGER HILLS (field)","T",194,null,null,null,"TIGER HILLS (field) (field)"]
["VT_PlotSoilAssociation","TH","THUNDER HILL","THUNDER HILL (field)","T",195,null,null,null,{"$f":"CONCATENATE(D722,\" (field)\")","v":"THUNDER HILL (field) (field)"}]
["VT_PlotSoilAssociation","TI","TISDALE","TISDALE (field)","T",196,null,null,null,"TISDALE (field) (field)"]
["VT_PlotSoilAssociation","TK","THICKWOOD","THICKWOOD (field)","T",197,null,null,null,"THICKWOOD (field) (field)"]
["VT_PlotSoilAssociation","TR","TROSSACHS","TROSSACHS (field)","T",198,null,null,null,"TROSSACHS (field) (field)"]
["VT_PlotSoilAssociation","TU","TUXFORD","TUXFORD (field)","T",199,null,null,null,"TUXFORD (field) (field)"]
["VT_PlotSoilAssociation","TW","TOUCHWOOD","TOUCHWOOD (field)","T",200,null,null,null,"TOUCHWOOD (field) (field)"]
["VT_PlotSoilAssociation","VA","VALOR","VALOR (field)","T",201,null,null,null,"VALOR (field) (field)"]
["VT_PlotSoilAssociation","VM","VAL MARIE","VAL MARIE (field)","T",202,null,null,null,"VAL MARIE (field) (field)"]
["VT_PlotSoilAssociation","VP","VESPER","VESPER (field)","T",203,null,null,null,"VESPER (field) (field)"]
["VT_PlotSoilAssociation","VR","VERA","VERA (field)","T",204,null,null,null,"VERA (field) (field)"]
["VT_PlotSoilAssociation","WA","WASECA","WASECA (field)","T",205,null,null,null,"WASECA (field) (field)"]
["VT_PlotSoilAssociation","WB","WELBY","WELBY (field)","T",206,null,null,null,"WELBY (field) (field)"]
["VT_PlotSoilAssociation","WC","WASCANA","WASCANA (field)","T",207,null,null,null,"WASCANA (field) (field)"]
["VT_PlotSoilAssociation","WD","WADENA","WADENA (field)","T",208,null,null,null,"WADENA (field) (field)"]
["VT_PlotSoilAssociation","WE","WEIRDALE","WEIRDALE (field)","T",209,null,null,null,"WEIRDALE (field) (field)"]
["VT_PlotSoilAssociation","WF","WHITEFOX","WHITEFOX (field)","T",210,null,null,null,"WHITEFOX (field) (field)"]
["VT_PlotSoilAssociation","WG","WINGELLO","WINGELLO (field)","T",211,null,null,null,"WINGELLO (field) (field)"]
["VT_PlotSoilAssociation","WH","WHITEWOOD","WHITEWOOD (field)","T",212,null,null,null,"WHITEWOOD (field) (field)"]
["VT_PlotSoilAssociation","WK","WYMARK","WYMARK (field)","T",213,null,null,null,"WYMARK (field) (field)"]
["VT_PlotSoilAssociation","WM","WOOD MOUNTAIN","WOOD MOUNTAIN (field)","T",214,null,null,null,"WOOD MOUNTAIN (field) (field)"]
["VT_PlotSoilAssociation","WN","WINDTHORST","WINDTHORST (field)","T",215,null,null,null,"WINDTHORST (field) (field)"]
["VT_PlotSoilAssociation","WP","WAPAWEKKA","WAPAWEKKA (field)","T",216,null,null,null,"WAPAWEKKA (field) (field)"]
["VT_PlotSoilAssociation","WR","WEYBURN","WEYBURN (field)","T",217,null,null,null,"WEYBURN (field) (field)"]
["VT_PlotSoilAssociation","WS","WHITESAND","WHITESAND (field)","T",218,null,null,null,"WHITESAND (field) (field)"]
["VT_PlotSoilAssociation","WT","WATERHEN RIVER","WATERHEN RIVER (field)","T",219,null,null,null,"WATERHEN RIVER (field) (field)"]
["VT_PlotSoilAssociation","WV","WAITVILLE","WAITVILLE (field)","T",220,null,null,null,"WAITVILLE (field) (field)"]
["VT_PlotSoilAssociation","WW","WILLOWS","WILLOWS (field)","T",221,null,null,null,"WILLOWS (field) (field)"]
["VT_PlotSoilAssociation","WX","WILLOW","WILLOW (field)","T",222,null,null,null,"WILLOW (field) (field)"]
["VT_PlotSoilAssociation","WY","WYANDOTTE","WYANDOTTE (field)","T",223,null,null,null,"WYANDOTTE (field) (field)"]
["VT_PlotSoilAssociation","YK","YORKTON","YORKTON (field)","T",224,null,null,null,"YORKTON (field) (field)"]
["VT_PlotSoilZone","SoilZone","Short_Desc","Long_Desc","Active","Sort_Order"]
["VT_PlotSoilZone","BR","Brown","Brown","T",1]
["VT_PlotSoilZone","DB","Dark Brown","Dark Brown","T",2]
["VT_PlotSoilZone","BL","Black","Black","T",3]
["VT_PlotSoilZone","DG","Dark Gray","Dark Gray","T",4]
["VT_PlotSoilZone","GR","Gray","Gray","T",5]
["VT_PlotSoilZone","OF","Other Forest Soils","Other Forest Soils","T",6]
["VT_PlotStructuralType","StructuralType","Short_Desc","Long_Desc","Active","Sort_Order"]
["VT_PlotStructuralType","HWD","HWD","Hardwood forest","T",1]
["VT_PlotStructuralType","MWD","MWD","Mixedwood forest","T",2]
["VT_PlotStructuralType","SWD","SWD","Softwood forest","T",3]
["VT_PlotStructuralType","TSH","TSH","Tall shrubland","T",4]
["VT_PlotStructuralType","SSH","SSH","Short shrubland","T",5]
["VT_PlotStructuralType","PSH","PSH","Prostrate shrubland","T",6]
["VT_PlotStructuralType","GSC","GSC","Grass/shrub complex","T",7]
["VT_PlotStructuralType","HWL","HWL","Herbaceous wetland","T",8]
["VT_PlotStructuralType","RCX","RCX","Riparian complex","T",9]
["VT_PlotStructuralType","NA","NA","Not available/not recorded","T",10]
["VT_PlotStructuralType","GSL","GSL","Grassland","T",11]
["VT_PlotTexture","Texture","Short_Desc","Long_Desc","Active","Sort_Order"]
["VT_PlotTexture","S","S","Sand (field)","T",1]
["VT_PlotTexture","GS","GS","Gravelly sand (field)","T",2]
["VT_PlotTexture","FS","FS","Fine sand (field)","T",3]
["VT_PlotTexture","LS","LS","Loamy sand (field)","T",4]
["VT_PlotTexture","GLC","GLC","Gravelly loamy sand (field)","T",5]
["VT_PlotTexture","LFS","LFS","Loamy fine sand (field)","T",6]
["VT_PlotTexture","SL","SL","Sandy loam (field)","T",7]
["VT_PlotTexture","GSL","GSL","Gravelly sandy loam (field)","T",8]
["VT_PlotTexture","FL","FL","Fine sandy loam (field)","T",9]
["VT_PlotTexture","VL","VL","Very fine sandy loam (field)","T",10]
["VT_PlotTexture","L","L","Loam (field)","T",11]
["VT_PlotTexture","GL","GL","Gravelly loam (field)","T",12]
["VT_PlotTexture","SIL","SIL","Silt loam (field)","T",13]
["VT_PlotTexture","CL","CL","Clay loam (field)","T",14]
["VT_PlotTexture","SCL","SCL","Sandy clay loam (field)","T",15]
["VT_PlotTexture","FCL","FCL","Fine sandy clay loam (field)","T",16]
["VT_PlotTexture","VCL","VCL","Very fine sandy clay loam (field)","T",17]
["VT_PlotTexture","SICL","SICL","Silty clay loam (field)","T",18]
["VT_PlotTexture","C","C","Clay (field)","T",19]
["VT_PlotTexture","SC","SC","Sandy clay (field)","T",20]
["VT_PlotTexture","SIC","SIC","Silty clay (field)","T",21]
["VT_PlotTexture","HC","HC","Heavy clay (field)","T",22]
["VT_PlotTexture","G","G","Gravel (field)","T",23]
["VT_PlotTexture","ORG","ORG","Organic (field)","T",24]
["VT_PlotTextureClass","TextureClass","Short_Desc","Long_Desc","Active","Sort_Order"]
["VT_PlotTextureClass","C","C","Clay (mapped)","T",1,null,null,null,{"$f":"CONCATENATE(D797,\" (mapped)\")","v":"Clay (mapped) (mapped)"}]
["VT_PlotTextureClass","C - CL","C - CL","Clay - Clay loam (mapped)","T",2,null,null,null,{"$f":"CONCATENATE(D798,\" (mapped)\")","v":"Clay - Clay loam (mapped) (mapped)"}]
["VT_PlotTextureClass","C - FCL","C - FCL","Clay - Fine sandy clay loam (mapped)","T",3,null,null,null,"Clay - Fine sandy clay loam (mapped) (mapped)"]
["VT_PlotTextureClass","C - FL","C - FL","Clay - Fine sandy loam (mapped)","T",4,null,null,null,"Clay - Fine sandy loam (mapped) (mapped)"]
["VT_PlotTextureClass","C - FS","C - FS","Clay - Fine sand (mapped)","T",5,null,null,null,"Clay - Fine sand (mapped) (mapped)"]
["VT_PlotTextureClass","C - GL","C - GL","Clay - Gravelly loam (mapped)","T",6,null,null,null,"Clay - Gravelly loam (mapped) (mapped)"]
["VT_PlotTextureClass","C - GSL","C - GSL","Clay - Gravelly sandy loam (mapped)","T",7,null,null,null,"Clay - Gravelly sandy loam (mapped) (mapped)"]
["VT_PlotTextureClass","C - HC","C - HC","Clay - Heavy clay (mapped)","T",8,null,null,null,"Clay - Heavy clay (mapped) (mapped)"]
["VT_PlotTextureClass","C - L","C - L","Clay - Loam (mapped)","T",9,null,null,null,"Clay - Loam (mapped) (mapped)"]
["VT_PlotTextureClass","C - LFS","C - LFS","Clay - Loamy fine sand (mapped)","T",10,null,null,null,"Clay - Loamy fine sand (mapped) (mapped)"]
["VT_PlotTextureClass","C - LS","C - LS","Clay - Loamy sand (mapped)","T",11,null,null,null,"Clay - Loamy sand (mapped) (mapped)"]
["VT_PlotTextureClass","C - O","C - O","Clay - Organic (mapped)","T",12,null,null,null,"Clay - Organic (mapped) (mapped)"]
["VT_PlotTextureClass","C - S","C - S","Clay - Sand (mapped)","T",13,null,null,null,"Clay - Sand (mapped) (mapped)"]
["VT_PlotTextureClass","C - SCL","C - SCL","Clay - Sandy clay loam (mapped)","T",14,null,null,null,"Clay - Sandy clay loam (mapped) (mapped)"]
["VT_PlotTextureClass","C - SIC","C - SIC","Clay - Silty clay (mapped)","T",15,null,null,null,"Clay - Silty clay (mapped) (mapped)"]
["VT_PlotTextureClass","C - SICL","C - SICL","Clay - Silty clay loam (mapped)","T",16,null,null,null,"Clay - Silty clay loam (mapped) (mapped)"]
["VT_PlotTextureClass","C - SIL","C - SIL","Clay - Silt loam (mapped)","T",17,null,null,null,"Clay - Silt loam (mapped) (mapped)"]
["VT_PlotTextureClass","C - SL","C - SL","Clay - Sandy loam (mapped)","T",18,null,null,null,"Clay - Sandy loam (mapped) (mapped)"]
["VT_PlotTextureClass","CL","CL","Clay loam (mapped)","T",19,null,null,null,"Clay loam (mapped) (mapped)"]
["VT_PlotTextureClass","CL - C","CL - C","Clay loam - Clay (mapped)","T",20,null,null,null,"Clay loam - Clay (mapped) (mapped)"]
["VT_PlotTextureClass","CL - FL","CL - FL","Clay loam - Fine sandy loam (mapped)","T",21,null,null,null,"Clay loam - Fine sandy loam (mapped) (mapped)"]
["VT_PlotTextureClass","CL - GL","CL - GL","Clay loam - Gravelly loam (mapped)","T",22,null,null,null,"Clay loam - Gravelly loam (mapped) (mapped)"]
["VT_PlotTextureClass","CL - GLS","CL - GLS","Clay loam - Gravelly loamy sand (mapped)","T",23,null,null,null,"Clay loam - Gravelly loamy sand (mapped) (mapped)"]
["VT_PlotTextureClass","CL - GS","CL - GS","Clay loam - Gravelly sand (mapped)","T",24,null,null,null,"Clay loam - Gravelly sand (mapped) (mapped)"]
["VT_PlotTextureClass","CL - GSL","CL - GSL","Clay loam - Gravelly sandy loam (mapped)","T",25,null,null,null,"Clay loam - Gravelly sandy loam (mapped) (mapped)"]
["VT_PlotTextureClass","CL - HC","CL - HC","Clay loam - Heavy clay (mapped)","T",26,null,null,null,"Clay loam - Heavy clay (mapped) (mapped)"]
["VT_PlotTextureClass","CL - L","CL - L","Clay loam - Loam (mapped)","T",27,null,null,null,"Clay loam - Loam (mapped) (mapped)"]
["VT_PlotTextureClass","CL - LS","CL - LS","Clay loam - Loamy sand (mapped)","T",28,null,null,null,"Clay loam - Loamy sand (mapped) (mapped)"]
["VT_PlotTextureClass","CL - O","CL - O","Clay loam - Organic (mapped)","T",29,null,null,null,"Clay loam - Organic (mapped) (mapped)"]
["VT_PlotTextureClass","CL - S","CL - S","Clay loam - Sand (mapped)","T",30,null,null,null,"Clay loam - Sand (mapped) (mapped)"]
["VT_PlotTextureClass","CL - SCL","CL - SCL","Clay loam - Sandy clay loam (mapped)","T",31,null,null,null,"Clay loam - Sandy clay loam (mapped) (mapped)"]
["VT_PlotTextureClass","CL - SIC","CL - SIC","Clay loam - Silty clay (mapped)","T",32,null,null,null,"Clay loam - Silty clay (mapped) (mapped)"]
["VT_PlotTextureClass","CL - SICL","CL - SICL","Clay loam - Silty clay loam (mapped)","T",33,null,null,null,"Clay loam - Silty clay loam (mapped) (mapped)"]
["VT_PlotTextureClass","CL - SIL","CL - SIL","Clay loam - Silt loam (mapped)","T",34,null,null,null,"Clay loam - Silt loam (mapped) (mapped)"]
["VT_PlotTextureClass","CL - SL","CL - SL","Clay loam - Sandy loam (mapped)","T",35,null,null,null,"Clay loam - Sandy loam (mapped) (mapped)"]
["VT_PlotTextureClass","CL - VCL","CL - VCL","Clay loam - Very fine sandy clay loam (mapped)","T",36,null,null,null,"Clay loam - Very fine sandy clay loam (mapped) (mapped)"]
["VT_PlotTextureClass","CL - VL","CL - VL","Clay loam - Very fine sandy loam (mapped)","T",37,null,null,null,"Clay loam - Very fine sandy loam (mapped) (mapped)"]
["VT_PlotTextureClass","CS","CS","Coarse sand (mapped)","T",38,null,null,null,"Coarse sand (mapped) (mapped)"]
["VT_PlotTextureClass","CS - GSL","CS - GSL","Coarse sand - Gravelly sandy loam (mapped)","T",39,null,null,null,"Coarse sand - Gravelly sandy loam (mapped) (mapped)"]
["VT_PlotTextureClass","CS - LS","CS - LS","Coarse sand - Loamy sand (mapped)","T",40,null,null,null,"Coarse sand - Loamy sand (mapped) (mapped)"]
["VT_PlotTextureClass","FCL","FCL","Fine sandy clay loam (mapped)","T",41,null,null,null,"Fine sandy clay loam (mapped) (mapped)"]
["VT_PlotTextureClass","FCL - C","FCL - C","Fine sandy clay loam - Clay (mapped)","T",42,null,null,null,"Fine sandy clay loam - Clay (mapped) (mapped)"]
["VT_PlotTextureClass","FCL - CL","FCL - CL","Fine sandy clay loam - Clay loam (mapped)","T",43,null,null,null,"Fine sandy clay loam - Clay loam (mapped) (mapped)"]
["VT_PlotTextureClass","FCL - FL","FCL - FL","Fine sandy clay loam - Fine sandy loam (mapped)","T",44,null,null,null,"Fine sandy clay loam - Fine sandy loam (mapped) (mapped)"]
["VT_PlotTextureClass","FCL - L","FCL - L","Fine sandy clay loam - Loam (mapped)","T",45,null,null,null,"Fine sandy clay loam - Loam (mapped) (mapped)"]
["VT_PlotTextureClass","FL","FL","Fine sandy loam (mapped)","T",46,null,null,null,"Fine sandy loam (mapped) (mapped)"]
["VT_PlotTextureClass","FL - C","FL - C","Fine sandy loam - Clay (mapped)","T",47,null,null,null,"Fine sandy loam - Clay (mapped) (mapped)"]
["VT_PlotTextureClass","FL - CL","FL - CL","Fine sandy loam - Clay loam (mapped)","T",48,null,null,null,"Fine sandy loam - Clay loam (mapped) (mapped)"]
["VT_PlotTextureClass","FL - CS","FL - CS","Fine sandy loam - Coarse sand (mapped)","T",49,null,null,null,"Fine sandy loam - Coarse sand (mapped) (mapped)"]
["VT_PlotTextureClass","FL - FCL","FL - FCL","Fine sandy loam - Fine sandy clay loam (mapped)","T",50,null,null,null,"Fine sandy loam - Fine sandy clay loam (mapped) (mapped)"]
["VT_PlotTextureClass","FL - FS","FL - FS","Fine sandy loam - Fine sand (mapped)","T",51,null,null,null,"Fine sandy loam - Fine sand (mapped) (mapped)"]
["VT_PlotTextureClass","FL - GL","FL - GL","Fine sandy loam - Gravelly loam (mapped)","T",52,null,null,null,"Fine sandy loam - Gravelly loam (mapped) (mapped)"]
["VT_PlotTextureClass","FL - GLS","FL - GLS","Fine sandy loam - Gravelly loamy sand (mapped)","T",53,null,null,null,"Fine sandy loam - Gravelly loamy sand (mapped) (mapped)"]
["VT_PlotTextureClass","FL - GS","FL - GS","Fine sandy loam - Gravelly sand (mapped)","T",54,null,null,null,"Fine sandy loam - Gravelly sand (mapped) (mapped)"]
["VT_PlotTextureClass","FL - GSL","FL - GSL","Fine sandy loam - Gravelly sandy loam (mapped)","T",55,null,null,null,"Fine sandy loam - Gravelly sandy loam (mapped) (mapped)"]
["VT_PlotTextureClass","FL - L","FL - L","Fine sandy loam - Loam (mapped)","T",56,null,null,null,"Fine sandy loam - Loam (mapped) (mapped)"]
["VT_PlotTextureClass","FL - LFS","FL - LFS","Fine sandy loam - Loamy fine sand (mapped)","T",57,null,null,null,"Fine sandy loam - Loamy fine sand (mapped) (mapped)"]
["VT_PlotTextureClass","FL - LS","FL - LS","Fine sandy loam - Loamy sand (mapped)","T",58,null,null,null,"Fine sandy loam - Loamy sand (mapped) (mapped)"]
["VT_PlotTextureClass","FL - S","FL - S","Fine sandy loam - Sand (mapped)","T",59,null,null,null,"Fine sandy loam - Sand (mapped) (mapped)"]
["VT_PlotTextureClass","FL - SCL","FL - SCL","Fine sandy loam - Sandy clay loam (mapped)","T",60,null,null,null,"Fine sandy loam - Sandy clay loam (mapped) (mapped)"]
["VT_PlotTextureClass","FL - SICL","FL - SICL","Fine sandy loam - Silty clay loam (mapped)","T",61,null,null,null,"Fine sandy loam - Silty clay loam (mapped) (mapped)"]
["VT_PlotTextureClass","FL - SIL","FL - SIL","Fine sandy loam - Silt loam (mapped)","T",62,null,null,null,"Fine sandy loam - Silt loam (mapped) (mapped)"]
["VT_PlotTextureClass","FL - SL","FL - SL","Fine sandy loam - Sandy loam (mapped)","T",63,null,null,null,"Fine sandy loam - Sandy loam (mapped) (mapped)"]
["VT_PlotTextureClass","FL - VCL","FL - VCL","Fine sandy loam - Very fine sandy clay loam (mapped)","T",64,null,null,null,"Fine sandy loam - Very fine sandy clay loam (mapped) (mapped)"]
["VT_PlotTextureClass","FL - VL","FL - VL","Fine sandy loam - Very fine sandy loam (mapped)","T",65,null,null,null,"Fine sandy loam - Very fine sandy loam (mapped) (mapped)"]
["VT_PlotTextureClass","FS","FS","Fine sand (mapped)","T",66,null,null,null,{"$f":"CONCATENATE(D862,\" (mapped)\")","v":"Fine sand (mapped) (mapped)"}]
["VT_PlotTextureClass","FS - C","FS - C","Fine sand - Clay (mapped)","T",67,null,null,null,"Fine sand - Clay (mapped) (mapped)"]
["VT_PlotTextureClass","FS - CL","FS - CL","Fine sand - Clay loam (mapped)","T",68,null,null,null,"Fine sand - Clay loam (mapped) (mapped)"]
["VT_PlotTextureClass","FS - FL","FS - FL","Fine sand - Fine sandy loam (mapped)","T",69,null,null,null,"Fine sand - Fine sandy loam (mapped) (mapped)"]
["VT_PlotTextureClass","FS - L","FS - L","Fine sand - Loam (mapped)","T",70,null,null,null,"Fine sand - Loam (mapped) (mapped)"]
["VT_PlotTextureClass","FS - LFS","FS - LFS","Fine sand - Loamy fine sand (mapped)","T",71,null,null,null,"Fine sand - Loamy fine sand (mapped) (mapped)"]
["VT_PlotTextureClass","FS - LS","FS - LS","Fine sand - Loamy sand (mapped)","T",72,null,null,null,"Fine sand - Loamy sand (mapped) (mapped)"]
["VT_PlotTextureClass","FS - O","FS - O","Fine sand - Organic (mapped)","T",73,null,null,null,"Fine sand - Organic (mapped) (mapped)"]
["VT_PlotTextureClass","FS - S","FS - S","Fine sand - Sand (mapped)","T",74,null,null,null,"Fine sand - Sand (mapped) (mapped)"]
["VT_PlotTextureClass","FS - SICL","FS - SICL","Fine sand - Silty clay loam (mapped)","T",75,null,null,null,"Fine sand - Silty clay loam (mapped) (mapped)"]
["VT_PlotTextureClass","FS - SIL","FS - SIL","Fine sand - Silt loam (mapped)","T",76,null,null,null,"Fine sand - Silt loam (mapped) (mapped)"]
["VT_PlotTextureClass","FS - SL","FS - SL","Fine sand - Sandy loam (mapped)","T",77,null,null,null,"Fine sand - Sandy loam (mapped) (mapped)"]
["VT_PlotTextureClass","GL","GL","Gravelly loam (mapped)","T",78,null,null,null,"Gravelly loam (mapped) (mapped)"]
["VT_PlotTextureClass","GL - C","GL - C","Gravelly loam - Clay (mapped)","T",79,null,null,null,"Gravelly loam - Clay (mapped) (mapped)"]
["VT_PlotTextureClass","GL - CL","GL - CL","Gravelly loam - Clay loam (mapped)","T",80,null,null,null,"Gravelly loam - Clay loam (mapped) (mapped)"]
["VT_PlotTextureClass","GL - FL","GL - FL","Gravelly loam - Fine sandy loam (mapped)","T",81,null,null,null,"Gravelly loam - Fine sandy loam (mapped) (mapped)"]
["VT_PlotTextureClass","GL - GLS","GL - GLS","Gravelly loam - Gravelly loamy sand (mapped)","T",82,null,null,null,"Gravelly loam - Gravelly loamy sand (mapped) (mapped)"]
["VT_PlotTextureClass","GL - GSL","GL - GSL","Gravelly loam - Gravelly sandy loam (mapped)","T",83,null,null,null,"Gravelly loam - Gravelly sandy loam (mapped) (mapped)"]
["VT_PlotTextureClass","GL - L","GL - L","Gravelly loam - Loam (mapped)","T",84,null,null,null,"Gravelly loam - Loam (mapped) (mapped)"]
["VT_PlotTextureClass","GL - LS","GL - LS","Gravelly loam - Loamy sand (mapped)","T",85,null,null,null,"Gravelly loam - Loamy sand (mapped) (mapped)"]
["VT_PlotTextureClass","GL - S","GL - S","Gravelly loam - Sand (mapped)","T",86,null,null,null,"Gravelly loam - Sand (mapped) (mapped)"]
["VT_PlotTextureClass","GL - SCL","GL - SCL","Gravelly loam - Sandy clay loam (mapped)","T",87,null,null,null,"Gravelly loam - Sandy clay loam (mapped) (mapped)"]
["VT_PlotTextureClass","GL - SL","GL - SL","Gravelly loam - Sandy loam (mapped)","T",88,null,null,null,"Gravelly loam - Sandy loam (mapped) (mapped)"]
["VT_PlotTextureClass","GLS","GLS","Gravelly loamy sand (mapped)","T",89,null,null,null,"Gravelly loamy sand (mapped) (mapped)"]
["VT_PlotTextureClass","GLS - FL","GLS - FL","Gravelly loamy sand - Fine sandy loam (mapped)","T",90,null,null,null,"Gravelly loamy sand - Fine sandy loam (mapped) (mapped)"]
["VT_PlotTextureClass","GLS - GL","GLS - GL","Gravelly loamy sand - Gravelly loam (mapped)","T",91,null,null,null,"Gravelly loamy sand - Gravelly loam (mapped) (mapped)"]
["VT_PlotTextureClass","GLS - GSL","GLS - GSL","Gravelly loamy sand - Gravelly sandy loam (mapped)","T",92,null,null,null,"Gravelly loamy sand - Gravelly sandy loam (mapped) (mapped)"]
["VT_PlotTextureClass","GLS - L","GLS - L","Gravelly loamy sand - Loam (mapped)","T",93,null,null,null,"Gravelly loamy sand - Loam (mapped) (mapped)"]
["VT_PlotTextureClass","GLS - LS","GLS - LS","Gravelly loamy sand - Loamy sand (mapped)","T",94,null,null,null,"Gravelly loamy sand - Loamy sand (mapped) (mapped)"]
["VT_PlotTextureClass","GLS - S","GLS - S","Gravelly loamy sand - Sand (mapped)","T",95,null,null,null,"Gravelly loamy sand - Sand (mapped) (mapped)"]
["VT_PlotTextureClass","GLS - SL","GLS - SL","Gravelly loamy sand - Sandy loam (mapped)","T",96,null,null,null,"Gravelly loamy sand - Sandy loam (mapped) (mapped)"]
["VT_PlotTextureClass","GLS - VL","GLS - VL","Gravelly loamy sand - Very fine sandy loam (mapped)","T",97,null,null,null,"Gravelly loamy sand - Very fine sandy loam (mapped) (mapped)"]
["VT_PlotTextureClass","GS","GS","Gravelly sand (mapped)","T",98,null,null,null,"Gravelly sand (mapped) (mapped)"]
["VT_PlotTextureClass","GS - CL","GS - CL","Gravelly sand - Clay loam (mapped)","T",99,null,null,null,"Gravelly sand - Clay loam (mapped) (mapped)"]
["VT_PlotTextureClass","GS - CS","GS - CS","Gravelly sand - Coarse sand (mapped)","T",100,null,null,null,"Gravelly sand - Coarse sand (mapped) (mapped)"]
["VT_PlotTextureClass","GS - GL","GS - GL","Gravelly sand - Gravelly loam (mapped)","T",101,null,null,null,"Gravelly sand - Gravelly loam (mapped) (mapped)"]
["VT_PlotTextureClass","GS - GSL","GS - GSL","Gravelly sand - Gravelly sandy loam (mapped)","T",102,null,null,null,"Gravelly sand - Gravelly sandy loam (mapped) (mapped)"]
["VT_PlotTextureClass","GS - L","GS - L","Gravelly sand - Loam (mapped)","T",103,null,null,null,"Gravelly sand - Loam (mapped) (mapped)"]
["VT_PlotTextureClass","GS - LS","GS - LS","Gravelly sand - Loamy sand (mapped)","T",104,null,null,null,"Gravelly sand - Loamy sand (mapped) (mapped)"]
["VT_PlotTextureClass","GS - O","GS - O","Gravelly sand - Organic (mapped)","T",105,null,null,null,"Gravelly sand - Organic (mapped) (mapped)"]
["VT_PlotTextureClass","GS - SICL","GS - SICL","Gravelly sand - Silty clay loam (mapped)","T",106,null,null,null,"Gravelly sand - Silty clay loam (mapped) (mapped)"]
["VT_PlotTextureClass","GS - SL","GS - SL","Gravelly sand - Sandy loam (mapped)","T",107,null,null,null,"Gravelly sand - Sandy loam (mapped) (mapped)"]
["VT_PlotTextureClass","GSL","GSL","Gravelly sandy loam (mapped)","T",108,null,null,null,"Gravelly sandy loam (mapped) (mapped)"]
["VT_PlotTextureClass","GSL - C","GSL - C","Gravelly sandy loam - Clay (mapped)","T",109,null,null,null,"Gravelly sandy loam - Clay (mapped) (mapped)"]
["VT_PlotTextureClass","GSL - CL","GSL - CL","Gravelly sandy loam - Clay loam (mapped)","T",110,null,null,null,"Gravelly sandy loam - Clay loam (mapped) (mapped)"]
["VT_PlotTextureClass","GSL - CS","GSL - CS","Gravelly sandy loam - Coarse sand (mapped)","T",111,null,null,null,"Gravelly sandy loam - Coarse sand (mapped) (mapped)"]
["VT_PlotTextureClass","GSL - FL","GSL - FL","Gravelly sandy loam - Fine sandy loam (mapped)","T",112,null,null,null,"Gravelly sandy loam - Fine sandy loam (mapped) (mapped)"]
["VT_PlotTextureClass","GSL - GL","GSL - GL","Gravelly sandy loam - Gravelly loam (mapped)","T",113,null,null,null,"Gravelly sandy loam - Gravelly loam (mapped) (mapped)"]
["VT_PlotTextureClass","GSL - GLS","GSL - GLS","Gravelly sandy loam - Gravelly loamy sand (mapped)","T",114,null,null,null,"Gravelly sandy loam - Gravelly loamy sand (mapped) (mapped)"]
["VT_PlotTextureClass","GSL - GS","GSL - GS","Gravelly sandy loam - Gravelly sand (mapped)","T",115,null,null,null,"Gravelly sandy loam - Gravelly sand (mapped) (mapped)"]
["VT_PlotTextureClass","GSL - L","GSL - L","Gravelly sandy loam - Loam (mapped)","T",116,null,null,null,"Gravelly sandy loam - Loam (mapped) (mapped)"]
["VT_PlotTextureClass","GSL - LFS","GSL - LFS","Gravelly sandy loam - Loamy fine sand (mapped)","T",117,null,null,null,"Gravelly sandy loam - Loamy fine sand (mapped) (mapped)"]
["VT_PlotTextureClass","GSL - LS","GSL - LS","Gravelly sandy loam - Loamy sand (mapped)","T",118,null,null,null,"Gravelly sandy loam - Loamy sand (mapped) (mapped)"]
["VT_PlotTextureClass","GSL - S","GSL - S","Gravelly sandy loam - Sand (mapped)","T",119,null,null,null,"Gravelly sandy loam - Sand (mapped) (mapped)"]
["VT_PlotTextureClass","GSL - SIL","GSL - SIL","Gravelly sandy loam - Silt loam (mapped)","T",120,null,null,null,"Gravelly sandy loam - Silt loam (mapped) (mapped)"]
["VT_PlotTextureClass","GSL - SL","GSL - SL","Gravelly sandy loam - Sandy loam (mapped)","T",121,null,null,null,"Gravelly sandy loam - Sandy loam (mapped) (mapped)"]
["VT_PlotTextureClass","GSL - VL","GSL - VL","Gravelly sandy loam - Very fine sandy loam (mapped)","T",122,null,null,null,"Gravelly sandy loam - Very fine sandy loam (mapped) (mapped)"]
["VT_PlotTextureClass","HC","HC","Heavy clay (mapped)","T",123,null,null,null,"Heavy clay (mapped) (mapped)"]
["VT_PlotTextureClass","HC - C","HC - C","Heavy clay - Clay (mapped)","T",124,null,null,null,"Heavy clay - Clay (mapped) (mapped)"]
["VT_PlotTextureClass","HC - CL","HC - CL","Heavy clay - Clay loam (mapped)","T",125,null,null,null,"Heavy clay - Clay loam (mapped) (mapped)"]
["VT_PlotTextureClass","HC - GL","HC - GL","Heavy clay - Gravelly loam (mapped)","T",126,null,null,null,"Heavy clay - Gravelly loam (mapped) (mapped)"]
["VT_PlotTextureClass","HC - GLS","HC - GLS","Heavy clay - Gravelly loamy sand (mapped)","T",127,null,null,null,"Heavy clay - Gravelly loamy sand (mapped) (mapped)"]
["VT_PlotTextureClass","HC - L","HC - L","Heavy clay - Loam (mapped)","T",128,null,null,null,"Heavy clay - Loam (mapped) (mapped)"]
["VT_PlotTextureClass","HC - S","HC - S","Heavy clay - Sand (mapped)","T",129,null,null,null,"Heavy clay - Sand (mapped) (mapped)"]
["VT_PlotTextureClass","HC - SCL","HC - SCL","Heavy clay - Sandy clay loam (mapped)","T",130,null,null,null,{"$f":"CONCATENATE(D926,\" (mapped)\")","v":"Heavy clay - Sandy clay loam (mapped) (mapped)"}]
["VT_PlotTextureClass","HC - SIC","HC - SIC","Heavy clay - Silty clay (mapped)","T",131,null,null,null,"Heavy clay - Silty clay (mapped) (mapped)"]
["VT_PlotTextureClass","HC - SICL","HC - SICL","Heavy clay - Silty clay loam (mapped)","T",132,null,null,null,"Heavy clay - Silty clay loam (mapped) (mapped)"]
["VT_PlotTextureClass","HC - SIL","HC - SIL","Heavy clay - Silt loam (mapped)","T",133,null,null,null,"Heavy clay - Silt loam (mapped) (mapped)"]
["VT_PlotTextureClass","HC - SL","HC - SL","Heavy clay - Sandy loam (mapped)","T",134,null,null,null,"Heavy clay - Sandy loam (mapped) (mapped)"]
["VT_PlotTextureClass","L","L","Loam (mapped)","T",135,null,null,null,"Loam (mapped) (mapped)"]
["VT_PlotTextureClass","L - C","L - C","Loam - Clay (mapped)","T",136,null,null,null,"Loam - Clay (mapped) (mapped)"]
["VT_PlotTextureClass","L - CL","L - CL","Loam - Clay loam (mapped)","T",137,null,null,null,"Loam - Clay loam (mapped) (mapped)"]
["VT_PlotTextureClass","L - CS","L - CS","Loam - Coarse sand (mapped)","T",138,null,null,null,"Loam - Coarse sand (mapped) (mapped)"]
["VT_PlotTextureClass","L - FCL","L - FCL","Loam - Fine sandy clay loam (mapped)","T",139,null,null,null,"Loam - Fine sandy clay loam (mapped) (mapped)"]
["VT_PlotTextureClass","L - FL","L - FL","Loam - Fine sandy loam (mapped)","T",140,null,null,null,"Loam - Fine sandy loam (mapped) (mapped)"]
["VT_PlotTextureClass","L - FS","L - FS","Loam - Fine sand (mapped)","T",141,null,null,null,"Loam - Fine sand (mapped) (mapped)"]
["VT_PlotTextureClass","L - GL","L - GL","Loam - Gravelly loam (mapped)","T",142,null,null,null,"Loam - Gravelly loam (mapped) (mapped)"]
["VT_PlotTextureClass","L - GLS","L - GLS","Loam - Gravelly loamy sand (mapped)","T",143,null,null,null,"Loam - Gravelly loamy sand (mapped) (mapped)"]
["VT_PlotTextureClass","L - GS","L - GS","Loam - Gravelly sand (mapped)","T",144,null,null,null,"Loam - Gravelly sand (mapped) (mapped)"]
["VT_PlotTextureClass","L - GSL","L - GSL","Loam - Gravelly sandy loam (mapped)","T",145,null,null,null,"Loam - Gravelly sandy loam (mapped) (mapped)"]
["VT_PlotTextureClass","L - HC","L - HC","Loam - Heavy clay (mapped)","T",146,null,null,null,"Loam - Heavy clay (mapped) (mapped)"]
["VT_PlotTextureClass","L - LS","L - LS","Loam - Loamy sand (mapped)","T",147,null,null,null,"Loam - Loamy sand (mapped) (mapped)"]
["VT_PlotTextureClass","L - O","L - O","Loam - Organic (mapped)","T",148,null,null,null,"Loam - Organic (mapped) (mapped)"]
["VT_PlotTextureClass","L - S","L - S","Loam - Sand (mapped)","T",149,null,null,null,"Loam - Sand (mapped) (mapped)"]
["VT_PlotTextureClass","L - SCL","L - SCL","Loam - Sandy clay loam (mapped)","T",150,null,null,null,"Loam - Sandy clay loam (mapped) (mapped)"]
["VT_PlotTextureClass","L - SIC","L - SIC","Loam - Silty clay (mapped)","T",151,null,null,null,"Loam - Silty clay (mapped) (mapped)"]
["VT_PlotTextureClass","L - SICL","L - SICL","Loam - Silty clay loam (mapped)","T",152,null,null,null,"Loam - Silty clay loam (mapped) (mapped)"]
["VT_PlotTextureClass","L - SIL","L - SIL","Loam - Silt loam (mapped)","T",153,null,null,null,"Loam - Silt loam (mapped) (mapped)"]
["VT_PlotTextureClass","L - SL","L - SL","Loam - Sandy loam (mapped)","T",154,null,null,null,"Loam - Sandy loam (mapped) (mapped)"]
["VT_PlotTextureClass","L - VCL","L - VCL","Loam - Very fine sandy clay loam (mapped)","T",155,null,null,null,"Loam - Very fine sandy clay loam (mapped) (mapped)"]
["VT_PlotTextureClass","L - VL","L - VL","Loam - Very fine sandy loam (mapped)","T",156,null,null,null,"Loam - Very fine sandy loam (mapped) (mapped)"]
["VT_PlotTextureClass","LFS","LFS","Loamy fine sand (mapped)","T",157,null,null,null,"Loamy fine sand (mapped) (mapped)"]
["VT_PlotTextureClass","LFS - FL","LFS - FL","Loamy fine sand - Fine sandy loam (mapped)","T",158,null,null,null,"Loamy fine sand - Fine sandy loam (mapped) (mapped)"]
["VT_PlotTextureClass","LFS - FS","LFS - FS","Loamy fine sand - Fine sand (mapped)","T",159,null,null,null,"Loamy fine sand - Fine sand (mapped) (mapped)"]
["VT_PlotTextureClass","LFS - L","LFS - L","Loamy fine sand - Loam (mapped)","T",160,null,null,null,"Loamy fine sand - Loam (mapped) (mapped)"]
["VT_PlotTextureClass","LFS - LS","LFS - LS","Loamy fine sand - Loamy sand (mapped)","T",161,null,null,null,"Loamy fine sand - Loamy sand (mapped) (mapped)"]
["VT_PlotTextureClass","LFS - S","LFS - S","Loamy fine sand - Sand (mapped)","T",162,null,null,null,"Loamy fine sand - Sand (mapped) (mapped)"]
["VT_PlotTextureClass","LFS - SIL","LFS - SIL","Loamy fine sand - Silt loam (mapped)","T",163,null,null,null,"Loamy fine sand - Silt loam (mapped) (mapped)"]
["VT_PlotTextureClass","LFS - SL","LFS - SL","Loamy fine sand - Sandy loam (mapped)","T",164,null,null,null,"Loamy fine sand - Sandy loam (mapped) (mapped)"]
["VT_PlotTextureClass","LFS - VL","LFS - VL","Loamy fine sand - Very fine sandy loam (mapped)","T",165,null,null,null,"Loamy fine sand - Very fine sandy loam (mapped) (mapped)"]
["VT_PlotTextureClass","LS","LS","Loamy sand (mapped)","T",166,null,null,null,"Loamy sand (mapped) (mapped)"]
["VT_PlotTextureClass","LS - C","LS - C","Loamy sand - Clay (mapped)","T",167,null,null,null,"Loamy sand - Clay (mapped) (mapped)"]
["VT_PlotTextureClass","LS - CL","LS - CL","Loamy sand - Clay loam (mapped)","T",168,null,null,null,"Loamy sand - Clay loam (mapped) (mapped)"]
["VT_PlotTextureClass","LS - CS","LS - CS","Loamy sand - Coarse sand (mapped)","T",169,null,null,null,"Loamy sand - Coarse sand (mapped) (mapped)"]
["VT_PlotTextureClass","LS - FL","LS - FL","Loamy sand - Fine sandy loam (mapped)","T",170,null,null,null,"Loamy sand - Fine sandy loam (mapped) (mapped)"]
["VT_PlotTextureClass","LS - FS","LS - FS","Loamy sand - Fine sand (mapped)","T",171,null,null,null,"Loamy sand - Fine sand (mapped) (mapped)"]
["VT_PlotTextureClass","LS - GL","LS - GL","Loamy sand - Gravelly loam (mapped)","T",172,null,null,null,"Loamy sand - Gravelly loam (mapped) (mapped)"]
["VT_PlotTextureClass","LS - GLS","LS - GLS","Loamy sand - Gravelly loamy sand (mapped)","T",173,null,null,null,"Loamy sand - Gravelly loamy sand (mapped) (mapped)"]
["VT_PlotTextureClass","LS - GS","LS - GS","Loamy sand - Gravelly sand (mapped)","T",174,null,null,null,"Loamy sand - Gravelly sand (mapped) (mapped)"]
["VT_PlotTextureClass","LS - GSL","LS - GSL","Loamy sand - Gravelly sandy loam (mapped)","T",175,null,null,null,"Loamy sand - Gravelly sandy loam (mapped) (mapped)"]
["VT_PlotTextureClass","LS - L","LS - L","Loamy sand - Loam (mapped)","T",176,null,null,null,"Loamy sand - Loam (mapped) (mapped)"]
["VT_PlotTextureClass","LS - O","LS - O","Loamy sand - Organic (mapped)","T",177,null,null,null,"Loamy sand - Organic (mapped) (mapped)"]
["VT_PlotTextureClass","LS - S","LS - S","Loamy sand - Sand (mapped)","T",178,null,null,null,"Loamy sand - Sand (mapped) (mapped)"]
["VT_PlotTextureClass","LS - SCL","LS - SCL","Loamy sand - Sandy clay loam (mapped)","T",179,null,null,null,"Loamy sand - Sandy clay loam (mapped) (mapped)"]
["VT_PlotTextureClass","LS - SICL","LS - SICL","Loamy sand - Silty clay loam (mapped)","T",180,null,null,null,"Loamy sand - Silty clay loam (mapped) (mapped)"]
["VT_PlotTextureClass","LS - SIL","LS - SIL","Loamy sand - Silt loam (mapped)","T",181,null,null,null,"Loamy sand - Silt loam (mapped) (mapped)"]
["VT_PlotTextureClass","LS - SL","LS - SL","Loamy sand - Sandy loam (mapped)","T",182,null,null,null,"Loamy sand - Sandy loam (mapped) (mapped)"]
["VT_PlotTextureClass","LS - VL","LS - VL","Loamy sand - Very fine sandy loam (mapped)","T",183,null,null,null,"Loamy sand - Very fine sandy loam (mapped) (mapped)"]
["VT_PlotTextureClass","O","O","Organic (mapped)","T",184,null,null,null,"Organic (mapped) (mapped)"]
["VT_PlotTextureClass","O - C","O - C","Organic - Clay (mapped)","T",185,null,null,null,"Organic - Clay (mapped) (mapped)"]
["VT_PlotTextureClass","O - CL","O - CL","Organic - Clay loam (mapped)","T",186,null,null,null,"Organic - Clay loam (mapped) (mapped)"]
["VT_PlotTextureClass","O - FL","O - FL","Organic - Fine sandy loam (mapped)","T",187,null,null,null,"Organic - Fine sandy loam (mapped) (mapped)"]
["VT_PlotTextureClass","O - FS","O - FS","Organic - Fine sand (mapped)","T",188,null,null,null,"Organic - Fine sand (mapped) (mapped)"]
["VT_PlotTextureClass","O - GSL","O - GSL","Organic - Gravelly sandy loam (mapped)","T",189,null,null,null,"Organic - Gravelly sandy loam (mapped) (mapped)"]
["VT_PlotTextureClass","O - HC","O - HC","Organic - Heavy clay (mapped)","T",190,null,null,null,"Organic - Heavy clay (mapped) (mapped)"]
["VT_PlotTextureClass","O - L","O - L","Organic - Loam (mapped)","T",191,null,null,null,"Organic - Loam (mapped) (mapped)"]
["VT_PlotTextureClass","O - LFS","O - LFS","Organic - Loamy fine sand (mapped)","T",192,null,null,null,"Organic - Loamy fine sand (mapped) (mapped)"]
["VT_PlotTextureClass","O - LS","O - LS","Organic - Loamy sand (mapped)","T",193,null,null,null,"Organic - Loamy sand (mapped) (mapped)"]
["VT_PlotTextureClass","O - S","O - S","Organic - Sand (mapped)","T",194,null,null,null,{"$f":"CONCATENATE(D990,\" (mapped)\")","v":"Organic - Sand (mapped) (mapped)"}]
["VT_PlotTextureClass","O - SICL","O - SICL","Organic - Silty clay loam (mapped)","T",195,null,null,null,"Organic - Silty clay loam (mapped) (mapped)"]
["VT_PlotTextureClass","O - SL","O - SL","Organic - Sandy loam (mapped)","T",196,null,null,null,"Organic - Sandy loam (mapped) (mapped)"]
["VT_PlotTextureClass","S","S","Sand (mapped)","T",197,null,null,null,"Sand (mapped) (mapped)"]
["VT_PlotTextureClass","S - C","S - C","Sand - Clay (mapped)","T",198,null,null,null,"Sand - Clay (mapped) (mapped)"]
["VT_PlotTextureClass","S - CL","S - CL","Sand - Clay loam (mapped)","T",199,null,null,null,"Sand - Clay loam (mapped) (mapped)"]
["VT_PlotTextureClass","S - FL","S - FL","Sand - Fine sandy loam (mapped)","T",200,null,null,null,"Sand - Fine sandy loam (mapped) (mapped)"]
["VT_PlotTextureClass","S - FS","S - FS","Sand - Fine sand (mapped)","T",201,null,null,null,"Sand - Fine sand (mapped) (mapped)"]
["VT_PlotTextureClass","S - GLS","S - GLS","Sand - Gravelly loamy sand (mapped)","T",202,null,null,null,"Sand - Gravelly loamy sand (mapped) (mapped)"]
["VT_PlotTextureClass","S - GS","S - GS","Sand - Gravelly sand (mapped)","T",203,null,null,null,"Sand - Gravelly sand (mapped) (mapped)"]
["VT_PlotTextureClass","S - GSL","S - GSL","Sand - Gravelly sandy loam (mapped)","T",204,null,null,null,"Sand - Gravelly sandy loam (mapped) (mapped)"]
["VT_PlotTextureClass","S - L","S - L","Sand - Loam (mapped)","T",205,null,null,null,"Sand - Loam (mapped) (mapped)"]
["VT_PlotTextureClass","S - LS","S - LS","Sand - Loamy sand (mapped)","T",206,null,null,null,"Sand - Loamy sand (mapped) (mapped)"]
["VT_PlotTextureClass","S - O","S - O","Sand - Organic (mapped)","T",207,null,null,null,"Sand - Organic (mapped) (mapped)"]
["VT_PlotTextureClass","S - SIC","S - SIC","Sand - Silty clay (mapped)","T",208,null,null,null,"Sand - Silty clay (mapped) (mapped)"]
["VT_PlotTextureClass","S - SIL","S - SIL","Sand - Silt loam (mapped)","T",209,null,null,null,"Sand - Silt loam (mapped) (mapped)"]
["VT_PlotTextureClass","S - SL","S - SL","Sand - Sandy loam (mapped)","T",210,null,null,null,"Sand - Sandy loam (mapped) (mapped)"]
["VT_PlotTextureClass","S - VL","S - VL","Sand - Very fine sandy loam (mapped)","T",211,null,null,null,"Sand - Very fine sandy loam (mapped) (mapped)"]
["VT_PlotTextureClass","SCL","SCL","Sandy clay loam (mapped)","T",212,null,null,null,"Sandy clay loam (mapped) (mapped)"]
["VT_PlotTextureClass","SCL - C","SCL - C","Sandy clay loam - Clay (mapped)","T",213,null,null,null,"Sandy clay loam - Clay (mapped) (mapped)"]
["VT_PlotTextureClass","SCL - CL","SCL - CL","Sandy clay loam - Clay loam (mapped)","T",214,null,null,null,"Sandy clay loam - Clay loam (mapped) (mapped)"]
["VT_PlotTextureClass","SCL - FCL","SCL - FCL","Sandy clay loam - Fine sandy clay loam (mapped)","T",215,null,null,null,"Sandy clay loam - Fine sandy clay loam (mapped) (mapped)"]
["VT_PlotTextureClass","SCL - FL","SCL - FL","Sandy clay loam - Fine sandy loam (mapped)","T",216,null,null,null,"Sandy clay loam - Fine sandy loam (mapped) (mapped)"]
["VT_PlotTextureClass","SCL - L","SCL - L","Sandy clay loam - Loam (mapped)","T",217,null,null,null,"Sandy clay loam - Loam (mapped) (mapped)"]
["VT_PlotTextureClass","SCL - LFS","SCL - LFS","Sandy clay loam - Loamy fine sand (mapped)","T",218,null,null,null,"Sandy clay loam - Loamy fine sand (mapped) (mapped)"]
["VT_PlotTextureClass","SCL - LS","SCL - LS","Sandy clay loam - Loamy sand (mapped)","T",219,null,null,null,"Sandy clay loam - Loamy sand (mapped) (mapped)"]
["VT_PlotTextureClass","SCL - S","SCL - S","Sandy clay loam - Sand (mapped)","T",220,null,null,null,"Sandy clay loam - Sand (mapped) (mapped)"]
["VT_PlotTextureClass","SCL - SICL","SCL - SICL","Sandy clay loam - Silty clay loam (mapped)","T",221,null,null,null,"Sandy clay loam - Silty clay loam (mapped) (mapped)"]
["VT_PlotTextureClass","SCL - SIL","SCL - SIL","Sandy clay loam - Silt loam (mapped)","T",222,null,null,null,"Sandy clay loam - Silt loam (mapped) (mapped)"]
["VT_PlotTextureClass","SCL - SL","SCL - SL","Sandy clay loam - Sandy loam (mapped)","T",223,null,null,null,"Sandy clay loam - Sandy loam (mapped) (mapped)"]
["VT_PlotTextureClass","SIC","SIC","Silty clay (mapped)","T",224,null,null,null,"Silty clay (mapped) (mapped)"]
["VT_PlotTextureClass","SIC - C","SIC - C","Silty clay - Clay (mapped)","T",225,null,null,null,"Silty clay - Clay (mapped) (mapped)"]
["VT_PlotTextureClass","SIC - CL","SIC - CL","Silty clay - Clay loam (mapped)","T",226,null,null,null,"Silty clay - Clay loam (mapped) (mapped)"]
["VT_PlotTextureClass","SIC - FL","SIC - FL","Silty clay - Fine sandy loam (mapped)","T",227,null,null,null,"Silty clay - Fine sandy loam (mapped) (mapped)"]
["VT_PlotTextureClass","SIC - HC","SIC - HC","Silty clay - Heavy clay (mapped)","T",228,null,null,null,"Silty clay - Heavy clay (mapped) (mapped)"]
["VT_PlotTextureClass","SIC - L","SIC - L","Silty clay - Loam (mapped)","T",229,null,null,null,"Silty clay - Loam (mapped) (mapped)"]
["VT_PlotTextureClass","SIC - SICL","SIC - SICL","Silty clay - Silty clay loam (mapped)","T",230,null,null,null,"Silty clay - Silty clay loam (mapped) (mapped)"]
["VT_PlotTextureClass","SIC - SIL","SIC - SIL","Silty clay - Silt loam (mapped)","T",231,null,null,null,"Silty clay - Silt loam (mapped) (mapped)"]
["VT_PlotTextureClass","SIC - SL","SIC - SL","Silty clay - Sandy loam (mapped)","T",232,null,null,null,"Silty clay - Sandy loam (mapped) (mapped)"]
["VT_PlotTextureClass","SICL","SICL","Silty clay loam (mapped)","T",233,null,null,null,"Silty clay loam (mapped) (mapped)"]
["VT_PlotTextureClass","SICL - C","SICL - C","Silty clay loam - Clay (mapped)","T",234,null,null,null,"Silty clay loam - Clay (mapped) (mapped)"]
["VT_PlotTextureClass","SICL - CL","SICL - CL","Silty clay loam - Clay loam (mapped)","T",235,null,null,null,"Silty clay loam - Clay loam (mapped) (mapped)"]
["VT_PlotTextureClass","SICL - FL","SICL - FL","Silty clay loam - Fine sandy loam (mapped)","T",236,null,null,null,"Silty clay loam - Fine sandy loam (mapped) (mapped)"]
["VT_PlotTextureClass","SICL - GS","SICL - GS","Silty clay loam - Gravelly sand (mapped)","T",237,null,null,null,"Silty clay loam - Gravelly sand (mapped) (mapped)"]
["VT_PlotTextureClass","SICL - GSL","SICL - GSL","Silty clay loam - Gravelly sandy loam (mapped)","T",238,null,null,null,"Silty clay loam - Gravelly sandy loam (mapped) (mapped)"]
["VT_PlotTextureClass","SICL - HC","SICL - HC","Silty clay loam - Heavy clay (mapped)","T",239,null,null,null,"Silty clay loam - Heavy clay (mapped) (mapped)"]
["VT_PlotTextureClass","SICL - L","SICL - L","Silty clay loam - Loam (mapped)","T",240,null,null,null,"Silty clay loam - Loam (mapped) (mapped)"]
["VT_PlotTextureClass","SICL - LS","SICL - LS","Silty clay loam - Loamy sand (mapped)","T",241,null,null,null,"Silty clay loam - Loamy sand (mapped) (mapped)"]
["VT_PlotTextureClass","SICL - O","SICL - O","Silty clay loam - Organic (mapped)","T",242,null,null,null,"Silty clay loam - Organic (mapped) (mapped)"]
["VT_PlotTextureClass","SICL - SCL","SICL - SCL","Silty clay loam - Sandy clay loam (mapped)","T",243,null,null,null,"Silty clay loam - Sandy clay loam (mapped) (mapped)"]
["VT_PlotTextureClass","SICL - SIC","SICL - SIC","Silty clay loam - Silty clay (mapped)","T",244,null,null,null,"Silty clay loam - Silty clay (mapped) (mapped)"]
["VT_PlotTextureClass","SICL - SIL","SICL - SIL","Silty clay loam - Silt loam (mapped)","T",245,null,null,null,"Silty clay loam - Silt loam (mapped) (mapped)"]
["VT_PlotTextureClass","SICL - SL","SICL - SL","Silty clay loam - Sandy loam (mapped)","T",246,null,null,null,"Silty clay loam - Sandy loam (mapped) (mapped)"]
["VT_PlotTextureClass","SICL - VCL","SICL - VCL","Silty clay loam - Very fine sandy clay loam (mapped)","T",247,null,null,null,"Silty clay loam - Very fine sandy clay loam (mapped) (mapped)"]
["VT_PlotTextureClass","SICL - VL","SICL - VL","Silty clay loam - Very fine sandy loam (mapped)","T",248,null,null,null,"Silty clay loam - Very fine sandy loam (mapped) (mapped)"]
["VT_PlotTextureClass","SIL","SIL","Silt loam (mapped)","T",249,null,null,null,"Silt loam (mapped) (mapped)"]
["VT_PlotTextureClass","SIL - C","SIL - C","Silt loam - Clay (mapped)","T",250,null,null,null,"Silt loam - Clay (mapped) (mapped)"]
["VT_PlotTextureClass","SIL - CL","SIL - CL","Silt loam - Clay loam (mapped)","T",251,null,null,null,"Silt loam - Clay loam (mapped) (mapped)"]
["VT_PlotTextureClass","SIL - FL","SIL - FL","Silt loam - Fine sandy loam (mapped)","T",252,null,null,null,"Silt loam - Fine sandy loam (mapped) (mapped)"]
["VT_PlotTextureClass","SIL - GLS","SIL - GLS","Silt loam - Gravelly loamy sand (mapped)","T",253,null,null,null,"Silt loam - Gravelly loamy sand (mapped) (mapped)"]
["VT_PlotTextureClass","SIL - GSL","SIL - GSL","Silt loam - Gravelly sandy loam (mapped)","T",254,null,null,null,"Silt loam - Gravelly sandy loam (mapped) (mapped)"]
["VT_PlotTextureClass","SIL - HC","SIL - HC","Silt loam - Heavy clay (mapped)","T",255,null,null,null,"Silt loam - Heavy clay (mapped) (mapped)"]
["VT_PlotTextureClass","SIL - L","SIL - L","Silt loam - Loam (mapped)","T",256,null,null,null,"Silt loam - Loam (mapped) (mapped)"]
["VT_PlotTextureClass","SIL - LS","SIL - LS","Silt loam - Loamy sand (mapped)","T",257,null,null,null,"Silt loam - Loamy sand (mapped) (mapped)"]
["VT_PlotTextureClass","SIL - S","SIL - S","Silt loam - Sand (mapped)","T",258,null,null,null,{"$f":"CONCATENATE(D1054,\" (mapped)\")","v":"Silt loam - Sand (mapped) (mapped)"}]
["VT_PlotTextureClass","SIL - SCL","SIL - SCL","Silt loam - Sandy clay loam (mapped)","T",259,null,null,null,"Silt loam - Sandy clay loam (mapped) (mapped)"]
["VT_PlotTextureClass","SIL - SIC","SIL - SIC","Silt loam - Silty clay (mapped)","T",260,null,null,null,"Silt loam - Silty clay (mapped) (mapped)"]
["VT_PlotTextureClass","SIL - SICL","SIL - SICL","Silt loam - Silty clay loam (mapped)","T",261,null,null,null,"Silt loam - Silty clay loam (mapped) (mapped)"]
["VT_PlotTextureClass","SIL - SL","SIL - SL","Silt loam - Sandy loam (mapped)","T",262,null,null,null,"Silt loam - Sandy loam (mapped) (mapped)"]
["VT_PlotTextureClass","SIL - VL","SIL - VL","Silt loam - Very fine sandy loam (mapped)","T",263,null,null,null,"Silt loam - Very fine sandy loam (mapped) (mapped)"]
["VT_PlotTextureClass","SL","SL","Sandy loam (mapped)","T",264,null,null,null,"Sandy loam (mapped) (mapped)"]
["VT_PlotTextureClass","SL - C","SL - C","Sandy loam - Clay (mapped)","T",265,null,null,null,"Sandy loam - Clay (mapped) (mapped)"]
["VT_PlotTextureClass","SL - CL","SL - CL","Sandy loam - Clay loam (mapped)","T",266,null,null,null,"Sandy loam - Clay loam (mapped) (mapped)"]
["VT_PlotTextureClass","SL - CS","SL - CS","Sandy loam - Coarse sand (mapped)","T",267,null,null,null,"Sandy loam - Coarse sand (mapped) (mapped)"]
["VT_PlotTextureClass","SL - FCL","SL - FCL","Sandy loam - Fine sandy clay loam (mapped)","T",268,null,null,null,"Sandy loam - Fine sandy clay loam (mapped) (mapped)"]
["VT_PlotTextureClass","SL - FL","SL - FL","Sandy loam - Fine sandy loam (mapped)","T",269,null,null,null,"Sandy loam - Fine sandy loam (mapped) (mapped)"]
["VT_PlotTextureClass","SL - FS","SL - FS","Sandy loam - Fine sand (mapped)","T",270,null,null,null,"Sandy loam - Fine sand (mapped) (mapped)"]
["VT_PlotTextureClass","SL - GL","SL - GL","Sandy loam - Gravelly loam (mapped)","T",271,null,null,null,"Sandy loam - Gravelly loam (mapped) (mapped)"]
["VT_PlotTextureClass","SL - GLS","SL - GLS","Sandy loam - Gravelly loamy sand (mapped)","T",272,null,null,null,"Sandy loam - Gravelly loamy sand (mapped) (mapped)"]
["VT_PlotTextureClass","SL - GS","SL - GS","Sandy loam - Gravelly sand (mapped)","T",273,null,null,null,"Sandy loam - Gravelly sand (mapped) (mapped)"]
["VT_PlotTextureClass","SL - GSL","SL - GSL","Sandy loam - Gravelly sandy loam (mapped)","T",274,null,null,null,"Sandy loam - Gravelly sandy loam (mapped) (mapped)"]
["VT_PlotTextureClass","SL - HC","SL - HC","Sandy loam - Heavy clay (mapped)","T",275,null,null,null,"Sandy loam - Heavy clay (mapped) (mapped)"]
["VT_PlotTextureClass","SL - L","SL - L","Sandy loam - Loam (mapped)","T",276,null,null,null,"Sandy loam - Loam (mapped) (mapped)"]
["VT_PlotTextureClass","SL - LFS","SL - LFS","Sandy loam - Loamy fine sand (mapped)","T",277,null,null,null,"Sandy loam - Loamy fine sand (mapped) (mapped)"]
["VT_PlotTextureClass","SL - LS","SL - LS","Sandy loam - Loamy sand (mapped)","T",278,null,null,null,"Sandy loam - Loamy sand (mapped) (mapped)"]
["VT_PlotTextureClass","SL - O","SL - O","Sandy loam - Organic (mapped)","T",279,null,null,null,"Sandy loam - Organic (mapped) (mapped)"]
["VT_PlotTextureClass","SL - S","SL - S","Sandy loam - Sand (mapped)","T",280,null,null,null,"Sandy loam - Sand (mapped) (mapped)"]
["VT_PlotTextureClass","SL - SCL","SL - SCL","Sandy loam - Sandy clay loam (mapped)","T",281,null,null,null,"Sandy loam - Sandy clay loam (mapped) (mapped)"]
["VT_PlotTextureClass","SL - SIC","SL - SIC","Sandy loam - Silty clay (mapped)","T",282,null,null,null,"Sandy loam - Silty clay (mapped) (mapped)"]
["VT_PlotTextureClass","SL - SICL","SL - SICL","Sandy loam - Silty clay loam (mapped)","T",283,null,null,null,"Sandy loam - Silty clay loam (mapped) (mapped)"]
["VT_PlotTextureClass","SL - SIL","SL - SIL","Sandy loam - Silt loam (mapped)","T",284,null,null,null,"Sandy loam - Silt loam (mapped) (mapped)"]
["VT_PlotTextureClass","SL - VL","SL - VL","Sandy loam - Very fine sandy loam (mapped)","T",285,null,null,null,"Sandy loam - Very fine sandy loam (mapped) (mapped)"]
["VT_PlotTextureClass","VCL","VCL","Very fine sandy clay loam (mapped)","T",286,null,null,null,"Very fine sandy clay loam (mapped) (mapped)"]
["VT_PlotTextureClass","VCL - C","VCL - C","Very fine sandy clay loam - Clay (mapped)","T",287,null,null,null,"Very fine sandy clay loam - Clay (mapped) (mapped)"]
["VT_PlotTextureClass","VCL - FCL","VCL - FCL","Very fine sandy clay loam - Fine sandy clay loam (mapped)","T",288,null,null,null,"Very fine sandy clay loam - Fine sandy clay loam (mapped) (mapped)"]
["VT_PlotTextureClass","VCL - L","VCL - L","Very fine sandy clay loam - Loam (mapped)","T",289,null,null,null,"Very fine sandy clay loam - Loam (mapped) (mapped)"]
["VT_PlotTextureClass","VCL - SICL","VCL - SICL","Very fine sandy clay loam - Silty clay loam (mapped)","T",290,null,null,null,"Very fine sandy clay loam - Silty clay loam (mapped) (mapped)"]
["VT_PlotTextureClass","VCL - VL","VCL - VL","Very fine sandy clay loam - Very fine sandy loam (mapped)","T",291,null,null,null,"Very fine sandy clay loam - Very fine sandy loam (mapped) (mapped)"]
["VT_PlotTextureClass","VL","VL","Very fine sandy loam (mapped)","T",292,null,null,null,"Very fine sandy loam (mapped) (mapped)"]
["VT_PlotTextureClass","VL - C","VL - C","Very fine sandy loam - Clay (mapped)","T",293,null,null,null,"Very fine sandy loam - Clay (mapped) (mapped)"]
["VT_PlotTextureClass","VL - CL","VL - CL","Very fine sandy loam - Clay loam (mapped)","T",294,null,null,null,"Very fine sandy loam - Clay loam (mapped) (mapped)"]
["VT_PlotTextureClass","VL - FL","VL - FL","Very fine sandy loam - Fine sandy loam (mapped)","T",295,null,null,null,"Very fine sandy loam - Fine sandy loam (mapped) (mapped)"]
["VT_PlotTextureClass","VL - FS","VL - FS","Very fine sandy loam - Fine sand (mapped)","T",296,null,null,null,"Very fine sandy loam - Fine sand (mapped) (mapped)"]
["VT_PlotTextureClass","VL - GL","VL - GL","Very fine sandy loam - Gravelly loam (mapped)","T",297,null,null,null,"Very fine sandy loam - Gravelly loam (mapped) (mapped)"]
["VT_PlotTextureClass","VL - GLS","VL - GLS","Very fine sandy loam - Gravelly loamy sand (mapped)","T",298,null,null,null,"Very fine sandy loam - Gravelly loamy sand (mapped) (mapped)"]
["VT_PlotTextureClass","VL - GSL","VL - GSL","Very fine sandy loam - Gravelly sandy loam (mapped)","T",299,null,null,null,"Very fine sandy loam - Gravelly sandy loam (mapped) (mapped)"]
["VT_PlotTextureClass","VL - L","VL - L","Very fine sandy loam - Loam (mapped)","T",300,null,null,null,"Very fine sandy loam - Loam (mapped) (mapped)"]
["VT_PlotTextureClass","VL - LFS","VL - LFS","Very fine sandy loam - Loamy fine sand (mapped)","T",301,null,null,null,"Very fine sandy loam - Loamy fine sand (mapped) (mapped)"]
["VT_PlotTextureClass","VL - LS","VL - LS","Very fine sandy loam - Loamy sand (mapped)","T",302,null,null,null,"Very fine sandy loam - Loamy sand (mapped) (mapped)"]
["VT_PlotTextureClass","VL - S","VL - S","Very fine sandy loam - Sand (mapped)","T",303,null,null,null,"Very fine sandy loam - Sand (mapped) (mapped)"]
["VT_PlotTextureClass","VL - SCL","VL - SCL","Very fine sandy loam - Sandy clay loam (mapped)","T",304,null,null,null,"Very fine sandy loam - Sandy clay loam (mapped) (mapped)"]
["VT_PlotTextureClass","VL - SIC","VL - SIC","Very fine sandy loam - Silty clay (mapped)","T",305,null,null,null,"Very fine sandy loam - Silty clay (mapped) (mapped)"]
["VT_PlotTextureClass","VL - SICL","VL - SICL","Very fine sandy loam - Silty clay loam (mapped)","T",306,null,null,null,"Very fine sandy loam - Silty clay loam (mapped) (mapped)"]
["VT_PlotTextureClass","VL - SIL","VL - SIL","Very fine sandy loam - Silt loam (mapped)","T",307,null,null,null,"Very fine sandy loam - Silt loam (mapped) (mapped)"]
["VT_PlotTextureClass","VL - SL","VL - SL","Very fine sandy loam - Sandy loam (mapped)","T",308,null,null,null,"Very fine sandy loam - Sandy loam (mapped) (mapped)"]
["VT_PlotTextureClass","VL - VCL","VL - VCL","Very fine sandy loam - Very fine sandy clay loam (mapped)","T",309,null,null,null,"Very fine sandy loam - Very fine sandy clay loam (mapped) (mapped)"]
["VT_PlotWeightLayers","Layer","Short_Desc","Long_Desc","Active","Sort_Order"]
["VT_PlotWeightLayers","TSB","Tall shrub browse","Browse from tall shrubs (current-year's growth only)","T",1]
["VT_PlotWeightLayers","SSB","Short shrub browse","Browse from short shrubs (current-year’s growth only)","T",2]
["VT_PlotWeightLayers","PSB","Prostr shrub browse","Browse from prostrate shrubs (current-year’s growth only)","T",3]
["VT_PlotWeightLayers","USB","Undiff shrub browse","Browse from shrubs (undifferentiated by height) (current-year’s growth only)","T",4]
["VT_PlotWeightLayers","STR","Shrubs/trees","The tree and shrub layers combined","T",5]
["VT_PlotWeightLayers","HRB","Herbs","Above-ground biomass of herbs (i.e. graminoids + forbs)","T",6]
["VT_PlotWeightLayers","GRA","Graminoids","Above-ground biomass of graminoids","T",7]
["VT_PlotWeightLayers","FRB","Forbs","Above-ground biomass of forbs","T",8]
["VT_PlotWeightLayers","LTR","Litter","Weight of litter","T",9]
["VT_QuarterSection","QuarterSection","Short_Desc","Long_Desc","Active","Sort_Order"]
["VT_QuarterSection","NW","NW","Northwest","T",1]
["VT_QuarterSection","SW","SW","Southwest","T",2]
["VT_QuarterSection","NE","NE","Northeast","T",3]
["VT_QuarterSection","SE","SE","Southeast","T",4]
["VT_QuarterSection","S","S","South Half","T",5]
["VT_QuarterSection","N","N","North Half","T",6]
["VT_QuarterSection","E","E","East Half","T",7]
["VT_QuarterSection","W","W","West Half","T",8]
["VT_SampleDimensionType","DimensionType","Short_Desc","Long_Desc","Active","Sort_Order"]
["VT_SampleDimensionType","LL","Line Length","Length of a line plot","T",1]
["VT_SampleDimensionType","DI","Diameter","Diameter of a circular plot","T",2]
["VT_SampleDimensionType","S1","Side 1 length","Length of the longer side of a rectangular plot","T",3]
["VT_SampleDimensionType","S2","Side 2 length"," Length of the shorter side of a rectangular plot","T",4]
["VT_SampleDimensionType","FP","Frame Points","Frame Points","T",5]
["VT_SampleLocationType","LocationType","Short_Desc","Long_Desc","Active","Sort_Order"]
["VT_SampleLocationType","PT","Point","Location of a point plot","T",1]
["VT_SampleLocationType","E1","End1","Location of the first end of a line plot","T",2]
["VT_SampleLocationType","E2","End2","Location of the second end of the line plot","T",3]
["VT_Species","Acronym","Short_Desc","Long_Desc","Active","Sort_Order","Common_Name","Growth_Form","Tree_Code"]
["VT_Species","See SpeciesCodes Tab"]
["VT_Species_Form","Growth_Form","Short_Desc","Long_Desc","Active","Sort_Order"]
["VT_Species_Form","tree","Tree","Tree","T",1]
["VT_Species_Form","erect shrub","Erect Shrub","Erect Shrub","T",2]
["VT_Species_Form","prostrate shrub","Prostrate Shrub","Prostrate Shrub","T",3]
["VT_Species_Form","graminoid","Graminoid","Graminoid","T",4]
["VT_Species_Form","forb","Forb","Forb","T",5]
["VT_Species_Form","cactus","Cactus","Cactus","T",6]
["VT_Species_Form","lichen","Lichen","Lichen","T",7]
["VT_Species_Form","bryophyte","Bryophyte","Bryophyte","T",8]
["VT_StableUnstable","StableUnstable","Short_Desc","Long_Desc","Active","Sort_Order"]
["VT_StableUnstable","U","U","Unstable","T",1]
["VT_StableUnstable","S","S","Stable","T",2]
["VT_SurveyHealthMethod","HealthAssessmentMethod","Short_Desc","Long_Desc","Active","Sort_Order","Assessment_Year"]
["VT_SurveyHealthMethod","SKGRS","SKGRS","Saskatchewan grassland","T",1,2008]
["VT_SurveyHealthMethod","SKFOR","SKFOR","Saskatchewan forest indicator","T",2,2008]
["VT_SurveyHealthMethod","SKQUA","SKQUA","Saskatchewan forest quantitative","T",3,2008]
["VT_SurveyHealthMethod","ABTPA","ABTPA","Alberta tame pasture","T",4,2005]
["VT_SurveyHealthMethod","SKLEN","SKLEN","Sasktchewan lentic","T",5,2008]
["VT_SurveyHealthMethod","SKLOT","SKLOT","Saskatchewan lotic","T",6,2008]
["VT_SurveyHealthMethod","ABLEL","ABLEL","Alberta lentic long form","T",7,2007]
["VT_SurveyHealthMethod","ABLOL","ABLOL","Alberta lotic long form","T",8,2007]
["VT_SurveyHealthMethod","RGCON","RGCON","Range condition","T",9,1990]
["VT_SurveyHealthMethod","NONE","NONE","None","T",10]
["VT_SurveyPurpose","Purpose","Short_Desc","Long_Desc","Active","Sort_Order"]
["VT_SurveyPurpose","RES","Research","Detailed, usually quantitative, survey for research purposes","T",1]
["VT_SurveyPurpose","MON","Monitoring","Detailed, usually quantitative, survey for long-term monitoring","T",2]
["VT_SurveyPurpose","DET","Detailed Assessment","Detailed, usually quantitative, survey for one-time assessment","T",3]
["VT_SurveyPurpose","RPD","Rapid Assessment","Less detailed or less quantitative survey for a one-time assessment","T",4]
["VT_TameGrazingIntensity","GrazingIntensity","Short_Desc","Long_Desc","Active","Sort_Order"]
["VT_TameGrazingIntensity","U","U","Ungrazed","T",1]
["VT_TameGrazingIntensity","U-L","U-L","Ungrazed to lightly grazed","T",2]
["VT_TameGrazingIntensity","L-M","L-M","Lightly to moderately grazed","T",3]
["VT_TameGrazingIntensity","M","M","Moderately grazed","T",4]
["VT_TameGrazingIntensity","M-H","M-H","Moderately to heavily grazed","T",5]
["VT_TameGrazingIntensity","H","H","Heavily grazed","T",6]
["VT_TamePastureType","PastureType","Short_Desc","Long_Desc","Active","Sort_Order"]
["VT_TamePastureType","TP","Tame pasture","Tame pasture","T",1]
["VT_TamePastureType","MT","Modified tame pasture","Modified tame pasture","T",2]
["VT_TameTrend","Trend","Short_Desc","Long_Desc","Active","Sort_Order"]
["VT_TameTrend","UP","Upward","Upward","T",1]
["VT_TameTrend","DN","Downward","Downward","T",2]
["VT_TameTrend","ST","Stable","Stable","T",3]
["VT_TameTrend","UK","Unknown","Unknown","T",4]
["VT_TrueFalse","TrueFalse","Short_Desc","Long_Desc","Active","Sort_Order"]
["VT_TrueFalse","T","T",true,"T",1]
["VT_TrueFalse","F","F",false,"T",2]
["VT_TrueFalse"]
["VT_TrueFalseNc","TrueFalse","Short_Desc","Long_Desc","Active","Sort_Order"]
["VT_TrueFalseNc","T","T",true,"T",1]
["VT_TrueFalseNc","F","F",false,"T",2]
["VT_TrueFalseNc","N","NC","NC","T",3]
["VT_TrueFalseNcNa","TrueFalse","Short_Desc","Long_Desc","Active","Sort_Order"]
["VT_TrueFalseNcNa","T","T",true,"T",1]
["VT_TrueFalseNcNa","F","F",false,"T",2]
["VT_TrueFalseNcNa","N","NC","NC","T",3]
["VT_TrueFalseNcNa","X","NA","Not applicable","T",4]
["VT_TrueFalseUnk","TrueFalse","Short_Desc","Long_Desc","Active","Sort_Order"]
["VT_TrueFalseUnk","T","T",true,"T",1]
["VT_TrueFalseUnk","F","F",false,"T",2]
["VT_TrueFalseUnk","U","UNK","Unknown","T",3]
["VT_VegDataLevelStored","DataLevelStored","Short_Desc","Long_Desc","Active","Sort_Order"]
["VT_VegDataLevelStored","P","Plot","Vegetation data for the whole plot are stored (in PLOTSTRUCTURE, PLOTSPECIES, etc.)","T",1]
["VT_VegDataLevelStored","S","Sample","Vegetation data for replicate samples are stored (in SAMPLESTRUCTURE, SAMPLESPECIES, etc.)","T",2]
["VT_VegetationLayers","VegetationLayers","Short_Desc","Long_Desc","Active","Sort_Order"]
["VT_VegetationLayers","TRE","Trees","The tree layer, consisting of woody plants with max height > 5m (approx.)","T",1]
["VT_VegetationLayers","TSH","Tall shrubs","The tall shrub layer, consisting of woody plants with max height 1.5-5m (approx.)","T",2]
["VT_VegetationLayers","SSH","Short shrubs","The short shrub layer, consisting of erect woody plants with max height < 1.5m (approx.)","T",3]
["VT_VegetationLayers","PSH","Prostr shrubs","The prostrate shrub layer (eg. creeping juniper, bearberry)","T",4]
["VT_VegetationLayers","USH","Undiff shrubs","The shrub layer, not differentiated by height class","T",5]
["VT_VegetationLayers","STR","Shrubs/trees","The tree and shrub layers combined","T",6]
["VT_VegetationLayers","HCM","Herbs with clubmoss","The herb layer (graminoids with forbs), including low clubmoss (Selaginella densa)","T",7]
["VT_VegetationLayers","HWO","Herbs without clubmoss","The herb layer, excluding clubmoss","T",8]
["VT_VegetationLayers","GRA","Graminoids","The graminoid (i.e. grass-like) portion of the herb layer","T",9]
["VT_VegetationLayers","FCM","Forbs with clubmoss","The forb portion of the herb layer, including clubmoss","T",10]
["VT_VegetationLayers","FWO","Forbs without clubmoss","The forb portion of the herb layer, excluding clubmoss","T",11]
["VT_VegetationLayers","CBM","Clubmoss","The clubmoss portion of the herb layer","T",12]
["VT_VegetationLayers","MLI","Moss/lichen","Mosses and lichens as a layer","T",13]
["VT_VegetationLayers","SHC","Shrubs/herbs with clubmoss","The shrub and herb layers combined, including clubmoss","T",14]
["VT_VegetationLayers","SHW","Shrubs/herbs without clubmoss","The shrub and herb layers combined, excluding clubmoss (e.g. as in traditional range condition sampling)","T",15]
["VT_VegetationLayers","ALL","All Layers","All layers combined (as in Braun-Blanquet releves)","T",16]
["VT_VegetationLayers","EMG","Emergent","Emergent","T",17]
["VT_VegetationLayers","OTH","Other","Some combination of layers not covered by the above definitions","T",17]
["VT_VegetationLayers","FLT","Floating","Floating","T",18]
["VT_VegetationLayers","SMG","Submergent","Submergent","T",19]
["VT_VegetationLayers","CAC","Cactus","Cactus","T",20]
["VT_VegetationMeasure","VegetationMeasure","Short_Desc","Long_Desc","Active","Sort_Order"]
["VT_VegetationMeasure","PRS","Presence","Presence/absence of the species","T",1]
["VT_VegetationMeasure","FRQ","Frequency","Percent of samples in which the species is present","T",2]
["VT_VegetationMeasure","BMS","Biomass","Weight (kg/ha) of above-ground material of the species","T",3]
["VT_VegetationMeasure","PBM","% biomass","Percent contribution of the species to total biomass of the layer; record 0.1% for trace amounts.","T",4]
["VT_VegetationMeasure","FCV","Foliar cover","Percent of ground area covered by vertical projections of leaves/stems/flowers of plants of the species","T",5]
["VT_VegetationMeasure","CCV","Canopy cover","Percent of the ground area covered by vertical projection of the canopies of plants of the species","T",6]
["VT_VegetationMeasure","UCV","Unspecified cover","Percent cover, but not known whether foliar or canopy","T",7]
["VT_VegetationMeasure","BCV","Basal cover","Percent of the ground area covered by the bases of plants of the species; record 0.1% for trace amounts","T",8]
["VT_VegetationMeasure","BAR","Basal area","Area (m2/ha) of the bases of plants of the species; generally only used for trees","T",9]
["VT_VegetationMeasure","DEN","Density","Number per unit area (stems/ha) of plants of the species","T",10]
["VT_VegSamplingMethod","SamplingMethod","Short_Desc","Long_Desc","Active","Sort_Order"]
["VT_VegSamplingMethod","PE","Plot estimate","Composition measured over the whole plot area, without measuring replicate samples","T",1]
["VT_VegSamplingMethod","QD","Quadrats","Composition measured within a series of replicate quadrats","T",2]
["VT_VegSamplingMethod","PF","Point-frame","Point-frame method to estimate cover","T",3]
["VT_VegSamplingMethod","LI","Line-intercept","Line-intercept method to estimate cover","T",4]
["VT_VegSamplingMethod","VR","Prism sweep","Prism sweep","T",5]
["VT_VegTaxonResolution","TaxonResolution","Short_Desc","Long_Desc","Active","Sort_Order"]
["VT_VegTaxonResolution",1,"only dominant species","Only the dominant or key species identified","T",1]
["VT_VegTaxonResolution",2,"only common species","Many species identified, but species with low abundance ignored","T",2]
["VT_VegTaxonResolution",3,"some genera lumped","Most species identified, but with some lumping and genera","T",3]
["VT_VegTaxonResolution",4,"some species lumped","Most species identified, but some lumping of species in particular genera","T",4]
["VT_VegTaxonResolution",5,"ID all species","All species identified","T",5]
["VT_VegTaxonResolution",6,"not applicable","Non-vascular plants not surveyed in this task","T",6]
["VT_VegVascularAuthority","VascularAuthority","Short_Desc","Long_Desc","Active","Sort_Order"]
["VT_VegVascularAuthority","HM2006","Harms 2006","Harms 2006","T",1]

{"sheet":"CODES2","index":20,"n_rows":3444,"n_cols":9,"rows_kept":3444,"cut":false,"hidden":false,"merged":[]}
["VT_Species","Acronym","Short_Desc","Long_Desc","Active","Sort_Order","Common_Name","Growth_Form","Tree_Code"]
["VT_Species","ABIE BAL","ABIE BAL","Abies balsamea","T",1,"balsam fir","tree","bF"]
["VT_Species","ABIT ABI","ABIT ABI","Abietinella abietina","T",2,"wiry fern moss","bryophyte",""]
["VT_Species","ABUT THE","ABUT THE","Abutilon theophrasti","T",3,"velvet-leaf","forb",""]
["VT_Species","ACAR BAD","ACAR BAD","Acarospora badiofusca","T",4,"cracked lichen","lichen",""]
["VT_Species","ACAR CER","ACAR CER","Acarospora cervina","T",5,"cracked lichen","lichen",""]
["VT_Species","ACAR CON","ACAR CON","Acarospora contigua","T",6,"golden cobblestone lichen","lichen",""]
["VT_Species","ACAR FLA","ACAR FLA","Acarospora flava","T",7,"gold cobblestone lichen","lichen",""]
["VT_Species","ACAR FUS","ACAR FUS","Acarospora fuscata","T",8,"brown cobblestone lichen","lichen",""]
["VT_Species","ACAR GLA","ACAR GLA","Acarospora glaucocarpa","T",9,"rimmed cobblestone lichen","lichen",""]
["VT_Species","ACAR MOL","ACAR MOL","Acarospora molybdina","T",10,"molybdenum cracked lichen","lichen",""]
["VT_Species","ACAR SCH","ACAR SCH","Acarospora schleicheri","T",11,"soil paint lichen","lichen",""]
["VT_Species","ACAR SMA","ACAR SMA","Acarospora smaragdula","T",12,"cracked lichen","lichen",""]
["VT_Species","ACAR SPP","ACAR SPP","Acarospora spp.","T",13,"","lichen",""]
["VT_Species","ACAR STR","ACAR STR","Acarospora strigata","T",14,"hoary cobblestone lichen","lichen",""]
["VT_Species","ACAR VER","ACAR VER","Acarospora veronensis","T",15,"cracked lichen","lichen",""]
["VT_Species","ACAU MUT","ACAU MUT","Acaulon muticum","T",16,"","bryophyte",""]
["VT_Species","ACAU MUT RUF","ACAU MUT RUF","Acaulon muticum var. rufescens","T",17,"acaulon moss","bryophyte",""]
["VT_Species","ACAU SPP","ACAU SPP","Acaulon spp.","T",18,"","bryophyte",""]
["VT_Species","ACAU TRI","ACAU TRI","Acaulon triquetrum","T",19,"","bryophyte",""]
["VT_Species","ACER GIN","ACER GIN","Acer ginnala","T",20,"Amur maple","tree",""]
["VT_Species","ACER NEG","ACER NEG","Acer negundo","T",21,"Manitoba maple","tree","mM"]
["VT_Species","ACER NEG INT","ACER NEG INT","Acer negundo var. interius","T",22,"Manitoba maple","tree",""]
["VT_Species","ACER NEG NEG","ACER NEG NEG","Acer negundo var. negundo","T",23,"Manitoba maple","tree",""]
["VT_Species","ACER NEG VIO","ACER NEG VIO","Acer negundo var. violaceum","T",24,"Manitoba maple","tree",""]
["VT_Species","ACER SAC","ACER SAC","Acer saccharinum","T",25,"silver maple","tree",""]
["VT_Species","ACER SPI","ACER SPI","Acer spicatum","T",26,"mountain maple","erect shrub",""]
["VT_Species","ACER SPP","ACER SPP","Acer spp.","T",27,"maple (genus)","tree",""]
["VT_Species","ACHI ALP","ACHI ALP","Achillea alpina","T",28,"Siberian yarrow","forb",""]
["VT_Species","ACHI MIL","ACHI MIL","Achillea millefolium","T",29,"common yarrow","forb",""]
["VT_Species","ACHI MIL MEG","ACHI MIL MEG","Achillea millefolium var. megacephala","T",30,"large-headed woolly yarrow","forb",""]
["VT_Species","ACHI MIL MIL","ACHI MIL MIL","Achillea millefolium var. millefolium","T",31,"common yarrow","forb",""]
["VT_Species","ACHI MIL NIG","ACHI MIL NIG","Achillea millefolium var. nigrescens","T",32,"northern yarrow","forb",""]
["VT_Species","ACHI MIL OCC","ACHI MIL OCC","Achillea millefolium var. occidentalis","T",33,"common yarrow","forb",""]
["VT_Species","ACHI SPP","ACHI SPP","Achillea spp.","T",34,"yarrow (genus)","forb",""]
["VT_Species","ACHN HYM","ACHN HYM","Achnatherum hymenoides","T",35,"Indian rice-grass","graminoid",""]
["VT_Species","ACHN NEL","ACHN NEL","Achnatherum nelsonii","T",36,"Columbia needle-grass","graminoid",""]
["VT_Species","ACHN NEL DOR","ACHN NEL DOR","Achnatherum nelsonii ssp. dorei","T",37,"Columbia needle-grass","graminoid",""]
["VT_Species","ACHN NEL NEL","ACHN NEL NEL","Achnatherum nelsonii ssp. nelsonii","T",38,"big Columbia needle-grass","graminoid",""]
["VT_Species","ACHN RIC","ACHN RIC","Achnatherum richardsonii","T",39,"Richardson’s needle-grass","graminoid",""]
["VT_Species","ACHN SPP","ACHN SPP","Achnatherum spp.","T",40,"needle-grass (Achnatherum genus)","graminoid",""]
["VT_Species","ACOR AME","ACOR AME","Acorus americanus","T",41,"sweet-flag","forb",""]
["VT_Species","ACRO REP","ACRO REP","Acroptilon repens","T",42,"Russian knapweed","forb",""]
["VT_Species","ACTA RUB","ACTA RUB","Actaea rubra","T",43,"baneberry","forb",""]
["VT_Species","ADOX MOS","ADOX MOS","Adoxa moschatellina","T",44,"moschatel","forb",""]
["VT_Species","AEGO POD","AEGO POD","Aegopodium podagraria","T",45,"bishop’s gout-weed","forb",""]
["VT_Species","AGAS FOE","AGAS FOE","Agastache foeniculum","T",46,"blue giant-hyssop","forb",""]
["VT_Species","AGOS GLA","AGOS GLA","Agoseris glauca","T",47,"false dandelion","forb",""]
["VT_Species","AGOS GLA DAS","AGOS GLA DAS","Agoseris glauca var. dasycephala","T",48,"hairy false dandelion","forb",""]
["VT_Species","AGOS GLA GLA","AGOS GLA GLA","Agoseris glauca var. glauca","T",49,"smooth false dandelion","forb",""]
["VT_Species","AGRI STR","AGRI STR","Agrimonia striata","T",50,"grooved agrimony","forb",""]
["VT_Species","AGRO CRI","AGRO CRI","Agropyron cristatum","T",51,"crested wheat-grass","graminoid",""]
["VT_Species","AGRO FRA","AGRO FRA","Agropyron fragile","T",52,"Siberian wheat-grass","graminoid",""]
["VT_Species","AGRO FRA SIB","AGRO FRA SIB","Agropyron fragile ssp. sibiricum","T",53,"Siberian wheat-grass","graminoid",""]
["VT_Species","AGRO SPP","AGRO SPP","Agropyron spp.","T",54,"wheat-grass (Agropyron genus)","graminoid",""]
["VT_Species","AGRS GIT","AGRS GIT","Agrostemma githago","T",55,"purple cockle","forb",""]
["VT_Species","AGRT EXA","AGRT EXA","Agrostis exarata","T",56,"spike bent-grass","graminoid",""]
["VT_Species","AGRT GIG","AGRT GIG","Agrostis gigantea","T",57,"redtop","graminoid",""]
["VT_Species","AGRT MER","AGRT MER","Agrostis mertensii","T",58,"northern bent-grass","graminoid",""]
["VT_Species","AGRT SCA","AGRT SCA","Agrostis scabra","T",59,"rough hairgrass","graminoid",""]
["VT_Species","AGRT SPP","AGRT SPP","Agrostis spp.","T",60,"bent-grass (genus)","graminoid",""]
["VT_Species","AGRT STO","AGRT STO","Agrostis stolonifera","T",61,"creeping bent-grass","graminoid",""]
["VT_Species","ALEC NIG","ALEC NIG","Alectoria nigricans","T",62,"gray witch's hair","lichen",""]
["VT_Species","ALEC OCH","ALEC OCH","Alectoria ochroleuca","T",63,"green witch's hair","lichen",""]
["VT_Species","ALEC SAR","ALEC SAR","Alectoria sarmentosa","T",64,"witch's hair","lichen",""]
["VT_Species","ALEC SPP","ALEC SPP","Alectoria spp.","T",65,"","lichen",""]
["VT_Species","ALIS GRA","ALIS GRA","Alisma gramineum","T",66,"narrow-leaved water-plantain","forb",""]
["VT_Species","ALIS GRA GRA","ALIS GRA GRA","Alisma gramineum var. gramineum","T",67,"narrow-leaved water-plantain","forb",""]
["VT_Species","ALIS SPP","ALIS SPP","Alisma spp.","T",68,"water-plantain (genus)","forb",""]
["VT_Species","ALIS SUB","ALIS SUB","Alisma subcordatum","T",69,"small water-plantain","forb",""]
["VT_Species","ALIS TRI","ALIS TRI","Alisma triviale","T",70,"common waterplantain","forb",""]
["VT_Species","ALLI CER","ALLI CER","Allium cernuum","T",71,"nodding onion","forb",""]
["VT_Species","ALLI GEY","ALLI GEY","Allium geyeri","T",72,"Geyer’s onion","forb",""]
["VT_Species","ALLI GEY GEY","ALLI GEY GEY","Allium geyeri var. geyeri","T",73,"Geyer’s onion","forb",""]
["VT_Species","ALLI SCH","ALLI SCH","Allium schoenoprasum","T",74,"chives","forb",""]
["VT_Species","ALLI SCH SCH","ALLI SCH SCH","Allium schoenoprasum var. schoenoprasum","T",75,"cultivated chives","forb",""]
["VT_Species","ALLI SCH SIB","ALLI SCH SIB","Allium schoenoprasum var. sibiricum","T",76,"Siberian wild chives","forb",""]
["VT_Species","ALLI SPP","ALLI SPP","Allium spp.","T",77,"onion (genus)","forb",""]
["VT_Species","ALLI STE","ALLI STE","Allium stellatum","T",78,"pink wild onion","forb",""]
["VT_Species","ALLI TEX","ALLI TEX","Allium textile","T",79,"prairie onion","forb",""]
["VT_Species","ALMU PAU","ALMU PAU","Almutaster pauciflorus","T",80,"few-flowered aster","forb",""]
["VT_Species","ALNU INC","ALNU INC","Alnus incana","T",81,"river alder","erect shrub",""]
["VT_Species","ALNU INC RUG","ALNU INC RUG","Alnus incana ssp. rugosa","T",82,"eastern river alder","erect shrub",""]
["VT_Species","ALNU INC TEN","ALNU INC TEN","Alnus incana ssp. tenuifolia","T",83,"western river alder","erect shrub",""]
["VT_Species","ALNU SPP","ALNU SPP","Alnus spp.","T",84,"alder (genus)","erect shrub",""]
["VT_Species","ALNU VIR","ALNU VIR","Alnus viridis","T",85,"green alder","erect shrub",""]
["VT_Species","ALNU VIR CRI","ALNU VIR CRI","Alnus viridis ssp. crispa","T",86,"green alder","erect shrub",""]
["VT_Species","ALOI BRE","ALOI BRE","Aloina brevirostris","T",87,"aloina moss","bryophyte",""]
["VT_Species","ALOP AEQ","ALOP AEQ","Alopecurus aequalis","T",88,"short-awned foxtail","graminoid",""]
["VT_Species","ALOP AEQ AEQ","ALOP AEQ AEQ","Alopecurus aequalis var. aequalis","T",89,"short-awned foxtail","graminoid",""]
["VT_Species","ALOP ALP","ALOP ALP","Alopecurus alpinus","T",90,"alpine foxtail","graminoid",""]
["VT_Species","ALOP ARU","ALOP ARU","Alopecurus arundinaceus","T",91,"creeping meadow-foxtail","graminoid",""]
["VT_Species","ALOP CAR","ALOP CAR","Alopecurus carolinianus","T",92,"Carolina meadow-foxtail","graminoid",""]
["VT_Species","ALOP GEN","ALOP GEN","Alopecurus geniculatus","T",93,"marsh foxtail","graminoid",""]
["VT_Species","ALOP GEN GEN","ALOP GEN GEN","Alopecurus geniculatus var. geniculatus","T",94,"marsh foxtail","graminoid",""]
["VT_Species","ALOP PRA","ALOP PRA","Alopecurus pratensis","T",95,"field meadow-foxtail","graminoid",""]
["VT_Species","ALOP SPP","ALOP SPP","Alopecurus spp.","T",96,"meadow-foxtail (genus)","graminoid",""]
["VT_Species","ALYS ALY","ALYS ALY","Alyssum alyssoides","T",97,"pale alyssum","forb",""]
["VT_Species","ALYS DES","ALYS DES","Alyssum desertorum","T",98,"yellow alyssum","forb",""]
["VT_Species","ALYS DES DES","ALYS DES DES","Alyssum desertorum var. desertorum","T",99,"yellow alyssum","forb",""]
["VT_Species","ALYS SPP","ALYS SPP","Alyssum spp.","T",100,"alyssum (genus)","forb",""]
["VT_Species","AMAN PUN","AMAN PUN","Amandinea punctata","T",101,"tiny button lichen","lichen",""]
["VT_Species","AMAR ALB","AMAR ALB","Amaranthus albus","T",102,"tumbleweed","forb",""]
["VT_Species","AMAR BLI","AMAR BLI","Amaranthus blitoides","T",103,"mat pigweed","forb",""]
["VT_Species","AMAR CAL","AMAR CAL","Amaranthus californicus","T",104,"California amaranth","forb",""]
["VT_Species","AMAR POW","AMAR POW","Amaranthus powellii","T",105,"Powell’s pigweed","forb",""]
["VT_Species","AMAR RET","AMAR RET","Amaranthus retroflexus","T",106,"redroot pigweed","forb",""]
["VT_Species","AMAR SPP","AMAR SPP","Amaranthus spp.","T",107,"pigweed (genus)","forb",""]
["VT_Species","AMBL SER","AMBL SER","Amblystegium serpens","T",108,"amblystegium moss","bryophyte",""]
["VT_Species","AMBL SER JUR","AMBL SER JUR","Amblystegium serpens var. juratzkanum","T",109,"","bryophyte",""]
["VT_Species","AMBL SPP","AMBL SPP","Amblystegium spp.","T",110,"","bryophyte",""]
["VT_Species","AMBL VAR","AMBL VAR","Amblystegium varium","T",111,"","bryophyte",""]
["VT_Species","AMBR ACA","AMBR ACA","Ambrosia acanthicarpa","T",112,"flat-spine bur-ragweed","forb",""]
["VT_Species","AMBR ART","AMBR ART","Ambrosia artemisiifolia","T",113,"annual ragweed","forb",""]
["VT_Species","AMBR ART ELA","AMBR ART ELA","Ambrosia artemisiifolia var. elatior","T",114,"annual ragweed","forb",""]
["VT_Species","AMBR PSI","AMBR PSI","Ambrosia psilostachya","T",115,"perennial ragweed","forb",""]
["VT_Species","AMBR SPP","AMBR SPP","Ambrosia spp.","T",116,"ragweed (genus)","forb",""]
["VT_Species","AMBR TRI","AMBR TRI","Ambrosia trifida","T",117,"giant ragweed","forb",""]
["VT_Species","AMBR TRI TRI","AMBR TRI TRI","Ambrosia trifida var. trifida","T",118,"giant ragweed","forb",""]
["VT_Species","AMEL ALN","AMEL ALN","Amelanchier alnifolia","T",119,"saskatoon","erect shrub",""]
["VT_Species","AMEL ALN ALN","AMEL ALN ALN","Amelanchier alnifolia var. alnifolia","T",120,"saskatoon","erect shrub",""]
["VT_Species","AMEL HUM","AMEL HUM","Amelanchier humilis","T",121,"low service-berry","erect shrub",""]
["VT_Species","AMEL SAN","AMEL SAN","Amelanchier sanguinea","T",122,"round-leaved service-berry","erect shrub",""]
["VT_Species","AMEL SPP","AMEL SPP","Amelanchier spp.","T",123,"service-berry (genus)","erect shrub",""]
["VT_Species","AMER ROT","AMER ROT","Amerorchis rotundifolia","T",124,"round-leaved orchid","forb",""]
["VT_Species","AMPH LAP","AMPH LAP","Amphidium lapponicum","T",125,"","bryophyte",""]
["VT_Species","AMSI MEN","AMSI MEN","Amsinckia menziesii","T",126,"small-flowered fiddle-neck","forb",""]
["VT_Species","AMSI MEN INT","AMSI MEN INT","Amsinckia menziesii var. intermedia","T",127,"small-flowered fiddle-neck","forb",""]
["VT_Species","ANAG ARV","ANAG ARV","Anagallis arvensis","T",128,"scarlet pimpernel","forb",""]
["VT_Species","ANAG ARV ARV","ANAG ARV ARV","Anagallis arvensis ssp. arvensis","T",129,"scarlet pimpernel","forb",""]
["VT_Species","ANAG MIN","ANAG MIN","Anagallis minima","T",130,"chaffweed","forb",""]
["VT_Species","ANAG SPP","ANAG SPP","Anagallis spp.","T",131,"pimpernel (genus)","forb",""]
["VT_Species","ANAP MAR","ANAP MAR","Anaphalis margaritacea","T",132,"common pearly everlasting","forb",""]
["VT_Species","ANCH ARV","ANCH ARV","Anchusa arvensis","T",133,"small bugloss","forb",""]
["VT_Species","ANDE CRA","ANDE CRA","Andreaea crassinervia","T",134,"","bryophyte",""]
["VT_Species","ANDE RUP","ANDE RUP","Andreaea rupestris","T",135,"","bryophyte",""]
["VT_Species","ANDE RUP PAP","ANDE RUP PAP","Andreaea rupestris var. papillosa","T",136,"","bryophyte",""]
["VT_Species","ANDE SPP","ANDE SPP","Andreaea spp.","T",137,"","bryophyte",""]
["VT_Species","ANDP GER","ANDP GER","Andropogon gerardii","T",138,"big bluestem","graminoid",""]
["VT_Species","ANDP HAL","ANDP HAL","Andropogon hallii","T",139,"sand bluestem","graminoid",""]
["VT_Species","ANDP SPP","ANDP SPP","Andropogon spp.","T",140,"bluestem (genus)","graminoid",""]
["VT_Species","ANDR POL","ANDR POL","Andromeda polifolia","T",141,"bog-rosemary","erect shrub",""]
["VT_Species","ANDR POL GLA","ANDR POL GLA","Andromeda polifolia var. glaucophylla","T",142,"glaucous-leaved bog-rosemary","erect shrub",""]
["VT_Species","ANDR POL POL","ANDR POL POL","Andromeda polifolia var. polifolia","T",143,"bog-rosemary","erect shrub",""]
["VT_Species","ANDS OCC","ANDS OCC","Androsace occidentalis","T",144,"western pygmy-flower","forb",""]
["VT_Species","ANDS SEP","ANDS SEP","Androsace septentrionalis","T",145,"northern pygmyflower","forb",""]
["VT_Species","ANDS SEP PUB","ANDS SEP PUB","Androsace septentrionalis ssp. puberulenta","T",146,"northern pygmyflower","forb",""]
["VT_Species","ANDS SEP SEP","ANDS SEP SEP","Androsace septentrionalis ssp. septentrionalis","T",147,"northern pygmyflower","forb",""]
["VT_Species","ANDS SEP SUB","ANDS SEP SUB","Androsace septentrionalis ssp. subulifera","T",148,"northern pygmyflower","forb",""]
["VT_Species","ANDS SPP","ANDS SPP","Androsace spp.","T",149,"pygmy-flower (genus)","forb",""]
["VT_Species","ANEM CAN","ANEM CAN","Anemone canadensis","T",150,"Canada anemone","forb",""]
["VT_Species","ANEM CYL","ANEM CYL","Anemone cylindrica","T",151,"long-headed anemone","forb",""]
["VT_Species","ANEM MUL","ANEM MUL","Anemone multifida","T",152,"cut-leaf anemone","forb",""]
["VT_Species","ANEM MUL HUD","ANEM MUL HUD","Anemone multifida var. hudsoniana","T",153,"cut-leaf anemone","forb",""]
["VT_Species","ANEM MUL RIC","ANEM MUL RIC","Anemone multifida var. richardsiana","T",154,"cut-leaf anemone","forb",""]
["VT_Species","ANEM PAR","ANEM PAR","Anemone parviflora","T",155,"small-flowered anemone","forb",""]
["VT_Species","ANEM PAR PAR","ANEM PAR PAR","Anemone parviflora var. parviflora","T",156,"small-flowered anemone","forb",""]
["VT_Species","ANEM QUI","ANEM QUI","Anemone quinquefolia","T",157,"wood anemone","forb",""]
["VT_Species","ANEM QUI BIF","ANEM QUI BIF","Anemone quinquefolia var. bifolia","T",158,"wood anemone","forb",""]
["VT_Species","ANEM RIC","ANEM RIC","Anemone richardsonii","T",159,"Richardson’s anemone","forb",""]
["VT_Species","ANEM SPP","ANEM SPP","Anemone spp.","T",160,"anemone (genus)","forb",""]
["VT_Species","ANEM VIR","ANEM VIR","Anemone virginiana","T",161,"riverbank anemone","forb",""]
["VT_Species","ANEM VIR CYL","ANEM VIR CYL","Anemone virginiana var. cylindroidea","T",162,"riverbank anemone","forb",""]
["VT_Species","ANEM VIR VIR","ANEM VIR VIR","Anemone virginiana var. virginiana","T",163,"riverbank anemone","forb",""]
["VT_Species","ANET GRA","ANET GRA","Anethum graveolens","T",164,"dill","forb",""]
["VT_Species","ANOM ROS","ANOM ROS","Anomodon rostratus","T",165,"","bryophyte",""]
["VT_Species","ANTE ANA","ANTE ANA","Antennaria anaphaloides","T",166,"tall pussytoes","forb",""]
["VT_Species","ANTE COR","ANTE COR","Antennaria corymbosa","T",167,"corymbose pussytoes","forb",""]
["VT_Species","ANTE DIM","ANTE DIM","Antennaria dimorpha","T",168,"cushion pussytoes","forb",""]
["VT_Species","ANTE HOW","ANTE HOW","Antennaria howellii","T",169,"Howell’s pussytoes","forb",""]
["VT_Species","ANTE HOW CAN","ANTE HOW CAN","Antennaria howellii ssp. canadensis","T",170,"Canada pussytoes","forb",""]
["VT_Species","ANTE HOW HOW","ANTE HOW HOW","Antennaria howellii ssp. howellii","T",171,"Howell’s pussytoes","forb",""]
["VT_Species","ANTE HOW NEO","ANTE HOW NEO","Antennaria howellii ssp. neodioica","T",172,"northern pussytoes","forb",""]
["VT_Species","ANTE MIC","ANTE MIC","Antennaria microphylla","T",173,"small-leaved pussytoes","forb",""]
["VT_Species","ANTE NEG","ANTE NEG","Antennaria neglecta","T",174,"prairie pussytoes","forb",""]
["VT_Species","ANTE NEG NEG","ANTE NEG NEG","Antennaria neglecta var. neglecta","T",175,"prairie pussytoes","forb",""]
["VT_Species","ANTE PAR","ANTE PAR","Antennaria parvifolia","T",176,"low pussytoes","forb",""]
["VT_Species","ANTE PUL","ANTE PUL","Antennaria pulcherrima","T",177,"showy pussytoes","forb",""]
["VT_Species","ANTE PUL PUL","ANTE PUL PUL","Antennaria pulcherrima ssp. pulcherrima","T",178,"showy pussytoes","forb",""]
["VT_Species","ANTE ROS","ANTE ROS","Antennaria rosea","T",179,"rosy pussytoes","forb",""]
["VT_Species","ANTE ROS ARI","ANTE ROS ARI","Antennaria rosea ssp. arida","T",180,"arid pussytoes","forb",""]
["VT_Species","ANTE ROS PUL","ANTE ROS PUL","Antennaria rosea ssp. pulvinata","T",181,"pulvinate pussytoes","forb",""]
["VT_Species","ANTE ROS ROS","ANTE ROS ROS","Antennaria rosea ssp. rosea","T",182,"rosy pussytoes","forb",""]
["VT_Species","ANTE SPP","ANTE SPP","Antennaria spp.","T",183,"pussytoes (genus)","forb",""]
["VT_Species","ANTE UMB","ANTE UMB","Antennaria umbrinella","T",184,"umber pussytoes","forb",""]
["VT_Species","ANTH COT","ANTH COT","Anthemis cotula","T",185,"stinking mayweed","forb",""]
["VT_Species","ANTX HIR","ANTX HIR","Anthoxanthum hirtum","T",186,"sweet grass","graminoid",""]
["VT_Species","ANTX HIR ARC","ANTX HIR ARC","Anthoxanthum hirtum ssp. arcticum","T",187,"sweet grass","graminoid",""]
["VT_Species","APOC AND","APOC AND","Apocynum androsaemifolium","T",188,"spreading dogbane","forb",""]
["VT_Species","APOC CAN","APOC CAN","Apocynum cannabinum","T",189,"Indian hemp","forb",""]
["VT_Species","APOC CAN HYP","APOC CAN HYP","Apocynum cannabinum var. hypericifolium","T",190,"Indian hemp","forb",""]
["VT_Species","APOC SPP","APOC SPP","Apocynum spp.","T",191,"dogbane (genus)","forb",""]
["VT_Species","AQUI BRE","AQUI BRE","Aquilegia brevistyla","T",192,"small-flowered columbine","forb",""]
["VT_Species","AQUI CAN","AQUI CAN","Aquilegia canadensis","T",193,"Canada columbine","forb",""]
["VT_Species","AQUI SPP","AQUI SPP","Aquilegia spp.","T",194,"columbine (genus)","forb",""]
["VT_Species","ARAB PYC","ARAB PYC","Arabis pycnocarpa","T",195,"hairy rock-cress","forb",""]
["VT_Species","ARAB PYC PYC","ARAB PYC PYC","Arabis pycnocarpa ssp. pycnocarpa","T",196,"hairy rock-cress","forb",""]
["VT_Species","ARAL HIS","ARAL HIS","Aralia hispida","T",197,"bristly sarsaparilla","forb",""]
["VT_Species","ARAL NUD","ARAL NUD","Aralia nudicaulis","T",198,"wild sarsaparilla","forb",""]
["VT_Species","ARAL SPP","ARAL SPP","Aralia spp.","T",199,"sarsaparilla (genus)","forb",""]
["VT_Species","ARBD ARE","ARBD ARE","Arabidopsis arenicola","T",200,"arctic rock-cress","forb",""]
["VT_Species","ARBD LYR","ARBD LYR","Arabidopsis lyrata","T",201,"lyre-leaved rock-cress","forb",""]
["VT_Species","ARBD LYR KAM","ARBD LYR KAM","Arabidopsis lyrata ssp. kamchatica","T",202,"lyre-leaved rock-cress","forb",""]
["VT_Species","ARBD LYR LYR","ARBD LYR LYR","Arabidopsis lyrata var. lyrata","T",203,"lyre-leaved rock-cress","forb",""]
["VT_Species","ARBD SPP","ARBD SPP","Arabidopsis spp.","T",204,"rock-cress (Arabidopsis genus)","forb",""]
["VT_Species","ARCE AME","ARCE AME","Arceuthobium americanum","T",205,"dwarf mistletoe","forb",""]
["VT_Species","ARCE PUS","ARCE PUS","Arceuthobium pusillum","T",206,"spruce dwarf mistletoe","forb",""]
["VT_Species","ARCE SPP","ARCE SPP","Arceuthobium spp.","T",207,"dwarf mistletoe (genus)","forb",""]
["VT_Species","ARCO CEN","ARCO CEN","Arctoparmelia centrifuga","T",208,"concentric ring lichen","lichen",""]
["VT_Species","ARCO INC","ARCO INC","Arctoparmelia incurva","T",209,"ring lichen","lichen",""]
["VT_Species","ARCO SEP","ARCO SEP","Arctoparmelia separata","T",210,"rippled ring lichen","lichen",""]
["VT_Species","ARCO SPP","ARCO SPP","Arctoparmelia spp.","T",211,"","lichen",""]
["VT_Species","ARCT ALP","ARCT ALP","Arctostaphylos alpina","T",212,"black alpine bearberry","prostrate shrub",""]
["VT_Species","ARCT ALP ALP","ARCT ALP ALP","Arctostaphylos alpina var. alpina","T",213,"black alpine bearberry","prostrate shrub",""]
["VT_Species","ARCT RUB","ARCT RUB","Arctostaphylos rubra","T",214,"red alpine bearberry","prostrate shrub",""]
["VT_Species","ARCT SPP","ARCT SPP","Arctostaphylos spp.","T",215,"bearberry (genus)","prostrate shrub",""]
["VT_Species","ARCT UVA","ARCT UVA","Arctostaphylos uva-ursi","T",216,"common bearberry","prostrate shrub",""]
["VT_Species","AREN SER","AREN SER","Arenaria serpyllifolia","T",217,"thyme-leaved sandwort","forb",""]
["VT_Species","AREN SER SER","AREN SER SER","Arenaria serpyllifolia ssp. serpyllifolia","T",218,"thyme-leaved sandwort","forb",""]
["VT_Species","ARET BUL","ARET BUL","Arethusa bulbosa","T",219,"dragon’s-mouth","forb",""]
["VT_Species","ARGE POL","ARGE POL","Argemone polyanthemos","T",220,"white prickly poppy","forb",""]
["VT_Species","ARGT ANS","ARGT ANS","Argentina anserina","T",221,"silverweed","forb",""]
["VT_Species","ARIS PUR","ARIS PUR","Aristida purpurea","T",222,"red three-awn","graminoid",""]
["VT_Species","ARIS PUR LON","ARIS PUR LON","Aristida purpurea var. longiseta","T",223,"red three-awn","graminoid",""]
["VT_Species","ARME MAR","ARME MAR","Armeria maritima","T",224,"inland sea-thrift","forb",""]
["VT_Species","ARME MAR INT","ARME MAR INT","Armeria maritima ssp. interior","T",225,"inland sea-thrift","forb",""]
["VT_Species","ARMO RUS","ARMO RUS","Armoracia rusticana","T",226,"horse-radish","forb",""]
["VT_Species","ARNI ANG","ARNI ANG","Arnica angustifolia","T",227,"narrow-leaved arnica","forb",""]
["VT_Species","ARNI ANG ANG","ARNI ANG ANG","Arnica angustifolia ssp. angustifolia","T",228,"narrow-leaved arnica","forb",""]
["VT_Species","ARNI CHA","ARNI CHA","Arnica chamissonis","T",229,"chamisso’s arnica","forb",""]
["VT_Species","ARNI COR","ARNI COR","Arnica cordifolia","T",230,"heart-leaf arnica","forb",""]
["VT_Species","ARNI FUL","ARNI FUL","Arnica fulgens","T",231,"shining arnica","forb",""]
["VT_Species","ARNI LON","ARNI LON","Arnica lonchophylla","T",232,"spear-leaved arnica","forb",""]
["VT_Species","ARNI SOR","ARNI SOR","Arnica sororia","T",233,"twin arnica","forb",""]
["VT_Species","ARNI SPP","ARNI SPP","Arnica spp.","T",234,"arnica (genus)","forb",""]
["VT_Species","ARTE ABR","ARTE ABR","Artemisia abrotanum","T",235,"southernwood","forb",""]
["VT_Species","ARTE ABS","ARTE ABS","Artemisia absinthium","T",236,"absinthe","forb",""]
["VT_Species","ARTE BIE","ARTE BIE","Artemisia biennis","T",237,"biennial wormwood","forb",""]
["VT_Species","ARTE BIE BIE","ARTE BIE BIE","Artemisia biennis var. biennis","T",238,"biennial wormwood","forb",""]
["VT_Species","ARTE BOR","ARTE BOR","Artemisia borealis","T",239,"northern wormwood","forb",""]
["VT_Species","ARTE CAM","ARTE CAM","Artemisia campestris","T",240,"plains wormwood","forb",""]
["VT_Species","ARTE CAM CAN","ARTE CAM CAN","Artemisia campestris ssp. canadensis","T",241,"Canada wormwood","forb",""]
["VT_Species","ARTE CAM CAU","ARTE CAM CAU","Artemisia campestris ssp. caudata","T",242,"plains wormwood","forb",""]
["VT_Species","ARTE CAM PAC","ARTE CAM PAC","Artemisia campestris ssp. pacifica","T",243,"western plains wormwood","forb",""]
["VT_Species","ARTE CAN","ARTE CAN","Artemisia cana","T",244,"silver sagebrush","erect shrub",""]
["VT_Species","ARTE CAN CAN","ARTE CAN CAN","Artemisia cana ssp. cana","T",245,"silver sagebrush","erect shrub",""]
["VT_Species","ARTE DRA","ARTE DRA","Artemisia dracunculus","T",246,"linear-leaved wormwood","forb",""]
["VT_Species","ARTE FRI","ARTE FRI","Artemisia frigida","T",247,"pasture sage","forb",""]
["VT_Species","ARTE LON","ARTE LON","Artemisia longifolia","T",248,"long-leaved sage","forb",""]
["VT_Species","ARTE LUD","ARTE LUD","Artemisia ludoviciana","T",249,"prairie sage","forb",""]
["VT_Species","ARTE LUD LUD","ARTE LUD LUD","Artemisia ludoviciana var. ludoviciana","T",250,"prairie sage","forb",""]
["VT_Species","ARTE SPP","ARTE SPP","Artemisia spp.","T",251,"wormwood (genus)","forb",""]
["VT_Species","ARTE TIL","ARTE TIL","Artemisia tilesii","T",252,"Tilesius’ wormwood","forb",""]
["VT_Species","ARTE VUL","ARTE VUL","Artemisia vulgaris","T",253,"common wormwood","forb",""]
["VT_Species","ARTE VUL VUL","ARTE VUL VUL","Artemisia vulgaris var. vulgaris","T",254,"common wormwood","forb",""]
["VT_Species","ARTH CAE","ARTH CAE","Arthonia caesia","T",255,"frosted comma lichen","lichen",""]
["VT_Species","ARTH MED","ARTH MED","Arthonia mediella","T",256,"dot lichen","lichen",""]
["VT_Species","ARTH PAT","ARTH PAT","Arthonia patellulata","T",257,"comma lichen","lichen",""]
["VT_Species","ARTH RAD","ARTH RAD","Arthonia radiata","T",258,"asterisk lichen","lichen",""]
["VT_Species","ARTH SPA","ARTH SPA","Arthonia spadicea","T",259,"comma lichen","lichen",""]
["VT_Species","ARTH SPP","ARTH SPP","Arthonia spp.","T",260,"","lichen",""]
["VT_Species","ARTH VIN","ARTH VIN","Arthonia vinosa","T",261,"comma lichen","lichen",""]
["VT_Species","ARTM LAP","ARTM LAP","Arctium lappa","T",262,"greater burdock","forb",""]
["VT_Species","ARTM MIN","ARTM MIN","Arctium minus","T",263,"lesser burdock","forb",""]
["VT_Species","ARTM SPP","ARTM SPP","Arctium spp.","T",264,"burdock (genus)","forb",""]
["VT_Species","ARTM TOM","ARTM TOM","Arctium tomentosum","T",265,"woolly burdock","forb",""]
["VT_Species","ARTR POP","ARTR POP","Arthrosporum populorum","T",266,"","lichen",""]
["VT_Species","ASCL OVA","ASCL OVA","Asclepias ovalifolia","T",267,"oval-leaf milkweed","forb",""]
["VT_Species","ASCL SPE","ASCL SPE","Asclepias speciosa","T",268,"showy milkweed","forb",""]
["VT_Species","ASCL SPP","ASCL SPP","Asclepias spp.","T",269,"milkweed (genus)","forb",""]
["VT_Species","ASCL SYR","ASCL SYR","Asclepias syriaca","T",270,"silky milkweed","forb",""]
["VT_Species","ASCL VER","ASCL VER","Asclepias verticillata","T",271,"whorled milkweed","forb",""]
["VT_Species","ASCL VIR","ASCL VIR","Asclepias viridiflora","T",272,"green milkweed","forb",""]
["VT_Species","ASCL VIR LIN","ASCL VIR LIN","Asclepias viridiflora var. linearis","T",273,"narrow-leaved green milkweed","forb",""]
["VT_Species","ASCL VIR VIR","ASCL VIR VIR","Asclepias viridiflora var. viridiflora","T",274,"green milkweed","forb",""]
["VT_Species","ASPA OFF","ASPA OFF","Asparagus officinalis","T",275,"garden asparagus","forb",""]
["VT_Species","ASPE PRO","ASPE PRO","Asperugo procumbens","T",276,"German madwort","forb",""]
["VT_Species","ASPI ALI","ASPI ALI","Aspicilia aliena","T",277,"alien rimmed lichen","lichen",""]
["VT_Species","ASPI CAE","ASPI CAE","Aspicilia caesiocinerea","T",278,"rimmed lichen","lichen",""]
["VT_Species","ASPI CAL","ASPI CAL","Aspicilia calcarea","T",279,"calcareous rimmed lichen","lichen",""]
["VT_Species","ASPI CIN","ASPI CIN","Aspicilia cinerea","T",280,"cinder lichen","lichen",""]
["VT_Species","ASPI CON","ASPI CON","Aspicilia contorta","T",281,"chiseled sunken disk lichen","lichen",""]
["VT_Species","ASPI HIS","ASPI HIS","Aspicilia hispida","T",282,"desert vagabond","lichen",""]
["VT_Species","ASPI SPP","ASPI SPP","Aspicilia spp.","T",283,"","lichen",""]
["VT_Species","ASPI SUB","ASPI SUB","Aspicilia subradians","T",284,"sunken disk lichen","lichen",""]
["VT_Species","ASPI SUP","ASPI SUP","Aspicilia supertegens","T",285,"sunken disk lichen","lichen",""]
["VT_Species","ASPI VER","ASPI VER","Aspicilia verrucigera","T",286,"sunken disk lichen","lichen",""]
["VT_Species","ASTO PHA","ASTO PHA","Astomum phascoides","T",287,"","bryophyte",""]
["VT_Species","ASTR AGR","ASTR AGR","Astragalus agrestis","T",288,"field milk-vetch","forb",""]
["VT_Species","ASTR ALP","ASTR ALP","Astragalus alpinus","T",289,"alpine milk-vetch","forb",""]
["VT_Species","ASTR ALP ALP","ASTR ALP ALP","Astragalus alpinus var. alpinus","T",290,"alpine milk-vetch","forb",""]
["VT_Species","ASTR AME","ASTR AME","Astragalus americanus","T",291,"American milk-vetch","forb",""]
["VT_Species","ASTR AUS","ASTR AUS","Astragalus australis","T",292,"Indian milk-vetch","forb",""]
["VT_Species","ASTR BIS","ASTR BIS","Astragalus bisulcatus","T",293,"two-grooved milk-vetch","forb",""]
["VT_Species","ASTR BIS BIS","ASTR BIS BIS","Astragalus bisulcatus var. bisulcatus","T",294,"two-grooved milk-vetch","forb",""]
["VT_Species","ASTR BOD","ASTR BOD","Astragalus bodinii","T",295,"Bodin’s milk-vetch","forb",""]
["VT_Species","ASTR CAN","ASTR CAN","Astragalus canadensis","T",296,"Canadian milk-vetch","forb",""]
["VT_Species","ASTR CAN CAN","ASTR CAN CAN","Astragalus canadensis var. canadensis","T",297,"Canadian milk-vetch","forb",""]
["VT_Species","ASTR CIC","ASTR CIC","Astragalus cicer","T",298,"cicer milk-vetch","forb",""]
["VT_Species","ASTR CRA","ASTR CRA","Astragalus crassicarpus","T",299,"ground-plum","forb",""]
["VT_Species","ASTR CRA CRA","ASTR CRA CRA","Astragalus crassicarpus var. crassicarpus","T",300,"ground-plum","forb",""]
["VT_Species","ASTR DRU","ASTR DRU","Astragalus drummondii","T",301,"Drummond’s milk-vetch","forb",""]
["VT_Species","ASTR EUC","ASTR EUC","Astragalus eucosmus","T",302,"elegant milk-vetch","forb",""]
["VT_Species","ASTR FLE","ASTR FLE","Astragalus flexuosus","T",303,"pliant milk-vetch","forb",""]
["VT_Species","ASTR FLE FLE","ASTR FLE FLE","Astragalus flexuosus var. flexuosus","T",304,"pliant milk-vetch","forb",""]
["VT_Species","ASTR GIL","ASTR GIL","Astragalus gilviflorus","T",305,"cushion milk-vetch","forb",""]
["VT_Species","ASTR GIL GIL","ASTR GIL GIL","Astragalus gilviflorus var. gilviflorus","T",306,"cushion milk-vetch","forb",""]
["VT_Species","ASTR GRA","ASTR GRA","Astragalus gracilis","T",307,"slender milk-vetch","forb",""]
["VT_Species","ASTR KEN","ASTR KEN","Astragalus kentrophyta","T",308,"prickly milk-vetch","forb",""]
["VT_Species","ASTR KEN KEN","ASTR KEN KEN","Astragalus kentrophyta var. kentrophyta","T",309,"prickly milk-vetch","forb",""]
["VT_Species","ASTR LAX","ASTR LAX","Astragalus laxmannii","T",310,"ascending purple milk-vetch","forb",""]
["VT_Species","ASTR LAX ROB","ASTR LAX ROB","Astragalus laxmannii var. robustior","T",311,"ascending purple milk-vetch","forb",""]
["VT_Species","ASTR LOT","ASTR LOT","Astragalus lotiflorus","T",312,"lotus milk-vetch","forb",""]
["VT_Species","ASTR MIS","ASTR MIS","Astragalus missouriensis","T",313,"Missouri milk-vetch","forb",""]
["VT_Species","ASTR MIS MIS","ASTR MIS MIS","Astragalus missouriensis var. missouriensis","T",314,"Missouri milk-vetch","forb",""]
["VT_Species","ASTR PEC","ASTR PEC","Astragalus pectinatus","T",315,"narrow-leaved milk-vetch","forb",""]
["VT_Species","ASTR PUR","ASTR PUR","Astragalus purshii","T",316,"Pursh’s milk-vetch","forb",""]
["VT_Species","ASTR PUR PUR","ASTR PUR PUR","Astragalus purshii var. purshii","T",317,"Pursh’s milk-vetch","forb",""]
["VT_Species","ASTR RAC","ASTR RAC","Astragalus racemosus","T",318,"racemose milk-vetch","forb",""]
["VT_Species","ASTR RAC RAC","ASTR RAC RAC","Astragalus racemosus var. racemosus","T",319,"racemose milk-vetch","forb",""]
["VT_Species","ASTR SPA","ASTR SPA","Astragalus spatulatus","T",320,"tufted milk-vetch","forb",""]
["VT_Species","ASTR SPP","ASTR SPP","Astragalus spp.","T",321,"milk-vetch (genus)","forb",""]
["VT_Species","ASTR TEN","ASTR TEN","Astragalus tenellus","T",322,"loose-flowered milk-vetch","forb",""]
["VT_Species","ASTR VEX","ASTR VEX","Astragalus vexilliflexus","T",323,"bentflowered milk-vetch","forb",""]
["VT_Species","ASTR VEX VEX","ASTR VEX VEX","Astragalus vexilliflexus var. vexilliflexus","T",324,"bentflowered milk-vetch","forb",""]
["VT_Species","ATHY FIL","ATHY FIL","Athyrium filix-femina","T",325,"lady-fern","forb",""]
["VT_Species","ATHY FIL ANG","ATHY FIL ANG","Athyrium filix-femina var. angustum","T",326,"eastern lady-fern","forb",""]
["VT_Species","ATHY FIL CYC","ATHY FIL CYC","Athyrium filix-femina var. cyclosorum","T",327,"western lady-fern","forb",""]
["VT_Species","ATRC SEL","ATRC SEL","Atrichum selwynii","T",328,"","bryophyte",""]
["VT_Species","ATRI ARG","ATRI ARG","Atriplex argentea","T",329,"silverscale","forb",""]
["VT_Species","ATRI ARG ARG","ATRI ARG ARG","Atriplex argentea var. argentea","T",330,"silverscale","forb",""]
["VT_Species","ATRI AUC","ATRI AUC","Atriplex aucheri","T",331,"Russian orache","forb",""]
["VT_Species","ATRI DIO","ATRI DIO","Atriplex dioica","T",332,"saline saltbush","forb",""]
["VT_Species","ATRI GAR","ATRI GAR","Atriplex gardneri","T",333,"Gardner's saltbush","forb",""]
["VT_Species","ATRI GAR APT","ATRI GAR APT","Atriplex gardneri var. aptera","T",334,"Nelson's saltbush","forb",""]
["VT_Species","ATRI GAR GAR","ATRI GAR GAR","Atriplex gardneri var. gardneri","T",335,"Gardner's saltbush","forb",""]
["VT_Species","ATRI HET","ATRI HET","Atriplex heterosperma","T",336,"two-scale saltbush","forb",""]
["VT_Species","ATRI HOR","ATRI HOR","Atriplex hortensis","T",337,"garden orache","forb",""]
["VT_Species","ATRI OBL","ATRI OBL","Atriplex oblongifolia","T",338,"oblong-leaf orache","forb",""]
["VT_Species","ATRI PAT","ATRI PAT","Atriplex patula","T",339,"spreading saltbush","forb",""]
["VT_Species","ATRI POW","ATRI POW","Atriplex powellii","T",340,"Powell’s saltbush","forb",""]
["VT_Species","ATRI PRO","ATRI PRO","Atriplex prostrata","T",341,"halbert-leaf saltbush","forb",""]
["VT_Species","ATRI ROS","ATRI ROS","Atriplex rosea","T",342,"tumbling orache","forb",""]
["VT_Species","ATRI SPP","ATRI SPP","Atriplex spp.","T",343,"saltbush (genus)","forb",""]
["VT_Species","ATRI SUC","ATRI SUC","Atriplex suckleyi","T",344,"rillscale","forb",""]
["VT_Species","ATRI TRU","ATRI TRU","Atriplex truncata","T",345,"wedge-leaved saltbush","forb",""]
["VT_Species","AULA TUR","AULA TUR","Aulacomnium turgidum","T",346,"","bryophyte",""]
["VT_Species","AVEN FAT","AVEN FAT","Avena fatua","T",347,"wild oats","graminoid",""]
["VT_Species","AVEN SAT","AVEN SAT","Avena sativa","T",348,"cultivated oats","graminoid",""]
["VT_Species","AVEN SPP","AVEN SPP","Avena spp.","T",349,"oats (genus)","graminoid",""]
["VT_Species","AVNU HOO","AVNU HOO","Avenula hookeri","T",350,"Hooker’s oat-grass","graminoid",""]
["VT_Species","AXYR AMA","AXYR AMA","Axyris amaranthoides","T",351,"Russian pigweed","forb",""]
["VT_Species","BACI AKO","BACI AKO","Bacidia akompsa","T",352,"dot lichen","lichen",""]
["VT_Species","BACI BAG","BACI BAG","Bacidia bagliettoana","T",353,"dot lichen","lichen",""]
["VT_Species","BACI BEC","BACI BEC","Bacidia beckhausii","T",354,"dot lichen","lichen",""]
["VT_Species","BACI CHL","BACI CHL","Bacidia chlorantha","T",355,"comet-spored lichen","lichen",""]
["VT_Species","BACI DEC","BACI DEC","Bacidia declinis","T",356,"dot lichen","lichen",""]
["VT_Species","BACI GLO","BACI GLO","Bacidia globulosa","T",357,"dot lichen","lichen",""]
["VT_Species","BACI HEG","BACI HEG","Bacidia hegetschweileri","T",358,"dot lichen","lichen",""]
["VT_Species","BACI IGN","BACI IGN","Bacidia igniarii","T",359,"dot lichen","lichen",""]
["VT_Species","BACI SPP","BACI SPP","Bacidia spp.","T",360,"","lichen",""]
["VT_Species","BAEO CAR","BAEO CAR","Baeomyces carneus","T",361,"beret lichen","lichen",""]
["VT_Species","BAEO RUF","BAEO RUF","Baeomyces rufus","T",362,"beret lichen","lichen",""]
["VT_Species","BAEO SPP","BAEO SPP","Baeomyces spp.","T",363,"","lichen",""]
["VT_Species","BARB ORT","BARB ORT","Barbarea orthoceras","T",364,"American winter-cress","forb",""]
["VT_Species","BARB SPP","BARB SPP","Barbarea spp.","T",365,"winter-cress (genus)","forb",""]
["VT_Species","BARB VUL","BARB VUL","Barbarea vulgaris","T",366,"common winter-cress","forb",""]
["VT_Species","BART POM","BART POM","Bartramia pomiformis","T",367,"","bryophyte",""]
["VT_Species","BASS HYS","BASS HYS","Bassia hyssopifolia","T",368,"five-hook bassia","forb",""]
["VT_Species","BECK SYZ","BECK SYZ","Beckmannia syzigachne","T",369,"American slough grass","graminoid",""]
["VT_Species","BERB VUL","BERB VUL","Berberis vulgaris","T",370,"common barberry","graminoid",""]
["VT_Species","BERT INC","BERT INC","Berteroa incana","T",371,"hoary alyssum","forb",""]
["VT_Species","BESS WYO","BESS WYO","Besseya wyomingensis","T",372,"Wyoming kitten-tails","forb",""]
["VT_Species","BETA VUL","BETA VUL","Beta vulgaris","T",373,"garden beet","forb",""]
["VT_Species","BETA VUL VUL","BETA VUL VUL","Beta vulgaris ssp. vulgaris","T",374,"garden beet","forb",""]
["VT_Species","BETU GLA","BETU GLA","Betula glandulosa","T",375,"bog birch","erect shrub",""]
["VT_Species","BETU NAN","BETU NAN","Betula nana","T",376,"arctic dwarf birch","erect shrub",""]
["VT_Species","BETU NAN EXI","BETU NAN EXI","Betula nana ssp. exilis","T",377,"arctic dwarf birch","erect shrub",""]
["VT_Species","BETU NEO","BETU NEO","Betula neoalaskana","T",378,"Alaska white birch","tree",""]
["VT_Species","BETU OCC","BETU OCC","Betula occidentalis","T",379,"river birch","erect shrub",""]
["VT_Species","BETU PAP","BETU PAP","Betula papyrifera","T",380,"white birch","tree","wB"]
["VT_Species","BETU PAP PAP","BETU PAP PAP","Betula papyrifera var. papyrifera","T",381,"white birch","tree",""]
["VT_Species","BETU PUM","BETU PUM","Betula pumila","T",382,"swamp birch","erect shrub",""]
["VT_Species","BETU PUM GLA","BETU PUM GLA","Betula pumila var. glandulifera","T",383,"swamp birch","erect shrub",""]
["VT_Species","BETU SPP","BETU SPP","Betula spp.","T",384,"birch (genus)","erect shrub",""]
["VT_Species","BIAT CUP","BIAT CUP","Biatora cuprea","T",385,"dot lichen","lichen",""]
["VT_Species","BIAT SPH","BIAT SPH","Biatora sphaeroides","T",386,"dot lichen","lichen",""]
["VT_Species","BIAT SPP","BIAT SPP","Biatora spp.","T",387,"","lichen",""]
["VT_Species","BIAT VER","BIAT VER","Biatora vernalis","T",388,"dot lichen","lichen",""]
["VT_Species","BIDE BEC","BIDE BEC","Bidens beckii","T",389,"water-marigold","forb",""]
["VT_Species","BIDE CER","BIDE CER","Bidens cernua","T",390,"nodding beggarticks","forb",""]
["VT_Species","BIDE FRO","BIDE FRO","Bidens frondosa","T",391,"tall beggarticks","forb",""]
["VT_Species","BIDE SPP","BIDE SPP","Bidens spp.","T",392,"beggarticks (genus)","forb",""]
["VT_Species","BIDE VUL","BIDE VUL","Bidens vulgata","T",393,"downy beggarticks","forb",""]
["VT_Species","BIST VIV","BIST VIV","Bistorta viviparum","T",394,"alpine bistort","forb",""]
["VT_Species","BLYS RUF","BLYS RUF","Blysmopsis rufa","T",395,"red bulrush","graminoid",""]
["VT_Species","BOEC DIV","BOEC DIV","Boechera divaricarpa","T",396,"purple rock-cress","forb",""]
["VT_Species","BOEC DRU","BOEC DRU","Boechera drummondii","T",397,"Drummond’s rock-cress","forb",""]
["VT_Species","BOEC HOL","BOEC HOL","Boechera holboellii","T",398,"Holboell’s rock-cress","forb",""]
["VT_Species","BOEC HOL BOI","BOEC HOL BOI","Boechera holboellii var. boivinii","T",399,"Boivin’s rock-cress","forb",""]
["VT_Species","BOEC HOL COL","BOEC HOL COL","Boechera holboellii var. collinsii","T",400,"Holboell’s rock-cress","forb",""]
["VT_Species","BOEC HOL PIN","BOEC HOL PIN","Boechera holboellii var. pinetorum","T",401,"Holboell’s rock-cress","forb",""]
["VT_Species","BOEC HOL RET","BOEC HOL RET","Boechera holboellii var. retrofracta","T",402,"reflexed rock-cress","forb",""]
["VT_Species","BOEC SPP","BOEC SPP","Boechera spp.","T",403,"rock-cress (Boechera genus)","forb",""]
["VT_Species","BOLB FLU","BOLB FLU","Bolboschoenus fluviatilis","T",404,"river bulrush","graminoid",""]
["VT_Species","BOLB MAR","BOLB MAR","Bolboschoenus maritimus","T",405,"prairie bulrush","graminoid",""]
["VT_Species","BOLB MAR PAL","BOLB MAR PAL","Bolboschoenus maritimus ssp. paludosus","T",406,"prairie bulrush","graminoid",""]
["VT_Species","BOLB SPP","BOLB SPP","Bolboschoenus spp.","T",407,"bulrush (Bolboschoenus genus)","graminoid",""]
["VT_Species","BOLT AST","BOLT AST","Boltonia asteroides","T",408,"white boltonia","forb",""]
["VT_Species","BOLT AST REC","BOLT AST REC","Boltonia asteroides var. recognita","T",409,"white boltonia","forb",""]
["VT_Species","BORA OFF","BORA OFF","Borago officinalis","T",410,"borage","forb",""]
["VT_Species","BOTR ASC","BOTR ASC","Botrychium ascendens","T",411,"upswept moonwort","forb",""]
["VT_Species","BOTR CAM","BOTR CAM","Botrychium campestre","T",412,"plains moonwort","forb",""]
["VT_Species","BOTR HES","BOTR HES","Botrychium hesperium","T",413,"western chamomile-leaved grape-fern","forb",""]
["VT_Species","BOTR LAN","BOTR LAN","Botrychium lanceolatum","T",414,"lance-leaved moonwort","forb",""]
["VT_Species","BOTR LAN ANG","BOTR LAN ANG","Botrychium lanceolatum ssp. angustisegmentum","T",415,"lance-leaved moonwort","forb",""]
["VT_Species","BOTR LAN LAN","BOTR LAN LAN","Botrychium lanceolatum ssp. lanceolatum","T",416,"lance-leaved moonwort","forb",""]
["VT_Species","BOTR LUN","BOTR LUN","Botrychium lunaria","T",417,"common moonwort","forb",""]
["VT_Species","BOTR MIN","BOTR MIN","Botrychium minganense","T",418,"mingan moonwort","forb",""]
["VT_Species","BOTR MUL","BOTR MUL","Botrychium multifidum","T",419,"leathery grape-fern","forb",""]
["VT_Species","BOTR PAL","BOTR PAL","Botrychium pallidum","T",420,"pale moonwort","forb",""]
["VT_Species","BOTR PAR","BOTR PAR","Botrychium paradoxum","T",421,"paradoxical moonwort","forb",""]
["VT_Species","BOTR PED","BOTR PED","Botrychium pedunculosum","T",422,"stalked moonwort","forb",""]
["VT_Species","BOTR SIM","BOTR SIM","Botrychium simplex","T",423,"least moonwort","forb",""]
["VT_Species","BOTR SPP","BOTR SPP","Botrychium spp.","T",424,"grape-fern (genus)","forb",""]
["VT_Species","BOTR VIR","BOTR VIR","Botrychium virginianum","T",425,"Virginia grape-fern","forb",""]
["VT_Species","BOTR VIR VIR","BOTR VIR VIR","Botrychium virginianum var. virginianum","T",426,"Virginia grape-fern","forb",""]
["VT_Species","BOUT CUR","BOUT CUR","Bouteloua curtipendula","T",427,"side-oats grama","graminoid",""]
["VT_Species","BOUT CUR CUR","BOUT CUR CUR","Bouteloua curtipendula var. curtipendula","T",428,"side-oats grama","graminoid",""]
["VT_Species","BOUT GRA","BOUT GRA","Bouteloua gracilis","T",429,"blue grama","graminoid",""]
["VT_Species","BOUT SPP","BOUT SPP","Bouteloua spp.","T",430,"grama (genus)","graminoid",""]
["VT_Species","BRAC ACU","BRAC ACU","Brachythecium acuminatum","T",431,"","bryophyte",""]
["VT_Species","BRAC ALB","BRAC ALB","Brachythecium albicans","T",432,"","bryophyte",""]
["VT_Species","BRAC COL","BRAC COL","Brachythecium collinum","T",433,"","bryophyte",""]
["VT_Species","BRAC OXY","BRAC OXY","Brachythecium oxycladon","T",434,"","bryophyte",""]
["VT_Species","BRAC PLU","BRAC PLU","Brachythecium plumosum","T",435,"","bryophyte",""]
["VT_Species","BRAC REF","BRAC REF","Brachythecium reflexum","T",436,"","bryophyte",""]
["VT_Species","BRAC RIV","BRAC RIV","Brachythecium rivulare","T",437,"waterside feather moss","bryophyte",""]
["VT_Species","BRAC RUT","BRAC RUT","Brachythecium rutabulum","T",438,"","bryophyte",""]
["VT_Species","BRAC SAL","BRAC SAL","Brachythecium salebrosum","T",439,"golden ragged feather moss","bryophyte",""]
["VT_Species","BRAC SPP","BRAC SPP","Brachythecium spp.","T",440,"","bryophyte",""]
["VT_Species","BRAC VEL","BRAC VEL","Brachythecium velutinum","T",441,"velvet feather moss","bryophyte",""]
["VT_Species","BRAS JUN","BRAS JUN","Brassica juncea","T",442,"Indian mustard","forb",""]
["VT_Species","BRAS NAP","BRAS NAP","Brassica napus","T",443,"rapeseed","forb",""]
["VT_Species","BRAS NIG","BRAS NIG","Brassica nigra","T",444,"black mustard","forb",""]
["VT_Species","BRAS RAP","BRAS RAP","Brassica rapa","T",445,"wild mustard","forb",""]
["VT_Species","BRAS RAP RAP","BRAS RAP RAP","Brassica rapa var. rapa","T",446,"wild mustard","forb",""]
["VT_Species","BRAS SPP","BRAS SPP","Brassica spp.","T",447,"mustard (Brassica genus)","forb",""]
["VT_Species","BRBU CON","BRBU CON","Barbula convoluta","T",448,"","bryophyte",""]
["VT_Species","BRBU SPP","BRBU SPP","Barbula spp.","T",449,"","bryophyte",""]
["VT_Species","BRBU UNG","BRBU UNG","Barbula unguiculata","T",450,"","bryophyte",""]
["VT_Species","BROM BIE","BROM BIE","Bromus biebersteinii","T",451,"meadow brome","graminoid",""]
["VT_Species","BROM CIL","BROM CIL","Bromus ciliatus","T",452,"fringed brome","graminoid",""]
["VT_Species","BROM CIL CIL","BROM CIL CIL","Bromus ciliatus var. ciliatus","T",453,"fringed brome","graminoid",""]
["VT_Species","BROM INE","BROM INE","Bromus inermis","T",454,"smooth brome","graminoid",""]
["VT_Species","BROM JAP","BROM JAP","Bromus japonicus","T",455,"Japanese chess","graminoid",""]
["VT_Species","BROM LAT","BROM LAT","Bromus latiglumis","T",456,"broad-glumed brome","graminoid",""]
["VT_Species","BROM MAR","BROM MAR","Bromus marginatus","T",457,"California brome","graminoid",""]
["VT_Species","BROM POR","BROM POR","Bromus porteri","T",458,"nodding brome","graminoid",""]
["VT_Species","BROM PUB","BROM PUB","Bromus pubescens","T",459,"hairy woodland brome","graminoid",""]
["VT_Species","BROM PUM","BROM PUM","Bromus pumpellianus","T",460,"northern awnless brome","graminoid",""]
["VT_Species","BROM RAC","BROM RAC","Bromus racemosus","T",461,"bald brome","graminoid",""]
["VT_Species","BROM SPP","BROM SPP","Bromus spp.","T",462,"brome (genus)","graminoid",""]
["VT_Species","BROM TEC","BROM TEC","Bromus tectorum","T",463,"downy brome","graminoid",""]
["VT_Species","BROM TEC TEC","BROM TEC TEC","Bromus tectorum var. tectorum","T",464,"downy brome","graminoid",""]
["VT_Species","BRYH VIR","BRYH VIR","Bryohaplocladium virginianum","T",465,"","bryophyte",""]
["VT_Species","BRYO CAP","BRYO CAP","Bryoria capillaris","T",466,"gray horsehair lichen","lichen",""]
["VT_Species","BRYO CHA","BRYO CHA","Bryoria chalybeiformis","T",467,"horsehair lichen","lichen",""]
["VT_Species","BRYO FRE","BRYO FRE","Bryoria fremontii","T",468,"tree-hair lichen","lichen",""]
["VT_Species","BRYO FUR","BRYO FUR","Bryoria furcellata","T",469,"burred horsehair lichen","lichen",""]
["VT_Species","BRYO FUS","BRYO FUS","Bryoria fuscescens","T",470,"pale-footed horsehair lichen","lichen",""]
["VT_Species","BRYO GLA","BRYO GLA","Bryoria glabra","T",471,"shiney horsehair lichen","lichen",""]
["VT_Species","BRYO IMP","BRYO IMP","Bryoria implexa","T",472,"horsehair lichen","lichen",""]
["VT_Species","BRYO LAN","BRYO LAN","Bryoria lanestris","T",473,"brittle horsehair lichen","lichen",""]
["VT_Species","BRYO NAD","BRYO NAD","Bryoria nadvornikiana","T",474,"spiney gray horsehair lichen","lichen",""]
["VT_Species","BRYO NIT","BRYO NIT","Bryoria nitidula","T",475,"tundra horsehair lichen","lichen",""]
["VT_Species","BRYO SIM","BRYO SIM","Bryoria simplicior","T",476,"horsehair lichen","lichen",""]
["VT_Species","BRYO SPP","BRYO SPP","Bryoria spp.","T",477,"","lichen",""]
["VT_Species","BRYO TRI","BRYO TRI","Bryoria trichodes","T",478,"horsehair lichen","lichen",""]
["VT_Species","BRYU ALG","BRYU ALG","Bryum algovicum","T",479,"","bryophyte",""]
["VT_Species","BRYU ARC","BRYU ARC","Bryum arcticum","T",480,"","bryophyte",""]
["VT_Species","BRYU ARG","BRYU ARG","Bryum argenteum","T",481,"","bryophyte",""]
["VT_Species","BRYU BIC","BRYU BIC","Bryum bicolor","T",482,"","bryophyte",""]
["VT_Species","BRYU CAE","BRYU CAE","Bryum caespiticium","T",483,"","bryophyte",""]
["VT_Species","BRYU CAP","BRYU CAP","Bryum capillare","T",484,"","bryophyte",""]
["VT_Species","BRYU KNO","BRYU KNO","Bryum knowltonii","T",485,"","bryophyte",""]
["VT_Species","BRYU LIS","BRYU LIS","Bryum lisae","T",486,"","bryophyte",""]
["VT_Species","BRYU LIS CUS","BRYU LIS CUS","Bryum lisae var. cuspidatum","T",487,"","bryophyte",""]
["VT_Species","BRYU LON","BRYU LON","Bryum lonchocaulon","T",488,"","bryophyte",""]
["VT_Species","BRYU PAL","BRYU PAL","Bryum pallescens","T",489,"","bryophyte",""]
["VT_Species","BRYU PSE","BRYU PSE","Bryum pseudotriquetrum","T",490,"tall clustered thread moss","bryophyte",""]
["VT_Species","BRYU PSE BIM","BRYU PSE BIM","Bryum pseudotriquetrum var. bimum","T",491,"","bryophyte",""]
["VT_Species","BRYU SPP","BRYU SPP","Bryum spp.","T",492,"","bryophyte",""]
["VT_Species","BRYU STE","BRYU STE","Bryum stenotrichum","T",493,"","bryophyte",""]
["VT_Species","BRYU TUR","BRYU TUR","Bryum turbinatum","T",494,"","bryophyte",""]
["VT_Species","BRYU ULI","BRYU ULI","Bryum uliginosum","T",495,"","bryophyte",""]
["VT_Species","BUCH DAC","BUCH DAC","Buchloe dactyloides","T",496,"buffalo-grass","graminoid",""]
["VT_Species","BUEL ALB","BUEL ALB","Buellia alboatra","T",497,"button lichen","lichen",""]
["VT_Species","BUEL DIS","BUEL DIS","Buellia disciformis","T",498,"boreal button lichen","lichen",""]
["VT_Species","BUEL ELE","BUEL ELE","Buellia elegans","T",499,"button lichen","lichen",""]
["VT_Species","BUEL LEP","BUEL LEP","Buellia lepidastra","T",500,"button lichen","lichen",""]
["VT_Species","BUEL PAP","BUEL PAP","Buellia papillata","T",501,"button lichen","lichen",""]
["VT_Species","BUEL RET","BUEL RET","Buellia retrovertens","T",502,"button lichen","lichen",""]
["VT_Species","BUEL SPP","BUEL SPP","Buellia spp.","T",503,"","lichen",""]
["VT_Species","BUEL SPU","BUEL SPU","Buellia spuria","T",504,"sunken lichen button","lichen",""]
["VT_Species","BUEL TRI","BUEL TRI","Buellia triphragmioides","T",505,"button lichen","lichen",""]
["VT_Species","BUEL TUR","BUEL TUR","Buellia turgescens","T",506,"button lichen","lichen",""]
["VT_Species","BUTO UMB","BUTO UMB","Butomus umbellatus","T",507,"flowering-rush","graminoid",""]
["VT_Species","CALA CAN","CALA CAN","Calamagrostis canadensis","T",508,"marsh reed-grass","graminoid",""]
["VT_Species","CALA CAN CAN","CALA CAN CAN","Calamagrostis canadensis var. canadensis","T",509,"marsh reed-grass","graminoid",""]
["VT_Species","CALA CAN LAN","CALA CAN LAN","Calamagrostis canadensis var. langsdorfii","T",510,"marsh reed-grass","graminoid",""]
["VT_Species","CALA CAN MAC","CALA CAN MAC","Calamagrostis canadensis var. macouniana","T",511,"marsh reed-grass","graminoid",""]
["VT_Species","CALA LAP","CALA LAP","Calamagrostis lapponica","T",512,"Lapland reed-grass","graminoid",""]
["VT_Species","CALA MON","CALA MON","Calamagrostis montanensis","T",513,"plains reed-grass","graminoid",""]
["VT_Species","CALA PUR","CALA PUR","Calamagrostis purpurascens","T",514,"purple reed-grass","graminoid",""]
["VT_Species","CALA PUR PUR","CALA PUR PUR","Calamagrostis purpurascens var. purpurascens","T",515,"purple reed-grass","graminoid",""]
["VT_Species","CALA RUB","CALA RUB","Calamagrostis rubescens","T",516,"pine-grass","graminoid",""]
["VT_Species","CALA SPP","CALA SPP","Calamagrostis spp.","T",517,"reed-grass (genus)","graminoid",""]
["VT_Species","CALA STR","CALA STR","Calamagrostis stricta","T",518,"northern reed-grass","graminoid",""]
["VT_Species","CALA STR INE","CALA STR INE","Calamagrostis stricta ssp. inexpansa","T",519,"northern reed-grass","graminoid",""]
["VT_Species","CALA STR STR","CALA STR STR","Calamagrostis stricta ssp. stricta","T",520,"narrow reed-grass","graminoid",""]
["VT_Species","CALG MAC","CALG MAC","Calystegia macounii","T",521,"inland false-bindweed","forb",""]
["VT_Species","CALG SEP","CALG SEP","Calystegia sepium","T",522,"hedge false-bindweed","forb",""]
["VT_Species","CALG SEP AME","CALG SEP AME","Calystegia sepium ssp. americana","T",523,"hedge false-bindweed","forb",""]
["VT_Species","CALG SEP ANG","CALG SEP ANG","Calystegia sepium ssp. angulata","T",524,"hedge false-bindweed","forb",""]
["VT_Species","CALG SEP SEP","CALG SEP SEP","Calystegia sepium ssp. sepium","T",525,"hedge false-bindweed","forb",""]
["VT_Species","CALG SIL","CALG SIL","Calystegia silvatica","T",526,"shortstalk false-bindweed","forb",""]
["VT_Species","CALG SIL FRA","CALG SIL FRA","Calystegia silvatica ssp. fraterniflora","T",527,"shortstalk false-bindweed","forb",""]
["VT_Species","CALG SPP","CALG SPP","Calystegia spp.","T",528,"false-bindweed (genus)","forb",""]
["VT_Species","CALI ABI","CALI ABI","Calicium abietinum","T",529,"stubble lichen","lichen",""]
["VT_Species","CALI SPP","CALI SPP","Calicium spp.","T",530,"","lichen",""]
["VT_Species","CALI TRA","CALI TRA","Calicium trabinellum","T",531,"yellow collar stubble lichen","lichen",""]
["VT_Species","CALI VIR","CALI VIR","Calicium viride","T",532,"green stubble lichen","lichen",""]
["VT_Species","CALL PAL","CALL PAL","Calla palustris","T",533,"marsh calla","forb",""]
["VT_Species","CALM LON","CALM LON","Calamovilfa longifolia","T",534,"sand-grass","graminoid",""]
["VT_Species","CALO ATR","CALO ATR","Caloplaca atroalba","T",535,"firedot lichen","lichen",""]
["VT_Species","CALO CER","CALO CER","Caloplaca cerina","T",536,"gray-rimmed firedot lichen","lichen",""]
["VT_Species","CALO CIR","CALO CIR","Caloplaca cirrochroa","T",537,"firedot lichen","lichen",""]
["VT_Species","CALO EPI","CALO EPI","Caloplaca epithallina","T",538,"parasitic firedot lichen","lichen",""]
["VT_Species","CALO FRA","CALO FRA","Caloplaca fraudans","T",539,"firedot lichen","lichen",""]
["VT_Species","CALO FVR","CALO FVR","Caloplaca flavorubescens","T",540,"bark sulphur-firedot lichen","lichen",""]
["VT_Species","CALO FVV","CALO FVV","Caloplaca flavovirescens","T",541,"sulphur-firedot lichen","lichen",""]
["VT_Species","CALO HOL","CALO HOL","Caloplaca holocarpa","T",542,"firedot lichen","lichen",""]
["VT_Species","CALO JUN","CALO JUN","Caloplaca jungermanniae","T",543,"firedot lichen","lichen",""]
["VT_Species","CALO POL","CALO POL","Caloplaca pollinii","T",544,"firedot lichen","lichen",""]
["VT_Species","CALO SAX","CALO SAX","Caloplaca saxicola","T",545,"firedot lichen","lichen",""]
["VT_Species","CALO SID","CALO SID","Caloplaca sideritis","T",546,"firedot lichen","lichen",""]
["VT_Species","CALO SIN","CALO SIN","Caloplaca sinapisperma","T",547,"firedot lichen","lichen",""]
["VT_Species","CALO SPP","CALO SPP","Caloplaca spp.","T",548,"","lichen",""]
["VT_Species","CALO STI","CALO STI","Caloplaca stillicidiorum","T",549,"gray-rimmed firedot lichen","lichen",""]
["VT_Species","CALO TIR","CALO TIR","Caloplaca tiroliensis","T",550,"firedot lichen","lichen",""]
["VT_Species","CALO TOM","CALO TOM","Caloplaca tominii","T",551,"firedot lichen","lichen",""]
["VT_Species","CALO TRA","CALO TRA","Caloplaca trachyphylla","T",552,"firedot lichen","lichen",""]
["VT_Species","CALO ULM","CALO ULM","Caloplaca ulmorum","T",553,"firedot lichen","lichen",""]
["VT_Species","CALP SER","CALP SER","Calylophus serrulatus","T",554,"shrubby evening-primrose","forb",""]
["VT_Species","CALT NAT","CALT NAT","Caltha natans","T",555,"floating marsh-marigold","forb",""]
["VT_Species","CALT PAL","CALT PAL","Caltha palustris","T",556,"yellow marsh-marigold","forb",""]
["VT_Species","CALT PAL PAL","CALT PAL PAL","Caltha palustris var. palustris","T",557,"yellow marsh-marigold","forb",""]
["VT_Species","CALT SPP","CALT SPP","Caltha spp.","T",558,"marsh-marigold (genus)","forb",""]
["VT_Species","CALY BUL","CALY BUL","Calypso bulbosa","T",559,"venus’-slipper","forb",""]
["VT_Species","CALY BUL AME","CALY BUL AME","Calypso bulbosa var. americana","T",560,"venus’-slipper","forb",""]
["VT_Species","CAME MIC","CAME MIC","Camelina microcarpa","T",561,"small-seeded  false-flax","forb",""]
["VT_Species","CAME SAT","CAME SAT","Camelina sativa","T",562,"false-flax","forb",""]
["VT_Species","CAME SAT ALY","CAME SAT ALY","Camelina sativa ssp. alyssum","T",563,"false-flax","forb",""]
["VT_Species","CAME SAT SAT","CAME SAT SAT","Camelina sativa ssp. sativa","T",564,"large-seeded false-flax","forb",""]
["VT_Species","CAME SPP","CAME SPP","Camelina spp.","T",565,"false-flax (genus)","forb",""]
["VT_Species","CAMI AND","CAMI AND","Camissonia andina","T",566,"Andean sundrops","forb",""]
["VT_Species","CAMI BRE","CAMI BRE","Camissonia breviflora","T",567,"taraxia","forb",""]
["VT_Species","CAMI SPP","CAMI SPP","Camissonia spp.","T",568,"sundrops (genus)","forb",""]
["VT_Species","CAMP APA","CAMP APA","Campanula aparinoides","T",569,"marsh bellflower","forb",""]
["VT_Species","CAMP RAP","CAMP RAP","Campanula rapunculoides","T",570,"creeping bellflower","forb",""]
["VT_Species","CAMP ROT","CAMP ROT","Campanula rotundifolia","T",571,"harebell","forb",""]
["VT_Species","CAMP SPP","CAMP SPP","Campanula spp.","T",572,"bellflower (genus)","forb",""]
["VT_Species","CANA MOD","CANA MOD","Canadanthus modestus","T",573,"modest aster","forb",""]
["VT_Species","CAND CON","CAND CON","Candelaria concolor","T",574,"candleflame lichen","lichen",""]
["VT_Species","CANN SAT","CANN SAT","Cannabis sativa","T",575,"hemp","forb",""]
["VT_Species","CANN SAT SAT","CANN SAT SAT","Cannabis sativa ssp. sativa","T",576,"hemp","forb",""]
["VT_Species","CAPS BUR","CAPS BUR","Capsella bursa-pastoris","T",577,"shepherd’s-purse","forb",""]
["VT_Species","CARA ARB","CARA ARB","Caragana arborescens","T",578,"caragana","erect shrub",""]
["VT_Species","CARD PAR","CARD PAR","Cardamine parviflora","T",579,"small-flowered bitter-cress","forb",""]
["VT_Species","CARD PAR ARE","CARD PAR ARE","Cardamine parviflora var. arenicola","T",580,"small-flowered bitter-cress","forb",""]
["VT_Species","CARD PEN","CARD PEN","Cardamine pensylvanica","T",581,"Pennsylvania bitter-cress","forb",""]
["VT_Species","CARD PRA","CARD PRA","Cardamine pratensis","T",582,"cuckoo-flower","forb",""]
["VT_Species","CARD PRA ANG","CARD PRA ANG","Cardamine pratensis var. angustifolia","T",583,"cuckoo-flower","forb",""]
["VT_Species","CARD PRA PRA","CARD PRA PRA","Cardamine pratensis var. pratensis","T",584,"cuckoo-flower","forb",""]
["VT_Species","CARD SPP","CARD SPP","Cardamine spp.","T",585,"bitter-cress (genus)","forb",""]
["VT_Species","CARE ADU","CARE ADU","Carex adusta","T",586,"browned sedge","graminoid",""]
["VT_Species","CARE ALO","CARE ALO","Carex alopecoidea","T",587,"foxtail sedge","graminoid",""]
["VT_Species","CARE AQU","CARE AQU","Carex aquatilis","T",588,"water sedge","graminoid",""]
["VT_Species","CARE AQU AQU","CARE AQU AQU","Carex aquatilis var. aquatilis","T",589,"water sedge","graminoid",""]
["VT_Species","CARE ARC","CARE ARC","Carex arcta","T",590,"northern sedge","graminoid",""]
["VT_Species","CARE ASS","CARE ASS","Carex assiniboinensis","T",591,"Assiniboia sedge","graminoid",""]
["VT_Species","CARE ATH","CARE ATH","Carex atherodes","T",592,"awned sedge","graminoid",""]
["VT_Species","CARE ATR","CARE ATR","Carex atratiformis","T",593,"Raymond's sedge","graminoid",""]
["VT_Species","CARE ATS","CARE ATS","Carex athrostachya","T",594,"long-bracted sedge","graminoid",""]
["VT_Species","CARE AUR","CARE AUR","Carex aurea","T",595,"golden sedge","graminoid",""]
["VT_Species","CARE BAC","CARE BAC","Carex backii","T",596,"back’s sedge","graminoid",""]
["VT_Species","CARE BEB","CARE BEB","Carex bebbii","T",597,"Bebb's sedge","graminoid",""]
["VT_Species","CARE BIC","CARE BIC","Carex bicolor","T",598,"two-color sedge","graminoid",""]
["VT_Species","CARE BIG","CARE BIG","Carex bigelowii","T",599,"Bigelow’s sedge","graminoid",""]
["VT_Species","CARE BLA","CARE BLA","Carex blanda","T",600,"woodland sedge","graminoid",""]
["VT_Species","CARE BRE","CARE BRE","Carex brevior","T",601,"broad-fruited sedge","graminoid",""]
["VT_Species","CARE BRU","CARE BRU","Carex brunnescens","T",602,"brownish sedge","graminoid",""]
["VT_Species","CARE BUX","CARE BUX","Carex buxbaumii","T",603,"brown sedge","graminoid",""]
["VT_Species","CARE CAN","CARE CAN","Carex canescens","T",604,"hoary sedge","graminoid",""]
["VT_Species","CARE CAN CAN","CARE CAN CAN","Carex canescens ssp. canescens","T",605,"hoary sedge","graminoid",""]
["VT_Species","CARE CAP","CARE CAP","Carex capillaris","T",606,"hair-like sedge","graminoid",""]
["VT_Species","CARE CHO","CARE CHO","Carex chordorriza","T",607,"creeping sedge","graminoid",""]
["VT_Species","CARE CON","CARE CON","Carex concinna","T",608,"beautiful sedge","graminoid",""]
["VT_Species","CARE CPT","CARE CPT","Carex capitata","T",609,"capitate sedge","graminoid",""]
["VT_Species","CARE CPT CAP","CARE CPT CAP","Carex capitata ssp. capitata","T",610,"capitate sedge","graminoid",""]
["VT_Species","CARE CRA","CARE CRA","Carex crawei","T",611,"Crawe's sedge","graminoid",""]
["VT_Species","CARE CRI","CARE CRI","Carex cristatella","T",612,"crested sedge","graminoid",""]
["VT_Species","CARE CRW","CARE CRW","Carex crawfordii","T",613,"Crawford's sedge","graminoid",""]
["VT_Species","CARE CRY","CARE CRY","Carex cryptolepis","T",614,"northeastern sedge","graminoid",""]
["VT_Species","CARE DEF","CARE DEF","Carex deflexa","T",615,"bent northern sedge","graminoid",""]
["VT_Species","CARE DEW","CARE DEW","Carex deweyana","T",616,"Dewey’s sedge","graminoid",""]
["VT_Species","CARE DIA","CARE DIA","Carex diandra","T",617,"two-stamen sedge","graminoid",""]
["VT_Species","CARE DIS","CARE DIS","Carex disperma","T",618,"soft-leaved sedge","graminoid",""]
["VT_Species","CARE DOU","CARE DOU","Carex douglasii","T",619,"Douglas' sedge","graminoid",""]
["VT_Species","CARE DUR","CARE DUR","Carex duriuscula","T",620,"low sedge","graminoid",""]
["VT_Species","CARE EBU","CARE EBU","Carex eburnea","T",621,"bristle-leaf sedge","graminoid",""]
["VT_Species","CARE ECH","CARE ECH","Carex echinata","T",622,"star sedge","graminoid",""]
["VT_Species","CARE ECH ECH","CARE ECH ECH","Carex echinata ssp. echinata","T",623,"star sedge","graminoid",""]
["VT_Species","CARE FIL","CARE FIL","Carex filifolia","T",624,"thread-leaf sedge","graminoid",""]
["VT_Species","CARE FLA","CARE FLA","Carex flava","T",625,"yellow sedge","graminoid",""]
["VT_Species","CARE FOE","CARE FOE","Carex foenea","T",626,"hay sedge","graminoid",""]
["VT_Species","CARE GAR","CARE GAR","Carex garberi","T",627,"elk sedge","graminoid",""]
["VT_Species","CARE GLA","CARE GLA","Carex glacialis","T",628,"glacier sedge","graminoid",""]
["VT_Species","CARE GRA","CARE GRA","Carex granularis","T",629,"granular sedge","graminoid",""]
["VT_Species","CARE GRV","CARE GRV","Carex gravida","T",630,"heavy sedge","graminoid",""]
["VT_Species","CARE GRV GRA","CARE GRV GRA","Carex gravida var. gravida","T",631,"heavy sedge","graminoid",""]
["VT_Species","CARE GYN","CARE GYN","Carex gynocrates","T",632,"northern bog sedge","graminoid",""]
["VT_Species","CARE HEL","CARE HEL","Carex heleonastes","T",633,"Hudson Bay sedge","graminoid",""]
["VT_Species","CARE HEL HEL","CARE HEL HEL","Carex heleonastes ssp. heleonastes","T",634,"Hudson Bay sedge","graminoid",""]
["VT_Species","CARE HEL NEU","CARE HEL NEU","Carex heleonastes ssp. neurochlaena","T",635,"Hudson Bay sedge","graminoid",""]
["VT_Species","CARE HOK","CARE HOK","Carex hookeriana","T",636,"Hooker's sedge","graminoid",""]
["VT_Species","CARE HOO","CARE HOO","Carex hoodii","T",637,"Hood's sedge","graminoid",""]
["VT_Species","CARE HOU","CARE HOU","Carex houghtoniana","T",638,"Houghton's sedge","graminoid",""]
["VT_Species","CARE HYS","CARE HYS","Carex hystericina","T",639,"porcupine sedge","graminoid",""]
["VT_Species","CARE INC","CARE INC","Carex incurviformis","T",640,"coastal-sand sedge","graminoid",""]
["VT_Species","CARE INC INC","CARE INC INC","Carex incurviformis var. incurviformis","T",641,"coastal-sand sedge","graminoid",""]
["VT_Species","CARE INO","CARE INO","Carex inops","T",642,"sun-loving sedge","graminoid",""]
["VT_Species","CARE INO HEL","CARE INO HEL","Carex inops ssp. heliophila","T",643,"sun-loving sedge","graminoid",""]
["VT_Species","CARE INT","CARE INT","Carex interior","T",644,"inland sedge","graminoid",""]
["VT_Species","CARE LAC","CARE LAC","Carex lacustris","T",645,"lakeshore sedge","graminoid",""]
["VT_Species","CARE LAE","CARE LAE","Carex laeviconica","T",646,"smooth-cone sedge","graminoid",""]
["VT_Species","CARE LAS","CARE LAS","Carex lasiocarpa","T",647,"hairy-fruited sedge","graminoid",""]
["VT_Species","CARE LAS AME","CARE LAS AME","Carex lasiocarpa ssp. americana","T",648,"hairy-fruited sedge","graminoid",""]
["VT_Species","CARE LEN","CARE LEN","Carex lenticularis","T",649,"lens-fruited sedge","graminoid",""]
["VT_Species","CARE LEN LEN","CARE LEN LEN","Carex lenticularis var. lenticularis","T",650,"lens-fruited sedge","graminoid",""]
["VT_Species","CARE LEP","CARE LEP","Carex leptalea","T",651,"bristle-stalked sedge","graminoid",""]
["VT_Species","CARE LEP LEP","CARE LEP LEP","Carex leptalea ssp. leptalea","T",652,"bristle-stalked sedge","graminoid",""]
["VT_Species","CARE LIM","CARE LIM","Carex limosa","T",653,"mud sedge","graminoid",""]
["VT_Species","CARE LIV","CARE LIV","Carex livida","T",654,"livid sedge","graminoid",""]
["VT_Species","CARE LOL","CARE LOL","Carex loliacea","T",655,"rye-grass sedge","graminoid",""]
["VT_Species","CARE MAC","CARE MAC","Carex mackenziei","T",656,"Mackenzie's sedge","graminoid",""]
["VT_Species","CARE MAG","CARE MAG","Carex magellanica","T",657,"quaking bog sedge","graminoid",""]
["VT_Species","CARE MAG IRR","CARE MAG IRR","Carex magellanica ssp. irrigua","T",658,"quaking bog sedge","graminoid",""]
["VT_Species","CARE MAR","CARE MAR","Carex maritima","T",659,"seaside sedge","graminoid",""]
["VT_Species","CARE MCP","CARE MCP","Carex microptera","T",660,"small-winged sedge","graminoid",""]
["VT_Species","CARE MEA","CARE MEA","Carex meadii","T",661,"Mead's sedge","graminoid",""]
["VT_Species","CARE MED","CARE MED","Carex media","T",662,"Norway sedge","graminoid",""]
["VT_Species","CARE MIC","CARE MIC","Carex michauxiana","T",663,"Michaux's sedge","graminoid",""]
["VT_Species","CARE OBT","CARE OBT","Carex obtusata","T",664,"blunt sedge","graminoid",""]
["VT_Species","CARE OLI","CARE OLI","Carex oligosperma","T",665,"few-seeded sedge","graminoid",""]
["VT_Species","CARE OLI OLI","CARE OLI OLI","Carex oligosperma var. oligosperma","T",666,"few-seeded sedge","graminoid",""]
["VT_Species","CARE PAC","CARE PAC","Carex pachystachya","T",667,"thick-headed sedge","graminoid",""]
["VT_Species","CARE PAL","CARE PAL","Carex paleacea","T",668,"chaffy sedge","graminoid",""]
["VT_Species","CARE PAR","CARE PAR","Carex parryana","T",669,"Parry's sedge","graminoid",""]
["VT_Species","CARE PAR PAR","CARE PAR PAR","Carex parryana var. parryana","T",670,"Parry's sedge","graminoid",""]
["VT_Species","CARE PAU","CARE PAU","Carex pauciflora","T",671,"few-flowered sedge","graminoid",""]
["VT_Species","CARE PEC","CARE PEC","Carex peckii","T",672,"Peck's sedge","graminoid",""]
["VT_Species","CARE PED","CARE PED","Carex pedunculata","T",673,"long-stalked sedge","graminoid",""]
["VT_Species","CARE PEL","CARE PEL","Carex pellita","T",674,"woolly sedge","graminoid",""]
["VT_Species","CARE PET","CARE PET","Carex petasata","T",675,"tufted sedge","graminoid",""]
["VT_Species","CARE PRA","CARE PRA","Carex praegracilis","T",676,"graceful sedge","graminoid",""]
["VT_Species","CARE PRI","CARE PRI","Carex prairea","T",677,"prairie sedge","graminoid",""]
["VT_Species","CARE PRO","CARE PRO","Carex projecta","T",678,"projecting sedge","graminoid",""]
["VT_Species","CARE PRT","CARE PRT","Carex praticola","T",679,"northern meadow sedge","graminoid",""]
["VT_Species","CARE PSE","CARE PSE","Carex pseudocyperus","T",680,"cypress-like sedge","graminoid",""]
["VT_Species","CARE RAY","CARE RAY","Carex raynoldsii","T",681,"Raynolds' sedge","graminoid",""]
["VT_Species","CARE RET","CARE RET","Carex retrorsa","T",682,"retrorse sedge","graminoid",""]
["VT_Species","CARE RIC","CARE RIC","Carex richardsonii","T",683,"Richardson’s sedge","graminoid",""]
["VT_Species","CARE ROS","CARE ROS","Carex rossii","T",684,"Ross' sedge","graminoid",""]
["VT_Species","CARE RST","CARE RST","Carex rostrata","T",685,"beaked sedge","graminoid",""]
["VT_Species","CARE SAR","CARE SAR","Carex sartwellii","T",686,"Sartwell's sedge","graminoid",""]
["VT_Species","CARE SAR SAR","CARE SAR SAR","Carex sartwellii var. sartwellii","T",687,"Sartwell's sedge","graminoid",""]
["VT_Species","CARE SAX","CARE SAX","Carex saxatilis","T",688,"rocky-ground sedge","graminoid",""]
["VT_Species","CARE SCI","CARE SCI","Carex scirpoidea","T",689,"bulrush-like sedge","graminoid",""]
["VT_Species","CARE SCI SCI","CARE SCI SCI","Carex scirpoidea var. scirpoidea","T",690,"bulrush-like sedge","graminoid",""]
["VT_Species","CARE SCO","CARE SCO","Carex scoparia","T",691,"pointed broom sedge","graminoid",""]
["VT_Species","CARE SCO SCO","CARE SCO SCO","Carex scoparia var. scoparia","T",692,"pointed broom sedge","graminoid",""]
["VT_Species","CARE SIC","CARE SIC","Carex siccata","T",693,"dry-spike sedge","graminoid",""]
["VT_Species","CARE SIM","CARE SIM","Carex simulata","T",694,"mimic sedge","graminoid",""]
["VT_Species","CARE SPP","CARE SPP","Carex spp.","T",695,"sedge (genus)","graminoid",""]
["VT_Species","CARE SPR","CARE SPR","Carex sprengelii","T",696,"Sprengel’s sedge","graminoid",""]
["VT_Species","CARE STE","CARE STE","Carex sterilis","T",697,"sterile sedge","graminoid",""]
["VT_Species","CARE STI","CARE STI","Carex stipata","T",698,"awl-fruited sedge","graminoid",""]
["VT_Species","CARE STI STI","CARE STI STI","Carex stipata var. stipata","T",699,"awl-fruited sedge","graminoid",""]
["VT_Species","CARE SUB","CARE SUB","Carex subspathacea","T",700,"Hoppner’s sedge","graminoid",""]
["VT_Species","CARE SUP","CARE SUP","Carex supina","T",701,"weak arctic sedge","graminoid",""]
["VT_Species","CARE SUP SPA","CARE SUP SPA","Carex supina var. spaniocarpa","T",702,"weak arctic sedge","graminoid",""]
["VT_Species","CARE SXM","CARE SXM","Carex saximontana","T",703,"Rocky Mountain sedge","graminoid",""]
["VT_Species","CARE SYC","CARE SYC","Carex sychnocephala","T",704,"many-headed sedge","graminoid",""]
["VT_Species","CARE TEN","CARE TEN","Carex tenera","T",705,"quill sedge","graminoid",""]
["VT_Species","CARE TEN TEN","CARE TEN TEN","Carex tenera var. tenera","T",706,"quill sedge","graminoid",""]
["VT_Species","CARE TET","CARE TET","Carex tetanica","T",707,"rigid sedge","graminoid",""]
["VT_Species","CARE TNU","CARE TNU","Carex tenuiflora","T",708,"sparse-flowered sedge","graminoid",""]
["VT_Species","CARE TON","CARE TON","Carex tonsa","T",709,"bald sedge","graminoid",""]
["VT_Species","CARE TON TON","CARE TON TON","Carex tonsa var. tonsa","T",710,"bald sedge","graminoid",""]
["VT_Species","CARE TOR","CARE TOR","Carex torreyi","T",711,"Torrey's sedge","graminoid",""]
["VT_Species","CARE TRI","CARE TRI","Carex trisperma","T",712,"three-seeded sedge","graminoid",""]
["VT_Species","CARE TRI TRI","CARE TRI TRI","Carex trisperma var. trisperma","T",713,"three-seeded sedge","graminoid",""]
["VT_Species","CARE UMB","CARE UMB","Carex umbellata","T",714,"umbellate sedge","graminoid",""]
["VT_Species","CARE UTR","CARE UTR","Carex utriculata","T",715,"northern beaked sedge","graminoid",""]
["VT_Species","CARE VAG","CARE VAG","Carex vaginata","T",716,"sheathed sedge","graminoid",""]
["VT_Species","CARE VES","CARE VES","Carex vesicaria","T",717,"blister sedge","graminoid",""]
["VT_Species","CARE VIR","CARE VIR","Carex viridula","T",718,"green sedge","graminoid",""]
["VT_Species","CARE VIR VIR","CARE VIR VIR","Carex viridula var. viridula","T",719,"green sedge","graminoid",""]
["VT_Species","CARE VUL","CARE VUL","Carex vulpinoidea","T",720,"fox sedge","graminoid",""]
["VT_Species","CARE VUL VUL","CARE VUL VUL","Carex vulpinoidea var. vulpinoidea","T",721,"fox sedge","graminoid",""]
["VT_Species","CARE XER","CARE XER","Carex xerantica","T",722,"white-scaled sedge","graminoid",""]
["VT_Species","CART TIN","CART TIN","Carthamus tinctorius","T",723,"safflower","forb",""]
["VT_Species","CARU CAR","CARU CAR","Carum carvi","T",724,"caraway","forb",""]
["VT_Species","CAST COC","CAST COC","Castilleja coccinea","T",725,"scarlet paintbrush","forb",""]
["VT_Species","CAST MIN","CAST MIN","Castilleja miniata","T",726,"red Indian-paintbrush","forb",""]
["VT_Species","CAST MIN MIN","CAST MIN MIN","Castilleja miniata ssp. miniata","T",727,"red Indian-paintbrush","forb",""]
["VT_Species","CAST RAU","CAST RAU","Castilleja raupii","T",728,"Raup’s Indian-paintbrush","forb",""]
["VT_Species","CAST SES","CAST SES","Castilleja sessiliflora","T",729,"downy paintbrush","forb",""]
["VT_Species","CAST SPP","CAST SPP","Castilleja spp.","T",730,"paintbrush (genus)","forb",""]
["VT_Species","CATA AQU","CATA AQU","Catabrosa aquatica","T",731,"brook grass","graminoid",""]
["VT_Species","CATA AQU AQU","CATA AQU AQU","Catabrosa aquatica var. aquatica","T",732,"brook grass","graminoid",""]
["VT_Species","CATI CHA","CATI CHA","Catillaria chalybeia","T",733,"","lichen",""]
["VT_Species","CATI GLA","CATI GLA","Catillaria glauconigrans","T",734,"","lichen",""]
["VT_Species","CATI SPP","CATI SPP","Catillaria spp.","T",735,"","lichen",""]
["VT_Species","CATO NIG","CATO NIG","Catoscopium nigritum","T",736,"golf club moss","bryophyte",""]
["VT_Species","CDLL AUR","CDLL AUR","Candelariella aurella","T",737,"hidden goldspeck lichen","lichen",""]
["VT_Species","CDLL DIS","CDLL DIS","Candelariella dispersa","T",738,"","lichen",""]
["VT_Species","CDLL SPP","CDLL SPP","Candelariella spp.","T",739,"","lichen",""]
["VT_Species","CDLL TER","CDLL TER","Candelariella terrigena","T",740,"tundra goldspeck lichen","lichen",""]
["VT_Species","CDLL VIT","CDLL VIT","Candelariella vitellina","T",741,"common goldspeck lichen","lichen",""]
["VT_Species","CELA SCA","CELA SCA","Celastrus scandens","T",742,"climbing bittersweet","forb",""]
["VT_Species","CENT CYA","CENT CYA","Centaurea cyanus","T",743,"bachelor’s-buttons","forb",""]
["VT_Species","CENT DIF","CENT DIF","Centaurea diffusa","T",744,"diffuse knapweed","forb",""]
["VT_Species","CENT SOL","CENT SOL","Centaurea solstitialis","T",745,"yellow star-thistle","forb",""]
["VT_Species","CENT SPP","CENT SPP","Centaurea spp.","T",746,"knapweed (genus)","forb",""]
["VT_Species","CERA ALP","CERA ALP","Cerastium alpinum","T",747,"alpine chickweed","forb",""]
["VT_Species","CERA ALP LAN","CERA ALP LAN","Cerastium alpinum var. lanatum","T",748,"woolly alpine chickweed","forb",""]
["VT_Species","CERA ALP STR","CERA ALP STR","Cerastium alpinum var. strigosum","T",749,"alpine chickweed","forb",""]
["VT_Species","CERA ARV","CERA ARV","Cerastium arvense","T",750,"field chickweed","forb",""]
["VT_Species","CERA ARV STR","CERA ARV STR","Cerastium arvense ssp. strictum","T",751,"field chickweed","forb",""]
["VT_Species","CERA BEE","CERA BEE","Cerastium beeringianum","T",752,"Bering chickweed","forb",""]
["VT_Species","CERA BRA","CERA BRA","Cerastium brachypodum","T",753,"short-stalked mouse-ear chickweed","forb",""]
["VT_Species","CERA FON","CERA FON","Cerastium fontanum","T",754,"common mouse-ear chickweed","forb",""]
["VT_Species","CERA FON VUL","CERA FON VUL","Cerastium fontanum ssp. vulgare","T",755,"common mouse-ear chickweed","forb",""]
["VT_Species","CERA NUT","CERA NUT","Cerastium nutans","T",756,"nodding chickweed","forb",""]
["VT_Species","CERA NUT NUT","CERA NUT NUT","Cerastium nutans var. nutans","T",757,"nodding chickweed","forb",""]
["VT_Species","CERA SPP","CERA SPP","Cerastium spp.","T",758,"chickweed (genus)","forb",""]
["VT_Species","CERO DEM","CERO DEM","Ceratophyllum demersum","T",759,"coontail","forb",""]
["VT_Species","CETR ACU","CETR ACU","Cetraria aculeata","T",760,"spiney heath lichen","lichen",""]
["VT_Species","CETR ARE","CETR ARE","Cetraria arenaria","T",761,"sand-loving Iceland lichen","lichen",""]
["VT_Species","CETR CHL","CETR CHL","Cetraria chlorophylla","T",762,"powdered wrinkle-lichen","lichen",""]
["VT_Species","CETR CIL","CETR CIL","Cetraria ciliaris","T",763,"","lichen",""]
["VT_Species","CETR COM","CETR COM","Cetraria commixta","T",764,"","lichen",""]
["VT_Species","CETR CUC","CETR CUC","Cetraria cucullata","T",765,"curled snow lichen","lichen",""]
["VT_Species","CETR ERI","CETR ERI","Cetraria ericetorum","T",766,"iceland lichen","lichen",""]
["VT_Species","CETR FEN","CETR FEN","Cetraria fendleri","T",767,"dwarf wrinkle-lichen","lichen",""]
["VT_Species","CETR HEP","CETR HEP","Cetraria hepatizon","T",768,"rimmed camouflage lichen","lichen",""]
["VT_Species","CETR ISL","CETR ISL","Cetraria islandica","T",769,"true Iceland lichen","lichen",""]
["VT_Species","CETR LAE","CETR LAE","Cetraria laevigata","T",770,"striped Iceland lichen","lichen",""]
["VT_Species","CETR MER","CETR MER","Cetraria merrillii","T",771,"flattened thornbush lichen","lichen",""]
["VT_Species","CETR NIG","CETR NIG","Cetraria nigricans","T",772,"","lichen",""]
["VT_Species","CETR NIV","CETR NIV","Cetraria nivalis","T",773,"crinkled snow lichen","lichen",""]
["VT_Species","CETR ORB","CETR ORB","Cetraria orbata","T",774,"variable wrinkle-lichen","lichen",""]
["VT_Species","CETR SEP","CETR SEP","Cetraria sepincola","T",775,"chestnut wrinkle-lichen","lichen",""]
["VT_Species","CETR SPP","CETR SPP","Cetraria spp.","T",776,"","lichen",""]
["VT_Species","CHAE MIN","CHAE MIN","Chaenorrhinum minus","T",777,"small snapdragon","forb",""]
["VT_Species","CHAM CAL","CHAM CAL","Chamaedaphne calyculata","T",778,"leather-leaf","erect shrub",""]
["VT_Species","CHEL MAJ","CHEL MAJ","Chelidonium majus","T",779,"greater celandine","forb",""]
["VT_Species","CHEL MAJ MAJ","CHEL MAJ MAJ","Chelidonium majus var. majus","T",780,"greater celandine","forb",""]
["VT_Species","CHEN ALB","CHEN ALB","Chenopodium album","T",781,"lamb’s-quarters","forb",""]
["VT_Species","CHEN ALB ALB","CHEN ALB ALB","Chenopodium album var. album","T",782,"lamb’s-quarters","forb",""]
["VT_Species","CHEN ATR","CHEN ATR","Chenopodium atrovirens","T",783,"dark-green goosefoot","forb",""]
["VT_Species","CHEN BER","CHEN BER","Chenopodium berlandieri","T",784,"pit-seed goosefoot","forb",""]
["VT_Species","CHEN BER ZSC","CHEN BER ZSC","Chenopodium berlandieri var. zschackii","T",785,"pit-seed goosefoot","forb",""]
["VT_Species","CHEN CAP","CHEN CAP","Chenopodium capitatum","T",786,"strawberry-blite","forb",""]
["VT_Species","CHEN DES","CHEN DES","Chenopodium desiccatum","T",787,"arid-land goosefoot","forb",""]
["VT_Species","CHEN FRE","CHEN FRE","Chenopodium fremontii","T",788,"Fremont’s goosefoot","forb",""]
["VT_Species","CHEN FRE FRE","CHEN FRE FRE","Chenopodium fremontii var. fremontii","T",789,"Fremont’s goosefoot","forb",""]
["VT_Species","CHEN GLA","CHEN GLA","Chenopodium glaucum","T",790,"oak-leaf goosefoot","forb",""]
["VT_Species","CHEN GLA SAL","CHEN GLA SAL","Chenopodium glaucum var. salinum","T",791,"oak-leaf goosefoot","forb",""]
["VT_Species","CHEN HIA","CHEN HIA","Chenopodium hians","T",792,"Hians goosefoot","forb",""]
["VT_Species","CHEN INC","CHEN INC","Chenopodium incanum","T",793,"mealy goosefoot","forb",""]
["VT_Species","CHEN LEP","CHEN LEP","Chenopodium leptophyllum","T",794,"narrow-leaved goosefoot","forb",""]
["VT_Species","CHEN MUR","CHEN MUR","Chenopodium murale","T",795,"nettle-leaved goosefoot","forb",""]
["VT_Species","CHEN POL","CHEN POL","Chenopodium polyspermum","T",796,"many-seeded goosefoot","forb",""]
["VT_Species","CHEN POL ACU","CHEN POL ACU","Chenopodium polyspermum var. acutifolium","T",797,"many-seeded goosefoot","forb",""]
["VT_Species","CHEN PRA","CHEN PRA","Chenopodium pratericola","T",798,"desert goosefoot","forb",""]
["VT_Species","CHEN RUB","CHEN RUB","Chenopodium rubrum","T",799,"red goosefoot","forb",""]
["VT_Species","CHEN SIM","CHEN SIM","Chenopodium simplex","T",800,"maple-leaved goosefoot","forb",""]
["VT_Species","CHEN SPP","CHEN SPP","Chenopodium spp.","T",801,"goosefoot (genus)","forb",""]
["VT_Species","CHEN STR","CHEN STR","Chenopodium strictum","T",802,"upright lamb’s-quarters","forb",""]
["VT_Species","CHEN SUB","CHEN SUB","Chenopodium subglabrum","T",803,"smooth goosefoot","forb",""]
["VT_Species","CHEN WAT","CHEN WAT","Chenopodium watsonii","T",804,"Watson’s goosefoot","forb",""]
["VT_Species","CHIM UMB","CHIM UMB","Chimaphila umbellata","T",805,"prince's-pine","forb",""]
["VT_Species","CHIM UMB CIS","CHIM UMB CIS","Chimaphila umbellata ssp. cisatlantica","T",806,"eastern prince’s-pine","forb",""]
["VT_Species","CHIM UMB OCC","CHIM UMB OCC","Chimaphila umbellata ssp. occidentalis","T",807,"western prince’s-pine","forb",""]
["VT_Species","CHMN ANG","CHMN ANG","Chamerion angustifolium","T",808,"common fireweed","forb",""]
["VT_Species","CHMN ANG ANG","CHMN ANG ANG","Chamerion angustifolium ssp. angustifolium","T",809,"common fireweed","forb",""]
["VT_Species","CHMN ANG CIR","CHMN ANG CIR","Chamerion angustifolium ssp. circumvagum","T",810,"common fireweed","forb",""]
["VT_Species","CHMR ERE","CHMR ERE","Chamaerhodos erecta","T",811,"little ground-rose","forb",""]
["VT_Species","CHMR ERE NUT","CHMR ERE NUT","Chamaerhodos erecta ssp. nuttallii","T",812,"little ground-rose","forb",""]
["VT_Species","CHMS GEY","CHMS GEY","Chamaesyce geyeri","T",813,"Geyer’s spurge","forb",""]
["VT_Species","CHMS GEY GEY","CHMS GEY GEY","Chamaesyce geyeri var. geyeri","T",814,"Geyer’s spurge","forb",""]
["VT_Species","CHMS GLY","CHMS GLY","Chamaesyce glyptosperma","T",815,"ridge-seeded spurge","forb",""]
["VT_Species","CHMS SER","CHMS SER","Chamaesyce serpens","T",816,"round-leaved spurge","forb",""]
["VT_Species","CHMS SPP","CHMS SPP","Chamaesyce spp.","T",817,"spurge (Chamaesyce genus)","forb",""]
["VT_Species","CHMS SRP","CHMS SRP","Chamaesyce serpyllifolia","T",818,"thyme-leaved spurge","forb",""]
["VT_Species","CHMS SRP SER","CHMS SRP SER","Chamaesyce serpyllifolia ssp. serpyllifolia","T",819,"thyme-leaved spurge","forb",""]
["VT_Species","CHNT BRU","CHNT BRU","Chaenotheca brunneola","T",820,"brown-headed stubble lichen","lichen",""]
["VT_Species","CHNT CHR","CHNT CHR","Chaenotheca chrysocephala","T",821,"","lichen",""]
["VT_Species","CHNT SPP","CHNT SPP","Chaenotheca spp.","T",822,"","lichen",""]
["VT_Species","CHOR TEN","CHOR TEN","Chorispora tenella","T",823,"cross-flower","forb",""]
["VT_Species","CHRO MUS","CHRO MUS","Chromatochlamys muscorum","T",824,"","lichen",""]
["VT_Species","CHRY IOW","CHRY IOW","Chrysosplenium iowense","T",825,"Iowa golden-saxifrage","forb",""]
["VT_Species","CHRY SPP","CHRY SPP","Chrysosplenium spp.","T",826,"golden-saxifrage (genus)","forb",""]
["VT_Species","CHRY TET","CHRY TET","Chrysosplenium tetrandrum","T",827,"northern golden-saxifrage","forb",""]
["VT_Species","CHTP PUS","CHTP PUS","Chaenothecopsis pusilla","T",828,"","lichen",""]
["VT_Species","CICE ARI","CICE ARI","Cicer arietinum","T",829,"chick-pea","forb",""]
["VT_Species","CICH END","CICH END","Cichorium endivia","T",830,"endive","forb",""]
["VT_Species","CICH INT","CICH INT","Cichorium intybus","T",831,"chicory","forb",""]
["VT_Species","CICH SPP","CICH SPP","Cichorium spp.","T",832,"chicory (genus)","forb",""]
["VT_Species","CICU BUL","CICU BUL","Cicuta bulbifera","T",833,"bulbous water-hemlock","forb",""]
["VT_Species","CICU MAC","CICU MAC","Cicuta maculata","T",834,"water-hemlock","forb",""]
["VT_Species","CICU MAC ANG","CICU MAC ANG","Cicuta maculata var. angustifolia","T",835,"narrow-leaved water-hemlock","forb",""]
["VT_Species","CICU MAC MAC","CICU MAC MAC","Cicuta maculata var. maculata","T",836,"spotted water-hemlock","forb",""]
["VT_Species","CICU SPP","CICU SPP","Cicuta spp.","T",837,"water-hemlock (genus)","forb",""]
["VT_Species","CICU VIR","CICU VIR","Cicuta virosa","T",838,"Mackenzie’s water-hemlock","forb",""]
["VT_Species","CINC STY","CINC STY","Cinclidium stygium","T",839,"common northern lantern moss","bryophyte",""]
["VT_Species","CINN LAT","CINN LAT","Cinna latifolia","T",840,"drooping wood-grass","graminoid",""]
["VT_Species","CIRC ALP","CIRC ALP","Circaea alpina","T",841,"small enchanter’s-nightshade","forb",""]
["VT_Species","CIRC ALP ALP","CIRC ALP ALP","Circaea alpina ssp. alpina","T",842,"small enchanter’s-nightshade","forb",""]
["VT_Species","CIRS ARV","CIRS ARV","Cirsium arvense","T",843,"Canada thistle","forb",""]
["VT_Species","CIRS CAN","CIRS CAN","Cirsium canescens","T",844,"platte thistle","forb",""]
["VT_Species","CIRS DRU","CIRS DRU","Cirsium drummondii","T",845,"Drummond’s thistle","forb",""]
["VT_Species","CIRS FLO","CIRS FLO","Cirsium flodmanii","T",846,"Flodman's thistle","forb",""]
["VT_Species","CIRS FOL","CIRS FOL","Cirsium foliosum","T",847,"leafy thistle","forb",""]
["VT_Species","CIRS MUT","CIRS MUT","Cirsium muticum","T",848,"swamp thistle","forb",""]
["VT_Species","CIRS SPP","CIRS SPP","Cirsium spp.","T",849,"thistle (genus)","forb",""]
["VT_Species","CIRS UND","CIRS UND","Cirsium undulatum","T",850,"wavy-leaved thistle","forb",""]
["VT_Species","CIRS UND UND","CIRS UND UND","Cirsium undulatum var. undulatum","T",851,"wavy-leaved thistle","forb",""]
["VT_Species","CIRS VUL","CIRS VUL","Cirsium vulgare","T",852,"bull thistle","forb",""]
["VT_Species","CLAD MAR","CLAD MAR","Cladium mariscoides","T",853,"twig-rush","graminoid",""]
["VT_Species","CLAY LAN","CLAY LAN","Claytonia lanceolata","T",854,"lance-leaved springbeauty","forb",""]
["VT_Species","CLAY LAN LAN","CLAY LAN LAN","Claytonia lanceolata var. lanceolata","T",855,"lance-leaved springbeauty","forb",""]
["VT_Species","CLDI ARB","CLDI ARB","Cladina arbuscula","T",856,"reindeer lichen","lichen",""]
["VT_Species","CLDI MIT","CLDI MIT","Cladina mitis","T",857,"green reindeer lichen","lichen",""]
["VT_Species","CLDI RAN","CLDI RAN","Cladina rangiferina","T",858,"gray reindeer lichen","lichen",""]
["VT_Species","CLDI SPP","CLDI SPP","Cladina spp.","T",859,"","lichen",""]
["VT_Species","CLDI STE","CLDI STE","Cladina stellaris","T",860,"star-tipped reindeer lichen","lichen",""]
["VT_Species","CLDI STY","CLDI STY","Cladina stygia","T",861,"black-footed reindeer lichen","lichen",""]
["VT_Species","CLDO AMA","CLDO AMA","Cladonia amaurocraea","T",862,"quill lichen","lichen",""]
["VT_Species","CLDO BAC","CLDO BAC","Cladonia bacilliformis","T",863,"","lichen",""]
["VT_Species","CLDO BEL","CLDO BEL","Cladonia bellidiflora","T",864,"toy soldiers","lichen",""]
["VT_Species","CLDO BOR","CLDO BOR","Cladonia borealis","T",865,"boreal pixie-cup","lichen",""]
["VT_Species","CLDO BOT","CLDO BOT","Cladonia botrytes","T",866,"wooden soldiers","lichen",""]
["VT_Species","CLDO CAR","CLDO CAR","Cladonia cariosa","T",867,"split-peg soldiers","lichen",""]
["VT_Species","CLDO CEN","CLDO CEN","Cladonia cenotea","T",868,"powdered funnel lichen","lichen",""]
["VT_Species","CLDO CER","CLDO CER","Cladonia cervicornis","T",869,"ladder lichen","lichen",""]
["VT_Species","CLDO CHL","CLDO CHL","Cladonia chlorophaea","T",870,"mealy pixie-cup","lichen",""]
["VT_Species","CLDO COC","CLDO COC","Cladonia coccifera","T",871,"","lichen",""]
["VT_Species","CLDO CON","CLDO CON","Cladonia coniocraea","T",872,"common powderhorn","lichen",""]
["VT_Species","CLDO COR","CLDO COR","Cladonia cornuta","T",873,"","lichen",""]
["VT_Species","CLDO COR COR","CLDO COR COR","Cladonia cornuta ssp. cornuta","T",874,"bighorn cladonia","lichen",""]
["VT_Species","CLDO CRN","CLDO CRN","Cladonia carneola","T",875,"crowned pixie-cup","lichen",""]
["VT_Species","CLDO CRY","CLDO CRY","Cladonia cryptochlorophaea","T",876,"","lichen",""]
["VT_Species","CLDO CSP","CLDO CSP","Cladonia crispata","T",877,"organ-pipe lichen","lichen",""]
["VT_Species","CLDO CST","CLDO CST","Cladonia cristatella","T",878,"British soldiers","lichen",""]
["VT_Species","CLDO CYA","CLDO CYA","Cladonia cyanipes","T",879,"","lichen",""]
["VT_Species","CLDO CYL","CLDO CYL","Cladonia cylindrica","T",880,"","lichen",""]
["VT_Species","CLDO DEC","CLDO DEC","Cladonia decorticata","T",881,"","lichen",""]
["VT_Species","CLDO DEF","CLDO DEF","Cladonia deformis","T",882,"lesser sulphur-cup","lichen",""]
["VT_Species","CLDO ECM","CLDO ECM","Cladonia ecmocyna","T",883,"frosted cladonia","lichen",""]
["VT_Species","CLDO FIM","CLDO FIM","Cladonia fimbriata","T",884,"trumpet lichen","lichen",""]
["VT_Species","CLDO FUR","CLDO FUR","Cladonia furcata","T",885,"many-forked cladonia","lichen",""]
["VT_Species","CLDO GLA","CLDO GLA","Cladonia glauca","T",886,"","lichen",""]
["VT_Species","CLDO GRA","CLDO GRA","Cladonia gracilis","T",887,"smooth cladonia","lichen",""]
["VT_Species","CLDO GRY","CLDO GRY","Cladonia grayi","T",888,"","lichen",""]
["VT_Species","CLDO HUM","CLDO HUM","Cladonia humilis","T",889,"","lichen",""]
["VT_Species","CLDO MAT","CLDO MAT","Cladonia mateocyatha","T",890,"mixed-up pixie-cup","lichen",""]
["VT_Species","CLDO MAX","CLDO MAX","Cladonia maxima","T",891,"giant cladonia","lichen",""]
["VT_Species","CLDO MCC","CLDO MCC","Cladonia macroceras","T",892,"","lichen",""]
["VT_Species","CLDO MCL","CLDO MCL","Cladonia macilenta","T",893,"lipstick powderhorn","lichen",""]
["VT_Species","CLDO MET","CLDO MET","Cladonia metacorallifera","T",894,"","lichen",""]
["VT_Species","CLDO MIT","CLDO MIT","Cladonia mitrula","T",895,"","lichen",""]
["VT_Species","CLDO MPA","CLDO MPA","Cladonia macrophylla","T",896,"","lichen",""]
["VT_Species","CLDO MPS","CLDO MPS","Cladonia macrophyllodes","T",897,"large-leaved cladonia","lichen",""]
["VT_Species","CLDO MUL","CLDO MUL","Cladonia multiformis","T",898,"sieve lichen","lichen",""]
["VT_Species","CLDO OCH","CLDO OCH","Cladonia ochrochlora","T",899,"smooth-footed powderhorn","lichen",""]
["VT_Species","CLDO PDS","CLDO PDS","Cladonia polycarpoides","T",900,"peg lichen","lichen",""]
["VT_Species","CLDO PHY","CLDO PHY","Cladonia phyllophora","T",901,"felt cladonia","lichen",""]
["VT_Species","CLDO PLE","CLDO PLE","Cladonia pleurota","T",902,"red-fruited pixie-cup","lichen",""]
["VT_Species","CLDO POC","CLDO POC","Cladonia pocillum","T",903,"rosette pixie-cup","lichen",""]
["VT_Species","CLDO PPA","CLDO PPA","Cladonia polycarpia","T",904,"","lichen",""]
["VT_Species","CLDO PYX","CLDO PYX","Cladonia pyxidata","T",905,"pebbled pixie-cup","lichen",""]
["VT_Species","CLDO RAM","CLDO RAM","Cladonia ramulosa","T",906,"","lichen",""]
["VT_Species","CLDO RAP","CLDO RAP","Cladonia rappii","T",907,"slender ladder lichen","lichen",""]
["VT_Species","CLDO REI","CLDO REI","Cladonia rei","T",908,"wand lichen","lichen",""]
["VT_Species","CLDO ROB","CLDO ROB","Cladonia robbinsii","T",909,"yellow tongue cladonia","lichen",""]
["VT_Species","CLDO SCA","CLDO SCA","Cladonia scabriuscula","T",910,"mealy forked cladonia","lichen",""]
["VT_Species","CLDO SPP","CLDO SPP","Cladonia spp.","T",911,"","lichen",""]
["VT_Species","CLDO SQU","CLDO SQU","Cladonia squamosa","T",912,"dragon cladonia","lichen",""]
["VT_Species","CLDO SUB","CLDO SUB","Cladonia subulata","T",913,"antlered powderhorn","lichen",""]
["VT_Species","CLDO SUL","CLDO SUL","Cladonia sulphurina","T",914,"greater sulphur -cup","lichen",""]
["VT_Species","CLDO SYM","CLDO SYM","Cladonia symphycarpa","T",915,"","lichen",""]
["VT_Species","CLDO TRA","CLDO TRA","Cladonia trassii","T",916,"spotted black-foot","lichen",""]
["VT_Species","CLDO TUR","CLDO TUR","Cladonia turgida","T",917,"crazy scale lichen","lichen",""]
["VT_Species","CLDO UNC","CLDO UNC","Cladonia uncialis","T",918,"thorn cladonia","lichen",""]
["VT_Species","CLEM LIG","CLEM LIG","Clematis ligusticifolia","T",919,"western white clematis","forb",""]
["VT_Species","CLEM LIG LIG","CLEM LIG LIG","Clematis ligusticifolia var. ligusticifolia","T",920,"western white clematis","forb",""]
["VT_Species","CLEM OCC","CLEM OCC","Clematis occidentalis","T",921,"purple clematis","forb",""]
["VT_Species","CLEM OCC GRO","CLEM OCC GRO","Clematis occidentalis var. grosseserrata","T",922,"purple clematis","forb",""]
["VT_Species","CLEM SPP","CLEM SPP","Clematis spp.","T",923,"clematis (genus)","forb",""]
["VT_Species","CLEM TAN","CLEM TAN","Clematis tangutica","T",924,"oriental clematis","forb",""]
["VT_Species","CLGL CUS","CLGL CUS","Calliergonella cuspidata","T",925,"","bryophyte",""]
["VT_Species","CLGN COR","CLGN COR","Calliergon cordifolium","T",926,"heart-leaved feather moss","bryophyte",""]
["VT_Species","CLGN GIG","CLGN GIG","Calliergon giganteum","T",927,"giant water feather moss","bryophyte",""]
["VT_Species","CLGN OBT","CLGN OBT","Calliergon obtusifolium","T",928,"","bryophyte",""]
["VT_Species","CLGN RIC","CLGN RIC","Calliergon richardsonii","T",929,"Richardson's water moss","bryophyte",""]
["VT_Species","CLGN SPP","CLGN SPP","Calliergon spp.","T",930,"","bryophyte",""]
["VT_Species","CLGN STR","CLGN STR","Calliergon stramineum","T",931,"straw-coloured water moss","bryophyte",""]
["VT_Species","CLIM DEN","CLIM DEN","Climacium dendroides","T",932,"common tree moss","bryophyte",""]
["VT_Species","CLIO GRI","CLIO GRI","Cliostomum griffithii","T",933,"multicoloured dot lichen","lichen",""]
["VT_Species","CLLT HER","CLLT HER","Callitriche hermaphroditica","T",934,"autumn water-starwort","forb",""]
["VT_Species","CLLT PAL","CLLT PAL","Callitriche palustris","T",935,"vernal water-starwort","forb",""]
["VT_Species","CLLT SPP","CLLT SPP","Callitriche spp.","T",936,"water-starwort (genus)","forb",""]
["VT_Species","CLMA BAC","CLMA BAC","Collema bachmanianum","T",937,"Bachman's jelly lichen","lichen",""]
["VT_Species","CLMA FUR","CLMA FUR","Collema furfuraceum","T",938,"blistered jelly lichen","lichen",""]
["VT_Species","CLMA FUS","CLMA FUS","Collema fuscovirens","T",939,"","lichen",""]
["VT_Species","CLMA SPP","CLMA SPP","Collema spp.","T",940,"","lichen",""]
["VT_Species","CLMA TEN","CLMA TEN","Collema tenax","T",941,"soil jelly lichen","lichen",""]
["VT_Species","CLMA UND","CLMA UND","Collema undulatum","T",942,"jelly flakes","lichen",""]
["VT_Species","CMPY CHR","CMPY CHR","Campylium chrysophyllum","T",943,"","bryophyte",""]
["VT_Species","CMPY HIS","CMPY HIS","Campylium hispidulum","T",944,"false willow moss","bryophyte",""]
["VT_Species","CMPY POL","CMPY POL","Campylium polygamum","T",945,"","bryophyte",""]
["VT_Species","CMPY RAD","CMPY RAD","Campylium radicale","T",946,"","bryophyte",""]
["VT_Species","CMPY SPP","CMPY SPP","Campylium spp.","T",947,"","bryophyte",""]
["VT_Species","CMPY STE","CMPY STE","Campylium stellatum","T",948,"yellow star moss","bryophyte",""]
["VT_Species","COEL VIR","COEL VIR","Coeloglossum viride","T",949,"longbracted bog-orchid","forb",""]
["VT_Species","COEL VIR VIR","COEL VIR VIR","Coeloglossum viride var. virescens","T",950,"longbracted bog-orchid","forb",""]
["VT_Species","COLL PAR","COLL PAR","Collinsia parviflora","T",951,"small-flowered blue-eyed-mary","forb",""]
["VT_Species","COLM LIN","COLM LIN","Collomia linearis","T",952,"narrow-leaved collomia","forb",""]
["VT_Species","COMA UMB","COMA UMB","Comandra umbellata","T",953,"bastard toadflax","forb",""]
["VT_Species","COMA UMB PAL","COMA UMB PAL","Comandra umbellata ssp. pallida","T",954,"bastard toadflax","forb",""]
["VT_Species","COMA UMB UMB","COMA UMB UMB","Comandra umbellata ssp. umbellata","T",955,"bastard toadflax","forb",""]
["VT_Species","COMR PAL","COMR PAL","Comarum palustre","T",956,"marsh cinquefoil","forb",""]
["VT_Species","CONA COM","CONA COM","Conardia compacta","T",957,"","bryophyte",""]
["VT_Species","CONI MAC","CONI MAC","Conium maculatum","T",958,"poison-hemlock","forb",""]
["VT_Species","CONR ORI","CONR ORI","Conringia orientalis","T",959,"treacle mustard","forb",""]
["VT_Species","CONS AJA","CONS AJA","Consolida ajacis","T",960,"rocket larkspur","forb",""]
["VT_Species","CONS ORI","CONS ORI","Consolida orientalis","T",961,"oriental larkspur","forb",""]
["VT_Species","CONS SPP","CONS SPP","Consolida spp.","T",962,"larkspur (Consolida genus)","forb",""]
["VT_Species","CONV ARV","CONV ARV","Convolvulus arvensis","T",963,"field bindweed","forb",""]
["VT_Species","CONY CAN","CONY CAN","Conyza canadensis","T",964,"horseweed","forb",""]
["VT_Species","COPT TRI","COPT TRI","Coptis trifolia","T",965,"goldthread","forb",""]
["VT_Species","CORA MAC","CORA MAC","Corallorrhiza maculata","T",966,"spotted coralroot","forb",""]
["VT_Species","CORA SPP","CORA SPP","Corallorrhiza spp.","T",967,"coralroot (genus)","forb",""]
["VT_Species","CORA STR","CORA STR","Corallorrhiza striata","T",968,"striped coralroot","forb",""]
["VT_Species","CORA TRI","CORA TRI","Corallorrhiza trifida","T",969,"early coralroot","forb",""]
["VT_Species","CORE TIN","CORE TIN","Coreopsis tinctoria","T",970,"golden coreopsis","forb",""]
["VT_Species","CORI AME","CORI AME","Corispermum americanum","T",971,"American bugseed","forb",""]
["VT_Species","CORI AME AME","CORI AME AME","Corispermum americanum var. americanum","T",972,"American bugseed","forb",""]
["VT_Species","CORI HOO","CORI HOO","Corispermum hookeri","T",973,"pale bugseed","forb",""]
["VT_Species","CORI HOO HOO","CORI HOO HOO","Corispermum hookeri var. hookeri","T",974,"pale bugseed","forb",""]
["VT_Species","CORI OCH","CORI OCH","Corispermum ochotense","T",975,"Russian bugseed","forb",""]
["VT_Species","CORI PAL","CORI PAL","Corispermum pallasii","T",976,"pallas bugseed","forb",""]
["VT_Species","CORI SPP","CORI SPP","Corispermum spp.","T",977,"bugseed (genus)","forb",""]
["VT_Species","CORI VIL","CORI VIL","Corispermum villosum","T",978,"hairy bugseed","forb",""]
["VT_Species","CORN CAN","CORN CAN","Cornus canadensis","T",979,"Canadian bunchberry","forb",""]
["VT_Species","CORN SER","CORN SER","Cornus sericea","T",980,"red-osier dogwood","erect shrub",""]
["VT_Species","CORN SER STO","CORN SER STO","Cornus sericea ssp. stolonifera","T",981,"red-osier dogwood","erect shrub",""]
["VT_Species","CORN SPP","CORN SPP","Cornus spp.","T",982,"dogwood (genus)","erect shrub",""]
["VT_Species","CORY AUR","CORY AUR","Corydalis aurea","T",983,"golden corydalis","forb",""]
["VT_Species","CORY AUR AUR","CORY AUR AUR","Corydalis aurea ssp. aurea","T",984,"golden corydalis","forb",""]
["VT_Species","CORY SEM","CORY SEM","Corydalis sempervirens","T",985,"pink corydalis","forb",""]
["VT_Species","CORY SPP","CORY SPP","Corydalis spp.","T",986,"corydalis (genus)","forb",""]
["VT_Species","COTA TIN","COTA TIN","Cota tinctoria","T",987,"golden marguerite","forb",""]
["VT_Species","COTO ACU","COTO ACU","Cotoneaster acutifolius","T",988,"Peking cotoneaster","erect shrub",""]
["VT_Species","COTO MEL","COTO MEL","Cotoneaster melanocarpus","T",989,"dark-seeded cotoneaster","erect shrub",""]
["VT_Species","COTO SPP","COTO SPP","Cotoneaster spp.","T",990,"cotoneaster (genus)","erect shrub",""]
["VT_Species","CRAS AQU","CRAS AQU","Crassula aquatica","T",991,"water pygmyweed","forb",""]
["VT_Species","CRAT CHR","CRAT CHR","Crataegus chrysocarpa","T",992,"round-leaved hawthorn","erect shrub",""]
["VT_Species","CRAT DOU","CRAT DOU","Crataegus douglasii","T",993,"black-fruited hawthorn","erect shrub",""]
["VT_Species","CRAT DOU DOU","CRAT DOU DOU","Crataegus douglasii var. douglasii","T",994,"black-fruited hawthorn","erect shrub",""]
["VT_Species","CRAT SPP","CRAT SPP","Crataegus spp.","T",995,"hawthorn (genus)","erect shrub",""]
["VT_Species","CRAT SUC","CRAT SUC","Crataegus succulenta","T",996,"succulent hawthorn","erect shrub",""]
["VT_Species","CRDA CHA","CRDA CHA","Cardaria chalapensis","T",997,"lens-pod hoary-cress","forb",""]
["VT_Species","CRDA DRA","CRDA DRA","Cardaria draba","T",998,"heart-pod hoary-cress","forb",""]
["VT_Species","CRDA PUB","CRDA PUB","Cardaria pubescens","T",999,"globe-pod hoary-cress","forb",""]
["VT_Species","CRDA SPP","CRDA SPP","Cardaria spp.","T",1000,"hoary-cress (genus)","forb",""]
["VT_Species","CRDU NUT","CRDU NUT","Carduus nutans","T",1001,"nodding thistle","forb",""]
["VT_Species","CREP ATR","CREP ATR","Crepis atribarba","T",1002,"dark hawk's-beard","forb",""]
["VT_Species","CREP ATR ATR","CREP ATR ATR","Crepis atribarba ssp. atribarba","T",1003,"dark hawk's-beard","forb",""]
["VT_Species","CREP INT","CREP INT","Crepis intermedia","T",1004,"small-flowered hawk's-beard","forb",""]
["VT_Species","CREP OCC","CREP OCC","Crepis occidentalis","T",1005,"western hawk’s-beard","forb",""]
["VT_Species","CREP OCC COS","CREP OCC COS","Crepis occidentalis ssp. costata","T",1006,"western hawk’s-beard","forb",""]
["VT_Species","CREP OCC OCC","CREP OCC OCC","Crepis occidentalis ssp. occidentalis","T",1007,"western hawk’s-beard","forb",""]
["VT_Species","CREP RUN","CREP RUN","Crepis runcinata","T",1008,"scapose hawk's-beard","forb",""]
["VT_Species","CREP RUN GLA","CREP RUN GLA","Crepis runcinata ssp. glauca","T",1009,"scapose hawk's-beard","forb",""]
["VT_Species","CREP RUN HIS","CREP RUN HIS","Crepis runcinata ssp. hispidulosa","T",1010,"scapose hawk's-beard","forb",""]
["VT_Species","CREP RUN RUN","CREP RUN RUN","Crepis runcinata ssp. runcinata","T",1011,"scapose hawk's-beard","forb",""]
["VT_Species","CREP SPP","CREP SPP","Crepis spp.","T",1012,"hawk's-beard (genus)","forb",""]
["VT_Species","CREP TEC","CREP TEC","Crepis tectorum","T",1013,"narrow-leaf hawk's-beard","forb",""]
["VT_Species","CRNL CAL","CRNL CAL","Cornicularia californica","T",1014,"","lichen",""]
["VT_Species","CRTN FIL","CRTN FIL","Cratoneuron filicinum","T",1015,"fern moss","bryophyte",""]
["VT_Species","CRYG ACR","CRYG ACR","Cryptogramma acrostichoides","T",1016,"American rock-fern","forb",""]
["VT_Species","CRYL AME","CRYL AME","Corylus americana","T",1017,"American hazelnut","erect shrub",""]
["VT_Species","CRYL COR","CRYL COR","Corylus cornuta","T",1018,"beaked hazelnut","erect shrub",""]
["VT_Species","CRYL COR COR","CRYL COR COR","Corylus cornuta var. cornuta","T",1019,"beaked hazelnut","erect shrub",""]
["VT_Species","CRYL SPP","CRYL SPP","Corylus spp.","T",1020,"hazelnut (genus)","erect shrub",""]
["VT_Species","CRYP CEL","CRYP CEL","Cryptantha celosioides","T",1021,"butte-candle","forb",""]
["VT_Species","CRYP FEN","CRYP FEN","Cryptantha fendleri","T",1022,"Fendler’s cryptanthe","forb",""]
["VT_Species","CRYP KEL","CRYP KEL","Cryptantha kelseyana","T",1023,"Kelsey’s cryptanthe","forb",""]
["VT_Species","CRYP MAC","CRYP MAC","Cryptantha macounii","T",1024,"Macoun’s cryptanthe","forb",""]
["VT_Species","CRYP MIN","CRYP MIN","Cryptantha minima","T",1025,"small cryptanthe","forb",""]
["VT_Species","CRYP SPP","CRYP SPP","Cryptantha spp.","T",1026,"cryptanthe (genus)","forb",""]
["VT_Species","CTDN PUR","CTDN PUR","Ceratodon purpureus","T",1027,"purple horn-toothed moss","bryophyte",""]
["VT_Species","CTNA ATR","CTNA ATR","Catinaria atropurpurea","T",1028,"","lichen",""]
["VT_Species","CTNA LAU","CTNA LAU","Catinaria laureri","T",1029,"","lichen",""]
["VT_Species","CTNA SPP","CTNA SPP","Catinaria spp.","T",1030,"","lichen",""]
["VT_Species","CTPY CIN","CTPY CIN","Catapyrenium cinereum","T",1031,"","lichen",""]
["VT_Species","CTPY LCN","CTPY LCN","Catapyrenium lachneum","T",1032,"","lichen",""]
["VT_Species","CTPY LLT","CTPY LLT","Catapyrenium lacinulatum","T",1033,"brown stipplescale","lichen",""]
["VT_Species","CTPY SPP","CTPY SPP","Catapyrenium spp.","T",1034,"","lichen",""]
["VT_Species","CTPY SQU","CTPY SQU","Catapyrenium squamulosum","T",1035,"","lichen",""]
["VT_Species","CTRL DEL","CTRL DEL","Cetrariella delisei","T",1036,"snow-bed Iceland lichen","lichen",""]
["VT_Species","CUSC CEP","CUSC CEP","Cuscuta cephalanthii","T",1037,"buttonbush dodder","forb",""]
["VT_Species","CUSC COR","CUSC COR","Cuscuta corylii","T",1038,"hazel dodder","forb",""]
["VT_Species","CUSC GRO","CUSC GRO","Cuscuta gronovii","T",1039,"common dodder","forb",""]
["VT_Species","CUSC GRO GRO","CUSC GRO GRO","Cuscuta gronovii var. gronovii","T",1040,"common dodder","forb",""]
["VT_Species","CUSC IND","CUSC IND","Cuscuta indecora","T",1041,"large alfalfa dodder","forb",""]
["VT_Species","CUSC MEG","CUSC MEG","Cuscuta megalocarpa","T",1042,"big-fruit dodder","forb",""]
["VT_Species","CUSC PEN","CUSC PEN","Cuscuta pentagona","T",1043,"field dodder","forb",""]
["VT_Species","CUSC PEN PEN","CUSC PEN PEN","Cuscuta pentagona var. pentagona","T",1044,"field dodder","forb",""]
["VT_Species","CUSC SPP","CUSC SPP","Cuscuta spp.","T",1045,"dodder (genus)","forb",""]
["VT_Species","CYCH XAN","CYCH XAN","Cyclachaena xanthifolia","T",1046,"false ragweed","forb",""]
["VT_Species","CYCL ATR","CYCL ATR","Cycloloma atriplicifolium","T",1047,"winged pigweed","forb",""]
["VT_Species","CYMO ACA","CYMO ACA","Cymopteris acaulis","T",1048,"plains cymopteris","forb",""]
["VT_Species","CYMO ACA ACA","CYMO ACA ACA","Cymopteris acaulis var. acaulis","T",1049,"plains cymopteris","forb",""]
["VT_Species","CYND STR","CYND STR","Cynodontium strumiferum","T",1050,"","bryophyte",""]
["VT_Species","CYNO OFF","CYNO OFF","Cynoglossum officinale","T",1051,"common hound’s-tongue","forb",""]
["VT_Species","CYNO SPP","CYNO SPP","Cynoglossum spp.","T",1052,"hound's-tongue (genus)","forb",""]
["VT_Species","CYNO VIR","CYNO VIR","Cynoglossum virginianum","T",1053,"wild comfry","forb",""]
["VT_Species","CYNO VIR BOR","CYNO VIR BOR","Cynoglossum virginianum var. boreale","T",1054,"wild comfry","forb",""]
["VT_Species","CYPE ACU","CYPE ACU","Cyperus acuminatus","T",1055,"taper-tip sedge","graminoid",""]
["VT_Species","CYPE SCH","CYPE SCH","Cyperus schweinitzii","T",1056,"Schweinitz’s umbrella-sedge","graminoid",""]
["VT_Species","CYPE SPP","CYPE SPP","Cyperus spp.","T",1057,"umbrella-sedge (genus)","graminoid",""]
["VT_Species","CYPE SQU","CYPE SQU","Cyperus squarrosus","T",1058,"awned umbrella-sedge","graminoid",""]
["VT_Species","CYPE STR","CYPE STR","Cyperus strigosus","T",1059,"straw-colored umbrella-sedge","graminoid",""]
["VT_Species","CYPH NOT","CYPH NOT","Cyphelium notarisii","T",1060,"","lichen",""]
["VT_Species","CYPH SPP","CYPH SPP","Cyphelium spp.","T",1061,"","lichen",""]
["VT_Species","CYPH TIG","CYPH TIG","Cyphelium tigillare","T",1062,"","lichen",""]
["VT_Species","CYPR ACA","CYPR ACA","Cypripedium acaule","T",1063,"stemless lady’s-slipper","forb",""]
["VT_Species","CYPR ARI","CYPR ARI","Cypripedium arietinum","T",1064,"ram’s-head lady’s-slipper","forb",""]
["VT_Species","CYPR CAN","CYPR CAN","Cypripedium candidum","T",1065,"small white lady’s-slipper","forb",""]
["VT_Species","CYPR MON","CYPR MON","Cypripedium montanum","T",1066,"mountain lady’s-slipper","forb",""]
["VT_Species","CYPR PAR","CYPR PAR","Cypripedium parviflorum","T",1067,"yellow lady’s-slipper","forb",""]
["VT_Species","CYPR PAR MAK","CYPR PAR MAK","Cypripedium parviflorum var. makasin","T",1068,"small yellow lady’s-slipper","forb",""]
["VT_Species","CYPR PAR PUB","CYPR PAR PUB","Cypripedium parviflorum var. pubescens","T",1069,"large yellow lady’s-slipper","forb",""]
["VT_Species","CYPR PAS","CYPR PAS","Cypripedium passerinum","T",1070,"sparrow’s-egg lady’s-slipper","forb",""]
["VT_Species","CYPR REG","CYPR REG","Cypripedium reginae","T",1071,"showy lady’s-slipper","forb",""]
["VT_Species","CYPR SPP","CYPR SPP","Cypripedium spp.","T",1072,"lady's-slipper (genus)","forb",""]
["VT_Species","CYST FRA","CYST FRA","Cystopteris fragilis","T",1073,"fragile bladder-fern","forb",""]
["VT_Species","CYST MON","CYST MON","Cystopteris montana","T",1074,"mountain bladder-fern","forb",""]
["VT_Species","CYST SPP","CYST SPP","Cystopteris spp.","T",1075,"bladder-fern (genus)","forb",""]
["VT_Species","DACT GLO","DACT GLO","Dactylis glomerata","T",1076,"orchard grass","graminoid",""]
["VT_Species","DACT GLO GLO","DACT GLO GLO","Dactylis glomerata ssp. glomerata","T",1077,"orchard grass","graminoid",""]
["VT_Species","DALE CAN","DALE CAN","Dalea candida","T",1078,"white prairie-clover","forb",""]
["VT_Species","DALE CAN CAN","DALE CAN CAN","Dalea candida var. candida","T",1079,"white prairie-clover","forb",""]
["VT_Species","DALE CAN OLI","DALE CAN OLI","Dalea candida var. oligophylla","T",1080,"white prairie-clover","forb",""]
["VT_Species","DALE PUR","DALE PUR","Dalea purpurea","T",1081,"purple prairie-clover","forb",""]
["VT_Species","DALE PUR PUR","DALE PUR PUR","Dalea purpurea var. purpurea","T",1082,"purple prairie-clover","forb",""]
["VT_Species","DALE SPP","DALE SPP","Dalea spp.","T",1083,"prairie-clover (genus)","forb",""]
["VT_Species","DALE VIL","DALE VIL","Dalea villosa","T",1084,"hairy prairie-clover","forb",""]
["VT_Species","DALE VIL VIL","DALE VIL VIL","Dalea villosa var. villosa","T",1085,"hairy prairie-clover","forb",""]
["VT_Species","DANT CAL","DANT CAL","Danthonia californica","T",1086,"California wild oat-grass","graminoid",""]
["VT_Species","DANT INT","DANT INT","Danthonia intermedia","T",1087,"timber wild oat-grass","graminoid",""]
["VT_Species","DANT PAR","DANT PAR","Danthonia parryi","T",1088,"Parry’s wild oat-grass","graminoid",""]
["VT_Species","DANT SPI","DANT SPI","Danthonia spicata","T",1089,"poverty wild oat-grass","graminoid",""]
["VT_Species","DANT SPP","DANT SPP","Danthonia spp.","T",1090,"oat-grass (genus)","graminoid",""]
["VT_Species","DANT UNI","DANT UNI","Danthonia unispicata","T",1091,"one-spike wild oat-grass","graminoid",""]
["VT_Species","DASI FRU","DASI FRU","Dasiphora fruticosa","T",1092,"shrubby cinquefoil","erect shrub",""]
["VT_Species","DATU STR","DATU STR","Datura stramonium","T",1093,"jimson-weed","forb",""]
["VT_Species","DAUC CAR","DAUC CAR","Daucus carota","T",1094,"Queen-Anne’s lace","forb",""]
["VT_Species","DCRL HET","DCRL HET","Dicranella heteromalla","T",1095,"","bryophyte",""]
["VT_Species","DCRL SPP","DCRL SPP","Dicranella spp.","T",1096,"","bryophyte",""]
["VT_Species","DCRL VAR","DCRL VAR","Dicranella varia","T",1097,"","bryophyte",""]
["VT_Species","DCRN CIR","DCRN CIR","Dicranoweisia cirrata","T",1098,"","bryophyte",""]
["VT_Species","DELP BIC","DELP BIC","Delphinium bicolor","T",1099,"low larkspur","forb",""]
["VT_Species","DELP BIC BIC","DELP BIC BIC","Delphinium bicolor ssp. bicolor","T",1100,"low larkspur","forb",""]
["VT_Species","DELP ELA","DELP ELA","Delphinium elatum","T",1101,"candle larkspur","forb",""]
["VT_Species","DELP GLA","DELP GLA","Delphinium glaucum","T",1102,"tall larkspur","forb",""]
["VT_Species","DELP SPP","DELP SPP","Delphinium spp.","T",1103,"larkspur (Delphinium genus)","forb",""]
["VT_Species","DERM LUR","DERM LUR","Dermatocarpon luridum","T",1104,"brook lichen","lichen",""]
["VT_Species","DERM MIN","DERM MIN","Dermatocarpon miniatum","T",1105,"common stippleback","lichen",""]
["VT_Species","DERM SPP","DERM SPP","Dermatocarpon spp.","T",1106,"","lichen",""]
["VT_Species","DESC CES","DESC CES","Deschampsia cespitosa","T",1107,"tufted hair-grass","graminoid",""]
["VT_Species","DESC CES CES","DESC CES CES","Deschampsia cespitosa ssp. cespitosa","T",1108,"tufted hair-grass","graminoid",""]
["VT_Species","DESC MAC","DESC MAC","Deschampsia mackenzieana","T",1109,"Mackenzie hair-grass","graminoid",""]
["VT_Species","DESC SPP","DESC SPP","Deschampsia spp.","T",1110,"hair-grass (genus)","graminoid",""]
["VT_Species","DESM CER","DESM CER","Desmatodon cernuus","T",1111,"","bryophyte",""]
["VT_Species","DESM HEI","DESM HEI","Desmatodon heimii","T",1112,"","bryophyte",""]
["VT_Species","DESM OBT","DESM OBT","Desmatodon obtusifolius","T",1113,"","bryophyte",""]
["VT_Species","DESM SPP","DESM SPP","Desmatodon spp.","T",1114,"","bryophyte",""]
["VT_Species","DESU INC","DESU INC","Descurainia incana","T",1115,"mountain tansy-mustard","forb",""]
["VT_Species","DESU INC INC","DESU INC INC","Descurainia incana ssp. incana","T",1116,"grey tansy-mustard","forb",""]
["VT_Species","DESU INC PRO","DESU INC PRO","Descurainia incana ssp. procera","T",1117,"mountain tansy-mustard","forb",""]
["VT_Species","DESU PIN","DESU PIN","Descurainia pinnata","T",1118,"short-fruited tansy-mustard","forb",""]
["VT_Species","DESU PIN BRA","DESU PIN BRA","Descurainia pinnata ssp. brachycarpa","T",1119,"short-fruited tansy-mustard","forb",""]
["VT_Species","DESU PIN FIL","DESU PIN FIL","Descurainia pinnata ssp. filipes","T",1120,"short-fruited tansy-mustard","forb",""]
["VT_Species","DESU SOP","DESU SOP","Descurainia sophia","T",1121,"flixweed","forb",""]
["VT_Species","DESU SPP","DESU SPP","Descurainia spp.","T",1122,"tansy-mustard (genus)","forb",""]
["VT_Species","DIAN BAR","DIAN BAR","Dianthus barbatus","T",1123,"sweet william","forb",""]
["VT_Species","DIAN DEL","DIAN DEL","Dianthus deltoides","T",1124,"maiden pink","forb",""]
["VT_Species","DIAN SPP","DIAN SPP","Dianthus spp.","T",1125,"pink (genus)","forb",""]
["VT_Species","DICH ACU","DICH ACU","Dichanthelium acuminatum","T",1126,"hairy panic-grass","graminoid",""]
["VT_Species","DICH ACU FAS","DICH ACU FAS","Dichanthelium acuminatum ssp. fasciculatum","T",1127,"hairy panic-grass","graminoid",""]
["VT_Species","DICH LEI","DICH LEI","Dichanthelium leibergii","T",1128,"Leiberg’s panic-grass","graminoid",""]
["VT_Species","DICH PER","DICH PER","Dichanthelium perlongum","T",1129,"long-stalked panic-grass","graminoid",""]
["VT_Species","DICH SPP","DICH SPP","Dichanthelium spp.","T",1130,"panic-grass (Dichanthelium genus)","graminoid",""]
["VT_Species","DICH WIL","DICH WIL","Dichanthelium wilcoxianum","T",1131,"Wilcox’s sand-millet","graminoid",""]
["VT_Species","DICH XAN","DICH XAN","Dichanthelium xanthophysum","T",1132,"yellow-green panic-grass","graminoid",""]
["VT_Species","DICR ACU","DICR ACU","Dicranum acutifolium","T",1133,"sharp-leaved cushion moss","bryophyte",""]
["VT_Species","DICR ANG","DICR ANG","Dicranum angustum","T",1134,"","bryophyte",""]
["VT_Species","DICR BON","DICR BON","Dicranum bonjeanii","T",1135,"","bryophyte",""]
["VT_Species","DICR ELO","DICR ELO","Dicranum elongatum","T",1136,"","bryophyte",""]
["VT_Species","DICR FLA","DICR FLA","Dicranum flagellare","T",1137,"whip fork moss","bryophyte",""]
["VT_Species","DICR FRA","DICR FRA","Dicranum fragilifolium","T",1138,"fragile cushion moss","bryophyte",""]
["VT_Species","DICR FUS","DICR FUS","Dicranum fuscescens","T",1139,"curly heron's-bill moss","bryophyte",""]
["VT_Species","DICR MON","DICR MON","Dicranum montanum","T",1140,"","bryophyte",""]
["VT_Species","DICR ONT","DICR ONT","Dicranum ontariense","T",1141,"","bryophyte",""]
["VT_Species","DICR POL","DICR POL","Dicranum polysetum","T",1142,"electric eels","bryophyte",""]
["VT_Species","DICR SCO","DICR SCO","Dicranum scoparium","T",1143,"broom moss","bryophyte",""]
["VT_Species","DICR SPP","DICR SPP","Dicranum spp.","T",1144,"","bryophyte",""]
["VT_Species","DICR TAU","DICR TAU","Dicranum tauricum","T",1145,"","bryophyte",""]
["VT_Species","DICR UND","DICR UND","Dicranum undulatum","T",1146,"wavy dicranum","bryophyte",""]
["VT_Species","DIDY FAL","DIDY FAL","Didymodon fallax","T",1147,"","bryophyte",""]
["VT_Species","DIER LON","DIER LON","Diervilla lonicera","T",1148,"northern bush-honeysuckle","erect shrub",""]
["VT_Species","DIET CAN","DIET CAN","Dieteria canescens","T",1149,"canescent aster","forb",""]
["VT_Species","DIET CAN CAN","DIET CAN CAN","Dieteria canescens var. canescens","T",1150,"canescent aster","forb",""]
["VT_Species","DIGI ISC","DIGI ISC","Digitaria ischaemum","T",1151,"smooth crab-grass","graminoid",""]
["VT_Species","DIGI SAN","DIGI SAN","Digitaria sanguinalis","T",1152,"hairy crab-grass","graminoid",""]
["VT_Species","DIGI SPP","DIGI SPP","Digitaria spp.","T",1153,"crab-grass (genus)","graminoid",""]
["VT_Species","DIME ORE","DIME ORE","Dimelaena oreina","T",1154,"golden moonglow lichen","lichen",""]
["VT_Species","DIPH COM","DIPH COM","Diphasiastrum complanatum","T",1155,"ground-cedar","forb",""]
["VT_Species","DIPH SIT","DIPH SIT","Diphasiastrum sitchense","T",1156,"Sitka ground-cedar","forb",""]
["VT_Species","DIPH SPP","DIPH SPP","Diphasiastrum spp.","T",1157,"ground-cedar (genus)","forb",""]
["VT_Species","DIPL MUR","DIPL MUR","Diplotaxis muralis","T",1158,"sand-rocket","forb",""]
["VT_Species","DIST SPI","DIST SPI","Distichlis spicata","T",1159,"inland salt grass","graminoid",""]
["VT_Species","DIST SPI STR","DIST SPI STR","Distichlis spicata var. stricta","T",1160,"inland salt grass","graminoid",""]
["VT_Species","DITR AMB","DITR AMB","Ditrichum ambiguum","T",1161,"","bryophyte",""]
["VT_Species","DITR FLE","DITR FLE","Ditrichum flexicaule","T",1162,"slender-stemmed hair moss","bryophyte",""]
["VT_Species","DITR PUS","DITR PUS","Ditrichum pusillum","T",1163,"","bryophyte",""]
["VT_Species","DITR SPP","DITR SPP","Ditrichum spp.","T",1164,"","bryophyte",""]
["VT_Species","DMRL PIN","DMRL PIN","Dimerella pineti","T",1165,"dimerella lichen","lichen",""]
["VT_Species","DODE CON","DODE CON","Dodecatheon conjugens","T",1166,"mountain shooting-star","forb",""]
["VT_Species","DODE PUL","DODE PUL","Dodecatheon pulchellum","T",1167,"beautiful shooting-star","forb",""]
["VT_Species","DODE PUL PUB","DODE PUL PUB","Dodecatheon pulchellum var. puberulum","T",1168,"Cusick’s shooting-star","forb",""]
["VT_Species","DODE PUL PUL","DODE PUL PUL","Dodecatheon pulchellum var. pulchellum","T",1169,"beautiful shooting-star","forb",""]
["VT_Species","DODE SPP","DODE SPP","Dodecatheon spp.","T",1170,"shooting-star (genus)","forb",""]
["VT_Species","DOEL UMB","DOEL UMB","Doellingeria umbellata","T",1171,"flat-topped white aster","forb",""]
["VT_Species","DOEL UMB PUB","DOEL UMB PUB","Doellingeria umbellata var. pubens","T",1172,"flat-topped white aster","forb",""]
["VT_Species","DOWN LAE","DOWN LAE","Downingia laeta","T",1173,"bright downingia","forb",""]
["VT_Species","DPLS ACT","DPLS ACT","Diploschistes actinostomus","T",1174,"","lichen",""]
["VT_Species","DPLS CAN","DPLS CAN","Diploschistes canadensis","T",1175,"","lichen",""]
["VT_Species","DPLS GYP","DPLS GYP","Diploschistes gypsaceus","T",1176,"","lichen",""]
["VT_Species","DPLS MUS","DPLS MUS","Diploschistes muscorum","T",1177,"cowpie lichen","lichen",""]
["VT_Species","DPLS SCR","DPLS SCR","Diploschistes scruposus","T",1178,"crater lichen","lichen",""]
["VT_Species","DPLS SPP","DPLS SPP","Diploschistes spp.","T",1179,"","lichen",""]
["VT_Species","DRAB AUR","DRAB AUR","Draba aurea","T",1180,"golden whitlow-grass","forb",""]
["VT_Species","DRAB BRE","DRAB BRE","Draba breweri","T",1181,"hoary whitlowgrass","forb",""]
["VT_Species","DRAB BRE CAN","DRAB BRE CAN","Draba breweri var. cana","T",1182,"hoary whitlowgrass","forb",""]
["VT_Species","DRAB CIN","DRAB CIN","Draba cinerea","T",1183,"ashy whitlow-grass","forb",""]
["VT_Species","DRAB NEM","DRAB NEM","Draba nemorosa","T",1184,"yellow whitlow-grass","forb",""]
["VT_Species","DRAB REP","DRAB REP","Draba reptans","T",1185,"creeping whitlow-grass","forb",""]
["VT_Species","DRAB SPP","DRAB SPP","Draba spp.","T",1186,"whitlow-grass (genus)","forb",""]
["VT_Species","DRAC PAR","DRAC PAR","Dracocephalum parviflorum","T",1187,"American dragonhead","forb",""]
["VT_Species","DRAC SPP","DRAC SPP","Dracocephalum spp.","T",1188,"dragonhead (genus)","forb",""]
["VT_Species","DRAC THY","DRAC THY","Dracocephalum thymiflorum","T",1189,"thyme-leaved dragonhead","forb",""]
["VT_Species","DREP ADU","DREP ADU","Drepanocladus aduncus","T",1190,"common hook feather moss","bryophyte",""]
["VT_Species","DREP ADU KNE","DREP ADU KNE","Drepanocladus aduncus var. kneiffii","T",1191,"","bryophyte",""]
["VT_Species","DREP ADU POL","DREP ADU POL","Drepanocladus aduncus var. polycarpus","T",1192,"","bryophyte",""]
["VT_Species","DREP SEN","DREP SEN","Drepanocladus sendtneri","T",1193,"","bryophyte",""]
["VT_Species","DREP SPP","DREP SPP","Drepanocladus spp.","T",1194,"","bryophyte",""]
["VT_Species","DROS ANG","DROS ANG","Drosera anglica","T",1195,"oblong-leaved sundew","forb",""]
["VT_Species","DROS LIN","DROS LIN","Drosera linearis","T",1196,"slender-leaved sundew","forb",""]
["VT_Species","DROS ROT","DROS ROT","Drosera rotundifolia","T",1197,"round-leaved sundew","forb",""]
["VT_Species","DROS ROT ROT","DROS ROT ROT","Drosera rotundifolia var. rotundifolia","T",1198,"round-leaved sundew","forb",""]
["VT_Species","DROS SPP","DROS SPP","Drosera spp.","T",1199,"sundew (genus)","forb",""]
["VT_Species","DRYA DRU","DRYA DRU","Dryas drummondii","T",1200,"yellow mountain-avens","forb",""]
["VT_Species","DRYA DRU DRU","DRYA DRU DRU","Dryas drummondii var. drummondii","T",1201,"yellow mountain-avens","forb",""]
["VT_Species","DRYO CAR","DRYO CAR","Dryopteris carthusiana","T",1202,"spinulose shield-fern","forb",""]
["VT_Species","DRYO CRI","DRYO CRI","Dryopteris cristata","T",1203,"crested shield-fern","forb",""]
["VT_Species","DRYO FIL","DRYO FIL","Dryopteris filix-mas","T",1204,"male fern","forb",""]
["VT_Species","DRYO FRA","DRYO FRA","Dryopteris fragrans","T",1205,"fragrant shield-fern","forb",""]
["VT_Species","DRYO SPP","DRYO SPP","Dryopteris spp.","T",1206,"shield-fern (genus)","forb",""]
["VT_Species","DSTM CAP","DSTM CAP","Distichium capillaceum","T",1207,"erect-fruited iris moss","bryophyte",""]
["VT_Species","DSTM INC","DSTM INC","Distichium inclinatum","T",1208,"","bryophyte",""]
["VT_Species","DSTM SPP","DSTM SPP","Distichium spp.","T",1209,"","bryophyte",""]
["VT_Species","DYSS PAP","DYSS PAP","Dyssodia papposa","T",1210,"fetid-marigold","forb",""]
["VT_Species","ECHC CRU","ECHC CRU","Echinochloa crusgalli","T",1211,"barnyard grass","graminoid",""]
["VT_Species","ECHC MUR","ECHC MUR","Echinochloa muricata","T",1212,"rough barnyard grass","graminoid",""]
["VT_Species","ECHC SPP","ECHC SPP","Echinochloa spp.","T",1213,"barnyard grass (genus)","graminoid",""]
["VT_Species","ECHI ANG","ECHI ANG","Echinacea angustifolia","T",1214,"narrow-leaved prairie coneflower","forb",""]
["VT_Species","ECHI ANG ANG","ECHI ANG ANG","Echinacea angustifolia var. angustifolia","T",1215,"narrow-leaved prairie coneflower","forb",""]
["VT_Species","ECHM VUL","ECHM VUL","Echium vulgare","T",1216,"viper’s bugloss","forb",""]
["VT_Species","ECHO LOB","ECHO LOB","Echinocystis lobata","T",1217,"wild cucumber","forb",""]
["VT_Species","ECHP EXA","ECHP EXA","Echinops exaltatus","T",1218,"tall globe-thistle","forb",""]
["VT_Species","ECHP SPH","ECHP SPH","Echinops sphaerocephala","T",1219,"great globe-thistle","forb",""]
["VT_Species","ECHP SPP","ECHP SPP","Echinops spp.","T",1220,"globe-thistle (genus)","forb",""]
["VT_Species","ELAE ANG","ELAE ANG","Elaeagnus angustifolia","T",1221,"Russian-olive","erect shrub",""]
["VT_Species","ELAE COM","ELAE COM","Elaeagnus commutata","T",1222,"wolf-willow","erect shrub",""]
["VT_Species","ELAE SPP","ELAE SPP","Elaeagnus spp.","T",1223,"silverberry (genus)","erect shrub",""]
["VT_Species","ELAT RUB","ELAT RUB","Elatine rubella","T",1224,"mud purslane","forb",""]
["VT_Species","ELEO ACI","ELEO ACI","Eleocharis acicularis","T",1225,"needle spike-rush","graminoid",""]
["VT_Species","ELEO ACI ACI","ELEO ACI ACI","Eleocharis acicularis var. acicularis","T",1226,"needle spike-rush","graminoid",""]
["VT_Species","ELEO COL","ELEO COL","Eleocharis coloradoensis","T",1227,"dwarf spike-rush","graminoid",""]
["VT_Species","ELEO COM","ELEO COM","Eleocharis compressa","T",1228,"flat-stem spike-rush","graminoid",""]
["VT_Species","ELEO COM ACU","ELEO COM ACU","Eleocharis compressa var. acutisquamata","T",1229,"flat-stem spike-rush","graminoid",""]
["VT_Species","ELEO ELL","ELEO ELL","Eleocharis elliptica","T",1230,"elliptic spike-rush","graminoid",""]
["VT_Species","ELEO ENG","ELEO ENG","Eleocharis engelmannii","T",1231,"Engelmann’s spike-rush","graminoid",""]
["VT_Species","ELEO ERY","ELEO ERY","Eleocharis erythropoda","T",1232,"bald spike-rush","graminoid",""]
["VT_Species","ELEO MAC","ELEO MAC","Eleocharis macrostachya","T",1233,"pale spike-rush","graminoid",""]
["VT_Species","ELEO MAM","ELEO MAM","Eleocharis mamillata","T",1234,"soft-stem spike-rush","graminoid",""]
["VT_Species","ELEO MAM MAM","ELEO MAM MAM","Eleocharis mamillata ssp. mamillata","T",1235,"soft-stem spike-rush","graminoid",""]
["VT_Species","ELEO NIT","ELEO NIT","Eleocharis nitida","T",1236,"neat spike-rush","graminoid",""]
["VT_Species","ELEO PAL","ELEO PAL","Eleocharis palustris","T",1237,"common spike-rush","graminoid",""]
["VT_Species","ELEO QUI","ELEO QUI","Eleocharis quinqueflora","T",1238,"few-flowered spike-rush","graminoid",""]
["VT_Species","ELEO SPP","ELEO SPP","Eleocharis spp.","T",1239,"spike-rush (genus)","graminoid",""]
["VT_Species","ELEO UNI","ELEO UNI","Eleocharis uniglumis","T",1240,"one-glumed spike-rush","graminoid",""]
["VT_Species","ELLI NYC","ELLI NYC","Ellisia nyctelea","T",1241,"waterpod","forb",""]
["VT_Species","ELOD BIF","ELOD BIF","Elodea bifoliata","T",1242,"two-leaved waterweed","forb",""]
["VT_Species","ELOD CAN","ELOD CAN","Elodea canadensis","T",1243,"Canada waterweed","forb",""]
["VT_Species","ELOD SPP","ELOD SPP","Elodea spp.","T",1244,"waterweed (genus)","forb",""]
["VT_Species","ELYH MAC","ELYH MAC","X Elyhordeum macounii","T",1245,"Macoun's wild-rye","graminoid",""]
["VT_Species","ELYM ALB","ELYM ALB","Elymus albicans","T",1246,"awned northern wheat-grass","graminoid",""]
["VT_Species","ELYM CAN","ELYM CAN","Elymus canadensis","T",1247,"Canada wild-rye","graminoid",""]
["VT_Species","ELYM CUR","ELYM CUR","Elymus curvatus","T",1248,"awnless Virginia wild-rye","graminoid",""]
["VT_Species","ELYM DIV","ELYM DIV","Elymus diversiglumis","T",1249,"variable-glumed wild-rye","graminoid",""]
["VT_Species","ELYM ELY","ELYM ELY","Elymus elymoides","T",1250,"common squirrel-tail","graminoid",""]
["VT_Species","ELYM ELY ELY","ELYM ELY ELY","Elymus elymoides ssp. elymoides","T",1251,"common squirrel-tail","graminoid",""]
["VT_Species","ELYM GLA","ELYM GLA","Elymus glaucus","T",1252,"blue wild-rye","graminoid",""]
["VT_Species","ELYM GLA GLA","ELYM GLA GLA","Elymus glaucus ssp. glaucus","T",1253,"blue wild-rye","graminoid",""]
["VT_Species","ELYM LAN","ELYM LAN","Elymus lanceolatus","T",1254,"northern wheat-grass","graminoid",""]
["VT_Species","ELYM LAN LAN","ELYM LAN LAN","Elymus lanceolatus var. lanceolatus","T",1255,"northern wheat-grass","graminoid",""]
["VT_Species","ELYM LAN PSA","ELYM LAN PSA","Elymus lanceolatus ssp. psammophilus","T",1256,"sand-dune wheat-grass","graminoid",""]
["VT_Species","ELYM LAN RIP","ELYM LAN RIP","Elymus lanceolatus var. riparius","T",1257,"streambank wheat-grass","graminoid",""]
["VT_Species","ELYM REP","ELYM REP","Elymus repens","T",1258,"quack grass","graminoid",""]
["VT_Species","ELYM SPP","ELYM SPP","Elymus spp.","T",1259,"wheat-grass or wild-rye (Elymus genus)","graminoid",""]
["VT_Species","ELYM TRA","ELYM TRA","Elymus trachycaulus","T",1260,"slender wheat-grass","graminoid",""]
["VT_Species","ELYM TRA SUB","ELYM TRA SUB","Elymus trachycaulus ssp. subsecundus","T",1261,"awned wheat-grass","graminoid",""]
["VT_Species","ELYM TRA TRA","ELYM TRA TRA","Elymus trachycaulus ssp. trachycaulus","T",1262,"slender wheat-grass","graminoid",""]
["VT_Species","ELYM VIR","ELYM VIR","Elymus virginicus","T",1263,"Virginia wild-rye","graminoid",""]
["VT_Species","ELYM VIR JEJ","ELYM VIR JEJ","Elymus virginicus var. jejunus","T",1264,"Virginia wild-rye","graminoid",""]
["VT_Species","ELYM VIR VIR","ELYM VIR VIR","Elymus virginicus var. virginicus","T",1265,"Virginia wild-rye","graminoid",""]
["VT_Species","ELYM WIE","ELYM WIE","Elymus wiegandii","T",1266,"Wiegand’s wild-rye","graminoid",""]
["VT_Species","EMPE NIG","EMPE NIG","Empetrum nigrum","T",1267,"black crowberry","erect shrub",""]
["VT_Species","EMPE NIG HER","EMPE NIG HER","Empetrum nigrum ssp. hermaphroditicum","T",1268,"black crowberry","erect shrub",""]
["VT_Species","ENDO PUS","ENDO PUS","Endocarpon pusillum","T",1269,"scaly stippled lichen","lichen",""]
["VT_Species","ENDO SPP","ENDO SPP","Endocarpon spp.","T",1270,"","lichen",""]
["VT_Species","ENDO WIL","ENDO WIL","Endocarpon wilmsoides","T",1271,"","lichen",""]
["VT_Species","EPHE LAN","EPHE LAN","Ephebe lanata","T",1272,"rockshag lichen","lichen",""]
["VT_Species","EPHM SER","EPHM SER","Ephemerum serratum","T",1273,"","bryophyte",""]
["VT_Species","EPHM SPI","EPHM SPI","Ephemerum spinulosum","T",1274,"","bryophyte",""]
["VT_Species","EPHM SPP","EPHM SPP","Ephemerum spp.","T",1275,"","bryophyte",""]
["VT_Species","EPIL BRA","EPIL BRA","Epilobium brachycarpum","T",1276,"annual willow-herb","forb",""]
["VT_Species","EPIL CIL","EPIL CIL","Epilobium ciliatum","T",1277,"northern willow-herb","forb",""]
["VT_Species","EPIL CIL CIL","EPIL CIL CIL","Epilobium ciliatum ssp. ciliatum","T",1278,"northern willow-herb","forb",""]
["VT_Species","EPIL CIL GLA","EPIL CIL GLA","Epilobium ciliatum ssp. glandulosum","T",1279,"northern willow-herb","forb",""]
["VT_Species","EPIL DAV","EPIL DAV","Epilobium davuricum","T",1280,"Dahurian willow-herb","forb",""]
["VT_Species","EPIL HAL","EPIL HAL","Epilobium halleanum","T",1281,"Hall's willow-herb","forb",""]
["VT_Species","EPIL LEP","EPIL LEP","Epilobium leptophyllum","T",1282,"narrow-leaved willow-herb","forb",""]
["VT_Species","EPIL PAL","EPIL PAL","Epilobium palustre","T",1283,"marsh willow-herb","forb",""]
["VT_Species","EPIL PYG","EPIL PYG","Epilobium pygmaeum","T",1284,"smooth boisduvalia","forb",""]
["VT_Species","EPIL SPP","EPIL SPP","Epilobium spp.","T",1285,"willow-herb (genus)","forb",""]
["VT_Species","EQUI ARV","EQUI ARV","Equisetum arvense","T",1286,"field horsetail","forb",""]
["VT_Species","EQUI FLU","EQUI FLU","Equisetum fluviatile","T",1287,"swamp horsetail","forb",""]
["VT_Species","EQUI HYE","EQUI HYE","Equisetum hyemale","T",1288,"tall scouring-rush","forb",""]
["VT_Species","EQUI HYE AFF","EQUI HYE AFF","Equisetum hyemale ssp. affine","T",1289,"tall scouring-rush","forb",""]
["VT_Species","EQUI LAE","EQUI LAE","Equisetum laevigatum","T",1290,"smooth scouring-rush","forb",""]
["VT_Species","EQUI PAL","EQUI PAL","Equisetum palustre","T",1291,"marsh horsetail","forb",""]
["VT_Species","EQUI PRA","EQUI PRA","Equisetum pratense","T",1292,"meadow  horsetail","forb",""]
["VT_Species","EQUI SCI","EQUI SCI","Equisetum scirpoides","T",1293,"dwarf scouring-rush","forb",""]
["VT_Species","EQUI SPP","EQUI SPP","Equisetum spp.","T",1294,"horsetail (genus)","forb",""]
["VT_Species","EQUI SYL","EQUI SYL","Equisetum sylvaticum","T",1295,"woodland horsetail","forb",""]
["VT_Species","EQUI VAR","EQUI VAR","Equisetum variegatum","T",1296,"variegated scouring-rush","forb",""]
["VT_Species","EQUI VAR VAR","EQUI VAR VAR","Equisetum variegatum ssp. variegatum","T",1297,"variegated scouring-rush","forb",""]
["VT_Species","ERAG CIL","ERAG CIL","Eragrostis cilianensis","T",1298,"stink-grass","graminoid",""]
["VT_Species","ERAG HYP","ERAG HYP","Eragrostis hypnoides","T",1299,"teal love-grass","graminoid",""]
["VT_Species","ERAG MIN","ERAG MIN","Eragrostis minor","T",1300,"little love-grass","graminoid",""]
["VT_Species","ERAG PEC","ERAG PEC","Eragrostis pectinacea","T",1301,"purple love-grass","graminoid",""]
["VT_Species","ERAG SPP","ERAG SPP","Eragrostis spp.","T",1302,"love-grass (genus)","graminoid",""]
["VT_Species","ERCA GAL","ERCA GAL","Erucastrum gallicum","T",1303,"common dog-mustard","forb",""]
["VT_Species","EREM CON","EREM CON","Eremogone congesta","T",1304,"rocky-ground sandwort","forb",""]
["VT_Species","EREM CON LIT","EREM CON LIT","Eremogone congesta var. lithophila","T",1305,"rocky-ground sandwort","forb",""]
["VT_Species","ERIC NAU","ERIC NAU","Ericameria nauseosa","T",1306,"rubber rabbit-brush","forb",""]
["VT_Species","ERIC NAU GRA","ERIC NAU GRA","Ericameria nauseosa var. graveolens","T",1307,"rubber rabbit-brush","forb",""]
["VT_Species","ERIC NAU NAU","ERIC NAU NAU","Ericameria nauseosa var. nauseosa","T",1308,"rubber rabbit-brush","forb",""]
["VT_Species","ERIG ACR","ERIG ACR","Erigeron acris","T",1309,"bitter fleabane","forb",""]
["VT_Species","ERIG ACR KAM","ERIG ACR KAM","Erigeron acris var. kamtschaticus","T",1310,"bitter fleabane","forb",""]
["VT_Species","ERIG ANN","ERIG ANN","Erigeron annuus","T",1311,"annual fleabane","forb",""]
["VT_Species","ERIG CAE","ERIG CAE","Erigeron caespitosus","T",1312,"tufted fleabane","forb",""]
["VT_Species","ERIG COM","ERIG COM","Erigeron compositus","T",1313,"compound fleabane","forb",""]
["VT_Species","ERIG ELA","ERIG ELA","Erigeron elatus","T",1314,"tall white fleabane","forb",""]
["VT_Species","ERIG GLA","ERIG GLA","Erigeron glabellus","T",1315,"smooth fleabane","forb",""]
["VT_Species","ERIG GLA GLA","ERIG GLA GLA","Erigeron glabellus var. glabellus","T",1316,"smooth fleabane","forb",""]
["VT_Species","ERIG GLA PUB","ERIG GLA PUB","Erigeron glabellus var. pubescens","T",1317,"smooth fleabane","forb",""]
["VT_Species","ERIG HYS","ERIG HYS","Erigeron hyssopifolius","T",1318,"hyssop-leaved fleabane","forb",""]
["VT_Species","ERIG HYS HYS","ERIG HYS HYS","Erigeron hyssopifolius var. hyssopifolius","T",1319,"hyssop-leaved fleabane","forb",""]
["VT_Species","ERIG LON","ERIG LON","Erigeron lonchophyllus","T",1320,"short-rayed fleabane","forb",""]
["VT_Species","ERIG PHI","ERIG PHI","Erigeron philadelphicus","T",1321,"Philadelphia fleabane","forb",""]
["VT_Species","ERIG PHI PHI","ERIG PHI PHI","Erigeron philadelphicus var. philadelphicus","T",1322,"Philadelphia fleabane","forb",""]
["VT_Species","ERIG PUM","ERIG PUM","Erigeron pumilus","T",1323,"shaggy fleabane","forb",""]
["VT_Species","ERIG PUM PUM","ERIG PUM PUM","Erigeron pumilus ssp. pumilus","T",1324,"shaggy fleabane","forb",""]
["VT_Species","ERIG RAD","ERIG RAD","Erigeron radicatus","T",1325,"tap-rooted fleabane","forb",""]
["VT_Species","ERIG SPP","ERIG SPP","Erigeron spp.","T",1326,"fleabane (genus)","forb",""]
["VT_Species","ERIG STR","ERIG STR","Erigeron strigosus","T",1327,"rough daisy fleabane","forb",""]
["VT_Species","ERIG STR SEP","ERIG STR SEP","Erigeron strigosus var. septentrionalis","T",1328,"rough daisy fleabane","forb",""]
["VT_Species","ERIG STR STR","ERIG STR STR","Erigeron strigosus var. strigosus","T",1329,"rough daisy fleabane","forb",""]
["VT_Species","ERIO CER","ERIO CER","Eriogonum cernuum","T",1330,"nodding umbrella-plant","forb",""]
["VT_Species","ERIO CER CER","ERIO CER CER","Eriogonum cernuum var. cernuum","T",1331,"nodding umbrella-plant","forb",""]
["VT_Species","ERIO FLA","ERIO FLA","Eriogonum flavum","T",1332,"yellow umbrella-plant","forb",""]
["VT_Species","ERIO FLA FLA","ERIO FLA FLA","Eriogonum flavum var. flavum","T",1333,"yellow umbrella-plant","forb",""]
["VT_Species","ERIO PAU","ERIO PAU","Eriogonum pauciflorum","T",1334,"few-flowered umbrella-plant","forb",""]
["VT_Species","ERIO PAU PAU","ERIO PAU PAU","Eriogonum pauciflorum var. pauciflorum","T",1335,"few-flowered umbrella-plant","forb",""]
["VT_Species","ERIO SPP","ERIO SPP","Eriogonum spp.","T",1336,"umbrella-plant (genus)","forb",""]
["VT_Species","ERMP TRI","ERMP TRI","Eremopyrum triticeum","T",1337,"annual false wheat-grass","graminoid",""]
["VT_Species","EROD CIC","EROD CIC","Erodium cicutarium","T",1338,"stork’s-bill","forb",""]
["VT_Species","EROD CIC CIC","EROD CIC CIC","Erodium cicutarium ssp. cicutarium","T",1339,"stork’s-bill","forb",""]
["VT_Species","EROP ANG","EROP ANG","Eriophorum angustifolium","T",1340,"narrow-leaved cotton-grass","graminoid",""]
["VT_Species","EROP ANG ANG","EROP ANG ANG","Eriophorum angustifolium ssp. angustifolium","T",1341,"narrow-leaved cotton-grass","graminoid",""]
["VT_Species","EROP BRA","EROP BRA","Eriophorum brachyantherum","T",1342,"close-sheathed cotton-grass","graminoid",""]
["VT_Species","EROP BRA BRA","EROP BRA BRA","Eriophorum brachyantherum var. brachyantherum","T",1343,"close-sheathed cotton-grass","graminoid",""]
["VT_Species","EROP CHA","EROP CHA","Eriophorum chamissonis","T",1344,"Chamisso’s cotton-grass","graminoid",""]
["VT_Species","EROP GRA","EROP GRA","Eriophorum gracile","T",1345,"slender cotton-grass","graminoid",""]
["VT_Species","EROP SCH","EROP SCH","Eriophorum scheuchzeri","T",1346,"white cotton-grass","graminoid",""]
["VT_Species","EROP SPP","EROP SPP","Eriophorum spp.","T",1347,"cotton-grass (genus)","graminoid",""]
["VT_Species","EROP VAG","EROP VAG","Eriophorum vaginatum","T",1348,"sheathed cotton-grass","graminoid",""]
["VT_Species","EROP VIR","EROP VIR","Eriophorum viridicarinatum","T",1349,"greenkeeled cotton-grass","graminoid",""]
["VT_Species","ERUC VES","ERUC VES","Eruca vesicaria","T",1350,"garden rocket","forb",""]
["VT_Species","ERUC VES SAT","ERUC VES SAT","Eruca vesicaria ssp. sativa","T",1351,"garden rocket","forb",""]
["VT_Species","ERYN PLA","ERYN PLA","Eryngium planum","T",1352,"flat eryngo","forb",""]
["VT_Species","ERYS ASP","ERYS ASP","Erysimum asperum","T",1353,"western wallflower","forb",""]
["VT_Species","ERYS CHE","ERYS CHE","Erysimum cheiranthoides","T",1354,"wormseed mustard","forb",""]
["VT_Species","ERYS HIE","ERYS HIE","Erysimum hieraciifolium","T",1355,"gray rocket","forb",""]
["VT_Species","ERYS INC","ERYS INC","Erysimum inconspicuum","T",1356,"small-flowered wallflower","forb",""]
["VT_Species","ERYS INC INC","ERYS INC INC","Erysimum inconspicuum var. inconspicuum","T",1357,"small-flowered wallflower","forb",""]
["VT_Species","ERYS SPP","ERYS SPP","Erysimum spp.","T",1358,"wallflower (genus)","forb",""]
["VT_Species","ESCH CAL","ESCH CAL","Eschscholzia californica","T",1359,"California-poppy","forb",""]
["VT_Species","ESCH CAL CAL","ESCH CAL CAL","Eschscholzia californica ssp. californica","T",1360,"California-poppy","forb",""]
["VT_Species","ESCO VIV","ESCO VIV","Escobaria vivipara","T",1361,"purple pincushion cactus","cactus",""]
["VT_Species","EUPH CYP","EUPH CYP","Euphorbia cyparissias","T",1362,"cypress spurge","forb",""]
["VT_Species","EUPH ESU","EUPH ESU","Euphorbia esula","T",1363,"leafy spurge","forb",""]
["VT_Species","EUPH ESU ESU","EUPH ESU ESU","Euphorbia esula var. esula","T",1364,"leafy spurge","forb",""]
["VT_Species","EUPH ESU URA","EUPH ESU URA","Euphorbia esula var. uralensis","T",1365,"narrow leafy spurge","forb",""]
["VT_Species","EUPH HEL","EUPH HEL","Euphorbia helioscopia","T",1366,"wartweed","forb",""]
["VT_Species","EUPH LUC","EUPH LUC","Euphorbia lucida","T",1367,"shining spurge","forb",""]
["VT_Species","EUPH MAR","EUPH MAR","Euphorbia marginata","T",1368,"snow-on-the-mountain","forb",""]
["VT_Species","EUPH PEP","EUPH PEP","Euphorbia peplus","T",1369,"petty spurge","forb",""]
["VT_Species","EUPH SPP","EUPH SPP","Euphorbia spp.","T",1370,"spurge (Euphorbia genus)","forb",""]
["VT_Species","EUPR SUB","EUPR SUB","Euphrasia subarctica","T",1371,"arctic eyebright","forb",""]
["VT_Species","EURH PUL","EURH PUL","Eurhynchium pulchellum","T",1372,"common beaked moss","bryophyte",""]
["VT_Species","EURY CON","EURY CON","Eurybia conspicua","T",1373,"showy aster","forb",""]
["VT_Species","EUTH GRA","EUTH GRA","Euthamia graminifolia","T",1374,"grass-leaved goldenrod","forb",""]
["VT_Species","EUTH GRA GRA","EUTH GRA GRA","Euthamia graminifolia var. graminifolia","T",1375,"grass-leaved goldenrod","forb",""]
["VT_Species","EUTR MAC","EUTR MAC","Eutrochium maculatum","T",1376,"spotted joe-pye-weed","forb",""]
["VT_Species","EVER MES","EVER MES","Evernia mesomorpha","T",1377,"boreal oakmoss lichen","lichen",""]
["VT_Species","EVER PRU","EVER PRU","Evernia prunastri","T",1378,"oakmoss lichen","lichen",""]
["VT_Species","EVER SPP","EVER SPP","Evernia spp.","T",1379,"","lichen",""]
["VT_Species","FAGO ESC","FAGO ESC","Fagopyrum esculentum","T",1380,"buckwheat","forb",""]
["VT_Species","FAGO SPP","FAGO SPP","Fagopyrum spp.","T",1381,"buckwheat (genus)","forb",""]
["VT_Species","FAGO TAT","FAGO TAT","Fagopyrum tataricum","T",1382,"Tartary buckwheat","forb",""]
["VT_Species","FALL CIL","FALL CIL","Fallopia cilinodis","T",1383,"fringed black bindweed","forb",""]
["VT_Species","FALL CON","FALL CON","Fallopia convolvulus","T",1384,"wild buckwheat","forb",""]
["VT_Species","FALL SCA","FALL SCA","Fallopia scandens","T",1385,"climbing false buckwheat","forb",""]
["VT_Species","FALL SPP","FALL SPP","Fallopia spp.","T",1386,"bindweed (genus)","forb",""]
["VT_Species","FEST ALT","FEST ALT","Festuca altaica","T",1387,"rough fescue","graminoid",""]
["VT_Species","FEST ALT HAL","FEST ALT HAL","Festuca altaica ssp. hallii","T",1388,"plains rough fescue","graminoid",""]
["VT_Species","FEST ALT MAJ","FEST ALT MAJ","Festuca altaica var. major","T",1389,"mountain rough fescue","graminoid",""]
["VT_Species","FEST BRA","FEST BRA","Festuca brachyphylla","T",1390,"short-leaf fescue","graminoid",""]
["VT_Species","FEST BRA BRA","FEST BRA BRA","Festuca brachyphylla ssp. brachyphylla","T",1391,"short-leaf fescue","graminoid",""]
["VT_Species","FEST IDA","FEST IDA","Festuca idahoensis","T",1392,"Idaho fescue","graminoid",""]
["VT_Species","FEST IDA IDA","FEST IDA IDA","Festuca idahoensis var. idahoensis","T",1393,"Idaho fescue","graminoid",""]
["VT_Species","FEST OVI","FEST OVI","Festuca ovina","T",1394,"sheep fescue","graminoid",""]
["VT_Species","FEST PRO","FEST PRO","Festuca prolifera","T",1395,"proliferous red fescue","graminoid",""]
["VT_Species","FEST PRO LAS","FEST PRO LAS","Festuca prolifera var. lasiolepis","T",1396,"proliferous red fescue","graminoid",""]
["VT_Species","FEST RUB","FEST RUB","Festuca rubra","T",1397,"red fescue","graminoid",""]
["VT_Species","FEST RUB ARC","FEST RUB ARC","Festuca rubra ssp. arctica","T",1398,"arctic red fescue","graminoid",""]
["VT_Species","FEST RUB RUB","FEST RUB RUB","Festuca rubra ssp. rubra","T",1399,"red fescue","graminoid",""]
["VT_Species","FEST SAX","FEST SAX","Festuca saximontana","T",1400,"Rocky Mountain fescue","graminoid",""]
["VT_Species","FEST SAX SAX","FEST SAX SAX","Festuca saximontana var. saximontana","T",1401,"Rocky Mountain fescue","graminoid",""]
["VT_Species","FEST SPP","FEST SPP","Festuca spp.","T",1402,"fescue (genus)","graminoid",""]
["VT_Species","FEST TRA","FEST TRA","Festuca trachyphylla","T",1403,"hard fescue","graminoid",""]
["VT_Species","FISS ADI","FISS ADI","Fissidens adianthoides","T",1404,"","bryophyte",""]
["VT_Species","FISS BRY","FISS BRY","Fissidens bryoides","T",1405,"","bryophyte",""]
["VT_Species","FISS PAU","FISS PAU","Fissidens pauperculus","T",1406,"fissidens moss","bryophyte",""]
["VT_Species","FISS SPP","FISS SPP","Fissidens spp.","T",1407,"","bryophyte",""]
["VT_Species","FLAV CAP","FLAV CAP","Flavoparmelia caperata","T",1408,"common greenshield lichen","lichen",""]
["VT_Species","FLVT FLA","FLVT FLA","Flavopunctelia flaventior","T",1409,"speckled greenshield","lichen",""]
["VT_Species","FLVT SOR","FLVT SOR","Flavopunctelia soredica","T",1410,"powder-edged speckled greenshield","lichen",""]
["VT_Species","FLVT SPP","FLVT SPP","Flavopunctelia spp.","T",1411,"","lichen",""]
["VT_Species","FONT ANT","FONT ANT","Fontinalis antipyretica","T",1412,"","bryophyte",""]
["VT_Species","FONT HYP","FONT HYP","Fontinalis hypnoides","T",1413,"","bryophyte",""]
["VT_Species","FONT SPP","FONT SPP","Fontinalis spp.","T",1414,"","bryophyte",""]
["VT_Species","FORB INC","FORB INC","FORB INCREASERS","T",1415,"forb increasers","forb",""]
["VT_Species","FRAG SPP","FRAG SPP","Fragaria spp.","T",1416,"strawberry (genus)","forb",""]
["VT_Species","FRAG VES","FRAG VES","Fragaria vesca","T",1417,"American woodland strawberry","forb",""]
["VT_Species","FRAG VES AME","FRAG VES AME","Fragaria vesca ssp. americana","T",1418,"American woodland strawberry","forb",""]
["VT_Species","FRAG VIR","FRAG VIR","Fragaria virginiana","T",1419,"smooth wild strawberry","forb",""]
["VT_Species","FRAG VIR GLA","FRAG VIR GLA","Fragaria virginiana ssp. glauca","T",1420,"smooth wild strawberry","forb",""]
["VT_Species","FRAN ALN","FRAN ALN","Frangula alnus","T",1421,"glossy buckthorn","erect shrub",""]
["VT_Species","FRAX PEN","FRAX PEN","Fraxinus pennsylvanica","T",1422,"green ash","tree","gA"]
["VT_Species","FULG BRA","FULG BRA","Fulgensia bracteata","T",1423,"tundra sulphur lichen","lichen",""]
["VT_Species","FULG FUL","FULG FUL","Fulgensia fulgens","T",1424,"","lichen",""]
["VT_Species","FULG SPP","FULG SPP","Fulgensia spp.","T",1425,"","lichen",""]
["VT_Species","FUMA OFF","FUMA OFF","Fumaria officinalis","T",1426,"common  fumitory","forb",""]
["VT_Species","FUNA HYG","FUNA HYG","Funaria hygrometrica","T",1427,"cord moss","bryophyte",""]
["VT_Species","FUSC PRA","FUSC PRA","Fuscopannaria praetermissa","T",1428,"moss shingle lichen","lichen",""]
["VT_Species","GAIL ARI","GAIL ARI","Gaillardia aristata","T",1429,"great blanket-flower","forb",""]
["VT_Species","GALE BIF","GALE BIF","Galeopsis bifida","T",1430,"split-lip hemp-nettle","forb",""]
["VT_Species","GALE SPP","GALE SPP","Galeopsis spp.","T",1431,"hemp-nettle (genus)","forb",""]
["VT_Species","GALE TET","GALE TET","Galeopsis tetrahit","T",1432,"common hemp-nettle","forb",""]
["VT_Species","GALE TET TET","GALE TET TET","Galeopsis tetrahit var. tetrahit","T",1433,"common hemp-nettle","forb",""]
["VT_Species","GALI APA","GALI APA","Galium aparine","T",1434,"cleavers","forb",""]
["VT_Species","GALI BOR","GALI BOR","Galium boreale","T",1435,"northern bedstraw","forb",""]
["VT_Species","GALI BRE","GALI BRE","Galium brevipes","T",1436,"limestone-swamp bedstraw","forb",""]
["VT_Species","GALI LAB","GALI LAB","Galium labradoricum","T",1437,"northern bog bedstraw","forb",""]
["VT_Species","GALI SPP","GALI SPP","Galium spp.","T",1438,"bedstraw (genus)","forb",""]
["VT_Species","GALI TRI","GALI TRI","Galium trifidum","T",1439,"small bedstraw","forb",""]
["VT_Species","GALI TRI TRI","GALI TRI TRI","Galium trifidum var. trifidum","T",1440,"small bedstraw","forb",""]
["VT_Species","GALI TRL","GALI TRL","Galium triflorum","T",1441,"sweet-scented bedstraw","forb",""]
["VT_Species","GALN QUA","GALN QUA","Galinsoga quadriradiata","T",1442,"quickweed","forb",""]
["VT_Species","GAUL HIS","GAUL HIS","Gaultheria hispidula","T",1443,"creeping snowberry","prostrate shrub",""]
["VT_Species","GAUR COC","GAUR COC","Gaura coccinea","T",1444,"scarlet gaura","forb",""]
["VT_Species","GENT AFF","GENT AFF","Gentiana affinis","T",1445,"prairie gentian","forb",""]
["VT_Species","GENT AND","GENT AND","Gentiana andrewsii","T",1446,"closed gentian","forb",""]
["VT_Species","GENT AND DAK","GENT AND DAK","Gentiana andrewsii var. dakotica","T",1447,"closed gentian","forb",""]
["VT_Species","GENT FRE","GENT FRE","Gentiana fremontii","T",1448,"moss gentian","forb",""]
["VT_Species","GENT PUB","GENT PUB","Gentiana puberulenta","T",1449,"downy gentian","forb",""]
["VT_Species","GENT SPP","GENT SPP","Gentiana spp.","T",1450,"gentian (Gentiana genus)","forb",""]
["VT_Species","GEOC LIV","GEOC LIV","Geocaulon lividum","T",1451,"northern comandra","forb",""]
["VT_Species","GERA BIC","GERA BIC","Geranium bicknellii","T",1452,"Bicknell’s wild geranium","forb",""]
["VT_Species","GERA CAR","GERA CAR","Geranium carolinianum","T",1453,"Carolina geranium","forb",""]
["VT_Species","GERA CAR SPH","GERA CAR SPH","Geranium carolinianum var. sphaerospermum","T",1454,"Carolina geranium","forb",""]
["VT_Species","GERA PRA","GERA PRA","Geranium pratense","T",1455,"meadow geranium","forb",""]
["VT_Species","GERA PUS","GERA PUS","Geranium pusillum","T",1456,"small-flowered geranium","forb",""]
["VT_Species","GERA RIC","GERA RIC","Geranium richardsonii","T",1457,"Richardson’s geranium","forb",""]
["VT_Species","GERA SPP","GERA SPP","Geranium spp.","T",1458,"geranium (genus)","forb",""]
["VT_Species","GERA VIS","GERA VIS","Geranium viscossissimum","T",1459,"purple geranium","forb",""]
["VT_Species","GERA VIS INC","GERA VIS INC","Geranium viscossissimum var. incisum","T",1460,"purple geranium","forb",""]
["VT_Species","GERA VIS VIS","GERA VIS VIS","Geranium viscossissimum var. viscosissimum","T",1461,"sticky purple geranium","forb",""]
["VT_Species","GEUM ALE","GEUM ALE","Geum aleppicum","T",1462,"yellow avens","forb",""]
["VT_Species","GEUM MAC","GEUM MAC","Geum macrophyllum","T",1463,"cut-leaf avens","forb",""]
["VT_Species","GEUM MAC PER","GEUM MAC PER","Geum macrophyllum var. perincisum","T",1464,"cut-leaf avens","forb",""]
["VT_Species","GEUM RIV","GEUM RIV","Geum rivale","T",1465,"purple avens","forb",""]
["VT_Species","GEUM SPP","GEUM SPP","Geum spp.","T",1466,"avens (genus)","forb",""]
["VT_Species","GEUM TRI","GEUM TRI","Geum triflorum","T",1467,"three-flowered avens","forb",""]
["VT_Species","GEUM TRI CIL","GEUM TRI CIL","Geum triflorum var. ciliatum","T",1468,"three-flowered avens","forb",""]
["VT_Species","GEUM TRI TRI","GEUM TRI TRI","Geum triflorum var. triflorum","T",1469,"three-flowered avens","forb",""]
["VT_Species","GLAU MAR","GLAU MAR","Glaux maritima","T",1470,"sea-milkwort","forb",""]
["VT_Species","GLEC HED","GLEC HED","Glechoma hederacea","T",1471,"ground-ivy","forb",""]
["VT_Species","GLYC BOR","GLYC BOR","Glyceria borealis","T",1472,"northern manna-grass","graminoid",""]
["VT_Species","GLYC CAN","GLYC CAN","Glyceria canadensis","T",1473,"rattlesnake manna-grass","graminoid",""]
["VT_Species","GLYC GRA","GLYC GRA","Glyceria grandis","T",1474,"tall manna-grass","graminoid",""]
["VT_Species","GLYC GRA GRA","GLYC GRA GRA","Glyceria grandis var. grandis","T",1475,"tall manna-grass","graminoid",""]
["VT_Species","GLYC PUL","GLYC PUL","Glyceria pulchella","T",1476,"graceful manna-grass","graminoid",""]
["VT_Species","GLYC SPP","GLYC SPP","Glyceria spp.","T",1477,"manna-grass (genus)","graminoid",""]
["VT_Species","GLYC STR","GLYC STR","Glyceria striata","T",1478,"fowl manna-grass","graminoid",""]
["VT_Species","GLYP SCA","GLYP SCA","Glypholecia scabra","T",1479,"","lichen",""]
["VT_Species","GLYY LEP","GLYY LEP","Glycyrrhiza lepidota","T",1480,"American wild licorice","forb",""]
["VT_Species","GMNS AER","GMNS AER","Gymnostomum aeruginosum","T",1481,"","bryophyte",""]
["VT_Species","GNAP PAL","GNAP PAL","Gnaphalium palustre","T",1482,"western marsh cudweed","forb",""]
["VT_Species","GNAP SPP","GNAP SPP","Gnaphalium spp.","T",1483,"cudweed (genus)","forb",""]
["VT_Species","GNAP ULI","GNAP ULI","Gnaphalium uliginosum","T",1484,"low cudweed","forb",""]
["VT_Species","GNTI AMA","GNTI AMA","Gentianella amarella","T",1485,"northern gentian","forb",""]
["VT_Species","GNTI AMA ACU","GNTI AMA ACU","Gentianella amarella ssp. acuta","T",1486,"northern gentian","forb",""]
["VT_Species","GNTP MAC","GNTP MAC","Gentianopsis macounii","T",1487,"Macoun’s gentian","forb",""]
["VT_Species","GNTP SPP","GNTP SPP","Gentianopsis spp.","T",1488,"gentian (Gentianopsis genus)","forb",""]
["VT_Species","GNTP VIR","GNTP VIR","Gentianopsis virgata","T",1489,"narrow-leaved fringed gentian","forb",""]
["VT_Species","GOOD OBL","GOOD OBL","Goodyera oblongifolia","T",1490,"giant rattlesnake-plantain","forb",""]
["VT_Species","GOOD REP","GOOD REP","Goodyera repens","T",1491,"dwarf lesser rattlesnake-plantain","forb",""]
["VT_Species","GOOD SPP","GOOD SPP","Goodyera spp.","T",1492,"rattlesnake-plantain (genus)","forb",""]
["VT_Species","GRAP SCR","GRAP SCR","Graphis scripta","T",1493,"common script lichen","lichen",""]
["VT_Species","GRAT NEG","GRAT NEG","Gratiola neglecta","T",1494,"clammy hedge-hyssop","forb",""]
["VT_Species","GRIM AFF","GRIM AFF","Grimmia affinis","T",1495,"","bryophyte",""]
["VT_Species","GRIM ANO","GRIM ANO","Grimmia anodon","T",1496,"","bryophyte",""]
["VT_Species","GRIM DON","GRIM DON","Grimmia donniana","T",1497,"","bryophyte",""]
["VT_Species","GRIM PLA","GRIM PLA","Grimmia plagiopodia","T",1498,"","bryophyte",""]
["VT_Species","GRIM SPP","GRIM SPP","Grimmia spp.","T",1499,"","bryophyte",""]
["VT_Species","GRIN HIR","GRIN HIR","Grindelia hirsutula","T",1500,"hairy gum-weed","forb",""]
["VT_Species","GRIN SPP","GRIN SPP","Grindelia spp.","T",1501,"gumweed (genus)","forb",""]
["VT_Species","GRIN SQU","GRIN SQU","Grindelia squarrosa","T",1502,"curly-cup gum-weed","forb",""]
["VT_Species","GUTI SAR","GUTI SAR","Gutierrezia sarothrae","T",1503,"common broomweed","forb",""]
["VT_Species","GYMN DRY","GYMN DRY","Gymnocarpium dryopteris","T",1504,"northern oak-fern","forb",""]
["VT_Species","GYMN JES","GYMN JES","Gymnocarpium jessoense","T",1505,"Nahanni oak-fern","forb",""]
["VT_Species","GYMN JES PAR","GYMN JES PAR","Gymnocarpium jessoense ssp. parvulum","T",1506,"Nahanni oak-fern","forb",""]
["VT_Species","GYMN SPP","GYMN SPP","Gymnocarpium spp.","T",1507,"oak-fern (genus)","forb",""]
["VT_Species","GYPS ELE","GYPS ELE","Gypsophila elegans","T",1508,"showy baby’s-breath","forb",""]
["VT_Species","GYPS PAN","GYPS PAN","Gypsophila paniculata","T",1509,"tall baby’s-breath","forb",""]
["VT_Species","GYPS SPP","GYPS SPP","Gypsophila spp.","T",1510,"baby's-breath (genus)","forb",""]
["VT_Species","HACK DEF","HACK DEF","Hackelia deflexa","T",1511,"nodding stickseed","forb",""]
["VT_Species","HACK DEF AME","HACK DEF AME","Hackelia deflexa var. americana","T",1512,"nodding stickseed","forb",""]
["VT_Species","HACK FLO","HACK FLO","Hackelia floribunda","T",1513,"many-flowered stickseed","forb",""]
["VT_Species","HACK SPP","HACK SPP","Hackelia spp.","T",1514,"spurred gentian (genus)","forb",""]
["VT_Species","HAEM LAP","HAEM LAP","Haematomma lapponicum","T",1515,"","lichen",""]
["VT_Species","HALE DEF","HALE DEF","Halenia deflexa","T",1516,"American spurred gentian","forb",""]
["VT_Species","HALE DEF DEF","HALE DEF DEF","Halenia deflexa ssp. deflexa","T",1517,"American spurred gentian","forb",""]
["VT_Species","HALI HAL","HALI HAL","Halimodendron halodendron","T",1518,"Siberian salt-tree","erect shrub",""]
["VT_Species","HAMA VER","HAMA VER","Hamatocaulis vernicosus","T",1519,"","bryophyte",""]
["VT_Species","HEDE HIS","HEDE HIS","Hedeoma hispida","T",1520,"rough false pennyroyal","forb",""]
["VT_Species","HEDW CIL","HEDW CIL","Hedwigia ciliata","T",1521,"","bryophyte",""]
["VT_Species","HEDY ALP","HEDY ALP","Hedysarum alpinum","T",1522,"American sweet-vetch","forb",""]
["VT_Species","HEDY ALP AME","HEDY ALP AME","Hedysarum alpinum ssp. americanum","T",1523,"American sweet-vetch","forb",""]
["VT_Species","HEDY BOR","HEDY BOR","Hedysarum boreale","T",1524,"northern sweet-vetch","forb",""]
["VT_Species","HEDY BOR BOR","HEDY BOR BOR","Hedysarum boreale ssp. boreale","T",1525,"northern sweet-vetch","forb",""]
["VT_Species","HEDY BOR MAC","HEDY BOR MAC","Hedysarum boreale ssp. mackenziei","T",1526,"northern sweet-vetch","forb",""]
["VT_Species","HEDY SPP","HEDY SPP","Hedysarum spp.","T",1527,"sweet-vetch (genus)","forb",""]
["VT_Species","HELE AUT","HELE AUT","Helenium autumnale","T",1528,"common sneezeweed","forb",""]
["VT_Species","HELI ANN","HELI ANN","Helianthus annuus","T",1529,"common sun-flower","forb",""]
["VT_Species","HELI MAX","HELI MAX","Helianthus maximiliani","T",1530,"Maximilian sunflower","forb",""]
["VT_Species","HELI NUT","HELI NUT","Helianthus nuttallii","T",1531,"Nuttall's sunflower","forb",""]
["VT_Species","HELI NUT NUT","HELI NUT NUT","Helianthus nuttallii ssp. nuttallii","T",1532,"Nuttall's sunflower","forb",""]
["VT_Species","HELI NUT RYD","HELI NUT RYD","Helianthus nuttallii ssp. rydbergii","T",1533,"Nuttall's sunflower","forb",""]
["VT_Species","HELI PAU","HELI PAU","Helianthus pauciflorus","T",1534,"stiff sunflower","forb",""]
["VT_Species","HELI PAU PAU","HELI PAU PAU","Helianthus pauciflorus ssp. pauciflorus","T",1535,"stiff sunflower","forb",""]
["VT_Species","HELI PAU SUB","HELI PAU SUB","Helianthus pauciflorus ssp. subrhomboideus","T",1536,"subrhombic sunflower","forb",""]
["VT_Species","HELI PET","HELI PET","Helianthus petiolaris","T",1537,"prairie sunflower","forb",""]
["VT_Species","HELI PET PET","HELI PET PET","Helianthus petiolaris ssp. petiolaris","T",1538,"prairie sunflower","forb",""]
["VT_Species","HELI SPP","HELI SPP","Helianthus spp.","T",1539,"sunflower (genus)","forb",""]
["VT_Species","HELI TUB","HELI TUB","Helianthus tuberosus","T",1540,"Jerusalem-artichoke","forb",""]
["VT_Species","HELM ECH","HELM ECH","Helminthotheca echioides","T",1541,"bristly oxtongue","forb",""]
["VT_Species","HELO HEL","HELO HEL","Heliopsis helianthoides","T",1542,"false sunflower","forb",""]
["VT_Species","HELO HEL SCA","HELO HEL SCA","Heliopsis helianthoides var. scabra","T",1543,"false sunflower","forb",""]
["VT_Species","HELT CUR","HELT CUR","Heliotropium curassavicum","T",1544,"seaside heliotrope","forb",""]
["VT_Species","HELT CUR OBO","HELT CUR OBO","Heliotropium curassavicum var. obovatum","T",1545,"seaside heliotrope","forb",""]
["VT_Species","HEPP LEP","HEPP LEP","Heppia leptopholis","T",1546,"stuffed rock-olive","lichen",""]
["VT_Species","HEPP LUT","HEPP LUT","Heppia lutosa","T",1547,"","lichen",""]
["VT_Species","HEPP SPP","HEPP SPP","Heppia spp.","T",1548,"","lichen",""]
["VT_Species","HERA MAX","HERA MAX","Heracleum maximum","T",1549,"cow-parsnip","forb",""]
["VT_Species","HERZ TUR","HERZ TUR","Herzogiella turfacea","T",1550,"","bryophyte",""]
["VT_Species","HESP COM","HESP COM","Hesperostipa comata","T",1551,"needle-and-thread","graminoid",""]
["VT_Species","HESP COM COM","HESP COM COM","Hesperostipa comata ssp. comata","T",1552,"needle-and-thread","graminoid",""]
["VT_Species","HESP COM INT","HESP COM INT","Hesperostipa comata ssp. intermedia","T",1553,"needle-and-thread","graminoid",""]
["VT_Species","HESP CUR","HESP CUR","Hesperostipa curtiseta","T",1554,"western porcupine-grass","graminoid",""]
["VT_Species","HESP SPA","HESP SPA","Hesperostipa spartea","T",1555,"porcupine-grass","graminoid",""]
["VT_Species","HESP SPP","HESP SPP","Hesperostipa spp.","T",1556,"needle-grass (Hesperostipa genus)","graminoid",""]
["VT_Species","HESR MAT","HESR MAT","Hesperis matronalis","T",1557,"dame’s rocket","forb",""]
["VT_Species","HETE VIL","HETE VIL","Heterotheca villosa","T",1558,"hairy golden-aster","forb",""]
["VT_Species","HETE VIL HIS","HETE VIL HIS","Heterotheca villosa var. hispida","T",1559,"hairy golden-aster","forb",""]
["VT_Species","HETE VIL VIL","HETE VIL VIL","Heterotheca villosa var. villosa","T",1560,"hairy golden-aster","forb",""]
["VT_Species","HEUC PAR","HEUC PAR","Heuchera parvifolia","T",1561,"little-leaf alumroot","forb",""]
["VT_Species","HEUC RIC","HEUC RIC","Heuchera richardsonii","T",1562,"Richardson’s alumroot","forb",""]
["VT_Species","HEUC SPP","HEUC SPP","Heuchera spp.","T",1563,"alumroot (genus)","forb",""]
["VT_Species","HGRH LUR","HGRH LUR","Hygrohypnum luridum","T",1564,"","bryophyte",""]
["VT_Species","HIBI TRI","HIBI TRI","Hibiscus trionum","T",1565,"flower-of-an-hour","forb",""]
["VT_Species","HIER ALB","HIER ALB","Hieracium albiflorum","T",1566,"white-flowered hawkweed","forb",""]
["VT_Species","HIER AUR","HIER AUR","Hieracium aurantiacum","T",1567,"orange hawkweed","forb",""]
["VT_Species","HIER SPP","HIER SPP","Hieracium spp.","T",1568,"hawkweed (genus)","forb",""]
["VT_Species","HIER UMB","HIER UMB","Hieracium umbellatum","T",1569,"narrow-leaved hawkweed","forb",""]
["VT_Species","HIPP RHA","HIPP RHA","Hippophae rhamnoides","T",1570,"sea-buckthorn","erect shrub",""]
["VT_Species","HIPU VUL","HIPU VUL","Hippuris vulgaris","T",1571,"common mare’s-tail","forb",""]
["VT_Species","HLDM BLA","HLDM BLA","Helodium blandowii","T",1572,"Blandow's feather moss","bryophyte",""]
["VT_Species","HOMO ADN","HOMO ADN","Homomallium adnatum","T",1573,"","bryophyte",""]
["VT_Species","HORD BRA","HORD BRA","Hordeum brachyantherum","T",1574,"meadow barley","graminoid",""]
["VT_Species","HORD BRA BRA","HORD BRA BRA","Hordeum brachyantherum ssp. brachyantherum","T",1575,"meadow barley","graminoid",""]
["VT_Species","HORD JUB","HORD JUB","Hordeum jubatum","T",1576,"fox-tail barley","graminoid",""]
["VT_Species","HORD JUB INT","HORD JUB INT","Hordeum jubatum ssp. intermedium","T",1577,"short-awned wild barley","graminoid",""]
["VT_Species","HORD JUB JUB","HORD JUB JUB","Hordeum jubatum ssp. jubatum","T",1578,"fox-tail barley","graminoid",""]
["VT_Species","HORD PUS","HORD PUS","Hordeum pusillum","T",1579,"little barley","graminoid",""]
["VT_Species","HORD SPP","HORD SPP","Hordeum spp.","T",1580,"barley (genus)","graminoid",""]
["VT_Species","HORD VUL","HORD VUL","Hordeum vulgare","T",1581,"cultivated barley","graminoid",""]
["VT_Species","HORN PRO","HORN PRO","Hornungia procumbens","T",1582,"oval-purse","forb",""]
["VT_Species","HOUS CAN","HOUS CAN","Houstonia canadensis","T",1583,"Canadian summer bluets","forb",""]
["VT_Species","HOUS LON","HOUS LON","Houstonia longifolia","T",1584,"long-leaved bluets","forb",""]
["VT_Species","HOUS SPP","HOUS SPP","Houstonia spp.","T",1585,"bluets (genus)","forb",""]
["VT_Species","HPCN SCA","HPCN SCA","Hypocenomyce scalaris","T",1586,"common clam lichen","lichen",""]
["VT_Species","HPGM AUS","HPGM AUS","Hypogymnia austerodes","T",1587,"varnished tube lichen","lichen",""]
["VT_Species","HPGM BIT","HPGM BIT","Hypogymnia bitteri","T",1588,"powdered tube lichen","lichen",""]
["VT_Species","HPGM ENT","HPGM ENT","Hypogymnia enteromorpha","T",1589,"budding tube lichen","lichen",""]
["VT_Species","HPGM IMS","HPGM IMS","Hypogymnia imshaugii","T",1590,"forked tube lichen","lichen",""]
["VT_Species","HPGM PHY","HPGM PHY","Hypogymnia physodes","T",1591,"monk's-hood lichen","lichen",""]
["VT_Species","HPGM SPP","HPGM SPP","Hypogymnia spp.","T",1592,"","lichen",""]
["VT_Species","HPGM SUB","HPGM SUB","Hypogymnia subobscura","T",1593,"heath tube lichen","lichen",""]
["VT_Species","HPGM TUB","HPGM TUB","Hypogymnia tubulosa","T",1594,"powder-headed tube lichen","lichen",""]
["VT_Species","HPTR LAE","HPTR LAE","Hypotrachyna laevigata","T",1595,"","lichen",""]
["VT_Species","HPTR SIN","HPTR SIN","Hypotrachyna sinuosa","T",1596,"green loop lichen","lichen",""]
["VT_Species","HPTR SPP","HPTR SPP","Hypotrachyna spp.","T",1597,"","lichen",""]
["VT_Species","HUDS TOM","HUDS TOM","Hudsonia tomentosa","T",1598,"sand-heather","erect shrub",""]
["VT_Species","HUDS TOM TOM","HUDS TOM TOM","Hudsonia tomentosa var. tomentosa","T",1599,"sand-heather","erect shrub",""]
["VT_Species","HUMU LUP","HUMU LUP","Humulus lupulus","T",1600,"common hops","forb",""]
["VT_Species","HUMU LUP LPD","HUMU LUP LPD","Humulus lupulus var. lupuloides","T",1601,"common hops","forb",""]
["VT_Species","HUMU LUP LUP","HUMU LUP LUP","Humulus lupulus var. lupulus","T",1602,"common hops","forb",""]
["VT_Species","HUMU LUP NEO","HUMU LUP NEO","Humulus lupulus var. neomexicanus","T",1603,"common hops","forb",""]
["VT_Species","HUPE SEL","HUPE SEL","Huperzia selago","T",1604,"mountain club-moss","forb",""]
["VT_Species","HUPE SEL DEN","HUPE SEL DEN","Huperzia selago var. densa","T",1605,"mountain club-moss","forb",""]
["VT_Species","HUPE SEL SEL","HUPE SEL SEL","Huperzia selago var. selago","T",1606,"mountain club-moss","forb",""]
["VT_Species","HYGR TEN","HYGR TEN","Hygroamblystegium tenax","T",1607,"","bryophyte",""]
["VT_Species","HYLC SPL","HYLC SPL","Hylocomium splendens","T",1608,"stair-step moss","bryophyte",""]
["VT_Species","HYLO TEL","HYLO TEL","Hylotelephium telephium","T",1609,"live-forever stonecrop","forb",""]
["VT_Species","HYLO TEL TEL","HYLO TEL TEL","Hylotelephium telephium ssp. telephium","T",1610,"live-forever stonecrop","forb",""]
["VT_Species","HYME FIL","HYME FIL","Hymenopappus filifolius","T",1611,"tufted hymenopappus","forb",""]
["VT_Species","HYME FIL POL","HYME FIL POL","Hymenopappus filifolius var. polycephalus","T",1612,"tufted hymenopappus","forb",""]
["VT_Species","HYMN RIC","HYMN RIC","Hymenoxys richardsonii","T",1613,"Colorado rubberweed","forb",""]
["VT_Species","HYMN RIC RIC","HYMN RIC RIC","Hymenoxys richardsonii var. richardsonii","T",1614,"Colorado rubberweed","forb",""]
["VT_Species","HYOS NIG","HYOS NIG","Hyoscyamus niger","T",1615,"black henbane","forb",""]
["VT_Species","HYPE MAJ","HYPE MAJ","Hypericum majus","T",1616,"greater St. John's-wort","forb",""]
["VT_Species","HYPN BAM","HYPN BAM","Hypnum bambergeri","T",1617,"","bryophyte",""]
["VT_Species","HYPN CUP","HYPN CUP","Hypnum cupressiforme","T",1618,"cypress pigtail moss","bryophyte",""]
["VT_Species","HYPN LIN","HYPN LIN","Hypnum lindbergii","T",1619,"clay pigtail moss","bryophyte",""]
["VT_Species","HYPN PAL","HYPN PAL","Hypnum pallescens","T",1620,"stump pigtail moss","bryophyte",""]
["VT_Species","HYPN PRA","HYPN PRA","Hypnum pratense","T",1621,"meadow pigtail moss","bryophyte",""]
["VT_Species","HYPN REC","HYPN REC","Hypnum recurvatum","T",1622,"","bryophyte",""]
["VT_Species","HYPN REV","HYPN REV","Hypnum revolutum","T",1623,"rolled-leafpigtail moss","bryophyte",""]
["VT_Species","HYPN SPP","HYPN SPP","Hypnum spp.","T",1624,"","bryophyte",""]
["VT_Species","HYPN VAU","HYPN VAU","Hypnum vaucheri","T",1625,"","bryophyte",""]
["VT_Species","HYPO RAD","HYPO RAD","Hypochaeris radicata","T",1626,"hairy cat's-ear","forb",""]
["VT_Species","HYPX HIR","HYPX HIR","Hypoxis hirsuta","T",1627,"hairy star-grass","forb",""]
["VT_Species","HYSS OFF","HYSS OFF","Hyssopus officinalis","T",1628,"hyssop","forb",""]
["VT_Species","ICMA ERI","ICMA ERI","Icmadophila ericetorum","T",1629,"candy lichen","lichen",""]
["VT_Species","IMPA CAP","IMPA CAP","Impatiens capensis","T",1630,"spotted touch-me-not","forb",""]
["VT_Species","IMPA NOL","IMPA NOL","Impatiens noli-tangere","T",1631,"western touch-me-not","forb",""]
["VT_Species","IMPA PAL","IMPA PAL","Impatiens pallida","T",1632,"pale touch-me-not","forb",""]
["VT_Species","IMPA SPP","IMPA SPP","Impatiens spp.","T",1633,"touch-me-not (genus)","forb",""]
["VT_Species","IMSH ALE","IMSH ALE","Imshaugia aleurites","T",1634,"salted starburst lichen","lichen",""]
["VT_Species","IMSH PLA","IMSH PLA","Imshaugia placorodia","T",1635,"american starburst lichen","lichen",""]
["VT_Species","IMSH SPP","IMSH SPP","Imshaugia spp.","T",1636,"","lichen",""]
["VT_Species","INUL HEL","INUL HEL","Inula helenium","T",1637,"elecampane","forb",""]
["VT_Species","IONA LAC","IONA LAC","Ionaspis lacustris","T",1638,"rusty brook lichen","lichen",""]
["VT_Species","IRIS GER","IRIS GER","Iris germanica","T",1639,"German iris","forb",""]
["VT_Species","ISOE ECH","ISOE ECH","Isoetes echinospora","T",1640,"spiny-spored quillwort","forb",""]
["VT_Species","ISOE LAC","ISOE LAC","Isoetes lacustris","T",1641,"lake quillwort","forb",""]
["VT_Species","ISOE SPP","ISOE SPP","Isoetes spp.","T",1642,"quillwort (genus)","forb",""]
["VT_Species","ISOP PUL","ISOP PUL","Isopterygiopsis pulchella","T",1643,"","bryophyte",""]
["VT_Species","IVA* AXI","IVA* AXI","Iva axillaris","T",1644,"poverty-weed","forb",""]
["VT_Species","JUNC ALP","JUNC ALP","Juncus alpinoarticulatus","T",1645,"alpine rush","graminoid",""]
["VT_Species","JUNC ARC","JUNC ARC","Juncus arcticus","T",1646,"Baltic rush","graminoid",""]
["VT_Species","JUNC ARC BAL","JUNC ARC BAL","Juncus arcticus var. balticus","T",1647,"Baltic rush","graminoid",""]
["VT_Species","JUNC BRE","JUNC BRE","Juncus brevicaudatus","T",1648,"short-tailed rush","graminoid",""]
["VT_Species","JUNC BUF","JUNC BUF","Juncus bufonius","T",1649,"toad rush","graminoid",""]
["VT_Species","JUNC CAS","JUNC CAS","Juncus castaneus","T",1650,"chestnut rush","graminoid",""]
["VT_Species","JUNC CAS CAS","JUNC CAS CAS","Juncus castaneus ssp. castaneus","T",1651,"chestnut rush","graminoid",""]
["VT_Species","JUNC COM","JUNC COM","Juncus compressus","T",1652,"flattened rush","graminoid",""]
["VT_Species","JUNC CON","JUNC CON","Juncus confusus","T",1653,"confusing rush","graminoid",""]
["VT_Species","JUNC DUD","JUNC DUD","Juncus dudleyi","T",1654,"Dudley’s rush","graminoid",""]
["VT_Species","JUNC ENS","JUNC ENS","Juncus ensifolius","T",1655,"dagger rush","graminoid",""]
["VT_Species","JUNC ENS ENS","JUNC ENS ENS","Juncus ensifolius var. ensifolius","T",1656,"dagger rush","graminoid",""]
["VT_Species","JUNC ENS MON","JUNC ENS MON","Juncus ensifolius var. montanus","T",1657,"Rocky Mountain rush","graminoid",""]
["VT_Species","JUNC FIL","JUNC FIL","Juncus filiformis","T",1658,"thread rush","graminoid",""]
["VT_Species","JUNC INT","JUNC INT","Juncus interior","T",1659,"inland rush","graminoid",""]
["VT_Species","JUNC INT INT","JUNC INT INT","Juncus interior var. interior","T",1660,"inland rush","graminoid",""]
["VT_Species","JUNC LON","JUNC LON","Juncus longistylis","T",1661,"long-styled rush","graminoid",""]
["VT_Species","JUNC LON LON","JUNC LON LON","Juncus longistylis var. longistylis","T",1662,"long-styled rush","graminoid",""]
["VT_Species","JUNC MER","JUNC MER","Juncus mertensianus","T",1663,"Merten's rush","graminoid",""]
["VT_Species","JUNC NEV","JUNC NEV","Juncus nevadensis","T",1664,"Nevada rush","graminoid",""]
["VT_Species","JUNC NOD","JUNC NOD","Juncus nodosus","T",1665,"knotted rush","graminoid",""]
["VT_Species","JUNC SPP","JUNC SPP","Juncus spp.","T",1666,"rush (genus)","graminoid",""]
["VT_Species","JUNC STY","JUNC STY","Juncus stygius","T",1667,"American bog rush","graminoid",""]
["VT_Species","JUNC STY AME","JUNC STY AME","Juncus stygius ssp. americanus","T",1668,"American bog rush","graminoid",""]
["VT_Species","JUNC TEN","JUNC TEN","Juncus tenuis","T",1669,"slender rush","graminoid",""]
["VT_Species","JUNC TOR","JUNC TOR","Juncus torreyi","T",1670,"Torrey’s rush","graminoid",""]
["VT_Species","JUNC TRI","JUNC TRI","Juncus triglumis","T",1671,"pale rush","graminoid",""]
["VT_Species","JUNC TRI ALB","JUNC TRI ALB","Juncus triglumis var. albescens","T",1672,"pale rush","graminoid",""]
["VT_Species","JUNC VAS","JUNC VAS","Juncus vaseyi","T",1673,"Vasey’s rush","graminoid",""]
["VT_Species","JUNI COM","JUNI COM","Juniperus communis","T",1674,"low juniper","erect shrub",""]
["VT_Species","JUNI COM DEP","JUNI COM DEP","Juniperus communis var. depressa","T",1675,"low juniper","erect shrub",""]
["VT_Species","JUNI HOR","JUNI HOR","Juniperus horizontalis","T",1676,"creeping juniper","prostrate shrub",""]
["VT_Species","JUNI SCO","JUNI SCO","Juniperus scopulorum","T",1677,"Rocky Mountain juniper","erect shrub",""]
["VT_Species","JUNI SPP","JUNI SPP","Juniperus spp.","T",1678,"juniper (genus)","erect shrub",""]
["VT_Species","KALM MIC","KALM MIC","Kalmia microphylla","T",1679,"western bog-laurel","erect shrub",""]
["VT_Species","KALM POL","KALM POL","Kalmia polifolia","T",1680,"northern bog-laurel","erect shrub",""]
["VT_Species","KALM SPP","KALM SPP","Kalmia spp.","T",1681,"bog-laurel (genus)","erect shrub",""]
["VT_Species","KNAU ARV","KNAU ARV","Knautia arvensis","T",1682,"blue-buttons","forb",""]
["VT_Species","KOCH SCO","KOCH SCO","Kochia scoparia","T",1683,"kochia","forb",""]
["VT_Species","KOCH SCO SCO","KOCH SCO SCO","Kochia scoparia ssp. scoparia","T",1684,"kochia","forb",""]
["VT_Species","KOEL MAC","KOEL MAC","Koeleria macrantha","T",1685,"June grass","graminoid",""]
["VT_Species","KRAS LAN","KRAS LAN","Krascheninnikovia lanata","T",1686,"winterfat","forb",""]
["VT_Species","LACT BIE","LACT BIE","Lactuca biennis","T",1687,"tall blue lettuce","forb",""]
["VT_Species","LACT LUD","LACT LUD","Lactuca ludoviciana","T",1688,"western wild lettuce","forb",""]
["VT_Species","LACT SER","LACT SER","Lactuca serriola","T",1689,"prickly lettuce","forb",""]
["VT_Species","LACT SPP","LACT SPP","Lactuca spp.","T",1690,"wild lettuce (genus)","forb",""]
["VT_Species","LAMI ALB","LAMI ALB","Lamium album","T",1691,"white dead-nettle","forb",""]
["VT_Species","LAMI AMP","LAMI AMP","Lamium amplexicaule","T",1692,"henbit","forb",""]
["VT_Species","LAMI SPP","LAMI SPP","Lamium spp.","T",1693,"dead-nettle (genus)","forb",""]
["VT_Species","LAPO CAN","LAPO CAN","Laportea canadensis","T",1694,"Canada wood-nettle","forb",""]
["VT_Species","LAPP OCC","LAPP OCC","Lappula occidentalis","T",1695,"western blue-bur","forb",""]
["VT_Species","LAPP OCC CUP","LAPP OCC CUP","Lappula occidentalis var. cupulata","T",1696,"western blue-bur","forb",""]
["VT_Species","LAPP OCC OCC","LAPP OCC OCC","Lappula occidentalis var. occidentalis","T",1697,"western blue-bur","forb",""]
["VT_Species","LAPP SPP","LAPP SPP","Lappula spp.","T",1698,"blue-bur (genus)","forb",""]
["VT_Species","LAPP SQU","LAPP SQU","Lappula squarrosa","T",1699,"blue-bur","forb",""]
["VT_Species","LAPS COM","LAPS COM","Lapsana communis","T",1700,"common nipplewort","forb",""]
["VT_Species","LARI LAR","LARI LAR","Larix laricina","T",1701,"tamarack","tree","tL"]
["VT_Species","LASA PAP","LASA PAP","Lasallia papulosa","T",1702,"toadskin lichen","lichen",""]
["VT_Species","LASA PEN","LASA PEN","Lasallia pensylvanica","T",1703,"blackened toadskin","lichen",""]
["VT_Species","LASA SPP","LASA SPP","Lasallia spp.","T",1704,"","lichen",""]
["VT_Species","LATH OCH","LATH OCH","Lathyrus ochroleucus","T",1705,"cream-colored vetchling","forb",""]
["VT_Species","LATH PAL","LATH PAL","Lathyrus palustris","T",1706,"marsh vetchling","forb",""]
["VT_Species","LATH SAT","LATH SAT","Lathyrus sativus","T",1707,"white vetchling","forb",""]
["VT_Species","LATH SPP","LATH SPP","Lathyrus spp.","T",1708,"vetchling (genus)","forb",""]
["VT_Species","LATH TUB","LATH TUB","Lathyrus tuberosus","T",1709,"tuberous vetchling","forb",""]
["VT_Species","LATH VEN","LATH VEN","Lathyrus venosus","T",1710,"purple vetchling","forb",""]
["VT_Species","LAVA THU","LAVA THU","Lavatera thuringiaca","T",1711,"gay-mallow","forb",""]
["VT_Species","LCDL CAR","LCDL CAR","Lecidella carpathica","T",1712,"","lichen",""]
["VT_Species","LCDL ELA","LCDL ELA","Lecidella elaeochroma","T",1713,"","lichen",""]
["VT_Species","LCDL EUP","LCDL EUP","Lecidella euphorea","T",1714,"","lichen",""]
["VT_Species","LCDL SPP","LCDL SPP","Lecidella spp.","T",1715,"","lichen",""]
["VT_Species","LCDL STI","LCDL STI","Lecidella stigmatea","T",1716,"disk lichen","lichen",""]
["VT_Species","LCNA CYR","LCNA CYR","Lecania cyrtella","T",1717,"","lichen",""]
["VT_Species","LCNA DUB","LCNA DUB","Lecania dubitans","T",1718,"bean-spored rim-lichen","lichen",""]
["VT_Species","LCNA ERY","LCNA ERY","Lecania erysibe","T",1719,"","lichen",""]
["VT_Species","LCNA FUS","LCNA FUS","Lecania fuscella","T",1720,"","lichen",""]
["VT_Species","LCNA SPP","LCNA SPP","Lecania spp.","T",1721,"","lichen",""]
["VT_Species","LCNR ALB","LCNR ALB","Lecanora albopruinosa","T",1722,"","lichen",""]
["VT_Species","LCNR ALL","LCNR ALL","Lecanora allophana","T",1723,"brown-eyed rim-lichen","lichen",""]
["VT_Species","LCNR APS","LCNR APS","Lecanora argopholis","T",1724,"varying rim-lichen","lichen",""]
["VT_Species","LCNR ATA","LCNR ATA","Lecanora argentea","T",1725,"","lichen",""]
["VT_Species","LCNR ATT","LCNR ATT","Lecanora argentata","T",1726,"","lichen",""]
["VT_Species","LCNR BER","LCNR BER","Lecanora beringii","T",1727,"","lichen",""]
["VT_Species","LCNR CAD","LCNR CAD","Lecanora cadubriae","T",1728,"","lichen",""]
["VT_Species","LCNR CEN","LCNR CEN","Lecanora cenisia","T",1729,"smoky rim-lichen","lichen",""]
["VT_Species","LCNR CIR","LCNR CIR","Lecanora circumborealis","T",1730,"black-eyed rim-lichen","lichen",""]
["VT_Species","LCNR CON","LCNR CON","Lecanora contractula","T",1731,"","lichen",""]
["VT_Species","LCNR CRE","LCNR CRE","Lecanora crenulata","T",1732,"","lichen",""]
["VT_Species","LCNR DIS","LCNR DIS","Lecanora dispersa","T",1733,"mortar rim-lichen","lichen",""]
["VT_Species","LCNR EPI","LCNR EPI","Lecanora epibryon","T",1734,"","lichen",""]
["VT_Species","LCNR FLO","LCNR FLO","Lecanora flowersiana","T",1735,"","lichen",""]
["VT_Species","LCNR GAR","LCNR GAR","Lecanora garovaglii","T",1736,"sagebrush rim-lichen","lichen",""]
["VT_Species","LCNR HAG","LCNR HAG","Lecanora hagenii","T",1737,"Hagen's rim-lichen","lichen",""]
["VT_Species","LCNR HAY","LCNR HAY","Lecanora haydenii","T",1738,"wanderlust lichen","lichen",""]
["VT_Species","LCNR HYP","LCNR HYP","Lecanora hypoptoides","T",1739,"","lichen",""]
["VT_Species","LCNR IMP","LCNR IMP","Lecanora impudens","T",1740,"","lichen",""]
["VT_Species","LCNR INT","LCNR INT","Lecanora intricata","T",1741,"","lichen",""]
["VT_Species","LCNR MUR","LCNR MUR","Lecanora muralis","T",1742,"stonewall rim-lichen","lichen",""]
["VT_Species","LCNR PAC","LCNR PAC","Lecanora pachythallina","T",1743,"shrubby rim-lichen","lichen",""]
["VT_Species","LCNR PIN","LCNR PIN","Lecanora piniperda","T",1744,"wood-spot rim-lichen","lichen",""]
["VT_Species","LCNR POL","LCNR POL","Lecanora polytropa","T",1745,"granite-speck rim-lichen","lichen",""]
["VT_Species","LCNR POP","LCNR POP","Lecanora populicola","T",1746,"","lichen",""]
["VT_Species","LCNR PUL","LCNR PUL","Lecanora pulicaris","T",1747,"","lichen",""]
["VT_Species","LCNR REP","LCNR REP","Lecanora reptans","T",1748,"","lichen",""]
["VT_Species","LCNR RUG","LCNR RUG","Lecanora rugosella","T",1749,"","lichen",""]
["VT_Species","LCNR RUP","LCNR RUP","Lecanora rupicola","T",1750,"white rim-lichen","lichen",""]
["VT_Species","LCNR SAM","LCNR SAM","Lecanora sambuci","T",1751,"","lichen",""]
["VT_Species","LCNR SPP","LCNR SPP","Lecanora spp.","T",1752,"","lichen",""]
["VT_Species","LCNR SUB","LCNR SUB","Lecanora subintricata","T",1753,"","lichen",""]
["VT_Species","LCNR SYM","LCNR SYM","Lecanora symmicta","T",1754,"fused rim-lichen","lichen",""]
["VT_Species","LCNR VAR","LCNR VAR","Lecanora varia","T",1755,"","lichen",""]
["VT_Species","LECA ABI","LECA ABI","Lecanactis abietina","T",1756,"old-wood lichen","lichen",""]
["VT_Species","LECH INT","LECH INT","Lechea intermedia","T",1757,"impoverished pinweed","forb",""]
["VT_Species","LECH INT DEP","LECH INT DEP","Lechea intermedia var. depauperata","T",1758,"impoverished pinweed","forb",""]
["VT_Species","LECI ALA","LECI ALA","Lecidea alaiensis","T",1759,"","lichen",""]
["VT_Species","LECI ASS","LECI ASS","Lecidea assimilis","T",1760,"","lichen",""]
["VT_Species","LECI AUR","LECI AUR","Lecidea auriculata","T",1761,"","lichen",""]
["VT_Species","LECI BOT","LECI BOT","Lecidea botryosa","T",1762,"","lichen",""]
["VT_Species","LECI BRA","LECI BRA","Lecidea brachyspora","T",1763,"disk lichen","lichen",""]
["VT_Species","LECI DID","LECI DID","Lecidea diducens","T",1764,"","lichen",""]
["VT_Species","LECI LAB","LECI LAB","Lecidea laboriosa","T",1765,"","lichen",""]
["VT_Species","LECI LAP","LECI LAP","Lecidea lapicida","T",1766,"gray-orange dick lichen","lichen",""]
["VT_Species","LECI LIM","LECI LIM","Lecidea limosa","T",1767,"","lichen",""]
["VT_Species","LECI LIT","LECI LIT","Lecidea lithophila","T",1768,"","lichen",""]
["VT_Species","LECI NYL","LECI NYL","Lecidea nylanderi","T",1769,"","lichen",""]
["VT_Species","LECI SPP","LECI SPP","Lecidea spp.","T",1770,"","lichen",""]
["VT_Species","LECI TES","LECI TES","Lecidea tessellata","T",1771,"tile lichen","lichen",""]
["VT_Species","LECI TUR","LECI TUR","Lecidea turgidula","T",1772,"","lichen",""]
["VT_Species","LEDU GRO","LEDU GRO","Ledum groenlandicum","T",1773,"common Labrador-tea","erect shrub",""]
["VT_Species","LEDU PAL","LEDU PAL","Ledum palustre","T",1774,"northern Labrador-tea","erect shrub",""]
["VT_Species","LEDU PAL DEC","LEDU PAL DEC","Ledum palustre ssp. decumbens","T",1775,"northern Labrador-tea","erect shrub",""]
["VT_Species","LEDU SPP","LEDU SPP","Ledum spp.","T",1776,"Labrador-tea (genus)","erect shrub",""]
["VT_Species","LEER ORY","LEER ORY","Leersia oryzoides","T",1777,"rice cut-grass","graminoid",""]
["VT_Species","LEMN MIN","LEMN MIN","Lemna minor","T",1778,"lesser duckweed","forb",""]
["VT_Species","LEMN SPP","LEMN SPP","Lemna spp.","T",1779,"duckweed (genus)","forb",""]
["VT_Species","LEMN TRI","LEMN TRI","Lemna trisulca","T",1780,"star duckweed","forb",""]
["VT_Species","LEMN TUR","LEMN TUR","Lemna turionifera","T",1781,"turion duckweed","forb",""]
["VT_Species","LEON CAR","LEON CAR","Leonurus cardiaca","T",1782,"motherwort","forb",""]
["VT_Species","LEON CAR CAR","LEON CAR CAR","Leonurus cardiaca ssp. cardiaca","T",1783,"motherwort","forb",""]
["VT_Species","LEPI DEN","LEPI DEN","Lepidium densiflorum","T",1784,"common peppergrass","forb",""]
["VT_Species","LEPI DEN DEN","LEPI DEN DEN","Lepidium densiflorum var. densiflorum","T",1785,"common peppergrass","forb",""]
["VT_Species","LEPI DEN ELO","LEPI DEN ELO","Lepidium densiflorum var. elongatum","T",1786,"common peppergrass","forb",""]
["VT_Species","LEPI DEN MAC","LEPI DEN MAC","Lepidium densiflorum var. macrocarpum","T",1787,"common peppergrass","forb",""]
["VT_Species","LEPI PER","LEPI PER","Lepidium perfoliatum","T",1788,"clasping pepper-grass","forb",""]
["VT_Species","LEPI RAM","LEPI RAM","Lepidium ramosissimum","T",1789,"branched peppergrass","forb",""]
["VT_Species","LEPI RAM BOU","LEPI RAM BOU","Lepidium ramosissimum var. bourgeauanum","T",1790,"branched peppergrass","forb",""]
["VT_Species","LEPI RAM RAM","LEPI RAM RAM","Lepidium ramosissimum var. ramosissimum","T",1791,"branched peppergrass","forb",""]
["VT_Species","LEPI RUD","LEPI RUD","Lepidium ruderale","T",1792,"roadside peppergrass","forb",""]
["VT_Species","LEPI SAT","LEPI SAT","Lepidium sativum","T",1793,"garden cress","forb",""]
["VT_Species","LEPI SPP","LEPI SPP","Lepidium spp.","T",1794,"peppergrass (genus)","forb",""]
["VT_Species","LEPR NEG","LEPR NEG","Lepraria neglecta","T",1795,"zoned dust lichen","lichen",""]
["VT_Species","LEPS SEP","LEPS SEP","Leptosiphon septentrionalis","T",1796,"northern linanthus","forb",""]
["VT_Species","LEPT FUS","LEPT FUS","Leptochloa fusca","T",1797,"bearded sprangletop","graminoid",""]
["VT_Species","LEPT FUS FAS","LEPT FUS FAS","Leptochloa fusca ssp. fascicularis","T",1798,"bearded sprangletop","graminoid",""]
["VT_Species","LESK OBS","LESK OBS","Leskea obscura","T",1799,"","bryophyte",""]
["VT_Species","LESK POL","LESK POL","Leskea polycarpa","T",1800,"","bryophyte",""]
["VT_Species","LESK SPP","LESK SPP","Leskea spp.","T",1801,"","bryophyte",""]
["VT_Species","LESQ ALP","LESQ ALP","Lesquerella alpina","T",1802,"alpine bladderpod","forb",""]
["VT_Species","LESQ ARE","LESQ ARE","Lesquerella arenosa","T",1803,"sand bladderpod","forb",""]
["VT_Species","LESQ ARE ARE","LESQ ARE ARE","Lesquerella arenosa var. arenosa","T",1804,"sand bladderpod","forb",""]
["VT_Species","LESQ SPP","LESQ SPP","Lesquerella spp.","T",1805,"bladderpod (genus)","forb",""]
["VT_Species","LETH VUL","LETH VUL","Letharia vulpina","T",1806,"wolf lichen","lichen",""]
["VT_Species","LEUC VUL","LEUC VUL","Leucanthemum vulgare","T",1807,"oxeye-daisy","forb",""]
["VT_Species","LEUP GRA","LEUP GRA","Leucophysalis grandiflora","T",1808,"large white ground-cherry","forb",""]
["VT_Species","LEVI OFF","LEVI OFF","Levisticum officinale","T",1809,"garden lovage","forb",""]
["VT_Species","LEYM ANG","LEYM ANG","Leymus angustus","T",1810,"Altai wild-rye","graminoid",""]
["VT_Species","LEYM CIN","LEYM CIN","Leymus cinereus","T",1811,"giant wild-rye","graminoid",""]
["VT_Species","LEYM INN","LEYM INN","Leymus innovatus","T",1812,"hairy wild-rye","graminoid",""]
["VT_Species","LEYM MOL","LEYM MOL","Leymus mollis","T",1813,"sea lyme-grass","graminoid",""]
["VT_Species","LEYM MOL MOL","LEYM MOL MOL","Leymus mollis var. mollis","T",1814,"sea lyme-grass","graminoid",""]
["VT_Species","LEYM SPP","LEYM SPP","Leymus spp.","T",1815,"wild-rye (Leymus genus)","graminoid",""]
["VT_Species","LIAT LIG","LIAT LIG","Liatris ligulistylis","T",1816,"northern meadow blazing-star","forb",""]
["VT_Species","LIAT PUN","LIAT PUN","Liatris punctata","T",1817,"dotted blazing-star","forb",""]
["VT_Species","LIAT PUN PUN","LIAT PUN PUN","Liatris punctata var. punctata","T",1818,"dotted blazing-star","forb",""]
["VT_Species","LIAT SPP","LIAT SPP","Liatris spp.","T",1819,"blazing-star (genus)","forb",""]
["VT_Species","LILA SCI","LILA SCI","Lilaea scilloides","T",1820,"flowering quillwort","forb",""]
["VT_Species","LILI PHI","LILI PHI","Lilium philadelphicum","T",1821,"red lily","forb",""]
["VT_Species","LILI PHI AND","LILI PHI AND","Lilium philadelphicum var. andinum","T",1822,"western red lily","forb",""]
["VT_Species","LILI PHI PHI","LILI PHI PHI","Lilium philadelphicum var. philadelphicum","T",1823,"eastern red lily","forb",""]
["VT_Species","LIMO VUL","LIMO VUL","Limonium vulgare","T",1824,"marsh-rosemary","forb",""]
["VT_Species","LIMP REV","LIMP REV","Limprichtia revolvens","T",1825,"","bryophyte",""]
["VT_Species","LIMS AQU","LIMS AQU","Limosella aquatica","T",1826,"awl-leaved mudwort","forb",""]
["VT_Species","LINA DAL","LINA DAL","Linaria dalmatica","T",1827,"Dalmatian toadflax","forb",""]
["VT_Species","LINA DAL DAL","LINA DAL DAL","Linaria dalmatica ssp. dalmatica","T",1828,"Dalmatian toadflax","forb",""]
["VT_Species","LINA SPP","LINA SPP","Linaria spp.","T",1829,"toadflax (genus)","forb",""]
["VT_Species","LINA VUL","LINA VUL","Linaria vulgaris","T",1830,"butter-and-eggs","forb",""]
["VT_Species","LINN BOR","LINN BOR","Linnaea borealis","T",1831,"American twinflower","prostrate shrub",""]
["VT_Species","LINN BOR AME","LINN BOR AME","Linnaea borealis ssp. americana","T",1832,"American twinflower","prostrate shrub",""]
["VT_Species","LINU COM","LINU COM","Linum compactum","T",1833,"compact yellow flax","forb",""]
["VT_Species","LINU LEW","LINU LEW","Linum lewisii","T",1834,"Lewis’ wild blue flax","forb",""]
["VT_Species","LINU LEW LEW","LINU LEW LEW","Linum lewisii var. lewisii","T",1835,"Lewis’ wild blue flax","forb",""]
["VT_Species","LINU RIG","LINU RIG","Linum rigidum","T",1836,"large-flowered yellow flax","forb",""]
["VT_Species","LINU RIG RIG","LINU RIG RIG","Linum rigidum var. rigidum","T",1837,"large-flowered yellow flax","forb",""]
["VT_Species","LINU SPP","LINU SPP","Linum spp.","T",1838,"flax (genus)","forb",""]
["VT_Species","LINU SUL","LINU SUL","Linum sulcatum","T",1839,"grooved yellow flax","forb",""]
["VT_Species","LINU SUL SUL","LINU SUL SUL","Linum sulcatum var. sulcatum","T",1840,"grooved yellow flax","forb",""]
["VT_Species","LINU USI","LINU USI","Linum usitatissimum","T",1841,"common flax","forb",""]
["VT_Species","LIPA LOE","LIPA LOE","Liparis loeselii","T",1842,"bog twayblade","forb",""]
["VT_Species","LIST BOR","LIST BOR","Listera borealis","T",1843,"northern twayblade","forb",""]
["VT_Species","LIST COR","LIST COR","Listera cordata","T",1844,"heart-leaved twayblade","forb",""]
["VT_Species","LIST SPP","LIST SPP","Listera spp.","T",1845,"twayblade (genus)","forb",""]
["VT_Species","LITH GLA","LITH GLA","Lithophragma glabrum","T",1846,"bulbous woodland-star","forb",""]
["VT_Species","LOBA PUL","LOBA PUL","Lobaria pulmonaria","T",1847,"lungwort","lichen",""]
["VT_Species","LOBA SCR","LOBA SCR","Lobaria scrobiculata","T",1848,"textured lungwort","lichen",""]
["VT_Species","LOBA SPP","LOBA SPP","Lobaria spp.","T",1849,"","lichen",""]
["VT_Species","LOBE DOR","LOBE DOR","Lobelia dortmanna","T",1850,"water lobelia","forb",""]
["VT_Species","LOBE KAL","LOBE KAL","Lobelia kalmii","T",1851,"Kalm’s lobelia","forb",""]
["VT_Species","LOBE SPI","LOBE SPI","Lobelia spicata","T",1852,"spiked lobelia","forb",""]
["VT_Species","LOBE SPI HIR","LOBE SPI HIR","Lobelia spicata var. hirtella","T",1853,"spiked lobelia","forb",""]
["VT_Species","LOBE SPP","LOBE SPP","Lobelia spp.","T",1854,"lobelia (genus)","forb",""]
["VT_Species","LOBO ALP","LOBO ALP","Lobothallia alphoplaca","T",1855,"puffed sunken-disk lichen","lichen",""]
["VT_Species","LOGF ARV","LOGF ARV","Logfia arvensis","T",1856,"common fluffweed","forb",""]
["VT_Species","LOIS PRO","LOIS PRO","Loiseleuria procumbens","T",1857,"alpine azalea","forb",""]
["VT_Species","LOLI MUL","LOLI MUL","Lolium multiflorum","T",1858,"Italian rye-grass","graminoid",""]
["VT_Species","LOLI PER","LOLI PER","Lolium perenne","T",1859,"perennial rye-grass","graminoid",""]
["VT_Species","LOLI PRS","LOLI PRS","Lolium persicum","T",1860,"Persian darnel","graminoid",""]
["VT_Species","LOLI SPP","LOLI SPP","Lolium spp.","T",1861,"rye-grass (Lolium genus)","graminoid",""]
["VT_Species","LOLI TEM","LOLI TEM","Lolium temulentum","T",1862,"poison darnel","graminoid",""]
["VT_Species","LOLI TEM TEM","LOLI TEM TEM","Lolium temulentum ssp. temulentum","T",1863,"poison darnel","graminoid",""]
["VT_Species","LOMA COU","LOMA COU","Lomatium cous","T",1864,"cous biscuit-root","forb",""]
["VT_Species","LOMA DIS","LOMA DIS","Lomatium dissectum","T",1865,"mountain wild-parsnip","forb",""]
["VT_Species","LOMA DIS MUL","LOMA DIS MUL","Lomatium dissectum var. multifidum","T",1866,"mountain wild-parsnip","forb",""]
["VT_Species","LOMA FOE","LOMA FOE","Lomatium foeniculaceum","T",1867,"hairy wild-parsley","forb",""]
["VT_Species","LOMA FOE FOE","LOMA FOE FOE","Lomatium foeniculaceum ssp. foeniculaceum","T",1868,"hairy wild-parsley","forb",""]
["VT_Species","LOMA MAC","LOMA MAC","Lomatium macrocarpum","T",1869,"large-fruited wild-parsley","forb",""]
["VT_Species","LOMA ORI","LOMA ORI","Lomatium orientale","T",1870,"oriental wild-parsley","forb",""]
["VT_Species","LOMA SPP","LOMA SPP","Lomatium spp.","T",1871,"wild-parsley (genus)","forb",""]
["VT_Species","LOMT ROT","LOMT ROT","Lomatogonium rotatum","T",1872,"marsh-felwort","forb",""]
["VT_Species","LONI DIO","LONI DIO","Lonicera dioica","T",1873,"twining honeysuckle","erect shrub",""]
["VT_Species","LONI INV","LONI INV","Lonicera involucrata","T",1874,"bracted honeysuckle","erect shrub",""]
["VT_Species","LONI INV INV","LONI INV INV","Lonicera involucrata var. involucrata","T",1875,"bracted honeysuckle","erect shrub",""]
["VT_Species","LONI MOR","LONI MOR","Lonicera morrowii","T",1876,"Morrow’s honeysuckle","erect shrub",""]
["VT_Species","LONI OBL","LONI OBL","Lonicera oblongifolia","T",1877,"swamp fly-honeysuckle","erect shrub",""]
["VT_Species","LONI OBL OBL","LONI OBL OBL","Lonicera oblongifolia var. oblongifolia","T",1878,"swamp fly-honeysuckle","erect shrub",""]
["VT_Species","LONI SPP","LONI SPP","Lonicera spp.","T",1879,"honeysuckle (genus)","erect shrub",""]
["VT_Species","LONI TAT","LONI TAT","Lonicera tatarica","T",1880,"Tartarian honeysuckle","erect shrub",""]
["VT_Species","LONI VIL","LONI VIL","Lonicera villosa","T",1881,"blue fly-honeysuckle","erect shrub",""]
["VT_Species","LONI VIL SOL","LONI VIL SOL","Lonicera villosa var. solonis","T",1882,"blue fly-honeysuckle","erect shrub",""]
["VT_Species","LOTU COR","LOTU COR","Lotus corniculatus","T",1883,"bird’s-foot trefoil","forb",""]
["VT_Species","LOTU PED","LOTU PED","Lotus pedunculatus","T",1884,"large bird’s-foot trefoil","forb",""]
["VT_Species","LOTU SPP","LOTU SPP","Lotus spp.","T",1885,"trefoil (genus)","forb",""]
["VT_Species","LOTU UNI","LOTU UNI","Lotus unifoliatus","T",1886,"prairie bird’s-foot trefoil","forb",""]
["VT_Species","LOTU UNI UNI","LOTU UNI UNI","Lotus unifoliatus var. unifoliatus","T",1887,"prairie bird’s-foot trefoil","forb",""]
["VT_Species","LOXO ELA","LOXO ELA","Loxospora elatina","T",1888,"ragged-rim lichen","lichen",""]
["VT_Species","LPDT RIP","LPDT RIP","Leptodictyum riparium","T",1889,"","bryophyte",""]
["VT_Species","LPLM MEM","LPLM MEM","Leproloma membranaceum","T",1890,"lobed dust lichen","lichen",""]
["VT_Species","LPTB PYR","LPTB PYR","Leptobryum pyriforme","T",1891,"long-necked bryum","bryophyte",""]
["VT_Species","LPTG LIC","LPTG LIC","Leptogium lichenoides","T",1892,"tattered jelly-skin","lichen",""]
["VT_Species","LPTG SAT","LPTG SAT","Leptogium saturninum","T",1893,"bearded jellyskin","lichen",""]
["VT_Species","LPTG SPP","LPTG SPP","Leptogium spp.","T",1894,"","lichen",""]
["VT_Species","LPTG TEN","LPTG TEN","Leptogium tenuissimum","T",1895,"","lichen",""]
["VT_Species","LPTH EPI","LPTH EPI","Leptorhaphis epidermidis","T",1896,"","lichen",""]
["VT_Species","LSKL NER","LSKL NER","Leskeella nervosa","T",1897,"","bryophyte",""]
["VT_Species","LTHO CAN","LTHO CAN","Lithospermum canescens","T",1898,"hoary puccoon","forb",""]
["VT_Species","LTHO INC","LTHO INC","Lithospermum incisum","T",1899,"narrow-leaved puccoon","forb",""]
["VT_Species","LTHO RUD","LTHO RUD","Lithospermum ruderale","T",1900,"woolly puccoon","forb",""]
["VT_Species","LTHO SPP","LTHO SPP","Lithospermum spp.","T",1901,"puccoon (genus)","forb",""]
["VT_Species","LUPI ARG","LUPI ARG","Lupinus argenteus","T",1902,"silvery lupine","forb",""]
["VT_Species","LUPI ARG ARG","LUPI ARG ARG","Lupinus argenteus var. argenteus","T",1903,"silvery lupine","forb",""]
["VT_Species","LUPI ARG LAX","LUPI ARG LAX","Lupinus argenteus var. laxiflorus","T",1904,"silvery lupine","forb",""]
["VT_Species","LUPI PAR","LUPI PAR","Lupinus parviflorus","T",1905,"silver-stemmed lupine","forb",""]
["VT_Species","LUPI PUS","LUPI PUS","Lupinus pusillus","T",1906,"small lupine","forb",""]
["VT_Species","LUPI PUS PUS","LUPI PUS PUS","Lupinus pusillus ssp. pusillus","T",1907,"small lupine","forb",""]
["VT_Species","LUPI SPP","LUPI SPP","Lupinus spp.","T",1908,"lupine (genus)","forb",""]
["VT_Species","LUZU ACU","LUZU ACU","Luzula acuminata","T",1909,"hairy wood-rush","graminoid",""]
["VT_Species","LUZU ACU ACU","LUZU ACU ACU","Luzula acuminata var. acuminata","T",1910,"hairy wood-rush","graminoid",""]
["VT_Species","LUZU CON","LUZU CON","Luzula confusa","T",1911,"northern wood-rush","graminoid",""]
["VT_Species","LUZU MUL","LUZU MUL","Luzula multiflora","T",1912,"many-flowered wood-rush","graminoid",""]
["VT_Species","LUZU MUL FRI","LUZU MUL FRI","Luzula multiflora ssp. frigida","T",1913,"many-flowered wood-rush","graminoid",""]
["VT_Species","LUZU MUL MUL","LUZU MUL MUL","Luzula multiflora ssp. multiflora","T",1914,"many-flowered wood-rush","graminoid",""]
["VT_Species","LUZU PAR","LUZU PAR","Luzula parviflora","T",1915,"small-flowered wood-rush","graminoid",""]
["VT_Species","LUZU SPP","LUZU SPP","Luzula spp.","T",1916,"wood-rush (genus)","graminoid",""]
["VT_Species","LYCI BAR","LYCI BAR","Lycium barbarum","T",1917,"matrimony-vine","forb",""]
["VT_Species","LYCL INU","LYCL INU","Lycopodiella inundata","T",1918,"bog club-moss","forb",""]
["VT_Species","LYCO ANN","LYCO ANN","Lycopodium annotinum","T",1919,"stiff club-moss","forb",""]
["VT_Species","LYCO CLA","LYCO CLA","Lycopodium clavatum","T",1920,"running  club-moss","forb",""]
["VT_Species","LYCO DEN","LYCO DEN","Lycopodium dendroideum","T",1921,"ground-pine","forb",""]
["VT_Species","LYCO HIC","LYCO HIC","Lycopodium hickeyi","T",1922,"Hickey’s club-moss","forb",""]
["VT_Species","LYCO LAG","LYCO LAG","Lycopodium lagopus","T",1923,"running club-moss","forb",""]
["VT_Species","LYCO SPP","LYCO SPP","Lycopodium spp.","T",1924,"club-moss (genus)","forb",""]
["VT_Species","LYCU AME","LYCU AME","Lycopus americanus","T",1925,"American waterhorehound","forb",""]
["VT_Species","LYCU ASP","LYCU ASP","Lycopus asper","T",1926,"rough water-horehound","forb",""]
["VT_Species","LYCU SPP","LYCU SPP","Lycopus spp.","T",1927,"water-horehound (genus)","forb",""]
["VT_Species","LYCU UNI","LYCU UNI","Lycopus uniflorus","T",1928,"one-flowered water-horehound","forb",""]
["VT_Species","LYCU UNI UNI","LYCU UNI UNI","Lycopus uniflorus var. uniflorus","T",1929,"one-flowered water-horehound","forb",""]
["VT_Species","LYGO JUN","LYGO JUN","Lygodesmia juncea","T",1930,"rush skeleton-weed","forb",""]
["VT_Species","LYSI CIL","LYSI CIL","Lysimachia ciliata","T",1931,"fringed loosestrife","forb",""]
["VT_Species","LYSI HYB","LYSI HYB","Lysimachia hybrida","T",1932,"lance-leaved loosestrife","forb",""]
["VT_Species","LYSI SPP","LYSI SPP","Lysimachia spp.","T",1933,"loosestrife (genus)","forb",""]
["VT_Species","LYSI THY","LYSI THY","Lysimachia thyrsiflora","T",1934,"tufted loosestrife","forb",""]
["VT_Species","LYTH SAL","LYTH SAL","Lythrum salicaria","T",1935,"purple  loosestrife","forb",""]
["VT_Species","MADI GLO","MADI GLO","Madia glomerata","T",1936,"clustered tarweed","forb",""]
["VT_Species","MAIA CAN","MAIA CAN","Maianthemum canadense","T",1937,"wild lily-of-the-valley","forb",""]
["VT_Species","MAIA RAC","MAIA RAC","Maianthemum racemosum","T",1938,"feathery solomon’s-seal","forb",""]
["VT_Species","MAIA RAC AMP","MAIA RAC AMP","Maianthemum racemosum ssp. amplexicaule","T",1939,"feathery solomon’s-seal","forb",""]
["VT_Species","MAIA SPP","MAIA SPP","Maianthemum spp.","T",1940,"solomon's-seal (genus)","forb",""]
["VT_Species","MAIA STE","MAIA STE","Maianthemum stellatum","T",1941,"star-flowered solomon’s-seal","forb",""]
["VT_Species","MAIA TRI","MAIA TRI","Maianthemum trifolium","T",1942,"three-leaved solomon’s-seal","forb",""]
["VT_Species","MALA MON","MALA MON","Malaxis monophyllos","T",1943,"white adder’s-mouth","forb",""]
["VT_Species","MALA MON BRA","MALA MON BRA","Malaxis monophyllos var. brachypoda","T",1944,"white adder’s-mouth","forb",""]
["VT_Species","MALA PAL","MALA PAL","Malaxis paludosa","T",1945,"bog adder’s-mouth","forb",""]
["VT_Species","MALA SPP","MALA SPP","Malaxis spp.","T",1946,"adder's-mouth (genus)","forb",""]
["VT_Species","MALC AFR","MALC AFR","Malcolmia africana","T",1947,"African stock","forb",""]
["VT_Species","MALV ALC","MALV ALC","Malva alcea","T",1948,"vervain mallow","forb",""]
["VT_Species","MALV NEG","MALV NEG","Malva neglecta","T",1949,"dwarf mallow","forb",""]
["VT_Species","MALV PAR","MALV PAR","Malva parviflora","T",1950,"small-flowered mallow","forb",""]
["VT_Species","MALV PUS","MALV PUS","Malva pusilla","T",1951,"round-leaved mallow","forb",""]
["VT_Species","MALV SPP","MALV SPP","Malva spp.","T",1952,"mallow (genus)","forb",""]
["VT_Species","MALV SYL","MALV SYL","Malva sylvestris","T",1953,"purple mallow","forb",""]
["VT_Species","MALV VER","MALV VER","Malva verticillata","T",1954,"whorled mallow","forb",""]
["VT_Species","MARR VUL","MARR VUL","Marrubium vulgare","T",1955,"common horehound","forb",""]
["VT_Species","MARS VES","MARS VES","Marsilea vestita","T",1956,"hairy pepperwort","forb",""]
["VT_Species","MASS CAR","MASS CAR","Massalongia carnosa","T",1957,"rockmoss rosette lichen","lichen",""]
["VT_Species","MATH LON","MATH LON","Matthiola longipetala","T",1958,"evening-stock","forb",""]
["VT_Species","MATR CHA","MATR CHA","Matricaria chamomilla","T",1959,"fragrant chamomile","forb",""]
["VT_Species","MATR DIS","MATR DIS","Matricaria discoidea","T",1960,"pineapple-weed","forb",""]
["VT_Species","MATR SPP","MATR SPP","Matricaria spp.","T",1961,"matricaria (genus)","forb",""]
["VT_Species","MATT STR","MATT STR","Matteuccia struthiopteris","T",1962,"ostrich fern","forb",""]
["VT_Species","MATT STR PEN","MATT STR PEN","Matteuccia struthiopteris var. pensylvanica","T",1963,"ostrich fern","forb",""]
["VT_Species","MCCL SUB","MCCL SUB","Mycocalicium subtile","T",1964,"","lichen",""]
["VT_Species","MCRL DIS","MCRL DIS","Microcalicium disseminatum","T",1965,"","lichen",""]
["VT_Species","MEDI LUP","MEDI LUP","Medicago lupulina","T",1966,"black medick","forb",""]
["VT_Species","MEDI POL","MEDI POL","Medicago polymorpha","T",1967,"bur-clover","forb",""]
["VT_Species","MEDI SAT","MEDI SAT","Medicago sativa","T",1968,"alfalfa","forb",""]
["VT_Species","MEDI SAT FAL","MEDI SAT FAL","Medicago sativa ssp. falcata","T",1969,"yellow alfalfa","forb",""]
["VT_Species","MEDI SAT SAT","MEDI SAT SAT","Medicago sativa ssp. sativa","T",1970,"alfalfa","forb",""]
["VT_Species","MEDI SPP","MEDI SPP","Medicago spp.","T",1971,"alfalfa (genus)","forb",""]
["VT_Species","MEES LON","MEES LON","Meesia longiseta","T",1972,"long-stalked thread moss","bryophyte",""]
["VT_Species","MEES SPP","MEES SPP","Meesia spp.","T",1973,"","bryophyte",""]
["VT_Species","MEES TRI","MEES TRI","Meesia triquetra","T",1974,"three-angled thread moss","bryophyte",""]
["VT_Species","MEES ULI","MEES ULI","Meesia uliginosa","T",1975,"capillary thread moss","bryophyte",""]
["VT_Species","MEGA VER","MEGA VER","Megaspora verrucosa","T",1976,"false sunken disk lichen","lichen",""]
["VT_Species","MELA LIN","MELA LIN","Melampyrum lineare","T",1977,"American cow-wheat","forb",""]
["VT_Species","MELA LIN LIN","MELA LIN LIN","Melampyrum lineare var. lineare","T",1978,"American cow-wheat","forb",""]
["VT_Species","MELI BUL","MELI BUL","Melica bulbosa","T",1979,"onion grass","graminoid",""]
["VT_Species","MELL ALB","MELL ALB","Melilotus alba","T",1980,"white sweet-clover","forb",""]
["VT_Species","MELL OFF","MELL OFF","Melilotus officinalis","T",1981,"yellow sweet-clover","forb",""]
["VT_Species","MELL SPP","MELL SPP","Melilotus spp.","T",1982,"sweet-clover (genus)","forb",""]
["VT_Species","MELL WOL","MELL WOL","Melilotus wolgica","T",1983,"Volga sweet-clover","forb",""]
["VT_Species","MENE TER","MENE TER","Menegazzia terebrata","T",1984,"treeflute","lichen",""]
["VT_Species","MENT ARV","MENT ARV","Mentha arvensis","T",1985,"wild mint","forb",""]
["VT_Species","MENT SPI","MENT SPI","Mentha spicata","T",1986,"spearmint","forb",""]
["VT_Species","MENT SPP","MENT SPP","Mentha spp.","T",1987,"mint (genus)","forb",""]
["VT_Species","MENY TRI","MENY TRI","Menyanthes trifoliata","T",1988,"buck-bean","forb",""]
["VT_Species","MERT LAN","MERT LAN","Mertensia lanceolata","T",1989,"lance-leaved lungwort","forb",""]
["VT_Species","MERT LAN LAN","MERT LAN LAN","Mertensia lanceolata var. lanceolata","T",1990,"lance-leaved lungwort","forb",""]
["VT_Species","MERT PAN","MERT PAN","Mertensia paniculata","T",1991,"tall lungwort","forb",""]
["VT_Species","MERT PAN PAN","MERT PAN PAN","Mertensia paniculata var. paniculata","T",1992,"tall lungwort","forb",""]
["VT_Species","MERT SPP","MERT SPP","Mertensia spp.","T",1993,"lungwort (genus)","forb",""]
["VT_Species","MICA ASS","MICA ASS","Micarea assimilata","T",1994,"dot lichen","lichen",""]
["VT_Species","MICA MEL","MICA MEL","Micarea melaena","T",1995,"dot lichen","lichen",""]
["VT_Species","MICA SPP","MICA SPP","Micarea spp.","T",1996,"","lichen",""]
["VT_Species","MICR OCC","MICR OCC","Micranthes occidentalis","T",1997,"western saxifrage","forb",""]
["VT_Species","MICR PEN","MICR PEN","Micranthes pensylvanica","T",1998,"swamp saxifrage","forb",""]
["VT_Species","MICR SPP","MICR SPP","Micranthes spp.","T",1999,"saxifrage (Micranthes genus)","forb",""]
["VT_Species","MILL EFF","MILL EFF","Millium effusum","T",2000,"American millet-grass","graminoid",""]
["VT_Species","MILL EFF CIS","MILL EFF CIS","Millium effusum var. cisatlanticum","T",2001,"American millet-grass","graminoid",""]
["VT_Species","MIMU GLA","MIMU GLA","Mimulus glabratus","T",2002,"smooth monkey-flower","forb",""]
["VT_Species","MIMU GLA JAM","MIMU GLA JAM","Mimulus glabratus var. jamesii","T",2003,"smooth monkey-flower","forb",""]
["VT_Species","MIMU GUT","MIMU GUT","Mimulus guttatus","T",2004,"common monkey-flower","forb",""]
["VT_Species","MIMU RIN","MIMU RIN","Mimulus ringens","T",2005,"blue monkey-flower","forb",""]
["VT_Species","MIMU RIN RIN","MIMU RIN RIN","Mimulus ringens var. ringens","T",2006,"blue monkey-flower","forb",""]
["VT_Species","MIMU SPP","MIMU SPP","Mimulus spp.","T",2007,"monkey-flower (genus)","forb",""]
["VT_Species","MINU DAW","MINU DAW","Minuartia dawsonensis","T",2008,"rock sandwort","forb",""]
["VT_Species","MINU RUB","MINU RUB","Minuartia rubella","T",2009,"reddish sandwort","forb",""]
["VT_Species","MINU SPP","MINU SPP","Minuartia spp.","T",2010,"sandwort (Minuartia genus)","forb",""]
["VT_Species","MIRA ALB","MIRA ALB","Mirabilis albida","T",2011,"hairy umbrella-wort","forb",""]
["VT_Species","MIRA LIN","MIRA LIN","Mirabilis linearis","T",2012,"linear-leaved umbrella-wort","forb",""]
["VT_Species","MIRA NYC","MIRA NYC","Mirabilis nyctaginea","T",2013,"heart-leaved umbrella-wort","forb",""]
["VT_Species","MIRA SPP","MIRA SPP","Mirabilis spp.","T",2014,"umbrella-wort (genus)","forb",""]
["VT_Species","MITE NUD","MITE NUD","Mitella nuda","T",2015,"bishop’s-cap","forb",""]
["VT_Species","MLNL ALB","MLNL ALB","Melanelia albertana","T",2016,"powder-rimmed camouflage lichen","lichen",""]
["VT_Species","MLNL DIS","MLNL DIS","Melanelia disjuncta","T",2017,"mealy camouflage lichen","lichen",""]
["VT_Species","MLNL ELE","MLNL ELE","Melanelia elegantula","T",2018,"elegant camouflage lichen","lichen",""]
["VT_Species","MLNL ETA","MLNL ETA","Melanelia exasperata","T",2019,"camouflage lichen","lichen",""]
["VT_Species","MLNL ETU","MLNL ETU","Melanelia exasperatula","T",2020,"lustrous camouflage lichen","lichen",""]
["VT_Species","MLNL INF","MLNL INF","Melanelia infumata","T",2021,"camouflage lichen","lichen",""]
["VT_Species","MLNL OLI","MLNL OLI","Melanelia olivacea","T",2022,"spotted camouflage lichen","lichen",""]
["VT_Species","MLNL PAN","MLNL PAN","Melanelia panniformis","T",2023,"shingled camouflage lichen","lichen",""]
["VT_Species","MLNL SBF","MLNL SBF","Melanelia subaurifera","T",2024,"abraded camouflage lichen","lichen",""]
["VT_Species","MLNL SBG","MLNL SBG","Melanelia subargentifera","T",2025,"whiskered camouglage lichen","lichen",""]
["VT_Species","MLNL SBV","MLNL SBV","Melanelia subolivacea","T",2026,"brown-eyed camouflage lichen","lichen",""]
["VT_Species","MLNL SEP","MLNL SEP","Melanelia septentrionalis","T",2027,"northern camouflage lichen","lichen",""]
["VT_Species","MLNL SOR","MLNL SOR","Melanelia sorediata","T",2028,"powdered camouflage lichen","lichen",""]
["VT_Species","MLNL SPP","MLNL SPP","Melanelia spp.","T",2029,"","lichen",""]
["VT_Species","MLNL STY","MLNL STY","Melanelia stygia","T",2030,"alpine camouflage lichen","lichen",""]
["VT_Species","MLNL TOM","MLNL TOM","Melanelia tominii","T",2031,"dimpled camouflage lichen","lichen",""]
["VT_Species","MNIU AMB","MNIU AMB","Mnium ambiguum","T",2032,"","bryophyte",""]
["VT_Species","MNIU MAR","MNIU MAR","Mnium marginatum","T",2033,"edged lantern moss","bryophyte",""]
["VT_Species","MNIU SPI","MNIU SPI","Mnium spinulosum","T",2034,"red-mouthed mnium","bryophyte",""]
["VT_Species","MNIU SPP","MNIU SPP","Mnium spp.","T",2035,"","bryophyte",""]
["VT_Species","MNIU STE","MNIU STE","Mnium stellare","T",2036,"","bryophyte",""]
["VT_Species","MNTZ ALB","MNTZ ALB","Mentzelia albicaulis","T",2037,"white-stemmed evening-star","forb",""]
["VT_Species","MNTZ DEC","MNTZ DEC","Mentzelia decapetala","T",2038,"evening-star","forb",""]
["VT_Species","MNTZ SPP","MNTZ SPP","Mentzelia spp.","T",2039,"evening-star (genus)","forb",""]
["VT_Species","MOEH LAT","MOEH LAT","Moehringia lateriflora","T",2040,"blunt-leaved sandwort","forb",""]
["VT_Species","MOEH MAC","MOEH MAC","Moehringia macrophylla","T",2041,"large-leaved sandwort","forb",""]
["VT_Species","MOEH SPP","MOEH SPP","Moehringia spp.","T",2042,"sandwort (Moehringia genus)","forb",""]
["VT_Species","MONA FIS","MONA FIS","Monarda fistulosa","T",2043,"wild bergamot","forb",""]
["VT_Species","MONA FIS MEN","MONA FIS MEN","Monarda fistulosa var. menthifolia","T",2044,"wild bergamot","forb",""]
["VT_Species","MONA FIS MOL","MONA FIS MOL","Monarda fistulosa var. mollis","T",2045,"soft wild bergamot","forb",""]
["VT_Species","MONE UNI","MONE UNI","Monesis uniflora","T",2046,"one-flowered wintergreen","forb",""]
["VT_Species","MONE UNI UNI","MONE UNI UNI","Monesis uniflora ssp. uniflora","T",2047,"one-flowered wintergreen","forb",""]
["VT_Species","MONO NUT","MONO NUT","Monolepis nuttalliana","T",2048,"spear-leaved goosefoot","forb",""]
["VT_Species","MONR HYP","MONR HYP","Monotropa hypopitys","T",2049,"many-flowered pine-sap","forb",""]
["VT_Species","MONR SPP","MONR SPP","Monotropa spp.","T",2050,"pine-sap (genus)","forb",""]
["VT_Species","MONR UNI","MONR UNI","Monotropa uniflora","T",2051,"Indian-pipe","forb",""]
["VT_Species","MONT LIN","MONT LIN","Montia linearis","T",2052,"linear-leaved spring-beauty","forb",""]
["VT_Species","MUHL AND","MUHL AND","Muhlenbergia andina","T",2053,"foxtail muhly","graminoid",""]
["VT_Species","MUHL ASP","MUHL ASP","Muhlenbergia asperifolia","T",2054,"scratch-grass","graminoid",""]
["VT_Species","MUHL CUS","MUHL CUS","Muhlenbergia cuspidata","T",2055,"plains muhly","graminoid",""]
["VT_Species","MUHL GLO","MUHL GLO","Muhlenbergia glomerata","T",2056,"bog muhly","graminoid",""]
["VT_Species","MUHL MEX","MUHL MEX","Muhlenbergia mexicana","T",2057,"Mexican muhly","graminoid",""]
["VT_Species","MUHL RAC","MUHL RAC","Muhlenbergia racemosa","T",2058,"marsh muhly","graminoid",""]
["VT_Species","MUHL RIC","MUHL RIC","Muhlenbergia richardsonis","T",2059,"mat muhly","graminoid",""]
["VT_Species","MUHL SPP","MUHL SPP","Muhlenbergia spp.","T",2060,"muhly (genus)","graminoid",""]
["VT_Species","MULG PUL","MULG PUL","Mulgedium pulchellum","T",2061,"wild blue lettuce","forb",""]
["VT_Species","MUNR SQU","MUNR SQU","Munroa squarrosa","T",2062,"false buffalo-grass","graminoid",""]
["VT_Species","MUSI DIV","MUSI DIV","Musineon divaricatum","T",2063,"leafy musineon","forb",""]
["VT_Species","MUSI DIV DIV","MUSI DIV DIV","Musineon divaricatum var. divaricatum","T",2064,"leafy musineon","forb",""]
["VT_Species","MUSI DIV HOO","MUSI DIV HOO","Musineon divaricatum var. hookeri","T",2065,"leafy musineon","forb",""]
["VT_Species","MYBL ALP","MYBL ALP","Mycoblastus alpinus","T",2066,"alpine blood lichen","lichen",""]
["VT_Species","MYBL SAN","MYBL SAN","Mycoblastus sanguinarius","T",2067,"bloody-heart lichen","lichen",""]
["VT_Species","MYBL SPP","MYBL SPP","Mycoblastus spp.","T",2068,"","lichen",""]
["VT_Species","MYCO BER","MYCO BER","Mycobilimbia berengeriana","T",2069,"dot lichen","lichen",""]
["VT_Species","MYCO SAB","MYCO SAB","Mycobilimbia sabuletorum","T",2070,"six-celled moss-dot","lichen",""]
["VT_Species","MYCO SPP","MYCO SPP","Mycobilimbia spp.","T",2071,"","lichen",""]
["VT_Species","MYCO TET","MYCO TET","Mycobilimbia tetramera","T",2072,"four-celled moss-dot","lichen",""]
["VT_Species","MYOS ARV","MYOS ARV","Myosotis arvensis","T",2073,"field forget-me-not","forb",""]
["VT_Species","MYOU APE","MYOU APE","Myosurus apetalus","T",2074,"awned mousetail","forb",""]
["VT_Species","MYOU APE BOR","MYOU APE BOR","Myosurus apetalus var. borealis","T",2075,"northern awned mousetail","forb",""]
["VT_Species","MYOU APE MON","MYOU APE MON","Myosurus apetalus var. montanus","T",2076,"mountain awned mousetail","forb",""]
["VT_Species","MYOU MIN","MYOU MIN","Myosurus minimus","T",2077,"least mousetail","forb",""]
["VT_Species","MYOU SPP","MYOU SPP","Myosurus spp.","T",2078,"mousetail (genus)","forb",""]
["VT_Species","MYRI GAL","MYRI GAL","Myrica gale","T",2079,"sweet-gale","erect shrub",""]
["VT_Species","MYRO ALT","MYRO ALT","Myriophyllum alterniflorum","T",2080,"alternate-flowered water-milfoil","forb",""]
["VT_Species","MYRO PIN","MYRO PIN","Myriophyllum pinnatum","T",2081,"pinnate water-milfoil","forb",""]
["VT_Species","MYRO SIB","MYRO SIB","Myriophyllum sibiricum","T",2082,"Siberian water-milfoil","forb",""]
["VT_Species","MYRO SPI","MYRO SPI","Myriophyllum spicatum","T",2083,"Eurasian spiked water-milfoil","forb",""]
["VT_Species","MYRO SPP","MYRO SPP","Myriophyllum spp.","T",2084,"water-milfoil (genus)","forb",""]
["VT_Species","MYRO VER","MYRO VER","Myriophyllum verticillatum","T",2085,"whorled water-milfoil","forb",""]
["VT_Species","MYUR JUL","MYUR JUL","Myurella julacea","T",2086,"small mouse-tail moss","bryophyte",""]
["VT_Species","NAJA FLE","NAJA FLE","Najas flexilis","T",2087,"slender naiad","forb",""]
["VT_Species","NASS VIR","NASS VIR","Nassella viridula","T",2088,"green needle-grass","graminoid",""]
["VT_Species","NAST MIC","NAST MIC","Nasturtium microphyllum","T",2089,"one-row watercress","forb",""]
["VT_Species","NAST OFF","NAST OFF","Nasturtium officinale","T",2090,"two-row watercress","forb",""]
["VT_Species","NAST SPP","NAST SPP","Nasturtium spp.","T",2091,"watercress","forb",""]
["VT_Species","NAVA LEU","NAVA LEU","Navarretia leucocephala","T",2092,"least navarretia","forb",""]
["VT_Species","NAVA LEU MIN","NAVA LEU MIN","Navarretia leucocephala ssp. minima","T",2093,"least navarretia","forb",""]
["VT_Species","NEOF VER","NEOF VER","Neofuscelia verruculifera","T",2094,"camouflage lichen","lichen",""]
["VT_Species","NEPE CAT","NEPE CAT","Nepeta cataria","T",2095,"catnip","forb",""]
["VT_Species","NEPH ARC","NEPH ARC","Nephroma arcticum","T",2096,"arctic kidney lichen","lichen",""]
["VT_Species","NEPH BEL","NEPH BEL","Nephroma bellum","T",2097,"naked kidney lichen","lichen",""]
["VT_Species","NEPH HEL","NEPH HEL","Nephroma helveticum","T",2098,"fringed kidney lichen","lichen",""]
["VT_Species","NEPH PAR","NEPH PAR","Nephroma parile","T",2099,"powdery kidney lichen","lichen",""]
["VT_Species","NEPH RES","NEPH RES","Nephroma resupinatum","T",2100,"pimpled kidney lichen","lichen",""]
["VT_Species","NEPH SPP","NEPH SPP","Nephroma spp.","T",2101,"","lichen",""]
["VT_Species","NESL PAN","NESL PAN","Neslia paniculata","T",2102,"yellow ball-mustard","forb",""]
["VT_Species","NICA PHY","NICA PHY","Nicandra physalodes","T",2103,"apple-of-peru","forb",""]
["VT_Species","NOTH CUS","NOTH CUS","Nothocalais cuspidata","T",2104,"prairie false dandelion","forb",""]
["VT_Species","NUPH MIC","NUPH MIC","Nuphar microphyllum","T",2105,"small yellow pond-lily","forb",""]
["VT_Species","NUPH SPP","NUPH SPP","Nuphar spp.","T",2106,"pond-lily (genus)","forb",""]
["VT_Species","NUPH VAR","NUPH VAR","Nuphar variegatum","T",2107,"yellow pond-lily","forb",""]
["VT_Species","NUTT TEX","NUTT TEX","Nuttallanthus texanus","T",2108,"Texas toadflax","forb",""]
["VT_Species","NYMP LEI","NYMP LEI","Nymphaea leibergii","T",2109,"Leiberg's water-lily","forb",""]
["VT_Species","NYMP ODO","NYMP ODO","Nymphaea odorata","T",2110,"fragrant white water-lily","forb",""]
["VT_Species","NYMP ODO ODO","NYMP ODO ODO","Nymphaea odorata ssp. odorata","T",2111,"fragrant white water-lily","forb",""]
["VT_Species","NYMP SPP","NYMP SPP","Nymphaea spp.","T",2112,"water-lily (genus)","forb",""]
["VT_Species","NYMP TET","NYMP TET","Nymphaea tetragona","T",2113,"small white water-lily","forb",""]
["VT_Species","OCHR AND","OCHR AND","Ochrolechia androgyna","T",2114,"powdery saucer lichen","lichen",""]
["VT_Species","OCHR ARB","OCHR ARB","Ochrolechia arborea","T",2115,"saucer lichen","lichen",""]
["VT_Species","OCHR FRI","OCHR FRI","Ochrolechia frigida","T",2116,"arctic saucer lichen","lichen",""]
["VT_Species","OCHR INA","OCHR INA","Ochrolechia inaequatula","T",2117,"saucer lichen","lichen",""]
["VT_Species","OCHR SPP","OCHR SPP","Ochrolechia spp.","T",2118,"","lichen",""]
["VT_Species","OCHR UPS","OCHR UPS","Ochrolechia upsaliensis","T",2119,"tundra saucer lichen","lichen",""]
["VT_Species","ODON VER","ODON VER","Odontites vernus","T",2120,"late-flowering eyebright","forb",""]
["VT_Species","ODON VER SER","ODON VER SER","Odontites vernus ssp. serotinus","T",2121,"late-flowering eyebright","forb",""]
["VT_Species","OENO BIE","OENO BIE","Oenothera biennis","T",2122,"common evening-primrose","forb",""]
["VT_Species","OENO CES","OENO CES","Oenothera cespitosa","T",2123,"rock-rose","forb",""]
["VT_Species","OENO CES CES","OENO CES CES","Oenothera cespitosa ssp. cespitosa","T",2124,"rock-rose","forb",""]
["VT_Species","OENO FLA","OENO FLA","Oenothera flava","T",2125,"yellow evening-primrose","forb",""]
["VT_Species","OENO FLA FLA","OENO FLA FLA","Oenothera flava ssp. flava","T",2126,"yellow evening-primrose","forb",""]
["VT_Species","OENO NUT","OENO NUT","Oenothera nuttallii","T",2127,"white evening-primrose","forb",""]
["VT_Species","OENO PAR","OENO PAR","Oenothera parviflora","T",2128,"northern evening-primrose","forb",""]
["VT_Species","OENO SPP","OENO SPP","Oenothera spp.","T",2129,"evening-primrose (genus)","forb",""]
["VT_Species","OENO VIL","OENO VIL","Oenothera villosa","T",2130,"hairy evening-primrose","forb",""]
["VT_Species","OENO VIL STR","OENO VIL STR","Oenothera villosa ssp. strigosa","T",2131,"hairy evening-primrose","forb",""]
["VT_Species","OENO VIL VIL","OENO VIL VIL","Oenothera villosa ssp. villosa","T",2132,"hairy evening-primrose","forb",""]
["VT_Species","OMPH UMB","OMPH UMB","Omphalina umbellifera","T",2133,"greenpea mushroom lichen","lichen",""]
["VT_Species","ONCO SPP","ONCO SPP","Oncophorus spp.","T",2134,"","bryophyte",""]
["VT_Species","ONCO VIR","ONCO VIR","Oncophorus virens","T",2135,"green spur-fruited fork moss","bryophyte",""]
["VT_Species","ONCO WAH","ONCO WAH","Oncophorus wahlenbergii","T",2136,"mountain curved-back moss","bryophyte",""]
["VT_Species","ONOB VIC","ONOB VIC","Onobrychis viciifolia","T",2137,"sainfoil","forb",""]
["VT_Species","ONOS BEJ","ONOS BEJ","Onosmodium bejariense","T",2138,"western false gromwell","forb",""]
["VT_Species","ONOS BEJ OCC","ONOS BEJ OCC","Onosmodium bejariense var. occidentale","T",2139,"western false gromwell","forb",""]
["VT_Species","OPEG VAR","OPEG VAR","Opegrapha varia","T",2140,"scribble lichen","lichen",""]
["VT_Species","OPHI VEN","OPHI VEN","Ophioparma ventosa","T",2141,"alpine bloodspot","lichen",""]
["VT_Species","OPUN FRA","OPUN FRA","Opuntia fragilis","T",2142,"brittle prickly-pear","cactus",""]
["VT_Species","OPUN FRA FRA","OPUN FRA FRA","Opuntia fragilis var. fragilis","T",2143,"brittle prickly-pear","cactus",""]
["VT_Species","OPUN POL","OPUN POL","Opuntia polyacantha","T",2144,"plains prickly-pear","cactus",""]
["VT_Species","OPUN POL POL","OPUN POL POL","Opuntia polyacantha var. polyacantha","T",2145,"plains prickly-pear","cactus",""]
["VT_Species","OPUN SPP","OPUN SPP","Opuntia spp.","T",2146,"prickly-pear (genus)","cactus",""]
["VT_Species","OROB FAS","OROB FAS","Orobanche fasciculata","T",2147,"clustered broomrape","forb",""]
["VT_Species","OROB LUD","OROB LUD","Orobanche ludoviciana","T",2148,"Louisiana broomrape","forb",""]
["VT_Species","OROB LUD LUD","OROB LUD LUD","Orobanche ludoviciana ssp. ludoviciana","T",2149,"Louisiana broomrape","forb",""]
["VT_Species","OROB SPP","OROB SPP","Orobanche spp.","T",2150,"broomrape (genus)","forb",""]
["VT_Species","OROB UNI","OROB UNI","Orobanche uniflora","T",2151,"one-flowered broomrape","forb",""]
["VT_Species","ORTH LUT","ORTH LUT","Orthocarpus luteus","T",2152,"golden-tongue owl’s-clover","forb",""]
["VT_Species","ORTL SEC","ORTL SEC","Orthilia secunda","T",2153,"one-sided wintergreen","forb",""]
["VT_Species","ORTR ANO","ORTR ANO","Orthotrichum anomalum","T",2154,"","bryophyte",""]
["VT_Species","ORTR OBT","ORTR OBT","Orthotrichum obtusifolium","T",2155,"blunt-leaved bristle moss","bryophyte",""]
["VT_Species","ORTR PUM","ORTR PUM","Orthotrichum pumilum","T",2156,"","bryophyte",""]
["VT_Species","ORTR SPP","ORTR SPP","Orthotrichum spp.","T",2157,"","bryophyte",""]
["VT_Species","ORTR STR","ORTR STR","Orthotrichum strangulatum","T",2158,"","bryophyte",""]
["VT_Species","ORTT CHR","ORTT CHR","Orthothecium chryseum","T",2159,"","bryophyte",""]
["VT_Species","ORYZ ASP","ORYZ ASP","Oryzopsis asperifolia","T",2160,"rough-leaved rice-grass","graminoid",""]
["VT_Species","OSMO BER","OSMO BER","Osmorhiza berteroi","T",2161,"western sweet-cicely","forb",""]
["VT_Species","OSMO CLA","OSMO CLA","Osmorhiza claytonii","T",2162,"hairy sweet-cicely","forb",""]
["VT_Species","OSMO DEP","OSMO DEP","Osmorhiza depauperata","T",2163,"blunt-fruited sweet-cicely","forb",""]
["VT_Species","OSMO LON","OSMO LON","Osmorhiza longistylis","T",2164,"long-styled sweet-cicely","forb",""]
["VT_Species","OSMO SPP","OSMO SPP","Osmorhiza spp.","T",2165,"sweet-cicely (genus)","forb",""]
["VT_Species","OXAL COR","OXAL COR","Oxalis corniculata","T",2166,"creeping wood-sorrel","forb",""]
["VT_Species","OXAL DIL","OXAL DIL","Oxalis dillenii","T",2167,"gray-green wood-sorrel","forb",""]
["VT_Species","OXAL SPP","OXAL SPP","Oxalis spp.","T",2168,"wood-sorrel (genus)","forb",""]
["VT_Species","OXAL STR","OXAL STR","Oxalis stricta","T",2169,"yellow wood-sorrel","forb",""]
["VT_Species","OXYT BES","OXYT BES","Oxytropis besseyi","T",2170,"Bessey’s locoweed","forb",""]
["VT_Species","OXYT BES BES","OXYT BES BES","Oxytropis besseyi var. besseyi","T",2171,"Bessey’s locoweed","forb",""]
["VT_Species","OXYT CAM","OXYT CAM","Oxytropis campestris","T",2172,"early yellow locoweed","forb",""]
["VT_Species","OXYT CAM DIS","OXYT CAM DIS","Oxytropis campestris var. dispar","T",2173,"blue late locoweed","forb",""]
["VT_Species","OXYT CAM SPI","OXYT CAM SPI","Oxytropis campestris var. spicata","T",2174,"early yellow locoweed","forb",""]
["VT_Species","OXYT DEF","OXYT DEF","Oxytropis deflexa","T",2175,"reflexed locoweed","forb",""]
["VT_Species","OXYT DEF SER","OXYT DEF SER","Oxytropis deflexa var. sericea","T",2176,"reflexed locoweed","forb",""]
["VT_Species","OXYT LAM","OXYT LAM","Oxytropis lambertii","T",2177,"purple locoweed","forb",""]
["VT_Species","OXYT LAM LAM","OXYT LAM LAM","Oxytropis lambertii var. lambertii","T",2178,"purple locoweed","forb",""]
["VT_Species","OXYT MON","OXYT MON","Oxytropis monticola","T",2179,"late yellow locoweed","forb",""]
["VT_Species","OXYT SER","OXYT SER","Oxytropis sericea","T",2180,"Rocky Mountain locoweed","forb",""]
["VT_Species","OXYT SER SPE","OXYT SER SPE","Oxytropis sericea var. speciosa","T",2181,"Rocky Mountain locoweed","forb",""]
["VT_Species","OXYT SPL","OXYT SPL","Oxytropis splendens","T",2182,"showy locoweed","forb",""]
["VT_Species","OXYT SPP","OXYT SPP","Oxytropis spp.","T",2183,"locoweed (genus)","forb",""]
["VT_Species","PACK CAN","PACK CAN","Packera cana","T",2184,"silvery groundsel","forb",""]
["VT_Species","PACK IND","PACK IND","Packera indecora","T",2185,"rayless groundsel","forb",""]
["VT_Species","PACK PAP","PACK PAP","Packera paupercula","T",2186,"balsam groundsel","forb",""]
["VT_Species","PACK PAU","PACK PAU","Packera pauciflora","T",2187,"few-flowered ragwort","forb",""]
["VT_Species","PACK PLA","PACK PLA","Packera plattensis","T",2188,"prairie groundsel","forb",""]
["VT_Species","PACK PSE","PACK PSE","Packera pseudaurea","T",2189,"golden groundsel","forb",""]
["VT_Species","PACK PSE PSE","PACK PSE PSE","Packera pseudaurea var. pseudaurea","T",2190,"golden groundsel","forb",""]
["VT_Species","PACK SPP","PACK SPP","Packera spp.","T",2191,"groundsel (Packera genus)","forb",""]
["VT_Species","PACK STR","PACK STR","Packera streptanthifolia","T",2192,"northern ragwort","forb",""]
["VT_Species","PACK STR STR","PACK STR STR","Packera streptanthifolia var. streptanthifolia","T",2193,"northern ragwort","forb",""]
["VT_Species","PALU SQU","PALU SQU","Paludella squarrosa","T",2194,"","bryophyte",""]
["VT_Species","PANI CAP","PANI CAP","Panicum capillare","T",2195,"witch-grass","graminoid",""]
["VT_Species","PANI MIL","PANI MIL","Panicum miliaceum","T",2196,"broomcorn","graminoid",""]
["VT_Species","PANI SPP","PANI SPP","Panicum spp.","T",2197,"panic-grass (Panicum genus)","graminoid",""]
["VT_Species","PANI VIR","PANI VIR","Panicum virgatum","T",2198,"switch-grass","graminoid",""]
["VT_Species","PANI VIR VIR","PANI VIR VIR","Panicum virgatum var. virgatum","T",2199,"switch-grass","graminoid",""]
["VT_Species","PANN CON","PANN CON","Pannaria conoplea","T",2200,"mealy-rimmed shingle lichen","lichen",""]
["VT_Species","PANN PEZ","PANN PEZ","Pannaria pezizoides","T",2201,"brown-gray moss-shingle","lichen",""]
["VT_Species","PANN SPP","PANN SPP","Pannaria spp.","T",2202,"","lichen",""]
["VT_Species","PAPA RHO","PAPA RHO","Papaver rhoeas","T",2203,"corn poppy","forb",""]
["VT_Species","PAPA SOM","PAPA SOM","Papaver somniferum","T",2204,"opium poppy","forb",""]
["VT_Species","PAPA SPP","PAPA SPP","Papaver spp.","T",2205,"poppy (genus)","forb",""]
["VT_Species","PARA LON","PARA LON","Paraleucobryum longifolium","T",2206,"","bryophyte",""]
["VT_Species","PARI PEN","PARI PEN","Parietaria pensylvanica","T",2207,"Pennsylvania pellitory","forb",""]
["VT_Species","PARI PEN PEN","PARI PEN PEN","Parietaria pensylvanica var. pensylvanica","T",2208,"Pennsylvania pellitory","forb",""]
["VT_Species","PARM HAL","PARM HAL","Parmelia halei","T",2209,"shield lichen","lichen",""]
["VT_Species","PARM OMP","PARM OMP","Parmelia omphalodes","T",2210,"smokey crottle","lichen",""]
["VT_Species","PARM SAX","PARM SAX","Parmelia saxatilis","T",2211,"salted shield lichen","lichen",""]
["VT_Species","PARM SPP","PARM SPP","Parmelia spp.","T",2212,"","lichen",""]
["VT_Species","PARM SQU","PARM SQU","Parmelia squarrosa","T",2213,"bottlebrush shield lichen","lichen",""]
["VT_Species","PARM SUL","PARM SUL","Parmelia sulcata","T",2214,"hammered shield lichen","lichen",""]
["VT_Species","PARN GLA","PARN GLA","Parnassia glauca","T",2215,"glaucous grass-of-parnassus","forb",""]
["VT_Species","PARN KOT","PARN KOT","Parnassia kotzebuei","T",2216,"Kotzebue’s grass of-parnassus","forb",""]
["VT_Species","PARN PAL","PARN PAL","Parnassia palustris","T",2217,"marsh grass-of-parnassus","forb",""]
["VT_Species","PARN PAL MON","PARN PAL MON","Parnassia palustris var. montanensis","T",2218,"mountain grass-of-parnassus","forb",""]
["VT_Species","PARN PAL PAR","PARN PAL PAR","Parnassia palustris var. parviflora","T",2219,"small-flowered grass-of-parnassus","forb",""]
["VT_Species","PARN PAL TEN","PARN PAL TEN","Parnassia palustris var. tenuis","T",2220,"marsh grass-of-parnassus","forb",""]
["VT_Species","PARN SPP","PARN SPP","Parnassia spp.","T",2221,"grass-of-parnassus (genus)","forb",""]
["VT_Species","PARO SES","PARO SES","Paronychia sessiliflora","T",2222,"low whitlow-wort","forb",""]
["VT_Species","PART QUI","PART QUI","Parthenocissus quinquefolia","T",2223,"Virginia creeper","erect shrub",""]
["VT_Species","PART SPP","PART SPP","Parthenocissus spp.","T",2224,"creeper (genus)","erect shrub",""]
["VT_Species","PART VIT","PART VIT","Parthenocissus vitacea","T",2225,"thicket creeper","erect shrub",""]
["VT_Species","PASC SMI","PASC SMI","Pascopyrum smithii","T",2226,"western wheat-grass","graminoid",""]
["VT_Species","PAST SAT","PAST SAT","Pastinaca sativa","T",2227,"wild parsnip","forb",""]
["VT_Species","PEDI GRO","PEDI GRO","Pedicularis groenlandica","T",2228,"elephant’s-head","forb",""]
["VT_Species","PEDI GRO GRO","PEDI GRO GRO","Pedicularis groenlandica ssp. groenlandica","T",2229,"elephant’s-head","forb",""]
["VT_Species","PEDI LAB","PEDI LAB","Pedicularis labradorica","T",2230,"Labrador lousewort","forb",""]
["VT_Species","PEDI LAB LAB","PEDI LAB LAB","Pedicularis labradorica var. labradorica","T",2231,"Labrador lousewort","forb",""]
["VT_Species","PEDI MAC","PEDI MAC","Pedicularis macrodonta","T",2232,"purple lousewort","forb",""]
["VT_Species","PEDI SPP","PEDI SPP","Pedicularis spp.","T",2233,"lousewort (genus)","forb",""]
["VT_Species","PEDM ARG","PEDM ARG","Pediomelum argophyllum","T",2234,"silver-leaf psoralea","forb",""]
["VT_Species","PEDM ESC","PEDM ESC","Pediomelum esculentum","T",2235,"breadroot","forb",""]
["VT_Species","PEDM SPP","PEDM SPP","Pediomelum spp.","T",2236,"psoralea (genus)","forb",""]
["VT_Species","PELL GAS","PELL GAS","Pellaea gastonyi","T",2237,"Gastony's cliff-brake","forb",""]
["VT_Species","PELL GLA","PELL GLA","Pellaea glabella","T",2238,"western smooth cliff-brake","forb",""]
["VT_Species","PELL GLA OCC","PELL GLA OCC","Pellaea glabella var. occidentalis","T",2239,"western smooth cliff-brake","forb",""]
["VT_Species","PELL SPP","PELL SPP","Pellaea spp.","T",2240,"cliff-brake (genus)","forb",""]
["VT_Species","PELT APH","PELT APH","Peltigera aphthosa","T",2241,"common freckle pelt","lichen",""]
["VT_Species","PELT CAN","PELT CAN","Peltigera canina","T",2242,"dog-lichen","lichen",""]
["VT_Species","PELT DID","PELT DID","Peltigera didactyla","T",2243,"alternating dog-lichen","lichen",""]
["VT_Species","PELT ELI","PELT ELI","Peltigera elisabethae","T",2244,"concentric pelt","lichen",""]
["VT_Species","PELT EVA","PELT EVA","Peltigera evansiana","T",2245,"peppered pelt","lichen",""]
["VT_Species","PELT HOR","PELT HOR","Peltigera horizontalis","T",2246,"flat-fruited pelt","lichen",""]
["VT_Species","PELT LEP","PELT LEP","Peltigera lepidophora","T",2247,"scaly pelt","lichen",""]
["VT_Species","PELT LEU","PELT LEU","Peltigera leucophlebia","T",2248,"ruffed freckle pelt","lichen",""]
["VT_Species","PELT MAL","PELT MAL","Peltigera malacea","T",2249,"veinless pelt","lichen",""]
["VT_Species","PELT NEC","PELT NEC","Peltigera neckeri","T",2250,"black saddle lichen","lichen",""]
["VT_Species","PELT NEO","PELT NEO","Peltigera neopolydactyla","T",2251,"carpet pelt","lichen",""]
["VT_Species","PELT POL","PELT POL","Peltigera polydactylon","T",2252,"many-fruited pelt","lichen",""]
["VT_Species","PELT PON","PELT PON","Peltigera ponojensis","T",2253,"pale-bellied dog-lichen","lichen",""]
["VT_Species","PELT PRA","PELT PRA","Peltigera praetextata","T",2254,"scaly dog-lichen","lichen",""]
["VT_Species","PELT RET","PELT RET","Peltigera retifoveata","T",2255,"","lichen",""]
["VT_Species","PELT RUF","PELT RUF","Peltigera rufescens","T",2256,"field dog-lichen","lichen",""]
["VT_Species","PELT SCA","PELT SCA","Peltigera scabrosa","T",2257,"scabby pelt","lichen",""]
["VT_Species","PELT SPP","PELT SPP","Peltigera spp.","T",2258,"","lichen",""]
["VT_Species","PELT VEN","PELT VEN","Peltigera venosa","T",2259,"fan lichen","lichen",""]
["VT_Species","PENS ALB","PENS ALB","Penstemon albidus","T",2260,"white beardtongue","forb",""]
["VT_Species","PENS CON","PENS CON","Penstemon confertus","T",2261,"yellow beardtongue","forb",""]
["VT_Species","PENS GRA","PENS GRA","Penstemon gracilis","T",2262,"lilac-flowered beardtongue","forb",""]
["VT_Species","PENS GRA GRA","PENS GRA GRA","Penstemon gracilis var. gracilis","T",2263,"lilac-flowered beardtongue","forb",""]
["VT_Species","PENS NIT","PENS NIT","Penstemon nitidus","T",2264,"smooth blue beardtongue","forb",""]
["VT_Species","PENS NIT NIT","PENS NIT NIT","Penstemon nitidus var. nitidus","T",2265,"smooth blue beardtongue","forb",""]
["VT_Species","PENS PRO","PENS PRO","Penstemon procerus","T",2266,"slender blue beardtongue","forb",""]
["VT_Species","PENS PRO PRO","PENS PRO PRO","Penstemon procerus var. procerus","T",2267,"slender blue beardtongue","forb",""]
["VT_Species","PENS SPP","PENS SPP","Penstemon spp.","T",2268,"beardtongue (genus)","forb",""]
["VT_Species","PERI GAI","PERI GAI","Perideridia gairdneri","T",2269,"northern Gairdner’s squaw-root","forb",""]
["VT_Species","PERI GAI BOR","PERI GAI BOR","Perideridia gairdneri ssp. borealis","T",2270,"northern Gairdner’s squaw-root","forb",""]
["VT_Species","PERS AMP","PERS AMP","Persicaria amphibia","T",2271,"water smartweed","forb",""]
["VT_Species","PERS AMP EME","PERS AMP EME","Persicaria amphibia var. emersum","T",2272,"water smartweed","forb",""]
["VT_Species","PERS AMP STI","PERS AMP STI","Persicaria amphibia var. stipulacea","T",2273,"water smartweed","forb",""]
["VT_Species","PERS LAP","PERS LAP","Persicaria lapathifolia","T",2274,"dock-leaved smartweed","forb",""]
["VT_Species","PERS MAC","PERS MAC","Persicaria maculosa","T",2275,"lady’s-thumb","forb",""]
["VT_Species","PERS PUN","PERS PUN","Persicaria punctata","T",2276,"dotted water smartweed","forb",""]
["VT_Species","PERS SPP","PERS SPP","Persicaria spp.","T",2277,"smartweed (genus)","forb",""]
["VT_Species","PERT SER","PERT SER","Peritoma serrulata","T",2278,"pink spider-flower","forb",""]
["VT_Species","PETA FRI","PETA FRI","Petasites frigidus","T",2279,"vine-leaved colt’s-foot","forb",""]
["VT_Species","PETA FRI NIV","PETA FRI NIV","Petasites frigidus var. nivalis","T",2280,"vine-leaved colt’s-foot","forb",""]
["VT_Species","PETA PAL","PETA PAL","Petasites palmatus","T",2281,"palmate-leaved colt’s-foot","forb",""]
["VT_Species","PETA SAG","PETA SAG","Petasites sagittatus","T",2282,"arrow-leaved colt's-foot","forb",""]
["VT_Species","PETA SPP","PETA SPP","Petasites spp.","T",2283,"colt's-foot (genus)","forb",""]
["VT_Species","PHAC FRA","PHAC FRA","Phacelia franklinii","T",2284,"Franklin’s scorpionweed","forb",""]
["VT_Species","PHAC SPP","PHAC SPP","Phacelia spp.","T",2285,"scorpionweed (genus)","forb",""]
["VT_Species","PHAC TAN","PHAC TAN","Phacelia tanacetifolia","T",2286,"tansy scorpionweed","forb",""]
["VT_Species","PHAC THE","PHAC THE","Phacelia thermalis","T",2287,"hot springs scorpionweed","forb",""]
["VT_Species","PHAE CER","PHAE CER","Phaeophyscia cernohorskyi","T",2288,"hairy shadow lichen","lichen",""]
["VT_Species","PHAE CIL","PHAE CIL","Phaeophyscia ciliata","T",2289,"smooth shadow lichen","lichen",""]
["VT_Species","PHAE CON","PHAE CON","Phaeophyscia constipata","T",2290,"pincushion shadow lichen","lichen",""]
["VT_Species","PHAE NIG","PHAE NIG","Phaeophyscia nigricans","T",2291,"","lichen",""]
["VT_Species","PHAE ORB","PHAE ORB","Phaeophyscia orbicularis","T",2292,"mealy shadow lichen","lichen",""]
["VT_Species","PHAE PUS","PHAE PUS","Phaeophyscia pusilloides","T",2293,"pompom shadow lichen","lichen",""]
["VT_Species","PHAE SCI","PHAE SCI","Phaeophyscia sciastra","T",2294,"dark shadow lichen","lichen",""]
["VT_Species","PHAE SPP","PHAE SPP","Phaeophyscia spp.","T",2295,"","lichen",""]
["VT_Species","PHAL ARU","PHAL ARU","Phalaris arundinacea","T",2296,"reed canary-grass","graminoid",""]
["VT_Species","PHAL CAN","PHAL CAN","Phalaris canariensis","T",2297,"common canary-grass","graminoid",""]
["VT_Species","PHAL SPP","PHAL SPP","Phalaris spp.","T",2298,"canary-grass (genus)","graminoid",""]
["VT_Species","PHAS CUS","PHAS CUS","Phascum cuspidatum","T",2299,"","bryophyte",""]
["VT_Species","PHEG CON","PHEG CON","Phegopteris connectilis","T",2300,"narrow beech-fern","forb",""]
["VT_Species","PHIL FON","PHIL FON","Philonotis fontana","T",2301,"aquatic apple moss","bryophyte",""]
["VT_Species","PHIL FON AME","PHIL FON AME","Philonotis fontana var. americana","T",2302,"","bryophyte",""]
["VT_Species","PHIL FON PUM","PHIL FON PUM","Philonotis fontana var. pumila","T",2303,"","bryophyte",""]
["VT_Species","PHIL SPP","PHIL SPP","Philonotis spp.","T",2304,"","bryophyte",""]
["VT_Species","PHLE ALP","PHLE ALP","Phleum alpinum","T",2305,"mountain timothy","graminoid",""]
["VT_Species","PHLE PRA","PHLE PRA","Phleum pratense","T",2306,"common timothy","graminoid",""]
["VT_Species","PHLE PRA PRA","PHLE PRA PRA","Phleum pratense ssp. pratense","T",2307,"common timothy","graminoid",""]
["VT_Species","PHLE SPP","PHLE SPP","Phleum spp.","T",2308,"timothy (genus)","graminoid",""]
["VT_Species","PHLO ALY","PHLO ALY","Phlox alyssifolia","T",2309,"blue phlox","forb",""]
["VT_Species","PHLO ALY ALY","PHLO ALY ALY","Phlox alyssifolia ssp. alyssifolia","T",2310,"blue phlox","forb",""]
["VT_Species","PHLO HOO","PHLO HOO","Phlox hoodii","T",2311,"moss phlox","forb",""]
["VT_Species","PHLO HOO HOO","PHLO HOO HOO","Phlox hoodii ssp. hoodii","T",2312,"moss phlox","forb",""]
["VT_Species","PHLO SPP","PHLO SPP","Phlox spp.","T",2313,"phlox (genus)","forb",""]
["VT_Species","PHRA AUS","PHRA AUS","Phragmites australis","T",2314,"giant reed-grass","graminoid",""]
["VT_Species","PHRH NIM","PHRH NIM","Phaeorrhiza nimbosa","T",2315,"phaeorrhiza lichen","lichen",""]
["VT_Species","PHRH SAR","PHRH SAR","Phaeorrhiza sareptana","T",2316,"","lichen",""]
["VT_Species","PHRH SPP","PHRH SPP","Phaeorrhiza spp.","T",2317,"","lichen",""]
["VT_Species","PHSC ADS","PHSC ADS","Physcia adscendens","T",2318,"hooded rosette lichen","lichen",""]
["VT_Species","PHSC AIP","PHSC AIP","Physcia aipolia","T",2319,"hoary rosette lichen","lichen",""]
["VT_Species","PHSC CAE","PHSC CAE","Physcia caesia","T",2320,"blue-gray rosette lichen","lichen",""]
["VT_Species","PHSC DUB","PHSC DUB","Physcia dubia","T",2321,"powder-tipped rosette lichen","lichen",""]
["VT_Species","PHSC LEP","PHSC LEP","Physcia leptalea","T",2322,"rosette lichen","lichen",""]
["VT_Species","PHSC MIL","PHSC MIL","Physcia millegrana","T",2323,"mealy rosette lichen","lichen",""]
["VT_Species","PHSC PHA","PHSC PHA","Physcia phaea","T",2324,"black-eyed rosette lichen","lichen",""]
["VT_Species","PHSC SPP","PHSC SPP","Physcia spp.","T",2325,"","lichen",""]
["VT_Species","PHSC STE","PHSC STE","Physcia stellaris","T",2326,"star rosette lichen","lichen",""]
["VT_Species","PHSC TEN","PHSC TEN","Physcia tenella","T",2327,"fringed rosette lichen","lichen",""]
["VT_Species","PHSN DET","PHSN DET","Physconia detersa","T",2328,"bottlebrush frost lichen","lichen",""]
["VT_Species","PHSN ENT","PHSN ENT","Physconia enteroxantha","T",2329,"yellow-edged frost lichen","lichen",""]
["VT_Species","PHSN MUS","PHSN MUS","Physconia muscigena","T",2330,"ground frost lichen","lichen",""]
["VT_Species","PHSN PER","PHSN PER","Physconia perisidiosa","T",2331,"crescent frost lichen","lichen",""]
["VT_Species","PHSN SPP","PHSN SPP","Physconia spp.","T",2332,"","lichen",""]
["VT_Species","PHST HOO","PHST HOO","Physcomitrium hookeri","T",2333,"","bryophyte",""]
["VT_Species","PHST PYR","PHST PYR","Physcomitrium pyriforme","T",2334,"","bryophyte",""]
["VT_Species","PHST SPP","PHST SPP","Physcomitrium spp.","T",2335,"","bryophyte",""]
["VT_Species","PHYG LED","PHYG LED","Physostegia ledinghamii","T",2336,"Ledingham’s false dragonhead","forb",""]
["VT_Species","PHYG PAR","PHYG PAR","Physostegia parviflora","T",2337,"western false dragonhead","forb",""]
["VT_Species","PHYG SPP","PHYG SPP","Physostegia spp.","T",2338,"false dragonhead (genus)","forb",""]
["VT_Species","PHYS PHI","PHYS PHI","Physalis philadelphica","T",2339,"tomatillo","forb",""]
["VT_Species","PHYS PHI IMM","PHYS PHI IMM","Physalis philadelphica var. immaculata","T",2340,"tomatillo","forb",""]
["VT_Species","PICE GLA","PICE GLA","Picea glauca","T",2341,"white spruce","tree","wS"]
["VT_Species","PICE MAR","PICE MAR","Picea mariana","T",2342,"black spruce","tree","bS"]
["VT_Species","PICE SPP","PICE SPP","Picea spp.","T",2343,"spruce (genus)","tree",""]
["VT_Species","PICR OPP","PICR OPP","Picradeniopsis oppositifolia","T",2344,"opposite-leaved bahia","forb",""]
["VT_Species","PING SPP","PING SPP","Pinguicula spp.","T",2345,"butterwort (genus)","forb",""]
["VT_Species","PING VIL","PING VIL","Pinguicula villosa","T",2346,"hairy butterwort","forb",""]
["VT_Species","PING VUL","PING VUL","Pinguicula vulgaris","T",2347,"common butterwort","forb",""]
["VT_Species","PINU BAN","PINU BAN","Pinus banksiana","T",2348,"jack pine","tree","jP"]
["VT_Species","PINU CON","PINU CON","Pinus contorta","T",2349,"lodgepole pine","tree","lP"]
["VT_Species","PINU CON LAT","PINU CON LAT","Pinus contorta ssp. latifolia","T",2350,"lodgepole pine","tree",""]
["VT_Species","PINU SPP","PINU SPP","Pinus spp.","T",2351,"pine (genus)","tree",""]
["VT_Species","PIPT CAN","PIPT CAN","Piptatherum canadense","T",2352,"Canadian rice-grass","graminoid",""]
["VT_Species","PIPT MIC","PIPT MIC","Piptatherum micranthum","T",2353,"little-seed rice-grass","graminoid",""]
["VT_Species","PIPT PUN","PIPT PUN","Piptatherum pungens","T",2354,"northern rice-grass","graminoid",""]
["VT_Species","PIPT SPP","PIPT SPP","Piptatherum spp.","T",2355,"rice-grass (Piptatherum genus)","graminoid",""]
["VT_Species","PLAC OLI","PLAC OLI","Placynthiella oligotropha","T",2356,"tar-spot lichen","lichen",""]
["VT_Species","PLAG SCO","PLAG SCO","Plagiobothrys scouleri","T",2357,"popcorn-flower","forb",""]
["VT_Species","PLAG SCO HIS","PLAG SCO HIS","Plagiobothrys scouleri var. hispidulus","T",2358,"popcorn-flower","forb",""]
["VT_Species","PLAN ELO","PLAN ELO","Plantago elongata","T",2359,"linear-leaved plantain","forb",""]
["VT_Species","PLAN ELO ELO","PLAN ELO ELO","Plantago elongata ssp. elongata","T",2360,"linear-leaved plantain","forb",""]
["VT_Species","PLAN ERI","PLAN ERI","Plantago eriopoda","T",2361,"saline plantain","forb",""]
["VT_Species","PLAN LAN","PLAN LAN","Plantago lanceolata","T",2362,"ribwort plantain","forb",""]
["VT_Species","PLAN MAJ","PLAN MAJ","Plantago major","T",2363,"common plantain","forb",""]
["VT_Species","PLAN MAR","PLAN MAR","Plantago maritima","T",2364,"seaside plantain","forb",""]
["VT_Species","PLAN MAR JUN","PLAN MAR JUN","Plantago maritima var. juncoides","T",2365,"seaside plantain","forb",""]
["VT_Species","PLAN PAT","PLAN PAT","Plantago patagonica","T",2366,"woolly plantain","forb",""]
["VT_Species","PLAN PAT PAT","PLAN PAT PAT","Plantago patagonica var. patagonica","T",2367,"woolly plantain","forb",""]
["VT_Species","PLAN PAT SPI","PLAN PAT SPI","Plantago patagonica var. spinulosa","T",2368,"spinulose-bracted plantain","forb",""]
["VT_Species","PLAN SPP","PLAN SPP","Plantago spp.","T",2369,"plantain (genus)","forb",""]
["VT_Species","PLAT AQU","PLAT AQU","Platanthera aquilonis","T",2370,"northern green bog-orchid","forb",""]
["VT_Species","PLAT DIL","PLAT DIL","Platanthera dilatata","T",2371,"white bog-orchid","forb",""]
["VT_Species","PLAT DIL DIL","PLAT DIL DIL","Platanthera dilatata var. dilatata","T",2372,"white bog-orchid","forb",""]
["VT_Species","PLAT HUR","PLAT HUR","Platanthera huronensis","T",2373,"Lake Huron bog-orchid","forb",""]
["VT_Species","PLAT OBT","PLAT OBT","Platanthera obtusata","T",2374,"blunt-leaved bog-orchid","forb",""]
["VT_Species","PLAT ORB","PLAT ORB","Platanthera orbiculata","T",2375,"round-leaved bog-orchid","forb",""]
["VT_Species","PLAT SPP","PLAT SPP","Platanthera spp.","T",2376,"bog-orchid (genus)","forb",""]
["VT_Species","PLCN NIG","PLCN NIG","Placynthium nigrum","T",2377,"ink lichen","lichen",""]
["VT_Species","PLEO CHL","PLEO CHL","Pleopsidium chlorophanum","T",2378,"gold cobblestone lichen","lichen",""]
["VT_Species","PLEO OXY","PLEO OXY","Pleopsidium oxytonum","T",2379,"gold cobblestone lichen","lichen",""]
["VT_Species","PLEO SPP","PLEO SPP","Pleopsidium spp.","T",2380,"","lichen",""]
["VT_Species","PLEU SCH","PLEU SCH","Pleurozium schreberi","T",2381,"big red stem feathermoss","bryophyte",""]
["VT_Species","PLGM CIL","PLGM CIL","Plagiomnium ciliare","T",2382,"toothed mnium","bryophyte",""]
["VT_Species","PLGM CUS","PLGM CUS","Plagiomnium cuspidatum","T",2383,"woodsy leafy moss","bryophyte",""]
["VT_Species","PLGM DRU","PLGM DRU","Plagiomnium drummondii","T",2384,"Drummond's leafy moss","bryophyte",""]
["VT_Species","PLGM ELL","PLGM ELL","Plagiomnium ellipticum","T",2385,"marsh magnificent moss","bryophyte",""]
["VT_Species","PLGM MED","PLGM MED","Plagiomnium medium","T",2386,"common leafy moss","bryophyte",""]
["VT_Species","PLGM SPP","PLGM SPP","Plagiomnium spp.","T",2387,"","bryophyte",""]
["VT_Species","PLGP OED","PLGP OED","Plagiopus oederiana","T",2388,"","bryophyte",""]
["VT_Species","PLGT DEN","PLGT DEN","Plagiothecium denticulatum","T",2389,"","bryophyte",""]
["VT_Species","PLSP SIM","PLSP SIM","Polysporina simplex","T",2390,"common coal-dust lichen","lichen",""]
["VT_Species","PLST COM","PLST COM","Palustriella commutata","T",2391,"","bryophyte",""]
["VT_Species","PLTD JUN","PLTD JUN","Platydictya jungermannioides","T",2392,"","bryophyte",""]
["VT_Species","PLTG REP","PLTG REP","Platygyrium repens","T",2393,"","bryophyte",""]
["VT_Species","PLTM GLA","PLTM GLA","Platismatia glauca","T",2394,"varied rag lichen","lichen",""]
["VT_Species","PLTR COM","PLTR COM","Polytrichum commune","T",2395,"common hair-cap","bryophyte",""]
["VT_Species","PLTR JUN","PLTR JUN","Polytrichum juniperinum","T",2396,"juniper hair-cap moss","bryophyte",""]
["VT_Species","PLTR LON","PLTR LON","Polytrichum longisetum","T",2397,"","bryophyte",""]
["VT_Species","PLTR PIL","PLTR PIL","Polytrichum piliferum","T",2398,"awned hair-cap","bryophyte",""]
["VT_Species","PLTR SPP","PLTR SPP","Polytrichum spp.","T",2399,"","bryophyte",""]
["VT_Species","PLTR STR","PLTR STR","Polytrichum strictum","T",2400,"bog hair cap","bryophyte",""]
["VT_Species","PLYG BIF","PLYG BIF","Polygonatum biflorum","T",2401,"great solomon’s-seal","forb",""]
["VT_Species","PLYN MON","PLYN MON","Polypogon monspeliensis","T",2402,"rabbitfoot grass","graminoid",""]
["VT_Species","PLYO ACH","PLYO ACH","Polygonum achoreum","T",2403,"leathery knotweed","forb",""]
["VT_Species","PLYO ARE","PLYO ARE","Polygonum arenastrum","T",2404,"common knotweed","forb",""]
["VT_Species","PLYO AVI","PLYO AVI","Polygonum aviculare","T",2405,"prostrate knotweed","forb",""]
["VT_Species","PLYO DOU","PLYO DOU","Polygonum douglasii","T",2406,"Douglas’ knotweed","forb",""]
["VT_Species","PLYO DOU DOU","PLYO DOU DOU","Polygonum douglasii ssp. douglasii","T",2407,"Douglas’ knotweed","forb",""]
["VT_Species","PLYO ERE","PLYO ERE","Polygonum erectum","T",2408,"erect knotweed","forb",""]
["VT_Species","PLYO POL","PLYO POL","Polygonum polygaloides","T",2409,"dense-flowered knotweed","forb",""]
["VT_Species","PLYO POL CON","PLYO POL CON","Polygonum polygaloides ssp. confertiflorum","T",2410,"dense-flowered knotweed","forb",""]
["VT_Species","PLYO POL KEL","PLYO POL KEL","Polygonum polygaloides ssp. kellogii","T",2411,"Kellogg’s knotweed","forb",""]
["VT_Species","PLYO RAM","PLYO RAM","Polygonum ramosissimum","T",2412,"bushy knotweed","forb",""]
["VT_Species","PLYO RAM PRO","PLYO RAM PRO","Polygonum ramosissimum var. prolificum","T",2413,"bushy knotweed","forb",""]
["VT_Species","PLYO RAM RAM","PLYO RAM RAM","Polygonum ramosissimum ssp. ramosissimum","T",2414,"bushy knotweed","forb",""]
["VT_Species","PLYO SAW","PLYO SAW","Polygonum sawatchense","T",2415,"sawatch knotweed","forb",""]
["VT_Species","PLYO SPP","PLYO SPP","Polygonum spp.","T",2416,"knotweed (genus)","forb",""]
["VT_Species","PLYP SIB","PLYP SIB","Polypodium sibiricum","T",2417,"Siberian polypody","forb",""]
["VT_Species","PLYP SPP","PLYP SPP","Polypodium spp.","T",2418,"polypody (genus)","forb",""]
["VT_Species","PLYP VIR","PLYP VIR","Polypodium virginianum","T",2419,"common rock polypody","forb",""]
["VT_Species","PMLP AMB","PMLP AMB","Parmeliopsis ambigua","T",2420,"green starburst lichen","lichen",""]
["VT_Species","PMLP HYP","PMLP HYP","Parmeliopsis hyperopta","T",2421,"gray starburst lichen","lichen",""]
["VT_Species","PMLP SPP","PMLP SPP","Parmeliopsis spp.","T",2422,"","lichen",""]
["VT_Species","POA* ALP","POA* ALP","Poa alpina","T",2423,"alpine blue-grass","graminoid",""]
["VT_Species","POA* ALP ALP","POA* ALP ALP","Poa alpina ssp. alpina","T",2424,"alpine blue-grass","graminoid",""]
["VT_Species","POA* ALP VIV","POA* ALP VIV","Poa alpina ssp. vivipara","T",2425,"viviparous alpine blue-grass","graminoid",""]
["VT_Species","POA* ANN","POA* ANN","Poa annua","T",2426,"annual blue-grass","graminoid",""]
["VT_Species","POA* ARC","POA* ARC","Poa arctica","T",2427,"arctic blue-grass","graminoid",""]
["VT_Species","POA* ARC ARC","POA* ARC ARC","Poa arctica ssp. arctica","T",2428,"arctic blue-grass","graminoid",""]
["VT_Species","POA* ARC LAN","POA* ARC LAN","Poa arctica ssp. lanata","T",2429,"arctic blue-grass","graminoid",""]
["VT_Species","POA* ARI","POA* ARI","Poa arida","T",2430,"plains blue-grass","graminoid",""]
["VT_Species","POA* COM","POA* COM","Poa compressa","T",2431,"Canada  blue-grass","graminoid",""]
["VT_Species","POA* CUS","POA* CUS","Poa cusickii","T",2432,"early blue-grass","graminoid",""]
["VT_Species","POA* CUS PAL","POA* CUS PAL","Poa cusickii ssp. pallida","T",2433,"early blue-grass","graminoid",""]
["VT_Species","POA* FEN","POA* FEN","Poa fendleriana","T",2434,"mutton-grass","graminoid",""]
["VT_Species","POA* GLA","POA* GLA","Poa glauca","T",2435,"glaucous blue-grass","graminoid",""]
["VT_Species","POA* GLA GLA","POA* GLA GLA","Poa glauca ssp. glauca","T",2436,"glaucous blue-grass","graminoid",""]
["VT_Species","POA* GLA RUP","POA* GLA RUP","Poa glauca ssp. rupicola","T",2437,"timberline glaucous blue-grass","graminoid",""]
["VT_Species","POA* INT","POA* INT","Poa interior","T",2438,"inland blue-grass","graminoid",""]
["VT_Species","POA* NEM","POA* NEM","Poa nemoralis","T",2439,"woodland blue-grass","graminoid",""]
["VT_Species","POA* PAL","POA* PAL","Poa palustris","T",2440,"fowl blue-grass","graminoid",""]
["VT_Species","POA* PRA","POA* PRA","Poa pratensis","T",2441,"Kentucky blue-grass","graminoid",""]
["VT_Species","POA* PRA AGA","POA* PRA AGA","Poa pratensis ssp. agassizensis","T",2442,"meadow blue-grass","graminoid",""]
["VT_Species","POA* PRA ALP","POA* PRA ALP","Poa pratensis ssp. alpigena","T",2443,"alpine meadow blue-grass","graminoid",""]
["VT_Species","POA* PRA ANG","POA* PRA ANG","Poa pratensis ssp. angustifolia","T",2444,"Kentucky blue-grass","graminoid",""]
["VT_Species","POA* PRA PRA","POA* PRA PRA","Poa pratensis ssp. pratensis","T",2445,"Kentucky blue-grass","graminoid",""]
["VT_Species","POA* SEC","POA* SEC","Poa secunda","T",2446,"secund blue-grass","graminoid",""]
["VT_Species","POA* SEC JUN","POA* SEC JUN","Poa secunda ssp. juncifolia","T",2447,"alkali blue-grass","graminoid",""]
["VT_Species","POA* SEC SEC","POA* SEC SEC","Poa secunda ssp. secunda","T",2448,"Sandberg’s blue-grass","graminoid",""]
["VT_Species","POA* SPP","POA* SPP","Poa spp.","T",2449,"blue-grass (genus)","graminoid",""]
["VT_Species","POA* TRI","POA* TRI","Poa trivialis","T",2450,"rough-stalked blue-grass","graminoid",""]
["VT_Species","POA* WHE","POA* WHE","Poa wheeleri","T",2451,"Wheeler’s blue-grass","graminoid",""]
["VT_Species","POGO URN","POGO URN","Pogonatum urnigerum","T",2452,"","bryophyte",""]
["VT_Species","POHL BUL","POHL BUL","Pohlia bulbifera","T",2453,"","bryophyte",""]
["VT_Species","POHL CRU","POHL CRU","Pohlia cruda","T",2454,"glaucous thread moss","bryophyte",""]
["VT_Species","POHL DRU","POHL DRU","Pohlia drummondii","T",2455,"","bryophyte",""]
["VT_Species","POHL FIL","POHL FIL","Pohlia filum","T",2456,"","bryophyte",""]
["VT_Species","POHL NUT","POHL NUT","Pohlia nutans","T",2457,"copper wire moss","bryophyte",""]
["VT_Species","POHL PRO","POHL PRO","Pohlia proligera","T",2458,"","bryophyte",""]
["VT_Species","POHL SPH","POHL SPH","Pohlia sphagnicola","T",2459,"","bryophyte",""]
["VT_Species","POHL SPP","POHL SPP","Pohlia spp.","T",2460,"","bryophyte",""]
["VT_Species","POHL VEX","POHL VEX","Pohlia vexans","T",2461,"","bryophyte",""]
["VT_Species","POHL WAH","POHL WAH","Pohlia wahlenbergii","T",2462,"pale-leaved thread moss","bryophyte",""]
["VT_Species","POLA DOD","POLA DOD","Polanisia dodecandra","T",2463,"clammyweed","forb",""]
["VT_Species","POLA DOD DOD","POLA DOD DOD","Polanisia dodecandra ssp. dodecandra","T",2464,"stinking clammyweed","forb",""]
["VT_Species","POLA DOD TRA","POLA DOD TRA","Polanisia dodecandra ssp. trachysperma","T",2465,"rough-seeded clammyweed","forb",""]
["VT_Species","POLY ALB","POLY ALB","Polygala alba","T",2466,"white milkwort","forb",""]
["VT_Species","POLY PAU","POLY PAU","Polygala paucifolia","T",2467,"fringed milkwort","forb",""]
["VT_Species","POLY SEN","POLY SEN","Polygala senega","T",2468,"seneca-snakeroot","forb",""]
["VT_Species","POLY SEN SEN","POLY SEN SEN","Polygala senega var. senega","T",2469,"seneca-snakeroot","forb",""]
["VT_Species","POLY SPP","POLY SPP","Polygala spp.","T",2470,"milkwort (genus)","forb",""]
["VT_Species","POLY VER","POLY VER","Polygala verticillata","T",2471,"whorled milkwort","forb",""]
["VT_Species","POLY VER ISO","POLY VER ISO","Polygala verticillata var. isocycla","T",2472,"whorled milkwort","forb",""]
["VT_Species","POPU ANG","POPU ANG","Populus angustifolia","T",2473,"narrow-leaved cottonwood","tree",""]
["VT_Species","POPU BAL","POPU BAL","Populus balsamifera","T",2474,"balsam poplar","tree","bP"]
["VT_Species","POPU DEL","POPU DEL","Populus deltoides","T",2475,"plains cottonwood","tree","pC"]
["VT_Species","POPU DEL MON","POPU DEL MON","Populus deltoides ssp. monilifera","T",2476,"plains cottonwood","tree",""]
["VT_Species","POPU JAC","POPU JAC","Populus X jackii","T",2477,"Jack's poplar","tree",""]
["VT_Species","POPU SPP","POPU SPP","Populus spp.","T",2478,"poplar (genus)","tree",""]
["VT_Species","POPU TRE","POPU TRE","Populus tremuloides","T",2479,"trembling aspen","tree","tA"]
["VT_Species","PORP CIN","PORP CIN","Porpidia cinereoatra","T",2480,"boulder lichen","lichen",""]
["VT_Species","PORP CRU","PORP CRU","Porpidia crustulata","T",2481,"concentric boulder lichen","lichen",""]
["VT_Species","PORP LOW","PORP LOW","Porpidia lowiana","T",2482,"boulder lichen","lichen",""]
["VT_Species","PORP MAC","PORP MAC","Porpidia macrocarpa","T",2483,"boulder lichen","lichen",""]
["VT_Species","PORP SPP","PORP SPP","Porpidia spp.","T",2484,"","lichen",""]
["VT_Species","PORP THO","PORP THO","Porpidia thomsonii","T",2485,"boulder lichen","lichen",""]
["VT_Species","PORT OLE","PORT OLE","Portulaca oleracea","T",2486,"purslane","forb",""]
["VT_Species","POTA ALP","POTA ALP","Potamogeton alpinus","T",2487,"northern pondweed","forb",""]
["VT_Species","POTA AMP","POTA AMP","Potamogeton amplifolius","T",2488,"large-leaved pondweed","forb",""]
["VT_Species","POTA CRI","POTA CRI","Potamogeton crispus","T",2489,"curly pondweed","forb",""]
["VT_Species","POTA EPI","POTA EPI","Potamogeton epihydrus","T",2490,"ribbon-leaf pondweed","forb",""]
["VT_Species","POTA FOL","POTA FOL","Potamogeton foliosus","T",2491,"leafy pondweed","forb",""]
["VT_Species","POTA FOL FOL","POTA FOL FOL","Potamogeton foliosus ssp. foliosus","T",2492,"leafy pondweed","forb",""]
["VT_Species","POTA FRI","POTA FRI","Potamogeton friesii","T",2493,"Fries’ pondweed","forb",""]
["VT_Species","POTA GRA","POTA GRA","Potamogeton gramineus","T",2494,"grass-leaved pondweed","forb",""]
["VT_Species","POTA NAT","POTA NAT","Potamogeton natans","T",2495,"floating pondweed","forb",""]
["VT_Species","POTA NOD","POTA NOD","Potamogeton nodosus","T",2496,"long-leaved pondweed","forb",""]
["VT_Species","POTA OBT","POTA OBT","Potamogeton obtusifolius","T",2497,"blunt-leaved pondweed","forb",""]
["VT_Species","POTA PRA","POTA PRA","Potamogeton praelongus","T",2498,"white-stemmed pondweed","forb",""]
["VT_Species","POTA PUS","POTA PUS","Potamogeton pusillus","T",2499,"small pondweed","forb",""]
["VT_Species","POTA PUS PUS","POTA PUS PUS","Potamogeton pusillus ssp. pusillus","T",2500,"small pondweed","forb",""]
["VT_Species","POTA PUS TEN","POTA PUS TEN","Potamogeton pusillus ssp. tenuissimus","T",2501,"Berchtold’s small pondweed","forb",""]
["VT_Species","POTA RIC","POTA RIC","Potamogeton richardsonii","T",2502,"Richardson’s pondweed","forb",""]
["VT_Species","POTA ROB","POTA ROB","Potamogeton robbinsii","T",2503,"Robbin’s pondweed","forb",""]
["VT_Species","POTA SPP","POTA SPP","Potamogeton spp.","T",2504,"pondweed (Potamogeton genus)","forb",""]
["VT_Species","POTA STR","POTA STR","Potamogeton strictifolius","T",2505,"straight-leaved pondweed","forb",""]
["VT_Species","POTA ZOS","POTA ZOS","Potamogeton zosteriformis","T",2506,"zostera-like pondweed","forb",""]
["VT_Species","POTE ARG","POTE ARG","Potentilla argentea","T",2507,"silvery cinquefoil","forb",""]
["VT_Species","POTE ARG ARG","POTE ARG ARG","Potentilla argentea var. argentea","T",2508,"silvery cinquefoil","forb",""]
["VT_Species","POTE ARU","POTE ARU","Potentilla arguta","T",2509,"white cinquefoil","forb",""]
["VT_Species","POTE ARU ARG","POTE ARU ARG","Potentilla arguta ssp. arguta","T",2510,"white cinquefoil","forb",""]
["VT_Species","POTE BIM","POTE BIM","Potentilla bimundorum","T",2511,"cut-leaved cinquefoil","forb",""]
["VT_Species","POTE BIP","POTE BIP","Potentilla bipinnatifida","T",2512,"plains cinquefoil","forb",""]
["VT_Species","POTE CON","POTE CON","Potentilla concinna","T",2513,"early cinquefoil","forb",""]
["VT_Species","POTE CON CON","POTE CON CON","Potentilla concinna var. concinna","T",2514,"early cinquefoil","forb",""]
["VT_Species","POTE DIV","POTE DIV","Potentilla diversifolia","T",2515,"variable cinquefoil","forb",""]
["VT_Species","POTE DIV DIV","POTE DIV DIV","Potentilla diversifolia var. diversifolia","T",2516,"variable cinquefoil","forb",""]
["VT_Species","POTE GRA","POTE GRA","Potentilla gracilis","T",2517,"graceful cinquefoil","forb",""]
["VT_Species","POTE GRA FAS","POTE GRA FAS","Potentilla gracilis var. fastigiata","T",2518,"graceful cinquefoil","forb",""]
["VT_Species","POTE GRA FLA","POTE GRA FLA","Potentilla gracilis var. flabelliformis","T",2519,"graceful cinquefoil","forb",""]
["VT_Species","POTE GRA GRA","POTE GRA GRA","Potentilla gracilis var. gracilis","T",2520,"graceful cinquefoil","forb",""]
["VT_Species","POTE GRA PUL","POTE GRA PUL","Potentilla gracilis var. pulcherrima","T",2521,"soft cinquefoil","forb",""]
["VT_Species","POTE HIP","POTE HIP","Potentilla hippiana","T",2522,"woolly cinquefoil","forb",""]
["VT_Species","POTE HIP ARG","POTE HIP ARG","Potentilla hippiana var. argyrea","T",2523,"woolly cinquefoil","forb",""]
["VT_Species","POTE HIP FIL","POTE HIP FIL","Potentilla hippiana var. filicaulis","T",2524,"woolly cinquefoil","forb",""]
["VT_Species","POTE HIP HIP","POTE HIP HIP","Potentilla hippiana var. hippiana","T",2525,"woolly cinquefoil","forb",""]
["VT_Species","POTE HOO","POTE HOO","Potentilla hookeriana","T",2526,"Hooker’s cinquefoil","forb",""]
["VT_Species","POTE HOO CHA","POTE HOO CHA","Potentilla hookeriana ssp. chamissonis","T",2527,"Chamisso's cinquefoil","forb",""]
["VT_Species","POTE HOO HOO","POTE HOO HOO","Potentilla hookeriana ssp. hookeriana","T",2528,"Hooker’s cinquefoil","forb",""]
["VT_Species","POTE NIV","POTE NIV","Potentilla nivea","T",2529,"five-foliate cinquefoil","forb",""]
["VT_Species","POTE NIV SUB","POTE NIV SUB","Potentilla nivea ssp. subquinata","T",2530,"five-foliate cinquefoil","forb",""]
["VT_Species","POTE NOR","POTE NOR","Potentilla norvegica","T",2531,"rough cinquefoil","forb",""]
["VT_Species","POTE NOR MON","POTE NOR MON","Potentilla norvegica ssp. monspeliensis","T",2532,"rough cinquefoil","forb",""]
["VT_Species","POTE PAR","POTE PAR","Potentilla paradoxa","T",2533,"bushy cinquefoil","forb",""]
["VT_Species","POTE PEN","POTE PEN","Potentilla pensylvanica","T",2534,"Pennsylvania cinquefoil","forb",""]
["VT_Species","POTE PEN GLA","POTE PEN GLA","Potentilla pensylvanica var. glabrata","T",2535,"glabrate cinquefoil","forb",""]
["VT_Species","POTE PEN PEN","POTE PEN PEN","Potentilla pensylvanica var. pensylvanica","T",2536,"Pennsylvania cinquefoil","forb",""]
["VT_Species","POTE PLA","POTE PLA","Potentilla plattensis","T",2537,"low cinquefoil","forb",""]
["VT_Species","POTE REC","POTE REC","Potentilla recta","T",2538,"upright cinquefoil","forb",""]
["VT_Species","POTE RIV","POTE RIV","Potentilla rivalis","T",2539,"brook cinquefoil","forb",""]
["VT_Species","POTE SPP","POTE SPP","Potentilla spp.","T",2540,"cinquefoil (genus)","forb",""]
["VT_Species","POTT BRY","POTT BRY","Pottia bryoides","T",2541,"","bryophyte",""]
["VT_Species","POTT NEV","POTT NEV","Pottia nevadensis","T",2542,"","bryophyte",""]
["VT_Species","POTT SPP","POTT SPP","Pottia spp.","T",2543,"","bryophyte",""]
["VT_Species","POTT TRU","POTT TRU","Pottia truncata","T",2544,"","bryophyte",""]
["VT_Species","PREN ALB","PREN ALB","Prenanthes alba","T",2545,"white-lettuce","forb",""]
["VT_Species","PREN RAC","PREN RAC","Prenanthes racemosa","T",2546,"glaucous white-lettuce","forb",""]
["VT_Species","PREN RAC RAC","PREN RAC RAC","Prenanthes racemosa ssp. racemosa","T",2547,"glaucous white-lettuce","forb",""]
["VT_Species","PREN SPP","PREN SPP","Prenanthes spp.","T",2548,"white-lettuce (genus)","forb",""]
["VT_Species","PRHS CIN","PRHS CIN","Pyrrhospora cinnabarina","T",2549,"northern crimson dot lichen","lichen",""]
["VT_Species","PRIM INC","PRIM INC","Primula incana","T",2550,"mealy primrose","forb",""]
["VT_Species","PRIM MIS","PRIM MIS","Primula mistassinica","T",2551,"dwarf Canadian primrose","forb",""]
["VT_Species","PRIM SPP","PRIM SPP","Primula spp.","T",2552,"primrose (genus)","forb",""]
["VT_Species","PRNE VUL","PRNE VUL","Prunella vulgaris","T",2553,"common selfheal","forb",""]
["VT_Species","PRNE VUL LAN","PRNE VUL LAN","Prunella vulgaris ssp. lanceolata","T",2554,"common selfheal","forb",""]
["VT_Species","PROB LOU","PROB LOU","Proboscidea louisianica","T",2555,"devil’s-claw","forb",""]
["VT_Species","PROB LOU LOU","PROB LOU LOU","Proboscidea louisianica ssp. louisianica","T",2556,"devil’s-claw","forb",""]
["VT_Species","PROS TRA","PROS TRA","Prosartes trachycarpum","T",2557,"fairy bells","forb",""]
["VT_Species","PROT BAD","PROT BAD","Protoparmelia badia","T",2558,"chocolate rim-lichen","lichen",""]
["VT_Species","PRTS AMA","PRTS AMA","Pertusaria amara","T",2559,"bitter wart lichen","lichen",""]
["VT_Species","PRUN AME","PRUN AME","Prunus americana","T",2560,"American wild plum","erect shrub",""]
["VT_Species","PRUN PEN","PRUN PEN","Prunus pensylvanica","T",2561,"pin cherry","erect shrub",""]
["VT_Species","PRUN PUM","PRUN PUM","Prunus pumila","T",2562,"sand cherry","erect shrub",""]
["VT_Species","PRUN PUM BES","PRUN PUM BES","Prunus pumila var. besseyi","T",2563,"sand cherry","erect shrub",""]
["VT_Species","PRUN SPP","PRUN SPP","Prunus spp.","T",2564,"cherry (genus)","erect shrub",""]
["VT_Species","PRUN TOM","PRUN TOM","Prunus tomentosa","T",2565,"Nanking cherry","erect shrub",""]
["VT_Species","PRUN VIR","PRUN VIR","Prunus virginiana","T",2566,"choke cherry","erect shrub",""]
["VT_Species","PRUN VIR VIR","PRUN VIR VIR","Prunus virginiana var. virginiana","T",2567,"choke cherry","erect shrub",""]
["VT_Species","PSAT JUN","PSAT JUN","Psathyrostachys juncea","T",2568,"Russian wild-rye","graminoid",""]
["VT_Species","PSDB CIN","PSDB CIN","Pseudobryum cinclidioides","T",2569,"","bryophyte",""]
["VT_Species","PSDC TUR","PSDC TUR","Pseudocalliergon turgescens","T",2570,"","bryophyte",""]
["VT_Species","PSDL TEC","PSDL TEC","Pseudoleskeella tectorum","T",2571,"","bryophyte",""]
["VT_Species","PSDP MIN","PSDP MIN","Pseudephebe minuscula","T",2572,"coarse rockwool","lichen",""]
["VT_Species","PSDP PUB","PSDP PUB","Pseudephebe pubescens","T",2573,"fine rockwool","lichen",""]
["VT_Species","PSDP SPP","PSDP SPP","Pseudephebe spp.","T",2574,"","lichen",""]
["VT_Species","PSEU SPI","PSEU SPI","Pseudoroegneria spicata","T",2575,"bluebunch wheat-grass","graminoid",""]
["VT_Species","PSEU SPI SPI","PSEU SPI SPI","Pseudoroegneria spicata ssp. spicata","T",2576,"bluebunch wheat-grass","graminoid",""]
["VT_Species","PSIL BRE","PSIL BRE","Psilocarphus brevissimus","T",2577,"dwarf woollyheads","forb",""]
["VT_Species","PSIL BRE BRE","PSIL BRE BRE","Psilocarphus brevissimus var. brevissimus","T",2578,"dwarf woollyheads","forb",""]
["VT_Species","PSLC LUC","PSLC LUC","Psilolechia lucida","T",2579,"sulphur dust lichen","lichen",""]
["VT_Species","PSOR LAN","PSOR LAN","Psoralidium lanceolatum","T",2580,"lance-leaved psoralea","forb",""]
["VT_Species","PSRA CER","PSRA CER","Psora cerebriformis","T",2581,"brain scale","lichen",""]
["VT_Species","PSRA DEC","PSRA DEC","Psora decipiens","T",2582,"blushing scale","lichen",""]
["VT_Species","PSRA HIM","PSRA HIM","Psora himalayana","T",2583,"mountain scale","lichen",""]
["VT_Species","PSRA RUB","PSRA RUB","Psora rubiformis","T",2584,"scale lichen","lichen",""]
["VT_Species","PSRA RUS","PSRA RUS","Psora russellii","T",2585,"scale lichen","lichen",""]
["VT_Species","PSRA SPP","PSRA SPP","Psora spp.","T",2586,"","lichen",""]
["VT_Species","PSRA TUC","PSRA TUC","Psora tuckermanii","T",2587,"brown-eyed scale","lichen",""]
["VT_Species","PSRL RUF","PSRL RUF","Psorula rufonigra","T",2588,"blue-edged scale lichen","lichen",""]
["VT_Species","PSRL SCO","PSRL SCO","Psorula scotopholis","T",2589,"scale lichen","lichen",""]
["VT_Species","PSRL SPP","PSRL SPP","Psorula spp.","T",2590,"","lichen",""]
["VT_Species","PSRM HYP","PSRM HYP","Psoroma hypnorum","T",2591,"green moss-shingle","lichen",""]
["VT_Species","PSRT NIG","PSRT NIG","Psorotichia nigra","T",2592,"","lichen",""]
["VT_Species","PTER AND","PTER AND","Pterospora andromedea","T",2593,"woodland pinedrops","forb",""]
["VT_Species","PTGD FIL","PTGD FIL","Pterigynandrum filiforme","T",2594,"","bryophyte",""]
["VT_Species","PTGR KOZ","PTGR KOZ","Pterygoneurum kozlovii","T",2595,"alkaline wing-nerved moss","bryophyte",""]
["VT_Species","PTGR OVA","PTGR OVA","Pterygoneurum ovatum","T",2596,"","bryophyte",""]
["VT_Species","PTGR SPP","PTGR SPP","Pterygoneurum spp.","T",2597,"","bryophyte",""]
["VT_Species","PTGR SUB","PTGR SUB","Pterygoneurum subsessile","T",2598,"","bryophyte",""]
["VT_Species","PTIL CRI","PTIL CRI","Ptilium crista-castrensis","T",2599,"knight's plume","bryophyte",""]
["VT_Species","PUCC DIS","PUCC DIS","Puccinellia distans","T",2600,"spreading alkali-grass","graminoid",""]
["VT_Species","PUCC DIS DIS","PUCC DIS DIS","Puccinellia distans ssp. distans","T",2601,"spreading alkali-grass","graminoid",""]
["VT_Species","PUCC HAU","PUCC HAU","Puccinellia hauptiana","T",2602,"Haupt’s alkali-grass","graminoid",""]
["VT_Species","PUCC INT","PUCC INT","Puccinellia interior","T",2603,"inland alkali grass","graminoid",""]
["VT_Species","PUCC LEM","PUCC LEM","Puccinellia lemmonii","T",2604,"lemmon’s alkali-grass","graminoid",""]
["VT_Species","PUCC NUT","PUCC NUT","Puccinellia nuttalliana","T",2605,"Nuttall’s alkali-grass","graminoid",""]
["VT_Species","PUCC SPP","PUCC SPP","Puccinellia spp.","T",2606,"alkali-grass (genus)","graminoid",""]
["VT_Species","PULS PAT","PULS PAT","Pulsatilla patens","T",2607,"prairie crocus","forb",""]
["VT_Species","PULS PAT MUL","PULS PAT MUL","Pulsatilla patens ssp. multifida","T",2608,"prairie crocus","forb",""]
["VT_Species","PUNC RUD","PUNC RUD","Punctelia rudecta","T",2609,"rough speckled shield lichen","lichen",""]
["VT_Species","PUNC SPP","PUNC SPP","Punctelia spp.","T",2610,"","lichen",""]
["VT_Species","PUNC SUB","PUNC SUB","Punctelia subrudecta","T",2611,"powdered speckled shield lichen","lichen",""]
["VT_Species","PYLA POL","PYLA POL","Pylaisiella polyantha","T",2612,"aspen moss","bryophyte",""]
["VT_Species","PYRE OCT","PYRE OCT","Pyrenidium octosporum","T",2613,"","lichen",""]
["VT_Species","PYRO ASA","PYRO ASA","Pyrola asarifolia","T",2614,"pink wintergreen","forb",""]
["VT_Species","PYRO ASA ASA","PYRO ASA ASA","Pyrola asarifolia ssp. asarifolia","T",2615,"pink wintergreen","forb",""]
["VT_Species","PYRO CHL","PYRO CHL","Pyrola chlorantha","T",2616,"greenish-flowered wintergreen","forb",""]
["VT_Species","PYRO ELL","PYRO ELL","Pyrola elliptica","T",2617,"shinleaf","forb",""]
["VT_Species","PYRO GRA","PYRO GRA","Pyrola grandiflora","T",2618,"large-flowered wintergreen","forb",""]
["VT_Species","PYRO MIN","PYRO MIN","Pyrola minor","T",2619,"lesser wintergreen","forb",""]
["VT_Species","PYRO SPP","PYRO SPP","Pyrola spp.","T",2620,"wintergreen (genus)","forb",""]
["VT_Species","PYRR LAN","PYRR LAN","Pyrrocoma lanceolata","T",2621,"lance-leaf goldenweed","forb",""]
["VT_Species","PYRR LAN LAN","PYRR LAN LAN","Pyrrocoma lanceolata var. lanceolata","T",2622,"lance-leaf goldenweed","forb",""]
["VT_Species","QUER MAC","QUER MAC","Quercus macrocarpa","T",2623,"bur oak","tree","bO"]
["VT_Species","QUER MAC MAC","QUER MAC MAC","Quercus macrocarpa var. macrocarpa","T",2624,"bur oak","tree",""]
["VT_Species","RAMA AME","RAMA AME","Ramalina americana","T",2625,"sinewed ramalina","lichen",""]
["VT_Species","RAMA CAL","RAMA CAL","Ramalina calicaris","T",2626,"ramalina","lichen",""]
["VT_Species","RAMA DIL","RAMA DIL","Ramalina dilacerata","T",2627,"punctured ramalina","lichen",""]
["VT_Species","RAMA FAR","RAMA FAR","Ramalina farinacea","T",2628,"dotted ramalina","lichen",""]
["VT_Species","RAMA FAS","RAMA FAS","Ramalina fastigiata","T",2629,"ramalina","lichen",""]
["VT_Species","RAMA FRA","RAMA FRA","Ramalina fraxinea","T",2630,"ramalina","lichen",""]
["VT_Species","RAMA INT","RAMA INT","Ramalina intermedia","T",2631,"rock ramalina","lichen",""]
["VT_Species","RAMA OBT","RAMA OBT","Ramalina obtusata","T",2632,"hooded ramalina","lichen",""]
["VT_Species","RAMA PLP","RAMA PLP","Ramalina polymorpha","T",2633,"ramalina","lichen",""]
["VT_Species","RAMA PLR","RAMA PLR","Ramalina pollinaria","T",2634,"chalky ramalina","lichen",""]
["VT_Species","RAMA SIN","RAMA SIN","Ramalina sinensis","T",2635,"fan ramalina","lichen",""]
["VT_Species","RAMA SPP","RAMA SPP","Ramalina spp.","T",2636,"","lichen",""]
["VT_Species","RANU ABO","RANU ABO","Ranunculus abortivus","T",2637,"small-flowered buttercup","forb",""]
["VT_Species","RANU ACR","RANU ACR","Ranunculus acris","T",2638,"tall buttercup","forb",""]
["VT_Species","RANU ACR ACR","RANU ACR ACR","Ranunculus acris var. acris","T",2639,"tall buttercup","forb",""]
["VT_Species","RANU AQU","RANU AQU","Ranunculus aquatilis","T",2640,"white water buttercup","forb",""]
["VT_Species","RANU AQU DIF","RANU AQU DIF","Ranunculus aquatilis var. diffusa","T",2641,"white water buttercup","forb",""]
["VT_Species","RANU CAR","RANU CAR","Ranunculus cardiophyllus","T",2642,"heart-leaved buttercup","forb",""]
["VT_Species","RANU CYM","RANU CYM","Ranunculus cymbalaria","T",2643,"shore buttercup","forb",""]
["VT_Species","RANU FLA","RANU FLA","Ranunculus flammula","T",2644,"creeping buttercup","forb",""]
["VT_Species","RANU FLA OVA","RANU FLA OVA","Ranunculus flammula var. ovalis","T",2645,"creeping buttercup","forb",""]
["VT_Species","RANU FLA REP","RANU FLA REP","Ranunculus flammula var. reptans","T",2646,"creeping buttercup","forb",""]
["VT_Species","RANU GLA","RANU GLA","Ranunculus glaberrimus","T",2647,"shiny-leaved buttercup","forb",""]
["VT_Species","RANU GLA ELL","RANU GLA ELL","Ranunculus glaberrimus var. ellipticus","T",2648,"shiny-leaved buttercup","forb",""]
["VT_Species","RANU GME","RANU GME","Ranunculus gmelinii","T",2649,"small yellow water buttercup","forb",""]
["VT_Species","RANU HYP","RANU HYP","Ranunculus hyperboreus","T",2650,"boreal buttercup","forb",""]
["VT_Species","RANU HYP HYP","RANU HYP HYP","Ranunculus hyperboreus var. hyperboreus","T",2651,"boreal buttercup","forb",""]
["VT_Species","RANU INA","RANU INA","Ranunculus inamoenus","T",2652,"graceful buttercup","forb",""]
["VT_Species","RANU INA INA","RANU INA INA","Ranunculus inamoenus var. inamoenus","T",2653,"graceful buttercup","forb",""]
["VT_Species","RANU LAP","RANU LAP","Ranunculus lapponicus","T",2654,"Lapland buttercup","forb",""]
["VT_Species","RANU MAC","RANU MAC","Ranunculus macounii","T",2655,"Macoun’s buttercup","forb",""]
["VT_Species","RANU PED","RANU PED","Ranunculus pedatifidus","T",2656,"northern buttercup","forb",""]
["VT_Species","RANU PED AFF","RANU PED AFF","Ranunculus pedatifidus var. affinis","T",2657,"northern buttercup","forb",""]
["VT_Species","RANU PEN","RANU PEN","Ranunculus pensylvanicus","T",2658,"Pennsylvania buttercup","forb",""]
["VT_Species","RANU RHO","RANU RHO","Ranunculus rhomboideus","T",2659,"prairie buttercup","forb",""]
["VT_Species","RANU SCE","RANU SCE","Ranunculus sceleratus","T",2660,"celery-leaved buttercup","forb",""]
["VT_Species","RANU SCE MUL","RANU SCE MUL","Ranunculus sceleratus var. multifidus","T",2661,"celery-leaved buttercup","forb",""]
["VT_Species","RANU SCE SCE","RANU SCE SCE","Ranunculus sceleratus var. sceleratus","T",2662,"celery-leaved buttercup","forb",""]
["VT_Species","RANU SPP","RANU SPP","Ranunculus spp.","T",2663,"buttercup (genus)","forb",""]
["VT_Species","RANU TES","RANU TES","Ranunculus testiculata","T",2664,"curved-seed buttercup","forb",""]
["VT_Species","RAPH RAP","RAPH RAP","Raphanus raphanistrum","T",2665,"wild radish","forb",""]
["VT_Species","RAPH RAP RAP","RAPH RAP RAP","Raphanus raphanistrum ssp. raphanistrum","T",2666,"wild radish","forb",""]
["VT_Species","RAPH SAT","RAPH SAT","Raphanus sativus","T",2667,"garden radish","forb",""]
["VT_Species","RAPH SPP","RAPH SPP","Raphanus spp.","T",2668,"radish (genus)","forb",""]
["VT_Species","RAPI PER","RAPI PER","Rapistrum perenne","T",2669,"steppe-cabbage","forb",""]
["VT_Species","RATI COL","RATI COL","Ratibida columnifera","T",2670,"prairie coneflower","forb",""]
["VT_Species","RESE ALB","RESE ALB","Reseda alba","T",2671,"white cut-leaved mignonette","forb",""]
["VT_Species","RESE LUT","RESE LUT","Reseda lutea","T",2672,"yellow cut-leaved mignonette","forb",""]
["VT_Species","RESE SPP","RESE SPP","Reseda spp.","T",2673,"mignonette (genus)","forb",""]
["VT_Species","RHAM ALN","RHAM ALN","Rhamnus alnifolia","T",2674,"alder-leaved buckthorn","erect shrub",""]
["VT_Species","RHAM CAT","RHAM CAT","Rhamnus cathartica","T",2675,"European buckthorn","erect shrub",""]
["VT_Species","RHAM SPP","RHAM SPP","Rhamnus spp.","T",2676,"buckthorn (genus)","erect shrub",""]
["VT_Species","RHEU RHA","RHEU RHA","Rheum rhabarbarum","T",2677,"rhubarb","forb",""]
["VT_Species","RHIN MIN","RHIN MIN","Rhinanthus minor","T",2678,"yellow-rattle","forb",""]
["VT_Species","RHIN MIN MIN","RHIN MIN MIN","Rhinanthus minor ssp. minor","T",2679,"yellow-rattle","forb",""]
["VT_Species","RHIZ BAD","RHIZ BAD","Rhizocarpon badioatrum","T",2680,"map lichen","lichen",""]
["VT_Species","RHIZ CIN","RHIZ CIN","Rhizocarpon cinereovirens","T",2681,"map lichen","lichen",""]
["VT_Species","RHIZ CON","RHIZ CON","Rhizocarpon concentricum","T",2682,"map lichen","lichen",""]
["VT_Species","RHIZ COO","RHIZ COO","Rhizocarpon cookeanum","T",2683,"map lichen","lichen",""]
["VT_Species","RHIZ COP","RHIZ COP","Rhizocarpon copelandii","T",2684,"map lichen","lichen",""]
["VT_Species","RHIZ DIS","RHIZ DIS","Rhizocarpon disporum","T",2685,"single-spored map lichen","lichen",""]
["VT_Species","RHIZ EUP","RHIZ EUP","Rhizocarpon eupetraeum","T",2686,"map lichen","lichen",""]
["VT_Species","RHIZ GEM","RHIZ GEM","Rhizocarpon geminatum","T",2687,"map lichen","lichen",""]
["VT_Species","RHIZ GEO","RHIZ GEO","Rhizocarpon geographicum","T",2688,"yellow map lichen","lichen",""]
["VT_Species","RHIZ GRA","RHIZ GRA","Rhizocarpon grande","T",2689,"map lichen","lichen",""]
["VT_Species","RHIZ HOC","RHIZ HOC","Rhizocarpon hochstetteri","T",2690,"smooth map lichen","lichen",""]
["VT_Species","RHIZ LIN","RHIZ LIN","Rhizocarpon lindsayanum","T",2691,"Lindsay's map lichen","lichen",""]
["VT_Species","RHIZ NOR","RHIZ NOR","Rhizocarpon norvegicum","T",2692,"Norwegian map lichen","lichen",""]
["VT_Species","RHIZ OBS","RHIZ OBS","Rhizocarpon obscuratum","T",2693,"dusky map lichen","lichen",""]
["VT_Species","RHIZ RIP","RHIZ RIP","Rhizocarpon riparium","T",2694,"map lichen","lichen",""]
["VT_Species","RHIZ SPP","RHIZ SPP","Rhizocarpon spp.","T",2695,"","lichen",""]
["VT_Species","RHIZ SUP","RHIZ SUP","Rhizocarpon superficiale","T",2696,"map lichen","lichen",""]
["VT_Species","RHUS GLA","RHUS GLA","Rhus glabra","T",2697,"smooth sumac","erect shrub",""]
["VT_Species","RHUS SPP","RHUS SPP","Rhus spp.","T",2698,"sumac (genus)","erect shrub",""]
["VT_Species","RHUS TRI","RHUS TRI","Rhus trilobata","T",2699,"skunk-bush","erect shrub",""]
["VT_Species","RHUS TRI TRI","RHUS TRI TRI","Rhus trilobata var. trilobata","T",2700,"skunk-bush","erect shrub",""]
["VT_Species","RHYN ALB","RHYN ALB","Rhynchospora alba","T",2701,"white beaked-rush","graminoid",""]
["VT_Species","RHYN CAP","RHYN CAP","Rhynchospora capillacea","T",2702,"hair-like beaked-rush","graminoid",""]
["VT_Species","RHYN FUS","RHYN FUS","Rhynchospora fusca","T",2703,"brown beaked-rush","graminoid",""]
["VT_Species","RHYN SPP","RHYN SPP","Rhynchospora spp.","T",2704,"beaked-rush (genus)","graminoid",""]
["VT_Species","RHYT TRI","RHYT TRI","Rhytidiadelphus triquetrus","T",2705,"goose neck moss","bryophyte",""]
["VT_Species","RHZM GRA","RHZM GRA","Rhizomnium gracile","T",2706,"slender round moss","bryophyte",""]
["VT_Species","RHZM MAG","RHZM MAG","Rhizomnium magnifolium","T",2707,"","bryophyte",""]
["VT_Species","RHZM PSE","RHZM PSE","Rhizomnium pseudopunctatum","T",2708,"felt round moss","bryophyte",""]
["VT_Species","RHZM PUN","RHZM PUN","Rhizomnium punctatum","T",2709,"","bryophyte",""]
["VT_Species","RHZM SPP","RHZM SPP","Rhizomnium spp.","T",2710,"","bryophyte",""]
["VT_Species","RHZP CHR","RHZP CHR","Rhizoplaca chrysoleuca","T",2711,"orange rock-posy","lichen",""]
["VT_Species","RHZP MEL","RHZP MEL","Rhizoplaca melanophthalma","T",2712,"green rock-posy","lichen",""]
["VT_Species","RHZP PEL","RHZP PEL","Rhizoplaca peltata","T",2713,"brown rock-posy","lichen",""]
["VT_Species","RHZP SPP","RHZP SPP","Rhizoplaca spp.","T",2714,"","lichen",""]
["VT_Species","RHZP SUB","RHZP SUB","Rhizoplaca subdiscrepans","T",2715,"scattered rock-posy","lichen",""]
["VT_Species","RIBE AME","RIBE AME","Ribes americanum","T",2716,"wild black currant","erect shrub",""]
["VT_Species","RIBE AUR","RIBE AUR","Ribes aureum","T",2717,"golden currant","erect shrub",""]
["VT_Species","RIBE AUR AUR","RIBE AUR AUR","Ribes aureum var. aureum","T",2718,"golden currant","erect shrub",""]
["VT_Species","RIBE AUR VIL","RIBE AUR VIL","Ribes aureum var. villosum","T",2719,"golden currant","erect shrub",""]
["VT_Species","RIBE GLA","RIBE GLA","Ribes glandulosum","T",2720,"skunk currant","erect shrub",""]
["VT_Species","RIBE HIR","RIBE HIR","Ribes hirtellum","T",2721,"hairy-stem gooseberry","erect shrub",""]
["VT_Species","RIBE HUD","RIBE HUD","Ribes hudsonianum","T",2722,"northern black currant","erect shrub",""]
["VT_Species","RIBE HUD HUD","RIBE HUD HUD","Ribes hudsonianum var. hudsonianum","T",2723,"northern black currant","erect shrub",""]
["VT_Species","RIBE LAC","RIBE LAC","Ribes lacustre","T",2724,"bristly black currant","erect shrub",""]
["VT_Species","RIBE OXY","RIBE OXY","Ribes oxyacanthoides","T",2725,"northern gooseberry","erect shrub",""]
["VT_Species","RIBE OXY OXY","RIBE OXY OXY","Ribes oxyacanthoides var. oxyacanthoides","T",2726,"northern gooseberry","erect shrub",""]
["VT_Species","RIBE OXY SET","RIBE OXY SET","Ribes oxyacanthoides var. setosum","T",2727,"bristly gooseberry","erect shrub",""]
["VT_Species","RIBE SPP","RIBE SPP","Ribes spp.","T",2728,"gooseberry or currant (genus)","erect shrub",""]
["VT_Species","RIBE TRI","RIBE TRI","Ribes triste","T",2729,"swamp red currant","erect shrub",""]
["VT_Species","RINO ARC","RINO ARC","Rinodina archaea","T",2730,"pepper-spore lichen","lichen",""]
["VT_Species","RINO COL","RINO COL","Rinodina colobina","T",2731,"pepper-spore lichen","lichen",""]
["VT_Species","RINO EXI","RINO EXI","Rinodina exigua","T",2732,"pepper-spore lichen","lichen",""]
["VT_Species","RINO LEC","RINO LEC","Rinodina lecideoides","T",2733,"pepper-spore lichen","lichen",""]
["VT_Species","RINO MET","RINO MET","Rinodina metaboliza","T",2734,"pepper-spore lichen","lichen",""]
["VT_Species","RINO MNI","RINO MNI","Rinodina mniaraea","T",2735,"pepper-spore lichen","lichen",""]
["VT_Species","RINO MUC","RINO MUC","Rinodina mucronatula","T",2736,"pepper-spore lichen","lichen",""]
["VT_Species","RINO POP","RINO POP","Rinodina populicola","T",2737,"poplar pepper-spore lichen","lichen",""]
["VT_Species","RINO PYR","RINO PYR","Rinodina pyrina","T",2738,"pepper-spore lichen","lichen",""]
["VT_Species","RINO SPP","RINO SPP","Rinodina spp.","T",2739,"","lichen",""]
["VT_Species","RINO TER","RINO TER","Rinodina terrestris","T",2740,"","lichen",""]
["VT_Species","RINO TUR","RINO TUR","Rinodina turfacea","T",2741,"tundra pepper-spore lichen","lichen",""]
["VT_Species","RORI AUS","RORI AUS","Rorippa austriaca","T",2742,"Austrian cress","forb",""]
["VT_Species","RORI CUR","RORI CUR","Rorippa curvipes","T",2743,"curved yellow-cress","forb",""]
["VT_Species","RORI CUR CUR","RORI CUR CUR","Rorippa curvipes var. curvipes","T",2744,"curved yellow-cress","forb",""]
["VT_Species","RORI CUR TRU","RORI CUR TRU","Rorippa curvipes var. truncata","T",2745,"blunt-leaved yellow-cress","forb",""]
["VT_Species","RORI PAL","RORI PAL","Rorippa palustris","T",2746,"marsh yellow-cress","forb",""]
["VT_Species","RORI PAL FER","RORI PAL FER","Rorippa palustris ssp. fernaldiana","T",2747,"marsh yellow-cress","forb",""]
["VT_Species","RORI PAL HIS","RORI PAL HIS","Rorippa palustris ssp. hispida","T",2748,"hairy marsh yellow-cress","forb",""]
["VT_Species","RORI PAL PAL","RORI PAL PAL","Rorippa palustris ssp. palustris","T",2749,"marsh yellow-cress","forb",""]
["VT_Species","RORI SIN","RORI SIN","Rorippa sinuata","T",2750,"spreading yellow-cress","forb",""]
["VT_Species","RORI SPP","RORI SPP","Rorippa spp.","T",2751,"yellow-cress (genus)","forb",""]
["VT_Species","RORI SYL","RORI SYL","Rorippa sylvestris","T",2752,"creeping yellow-cress","forb",""]
["VT_Species","RORI TEN","RORI TEN","Rorippa tenerrima","T",2753,"slender yellow-cress","forb",""]
["VT_Species","ROSA ACI","ROSA ACI","Rosa acicularis","T",2754,"prickly rose","erect shrub",""]
["VT_Species","ROSA ARK","ROSA ARK","Rosa arkansana","T",2755,"prairie rose","erect shrub",""]
["VT_Species","ROSA ARK ARK","ROSA ARK ARK","Rosa arkansana var. arkansana","T",2756,"prairie rose","erect shrub",""]
["VT_Species","ROSA ARK SUF","ROSA ARK SUF","Rosa arkansana var. suffulta","T",2757,"prairie rose","erect shrub",""]
["VT_Species","ROSA BLA","ROSA BLA","Rosa blanda","T",2758,"smooth wild rose","erect shrub",""]
["VT_Species","ROSA BLA BLA","ROSA BLA BLA","Rosa blanda var. blanda","T",2759,"smooth wild rose","erect shrub",""]
["VT_Species","ROSA SPP","ROSA SPP","Rosa spp.","T",2760,"rose (genus)","erect shrub",""]
["VT_Species","ROSA WOO","ROSA WOO","Rosa woodsii","T",2761,"Wood’s rose","erect shrub",""]
["VT_Species","ROSA WOO WOO","ROSA WOO WOO","Rosa woodsii var. woodsii","T",2762,"Wood’s rose","erect shrub",""]
["VT_Species","RTDM RUG","RTDM RUG","Rhytidium rugosum","T",2763,"pipecleaner moss","bryophyte",""]
["VT_Species","RUBU ARC","RUBU ARC","Rubus arcticus","T",2764,"stemless raspberry","forb",""]
["VT_Species","RUBU ARC ACA","RUBU ARC ACA","Rubus arcticus ssp. acaulis","T",2765,"stemless raspberry","forb",""]
["VT_Species","RUBU CHA","RUBU CHA","Rubus chamaemorus","T",2766,"cloudberry","forb",""]
["VT_Species","RUBU IDA","RUBU IDA","Rubus idaeus","T",2767,"wild red raspberry","erect shrub",""]
["VT_Species","RUBU IDA STR","RUBU IDA STR","Rubus idaeus ssp. strigosus","T",2768,"wild red raspberry","erect shrub",""]
["VT_Species","RUBU PUB","RUBU PUB","Rubus pubescens","T",2769,"dewberry","forb",""]
["VT_Species","RUBU PUB PUB","RUBU PUB PUB","Rubus pubescens var. pubescens","T",2770,"dewberry","forb",""]
["VT_Species","RUBU SPP","RUBU SPP","Rubus spp.","T",2771,"raspberry (genus)","forb",""]
["VT_Species","RUDB HIR","RUDB HIR","Rudbeckia hirta","T",2772,"black-eyed susan","forb",""]
["VT_Species","RUDB HIR PUL","RUDB HIR PUL","Rudbeckia hirta var. pulcherimma","T",2773,"black-eyed susan","forb",""]
["VT_Species","RUDB LAC","RUDB LAC","Rudbeckia laciniata","T",2774,"tall coneflower","forb",""]
["VT_Species","RUDB LAC LAC","RUDB LAC LAC","Rudbeckia laciniata var. laciniata","T",2775,"tall coneflower","forb",""]
["VT_Species","RUDB SPP","RUDB SPP","Rudbeckia spp.","T",2776,"coneflower (genus)","forb",""]
["VT_Species","RUME ACE","RUME ACE","Rumex acetosella","T",2777,"sheep sorrel","forb",""]
["VT_Species","RUME ACT","RUME ACT","Rumex acetosa","T",2778,"sour dock","forb",""]
["VT_Species","RUME BRI","RUME BRI","Rumex britannica","T",2779,"water dock","forb",""]
["VT_Species","RUME CON","RUME CON","Rumex confertus","T",2780,"asiatic dock","forb",""]
["VT_Species","RUME CRI","RUME CRI","Rumex crispus","T",2781,"curled dock","forb",""]
["VT_Species","RUME FUE","RUME FUE","Rumex fueginus","T",2782,"golden dock","forb",""]
["VT_Species","RUME LON","RUME LON","Rumex longifolius","T",2783,"long-leaved dock","forb",""]
["VT_Species","RUME OCC","RUME OCC","Rumex occidentalis","T",2784,"western dock","forb",""]
["VT_Species","RUME PSE","RUME PSE","Rumex pseudonatronatus","T",2785,"field dock","forb",""]
["VT_Species","RUME SPP","RUME SPP","Rumex spp.","T",2786,"dock (genus)","forb",""]
["VT_Species","RUME STE","RUME STE","Rumex stenophyllus","T",2787,"narrow-leaved field dock","forb",""]
["VT_Species","RUME TRI","RUME TRI","Rumex triangulivalvis","T",2788,"narrow-leaved dock","forb",""]
["VT_Species","RUME VEN","RUME VEN","Rumex venosus","T",2789,"sand dock","forb",""]
["VT_Species","RUPP CIR","RUPP CIR","Ruppia cirrhosa","T",2790,"western widgeon-grass","forb",""]
["VT_Species","RUPP MAR","RUPP MAR","Ruppia maritima","T",2791,"beaked widgeon-grass","forb",""]
["VT_Species","RUPP MAR ROS","RUPP MAR ROS","Ruppia maritima var. rostrata","T",2792,"beaked widgeon-grass","forb",""]
["VT_Species","RUPP SPP","RUPP SPP","Ruppia spp.","T",2793,"widgeon-grass (genus)","forb",""]
["VT_Species","SAGI DEC","SAGI DEC","Sagina decumbens","T",2794,"spreading pearlwort","forb",""]
["VT_Species","SAGI DEC DEC","SAGI DEC DEC","Sagina decumbens ssp. decumbens","T",2795,"spreading pearlwort","forb",""]
["VT_Species","SAGI NOD","SAGI NOD","Sagina nodosa","T",2796,"northern knotted pearlwort","forb",""]
["VT_Species","SAGI NOD BOR","SAGI NOD BOR","Sagina nodosa ssp. borealis","T",2797,"northern knotted pearlwort","forb",""]
["VT_Species","SAGI SPP","SAGI SPP","Sagina spp.","T",2798,"pearlwort (genus)","forb",""]
["VT_Species","SAGT BRE","SAGT BRE","Sagittaria brevirostra","T",2799,"short-beaked arrowhead","forb",""]
["VT_Species","SAGT CUN","SAGT CUN","Sagittaria cuneata","T",2800,"arum-leaved arrowhead","forb",""]
["VT_Species","SAGT LAT","SAGT LAT","Sagittaria latifolia","T",2801,"broad-leaved arrowhead","forb",""]
["VT_Species","SAGT RIG","SAGT RIG","Sagittaria rigida","T",2802,"sessile-fruited arrowhead","forb",""]
["VT_Species","SAGT SPP","SAGT SPP","Sagittaria spp.","T",2803,"arrowhead (genus)","forb",""]
["VT_Species","SALI RUB","SALI RUB","Salicornia rubra","T",2804,"glasswort","forb",""]
["VT_Species","SALS COL","SALS COL","Salsola collina","T",2805,"slender Russian-thistle","forb",""]
["VT_Species","SALS SPP","SALS SPP","Salsola spp.","T",2806,"Russian-thistle (genus)","forb",""]
["VT_Species","SALS TRA","SALS TRA","Salsola tragus","T",2807,"prickly Russian-thistle","forb",""]
["VT_Species","SALV REF","SALV REF","Salvia reflexa","T",2808,"lance-leaved sage","forb",""]
["VT_Species","SALX ALB","SALX ALB","Salix alba","T",2809,"white willow","erect shrub",""]
["VT_Species","SALX AMY","SALX AMY","Salix amygdaloides","T",2810,"peach-leaved willow","tree",""]
["VT_Species","SALX ARB","SALX ARB","Salix arbusculoides","T",2811,"shrubby willow","erect shrub",""]
["VT_Species","SALX ARC","SALX ARC","Salix arctophila","T",2812,"northern willow","prostrate shrub",""]
["VT_Species","SALX ATH","SALX ATH","Salix athabascensis","T",2813,"Athabasca willow","erect shrub",""]
["VT_Species","SALX BEB","SALX BEB","Salix bebbiana","T",2814,"beaked willow","erect shrub",""]
["VT_Species","SALX BRA","SALX BRA","Salix brachycarpa","T",2815,"small-fruited willow","erect shrub",""]
["VT_Species","SALX BRA BRA","SALX BRA BRA","Salix brachycarpa var. brachycarpa","T",2816,"small-fruited willow","erect shrub",""]
["VT_Species","SALX BRA PSA","SALX BRA PSA","Salix brachycarpa var. psammophila","T",2817,"sand-dune small-fruited willow","erect shrub",""]
["VT_Species","SALX CAN","SALX CAN","Salix candida","T",2818,"hoary willow","erect shrub",""]
["VT_Species","SALX DIS","SALX DIS","Salix discolor","T",2819,"pussy willow","erect shrub",""]
["VT_Species","SALX DRU","SALX DRU","Salix drummondiana","T",2820,"Drummond’s willow","erect shrub",""]
["VT_Species","SALX FAM","SALX FAM","Salix famelica","T",2821,"yellow willow","erect shrub",""]
["VT_Species","SALX GLA","SALX GLA","Salix glauca","T",2822,"gray-leaved willow","erect shrub",""]
["VT_Species","SALX GLA GLA","SALX GLA GLA","Salix glauca ssp. glabrescens","T",2823,"gray-leaved willow","erect shrub",""]
["VT_Species","SALX HUM","SALX HUM","Salix humilis","T",2824,"prairie willow","erect shrub",""]
["VT_Species","SALX INT","SALX INT","Salix interior","T",2825,"sandbar willow","erect shrub",""]
["VT_Species","SALX LAS","SALX LAS","Salix lasiandra","T",2826,"western shining willow","erect shrub",""]
["VT_Species","SALX LAS CAU","SALX LAS CAU","Salix lasiandra var. caudata","T",2827,"western shining willow","erect shrub",""]
["VT_Species","SALX LAS LAS","SALX LAS LAS","Salix lasiandra var. lasiandra","T",2828,"western shining willow","erect shrub",""]
["VT_Species","SALX LUC","SALX LUC","Salix lucida","T",2829,"shining willow","erect shrub",""]
["VT_Species","SALX LUC LUC","SALX LUC LUC","Salix lucida ssp. lucida","T",2830,"shining willow","erect shrub",""]
["VT_Species","SALX MAC","SALX MAC","Salix maccalliana","T",2831,"velvet-fruited willow","erect shrub",""]
["VT_Species","SALX MYR","SALX MYR","Salix myrtillifolia","T",2832,"myrtle-leaved willow","erect shrub",""]
["VT_Species","SALX PED","SALX PED","Salix pedicellaris","T",2833,"bog willow","erect shrub",""]
["VT_Species","SALX PEL","SALX PEL","Salix pellita","T",2834,"satiny willow","erect shrub",""]
["VT_Species","SALX PEN","SALX PEN","Salix pentandra","T",2835,"bay-leaf willow","erect shrub",""]
["VT_Species","SALX PET","SALX PET","Salix petiolaris","T",2836,"basket willow","erect shrub",""]
["VT_Species","SALX PLA","SALX PLA","Salix planifolia","T",2837,"plane-leaf willow","erect shrub",""]
["VT_Species","SALX PSE","SALX PSE","Salix pseudomyrsinites","T",2838,"firm-leaf willow","erect shrub",""]
["VT_Species","SALX PSM","SALX PSM","Salix pseudomonticola","T",2839,"false mountain willow","erect shrub",""]
["VT_Species","SALX PYR","SALX PYR","Salix pyrifolia","T",2840,"balsam willow","erect shrub",""]
["VT_Species","SALX RET","SALX RET","Salix reticulata","T",2841,"net-leaf willow","erect shrub",""]
["VT_Species","SALX SCO","SALX SCO","Salix scouleriana","T",2842,"Scouler’s willow","erect shrub",""]
["VT_Species","SALX SER","SALX SER","Salix serissima","T",2843,"autumn willow","erect shrub",""]
["VT_Species","SALX SIL","SALX SIL","Salix silicicola","T",2844,"sand felt-leaf willow","erect shrub",""]
["VT_Species","SALX SPP","SALX SPP","Salix spp.","T",2845,"willow (genus)","erect shrub",""]
["VT_Species","SALX TUR","SALX TUR","Salix turnorii","T",2846,"Turnor’s willow","erect shrub",""]
["VT_Species","SALX TYR","SALX TYR","Salix tyrrellii","T",2847,"Tyrrell’s willow","erect shrub",""]
["VT_Species","SAMB RAC","SAMB RAC","Sambucus racemosa","T",2848,"red-berried elder","erect shrub",""]
["VT_Species","SAMB RAC RAC","SAMB RAC RAC","Sambucus racemosa var. racemosa","T",2849,"red-berried elder","erect shrub",""]
["VT_Species","SAMO FLO","SAMO FLO","Samolus floribundus","T",2850,"water pimpernel","forb",""]
["VT_Species","SANI MAR","SANI MAR","Sanicula marilandica","T",2851,"black snakeroot","forb",""]
["VT_Species","SAPO OFF","SAPO OFF","Saponaria officinalis","T",2852,"bouncing-bet","forb",""]
["VT_Species","SARC VER","SARC VER","Sarcobatus vermiculatus","T",2853,"black greaswood","forb",""]
["VT_Species","SARR PUR","SARR PUR","Sarracenia purpurea","T",2854,"purple pitcher-plant","forb",""]
["VT_Species","SARR PUR GIB","SARR PUR GIB","Sarracenia purpurea ssp. gibbosa","T",2855,"purple pitcher-plant","forb",""]
["VT_Species","SAXI TRI","SAXI TRI","Saxifraga tricuspidata","T",2856,"three-toothed saxifrage","forb",""]
["VT_Species","SCAN PEC","SCAN PEC","Scandix pecten-veneris","T",2857,"shepherd’s-needle","forb",""]
["VT_Species","SCHA FUS","SCHA FUS","Schaereria fuscocinerea","T",2858,"false map lichen","lichen",""]
["VT_Species","SCHE PAN","SCHE PAN","Schedonnardus paniculatus","T",2859,"prairie tumble-grass","graminoid",""]
["VT_Species","SCHI PUR","SCHI PUR","Schizachne purpurascens","T",2860,"false melic grass","graminoid",""]
["VT_Species","SCHO ACU","SCHO ACU","Schoenoplectus acutus","T",2861,"hardstem bulrush","graminoid",""]
["VT_Species","SCHO ACU ACU","SCHO ACU ACU","Schoenoplectus acutus var. acutus","T",2862,"hardstem bulrush","graminoid",""]
["VT_Species","SCHO PUN","SCHO PUN","Schoenoplectus pungens","T",2863,"three-square bulrush","graminoid",""]
["VT_Species","SCHO SPP","SCHO SPP","Schoenoplectus spp.","T",2864,"bulrush (Schoenoplectus genus)","graminoid",""]
["VT_Species","SCHO SUB","SCHO SUB","Schoenoplectus subterminalis","T",2865,"subterminal bulrush","graminoid",""]
["VT_Species","SCHO TAB","SCHO TAB","Schoenoplectus tabernaemontani","T",2866,"soft-stem bulrush","graminoid",""]
["VT_Species","SCHR PRA","SCHR PRA","Schedonorus pratense","T",2867,"meadow fescue","graminoid",""]
["VT_Species","SCHT APO","SCHT APO","Schistidium apocarpum","T",2868,"","bryophyte",""]
["VT_Species","SCHT RIV","SCHT RIV","Schistidium rivulare","T",2869,"","bryophyte",""]
["VT_Species","SCHT SPP","SCHT SPP","Schistidium spp.","T",2870,"","bryophyte",""]
["VT_Species","SCHU PAL","SCHU PAL","Scheuchzeria palustris","T",2871,"American scheuchzeria","forb",""]
["VT_Species","SCHU PAL AME","SCHU PAL AME","Scheuchzeria palustris ssp. americana","T",2872,"American scheuchzeria","forb",""]
["VT_Species","SCHY SCO","SCHY SCO","Schizachyrium scoparium","T",2873,"little bluestem","graminoid",""]
["VT_Species","SCHY SCO SCO","SCHY SCO SCO","Schizachyrium scoparium ssp. scoparium","T",2874,"little bluestem","graminoid",""]
["VT_Species","SCIR ATR","SCIR ATR","Scirpus atrocinctus","T",2875,"woolgrass","graminoid",""]
["VT_Species","SCIR MIC","SCIR MIC","Scirpus microcarpus","T",2876,"small-fruited bulrush","graminoid",""]
["VT_Species","SCIR NEV","SCIR NEV","Scirpus nevadensis","T",2877,"Nevada bulrush","graminoid",""]
["VT_Species","SCIR PAL","SCIR PAL","Scirpus pallidus","T",2878,"pale bulrush","graminoid",""]
["VT_Species","SCIR SPP","SCIR SPP","Scirpus spp.","T",2879,"bulrush (Scirpus genus)","graminoid",""]
["VT_Species","SCLE ANN","SCLE ANN","Scleranthus annuus","T",2880,"annual knawel","forb",""]
["VT_Species","SCLP CHL","SCLP CHL","Scoliciosporum chlorococcum","T",2881,"city dot lichen","lichen",""]
["VT_Species","SCOL FES","SCOL FES","Scolochloa festucacea","T",2882,"spangletop","graminoid",""]
["VT_Species","SCOR SCO","SCOR SCO","Scorpidium scorpioides","T",2883,"scorpion feather moss","bryophyte",""]
["VT_Species","SCRO LAN","SCRO LAN","Scrophularia lanceolata","T",2884,"lance-leaved figwort","forb",""]
["VT_Species","SCUT GAL","SCUT GAL","Scutellaria galericulata","T",2885,"marsh skullcap","forb",""]
["VT_Species","SCUT GAL EPI","SCUT GAL EPI","Scutellaria galericulata ssp. epilobiifolia","T",2886,"marsh skullcap","forb",""]
["VT_Species","SCUT LAT","SCUT LAT","Scutellaria lateriflora","T",2887,"blue skullcap","forb",""]
["VT_Species","SCUT LAT LAT","SCUT LAT LAT","Scutellaria lateriflora var. lateriflora","T",2888,"blue skullcap","forb",""]
["VT_Species","SCUT SPP","SCUT SPP","Scutellaria spp.","T",2889,"skullcap (genus)","forb",""]
["VT_Species","SECA CER","SECA CER","Secale cereale","T",2890,"cultivated rye","graminoid",""]
["VT_Species","SECU VAR","SECU VAR","Securigera varia","T",2891,"purple crown-vetch","forb",""]
["VT_Species","SEDU ACR","SEDU ACR","Sedum acre","T",2892,"mossy stonecrop","forb",""]
["VT_Species","SEDU AIZ","SEDU AIZ","Sedum aizoon","T",2893,"aizoon stonecrop","forb",""]
["VT_Species","SEDU LAN","SEDU LAN","Sedum lanceolatum","T",2894,"lance-leaved stonecrop","forb",""]
["VT_Species","SEDU LAN LAN","SEDU LAN LAN","Sedum lanceolatum ssp. lanceolatum","T",2895,"lance-leaved stonecrop","forb",""]
["VT_Species","SEDU SPP","SEDU SPP","Sedum spp.","T",2896,"stonecrop (genus)","forb",""]
["VT_Species","SELA DEN","SELA DEN","Selaginella densa","T",2897,"prairie clubmoss","forb",""]
["VT_Species","SELA DEN DEN","SELA DEN DEN","Selaginella densa var. densa","T",2898,"prairie clubmoss","forb",""]
["VT_Species","SELA RUP","SELA RUP","Selaginella rupestris","T",2899,"rock spike-moss","forb",""]
["VT_Species","SELA SEL","SELA SEL","Selaginella selaginoides","T",2900,"prickly spike-moss","forb",""]
["VT_Species","SELA SPP","SELA SPP","Selaginella spp.","T",2901,"spike-moss (genus)","forb",""]
["VT_Species","SENE ERE","SENE ERE","Senecio eremophilus","T",2902,"cut-leaved ragwort","forb",""]
["VT_Species","SENE ERE ERE","SENE ERE ERE","Senecio eremophilus var. eremophilus","T",2903,"cut-leaved ragwort","forb",""]
["VT_Species","SENE INT","SENE INT","Senecio integerrimus","T",2904,"entire-leaved groundsel","forb",""]
["VT_Species","SENE INT EXA","SENE INT EXA","Senecio integerrimus var. exaltatus","T",2905,"entire-leaved groundsel","forb",""]
["VT_Species","SENE INT INT","SENE INT INT","Senecio integerrimus var. integerrimus","T",2906,"entire-leaved groundsel","forb",""]
["VT_Species","SENE INT SCR","SENE INT SCR","Senecio integerrimus var. scribneri","T",2907,"Scribner’s groundsel","forb",""]
["VT_Species","SENE SPP","SENE SPP","Senecio spp.","T",2908,"groundsel (Senecio genus)","forb",""]
["VT_Species","SENE VIS","SENE VIS","Senecio viscosus","T",2909,"sticky groundsel","forb",""]
["VT_Species","SENE VUL","SENE VUL","Senecio vulgaris","T",2910,"common groundsel","forb",""]
["VT_Species","SETA PUM","SETA PUM","Setaria pumila","T",2911,"yellow foxtail","graminoid",""]
["VT_Species","SETA PUM PUM","SETA PUM PUM","Setaria pumila ssp. pumila","T",2912,"yellow foxtail","graminoid",""]
["VT_Species","SETA SPP","SETA SPP","Setaria spp.","T",2913,"foxtail (genus)","graminoid",""]
["VT_Species","SETA VIR","SETA VIR","Setaria viridis","T",2914,"green foxtail","graminoid",""]
["VT_Species","SETA VIR VIR","SETA VIR VIR","Setaria viridis var. viridis","T",2915,"green foxtail","graminoid",""]
["VT_Species","SHEP ARG","SHEP ARG","Shepherdia argentea","T",2916,"thorny buffalo-berry","erect shrub",""]
["VT_Species","SHEP CAN","SHEP CAN","Shepherdia canadensis","T",2917,"Canada buffalo-berry","erect shrub",""]
["VT_Species","SHEP SPP","SHEP SPP","Shepherdia spp.","T",2918,"buffalo-berry (genus)","erect shrub",""]
["VT_Species","SHIN ROS","SHIN ROS","Shinnersoseris rostrata","T",2919,"beaked annual skeleton-weed","forb",""]
["VT_Species","SIBB TRI","SIBB TRI","Sibbaldiopsis tridentata","T",2920,"three-toothed cinquefoil","forb",""]
["VT_Species","SILE ACA","SILE ACA","Silene acaulis","T",2921,"moss campion","forb",""]
["VT_Species","SILE ACA EXS","SILE ACA EXS","Silene acaulis var. exscapa","T",2922,"moss campion","forb",""]
["VT_Species","SILE ANT","SILE ANT","Silene antirrhina","T",2923,"sleepy catchfly","forb",""]
["VT_Species","SILE CHA","SILE CHA","Silene chalcedonica","T",2924,"Maltese-cross","forb",""]
["VT_Species","SILE CON","SILE CON","Silene conoidea","T",2925,"conoid catchfly","forb",""]
["VT_Species","SILE CSE","SILE CSE","Silene csereii","T",2926,"smooth catchfly","forb",""]
["VT_Species","SILE DIC","SILE DIC","Silene dichotoma","T",2927,"forked catchfly","forb",""]
["VT_Species","SILE DRU","SILE DRU","Silene drummondii","T",2928,"Drummond’s catchfly","forb",""]
["VT_Species","SILE DRU DRU","SILE DRU DRU","Silene drummondii var. drummondii","T",2929,"Drummond’s catchfly","forb",""]
["VT_Species","SILE LAT","SILE LAT","Silene latifolia","T",2930,"white catchfly","forb",""]
["VT_Species","SILE LAT ALB","SILE LAT ALB","Silene latifolia ssp. alba","T",2931,"white catchfly","forb",""]
["VT_Species","SILE MEN","SILE MEN","Silene menziesii","T",2932,"Menzies’ catchfly","forb",""]
["VT_Species","SILE MEN MEN","SILE MEN MEN","Silene menziesii ssp. menziesii","T",2933,"Menzies’ catchfly","forb",""]
["VT_Species","SILE NOC","SILE NOC","Silene noctiflora","T",2934,"night-flowering catchfly","forb",""]
["VT_Species","SILE SIB","SILE SIB","Silene sibirica","T",2935,"Siberian campion","forb",""]
["VT_Species","SILE SPP","SILE SPP","Silene spp.","T",2936,"catchfly (genus)","forb",""]
["VT_Species","SILE VUL","SILE VUL","Silene vulgaris","T",2937,"bladder campion","forb",""]
["VT_Species","SILY MAR","SILY MAR","Silybum marianum","T",2938,"blessed milk-thistle","forb",""]
["VT_Species","SINA ALB","SINA ALB","Sinapis alba","T",2939,"white mustard","forb",""]
["VT_Species","SINA ALB ALB","SINA ALB ALB","Sinapis alba ssp. alba","T",2940,"white mustard","forb",""]
["VT_Species","SINA ARV","SINA ARV","Sinapis arvensis","T",2941,"charlock","forb",""]
["VT_Species","SINA SPP","SINA SPP","Sinapis spp.","T",2942,"mustard (Sinapis genus)","forb",""]
["VT_Species","SISY ALT","SISY ALT","Sisymbrium altissimum","T",2943,"tumble mustard","forb",""]
["VT_Species","SISY LOE","SISY LOE","Sisymbrium loeselii","T",2944,"tall hedge-mustard","forb",""]
["VT_Species","SISY SPP","SISY SPP","Sisymbrium spp.","T",2945,"mustard (Sisymbrium genus)","forb",""]
["VT_Species","SIUM SUA","SIUM SUA","Sium suave","T",2946,"water-parsnip","forb",""]
["VT_Species","SIYR MON","SIYR MON","Sisyrinchium montanum","T",2947,"mountain blue-eyed-grass","forb",""]
["VT_Species","SIYR MUC","SIYR MUC","Sisyrinchium mucronatum","T",2948,"mucronate blue-eyed-grass","forb",""]
["VT_Species","SIYR SEP","SIYR SEP","Sisyrinchium septentrionale","T",2949,"northern blue-eyed-grass","forb",""]
["VT_Species","SIYR SPP","SIYR SPP","Sisyrinchium spp.","T",2950,"blue-eyed-grass (genus)","forb",""]
["VT_Species","SMIL LAS","SMIL LAS","Smilax lasioneuron","T",2951,"hairy-nerved carrion-flower","forb",""]
["VT_Species","SNNA UNC","SNNA UNC","Sanionia uncinata","T",2952,"","bryophyte",""]
["VT_Species","SOLA DUL","SOLA DUL","Solanum dulcamara","T",2953,"bittersweet","forb",""]
["VT_Species","SOLA DUL DUL","SOLA DUL DUL","Solanum dulcamara var. dulcamara","T",2954,"bittersweet","forb",""]
["VT_Species","SOLA INT","SOLA INT","Solanum interius","T",2955,"deadly black nightshade","forb",""]
["VT_Species","SOLA LYC","SOLA LYC","Solanum lycopersicum","T",2956,"garden tomato","forb",""]
["VT_Species","SOLA PHY","SOLA PHY","Solanum physalifolium","T",2957,"viscid nightshade","forb",""]
["VT_Species","SOLA PTY","SOLA PTY","Solanum ptychanthum","T",2958,"American black nightshade","forb",""]
["VT_Species","SOLA ROS","SOLA ROS","Solanum rostratum","T",2959,"buffalo-bur","forb",""]
["VT_Species","SOLA SPP","SOLA SPP","Solanum spp.","T",2960,"nightshade (genus)","forb",""]
["VT_Species","SOLA TRI","SOLA TRI","Solanum triflorum","T",2961,"wild tomato","forb",""]
["VT_Species","SOLA TUB","SOLA TUB","Solanum tuberosum","T",2962,"potato","forb",""]
["VT_Species","SOLI ALT","SOLI ALT","Solidago altissima","T",2963,"tall goldenrod","forb",""]
["VT_Species","SOLI ALT ALT","SOLI ALT ALT","Solidago altissima ssp. altissima","T",2964,"tall goldenrod","forb",""]
["VT_Species","SOLI ALT GIL","SOLI ALT GIL","Solidago altissima ssp. gilvocanescens","T",2965,"canescent goldenrod","forb",""]
["VT_Species","SOLI CAN","SOLI CAN","Solidago canadensis","T",2966,"Canada goldenrod","forb",""]
["VT_Species","SOLI CAN HAR","SOLI CAN HAR","Solidago canadensis var. hargeri","T",2967,"Canada goldenrod","forb",""]
["VT_Species","SOLI GIG","SOLI GIG","Solidago gigantea","T",2968,"late goldenrod","forb",""]
["VT_Species","SOLI GIG SER","SOLI GIG SER","Solidago gigantea ssp. serotina","T",2969,"late goldenrod","forb",""]
["VT_Species","SOLI HIS","SOLI HIS","Solidago hispida","T",2970,"hairy goldenrod","forb",""]
["VT_Species","SOLI LEP","SOLI LEP","Solidago lepida","T",2971,"western Canada goldenrod","forb",""]
["VT_Species","SOLI LEP LEP","SOLI LEP LEP","Solidago lepida var. lepida","T",2972,"western Canada goldenrod","forb",""]
["VT_Species","SOLI LEP SAL","SOLI LEP SAL","Solidago lepida var. salebrosa","T",2973,"graceful goldenrod","forb",""]
["VT_Species","SOLI MIS","SOLI MIS","Solidago missouriensis","T",2974,"Missouri goldenrod","forb",""]
["VT_Species","SOLI MOL","SOLI MOL","Solidago mollis","T",2975,"velvety goldenrod","forb",""]
["VT_Species","SOLI MUL","SOLI MUL","Solidago multiradiata","T",2976,"northern goldenrod","forb",""]
["VT_Species","SOLI NEM","SOLI NEM","Solidago nemoralis","T",2977,"showy goldenrod","forb",""]
["VT_Species","SOLI NEM DEC","SOLI NEM DEC","Solidago nemoralis ssp. decemflora","T",2978,"showy goldenrod","forb",""]
["VT_Species","SOLI PTA","SOLI PTA","Solidago ptarmicoides","T",2979,"upland white aster","forb",""]
["VT_Species","SOLI RIG","SOLI RIG","Solidago rigida","T",2980,"stiff-leaved goldenrod","forb",""]
["VT_Species","SOLI RIG HUM","SOLI RIG HUM","Solidago rigida ssp. humilis","T",2981,"stiff-leaved goldenrod","forb",""]
["VT_Species","SOLI SIM","SOLI SIM","Solidago simplex","T",2982,"mountain goldenrod","forb",""]
["VT_Species","SOLI SIM SIM","SOLI SIM SIM","Solidago simplex var. simplex","T",2983,"mountain goldenrod","forb",""]
["VT_Species","SOLI SPP","SOLI SPP","Solidago spp.","T",2984,"goldenrod (genus)","forb",""]
["VT_Species","SOLO BIS","SOLO BIS","Solorina bispora","T",2985,"chocolate chip lichen","lichen",""]
["VT_Species","SOLO CRO","SOLO CRO","Solorina crocea","T",2986,"orange chocolate chip lichen","lichen",""]
["VT_Species","SOLO SAC","SOLO SAC","Solorina saccata","T",2987,"common chocolate chip lichen","lichen",""]
["VT_Species","SOLO SPP","SOLO SPP","Solorina spp.","T",2988,"","lichen",""]
["VT_Species","SONC ARV","SONC ARV","Sonchus arvensis","T",2989,"perennial sow-thistle","forb",""]
["VT_Species","SONC ARV ARV","SONC ARV ARV","Sonchus arvensis ssp. arvensis","T",2990,"perennial sow-thistle","forb",""]
["VT_Species","SONC ARV ULI","SONC ARV ULI","Sonchus arvensis ssp. uliginosus","T",2991,"perennial sow-thistle","forb",""]
["VT_Species","SONC ASP","SONC ASP","Sonchus asper","T",2992,"spiny-leaved annual sow-thistle","forb",""]
["VT_Species","SONC ASP ASP","SONC ASP ASP","Sonchus asper ssp. asper","T",2993,"spiny-leaved annual sow-thistle","forb",""]
["VT_Species","SONC OLE","SONC OLE","Sonchus oleraceus","T",2994,"common annual sow-thistle","forb",""]
["VT_Species","SONC SPP","SONC SPP","Sonchus spp.","T",2995,"sow-thistle (genus)","forb",""]
["VT_Species","SORB SOR","SORB SOR","Sorbaria sorbifolia","T",2996,"ash-leaved spiraea","erect shrub",""]
["VT_Species","SORG NUT","SORG NUT","Sorghastrum nutans","T",2997,"yellow Indian grass","graminoid",""]
["VT_Species","SPAR ANG","SPAR ANG","Sparganium angustifolium","T",2998,"narrow-leaved bur-reed","graminoid",""]
["VT_Species","SPAR CHL","SPAR CHL","Sparganium chlorocarpum","T",2999,"green-fruited bur-reed","graminoid",""]
["VT_Species","SPAR EME","SPAR EME","Sparganium emersum","T",3000,"broad-leaved bur-reed","graminoid",""]
["VT_Species","SPAR EUR","SPAR EUR","Sparganium eurycarpum","T",3001,"giant bur-reed","graminoid",""]
["VT_Species","SPAR FLU","SPAR FLU","Sparganium fluctuans","T",3002,"floating bur-reed","graminoid",""]
["VT_Species","SPAR GLO","SPAR GLO","Sparganium glomeratum","T",3003,"clustered bur-reed","graminoid",""]
["VT_Species","SPAR HYP","SPAR HYP","Sparganium hyperboreum","T",3004,"northern bur-reed","graminoid",""]
["VT_Species","SPAR NAT","SPAR NAT","Sparganium natans","T",3005,"small bur-reed","graminoid",""]
["VT_Species","SPAR SPP","SPAR SPP","Sparganium spp.","T",3006,"bur-reed (genus)","graminoid",""]
["VT_Species","SPER ARV","SPER ARV","Spergula arvense","T",3007,"corn-spurry","forb",""]
["VT_Species","SPER ARV ARV","SPER ARV ARV","Spergula arvense var. arvense","T",3008,"corn-spurry","forb",""]
["VT_Species","SPHA COC","SPHA COC","Sphaeralcea coccinea","T",3009,"scarlet mallow","forb",""]
["VT_Species","SPHA COC COC","SPHA COC COC","Sphaeralcea coccinea ssp. coccinea","T",3010,"scarlet mallow","forb",""]
["VT_Species","SPHE INT","SPHE INT","Sphenopholis intermedia","T",3011,"slender wedge-grass","graminoid",""]
["VT_Species","SPHE OBT","SPHE OBT","Sphenopholis obtusata","T",3012,"prairie wedge-grass","graminoid",""]
["VT_Species","SPHE SPP","SPHE SPP","Sphenopholis spp.","T",3013,"wedge-grass (genus)","graminoid",""]
["VT_Species","SPHG ANG","SPHG ANG","Sphagnum angustifolium","T",3014,"poor fen peat moss","bryophyte",""]
["VT_Species","SPHG ANN","SPHG ANN","Sphagnum annulatum","T",3015,"","bryophyte",""]
["VT_Species","SPHG BAL","SPHG BAL","Sphagnum balticum","T",3016,"","bryophyte",""]
["VT_Species","SPHG CAP","SPHG CAP","Sphagnum capillifolium","T",3017,"acute-leaved peat moss","bryophyte",""]
["VT_Species","SPHG CEN","SPHG CEN","Sphagnum centrale","T",3018,"","bryophyte",""]
["VT_Species","SPHG COM","SPHG COM","Sphagnum compactum","T",3019,"","bryophyte",""]
["VT_Species","SPHG FAL","SPHG FAL","Sphagnum fallax","T",3020,"","bryophyte",""]
["VT_Species","SPHG FUS","SPHG FUS","Sphagnum fuscum","T",3021,"rusty peat moss","bryophyte",""]
["VT_Species","SPHG GIR","SPHG GIR","Sphagnum girgensohnii","T",3022,"Girgensohn's peat moss","bryophyte",""]
["VT_Species","SPHG JEN","SPHG JEN","Sphagnum jensenii","T",3023,"pendant branch peat moss","bryophyte",""]
["VT_Species","SPHG LIN","SPHG LIN","Sphagnum lindbergii","T",3024,"Lindberg's peat moss","bryophyte",""]
["VT_Species","SPHG MAG","SPHG MAG","Sphagnum magellanicum","T",3025,"midway peat moss","bryophyte",""]
["VT_Species","SPHG MAJ","SPHG MAJ","Sphagnum majus","T",3026,"greater peat moss","bryophyte",""]
["VT_Species","SPHG OBT","SPHG OBT","Sphagnum obtusum","T",3027,"","bryophyte",""]
["VT_Species","SPHG PLA","SPHG PLA","Sphagnum platyphyllum","T",3028,"","bryophyte",""]
["VT_Species","SPHG RIP","SPHG RIP","Sphagnum riparium","T",3029,"shore-growing peat moss","bryophyte",""]
["VT_Species","SPHG RUS","SPHG RUS","Sphagnum russowii","T",3030,"wide-tongued peat moss","bryophyte",""]
["VT_Species","SPHG SPP","SPHG SPP","Sphagnum spp.","T",3031,"","bryophyte",""]
["VT_Species","SPHG SQU","SPHG SQU","Sphagnum squarrosum","T",3032,"squarrose peat moss","bryophyte",""]
["VT_Species","SPHG TER","SPHG TER","Sphagnum teres","T",3033,"thin-leafed peat moss","bryophyte",""]
["VT_Species","SPHG WAR","SPHG WAR","Sphagnum warnstorfii","T",3034,"Warnstorf's peat moss","bryophyte",""]
["VT_Species","SPHG WUL","SPHG WUL","Sphagnum wulfianum","T",3035,"","bryophyte",""]
["VT_Species","SPHO SAL","SPHO SAL","Sphaerophysa salsula","T",3036,"globe-pea","forb",""]
["VT_Species","SPHP FRA","SPHP FRA","Sphaerophorus fragilis","T",3037,"fragile coral lichen","lichen",""]
["VT_Species","SPID POL","SPID POL","Spirodela polyrrhiza","T",3038,"common duck’s-meat","forb",""]
["VT_Species","SPIL REV","SPIL REV","Spilonema revertens","T",3039,"rock hairball lichen","lichen",""]
["VT_Species","SPIR ALB","SPIR ALB","Spiraea alba","T",3040,"narrow-leaved meadowsweet","erect shrub",""]
["VT_Species","SPIR ALB ALB","SPIR ALB ALB","Spiraea alba var. alba","T",3041,"narrow-leaved meadowsweet","erect shrub",""]
["VT_Species","SPIR BET","SPIR BET","Spiraea betulifolia","T",3042,"shiny-leaved meadowsweet","erect shrub",""]
["VT_Species","SPIR BET LUC","SPIR BET LUC","Spiraea betulifolia var. lucida","T",3043,"shiny-leaved meadowsweet","erect shrub",""]
["VT_Species","SPIR SPP","SPIR SPP","Spiraea spp.","T",3044,"meadowsweet (genus)","erect shrub",""]
["VT_Species","SPLA AMP","SPLA AMP","Splachnum ampullaceum","T",3045,"","bryophyte",""]
["VT_Species","SPLA LUT","SPLA LUT","Splachnum luteum","T",3046,"yellow collar moss","bryophyte",""]
["VT_Species","SPLA RUB","SPLA RUB","Splachnum rubrum","T",3047,"red collar moss","bryophyte",""]
["VT_Species","SPLA SPP","SPLA SPP","Splachnum spp.","T",3048,"","bryophyte",""]
["VT_Species","SPOR COM","SPOR COM","Sporobolus compositus","T",3049,"rough dropseed","graminoid",""]
["VT_Species","SPOR CRY","SPOR CRY","Sporobolus cryptandrus","T",3050,"sand dropseed","graminoid",""]
["VT_Species","SPOR HET","SPOR HET","Sporobolus heterolepis","T",3051,"prairie dropseed","graminoid",""]
["VT_Species","SPOR NEG","SPOR NEG","Sporobolus neglectus","T",3052,"small dropseed","graminoid",""]
["VT_Species","SPOR SPP","SPOR SPP","Sporobolus spp.","T",3053,"dropseed (genus)","graminoid",""]
["VT_Species","SPRA LAC","SPRA LAC","Spiranthes lacera","T",3054,"northern slender ladies’-tresses","forb",""]
["VT_Species","SPRA ROM","SPRA ROM","Spiranthes romanzoffiana","T",3055,"hooded ladies’-tresses","forb",""]
["VT_Species","SPRA SPP","SPRA SPP","Spiranthes spp.","T",3056,"ladies'-tresses (genus)","forb",""]
["VT_Species","SPRG CAN","SPRG CAN","Spergularia canadensis","T",3057,"western Canada sand-spurry","forb",""]
["VT_Species","SPRG CAN OCC","SPRG CAN OCC","Spergularia canadensis var. occidentalis","T",3058,"western Canada sand-spurry","forb",""]
["VT_Species","SPRG DIA","SPRG DIA","Spergularia diandra","T",3059,"alkali sand-spurry","forb",""]
["VT_Species","SPRG SAL","SPRG SAL","Spergularia salina","T",3060,"salt-marsh sand-spurry","forb",""]
["VT_Species","SPRG SPP","SPRG SPP","Spergularia spp.","T",3061,"sand-spurry (genus)","forb",""]
["VT_Species","SPRT GRA","SPRT GRA","Spartina gracilis","T",3062,"alkali cord-grass","graminoid",""]
["VT_Species","SPRT PEC","SPRT PEC","Spartina pectinata","T",3063,"prairie cord-grass","graminoid",""]
["VT_Species","SPRT SPP","SPRT SPP","Spartina spp.","T",3064,"cord-grass (genus)","graminoid",""]
["VT_Species","SPRT TES","SPRT TES","Sporastatia testudinea","T",3065,"copper patch lichen","lichen",""]
["VT_Species","SQUA CAR","SQUA CAR","Squamarina cartilaginea","T",3066,"rim lichen","lichen",""]
["VT_Species","SQUA LEN","SQUA LEN","Squamarina lentigera","T",3067,"white-rim lichen","lichen",""]
["VT_Species","SQUA SPP","SQUA SPP","Squamarina spp.","T",3068,"","lichen",""]
["VT_Species","SRBS AUC","SRBS AUC","Sorbus aucuparia","T",3069,"European mountain-ash","erect shrub",""]
["VT_Species","SRBS DEC","SRBS DEC","Sorbus decora","T",3070,"showy mountain-ash","erect shrub",""]
["VT_Species","SRBS SCO","SRBS SCO","Sorbus scopulina","T",3071,"western mountain-ash","erect shrub",""]
["VT_Species","SRBS SCO SCO","SRBS SCO SCO","Sorbus scopulina var. scopulina","T",3072,"western mountain-ash","erect shrub",""]
["VT_Species","SRBS SPP","SRBS SPP","Sorbus spp.","T",3073,"mountain-ash (genus)","erect shrub",""]
["VT_Species","SRGN CLA","SRGN CLA","Sarcogyne clavus","T",3074,"grain-spored lichen","lichen",""]
["VT_Species","SRGN REG","SRGN REG","Sarcogyne regularis","T",3075,"frosted grain-spored lichen","lichen",""]
["VT_Species","SRGN SPP","SRGN SPP","Sarcogyne spp.","T",3076,"","lichen",""]
["VT_Species","STAC PIL","STAC PIL","Stachys pilosa","T",3077,"hairy hedge-nettle","forb",""]
["VT_Species","STAC PIL PIL","STAC PIL PIL","Stachys pilosa var. pilosa","T",3078,"hairy hedge-nettle","forb",""]
["VT_Species","STAU ARE","STAU ARE","Staurothele areolata","T",3079,"rock pimples","lichen",""]
["VT_Species","STAU FIS","STAU FIS","Staurothele fissa","T",3080,"lakezone lichen","lichen",""]
["VT_Species","STAU SES","STAU SES","Staurothele sessilis","T",3081,"rock pimple","lichen",""]
["VT_Species","STAU SPP","STAU SPP","Staurothele spp.","T",3082,"","lichen",""]
["VT_Species","STEL ARE","STEL ARE","Stellaria arenicola","T",3083,"sand stitchwort","forb",""]
["VT_Species","STEL BOR","STEL BOR","Stellaria borealis","T",3084,"boreal stitchwort","forb",""]
["VT_Species","STEL CRA","STEL CRA","Stellaria crassifolia","T",3085,"fleshy stitchwort","forb",""]
["VT_Species","STEL CRA CRA","STEL CRA CRA","Stellaria crassifolia var. crassifolia","T",3086,"fleshy stitchwort","forb",""]
["VT_Species","STEL GRA","STEL GRA","Stellaria graminea","T",3087,"grass-leaved stitchwort","forb",""]
["VT_Species","STEL GRA GRA","STEL GRA GRA","Stellaria graminea var. graminea","T",3088,"grass-leaved stitchwort","forb",""]
["VT_Species","STEL LNG","STEL LNG","Stellaria longipes","T",3089,"long-stalked stitchwort","forb",""]
["VT_Species","STEL LON","STEL LON","Stellaria longifolia","T",3090,"long-leaved stitchwort","forb",""]
["VT_Species","STEL LON LON","STEL LON LON","Stellaria longifolia var. longifolia","T",3091,"long-leaved stitchwort","forb",""]
["VT_Species","STEL MED","STEL MED","Stellaria media","T",3092,"common chickweed","forb",""]
["VT_Species","STEL MED MED","STEL MED MED","Stellaria media ssp. media","T",3093,"common chickweed","forb",""]
["VT_Species","STEL SPP","STEL SPP","Stellaria spp.","T",3094,"stitchwort (genus)","forb",""]
["VT_Species","STEN ARM","STEN ARM","Stenotus armeroides","T",3095,"thrifty goldenweed","forb",""]
["VT_Species","STEN ARM ARM","STEN ARM ARM","Stenotus armeroides var. armerioides","T",3096,"thrifty goldenweed","forb",""]
["VT_Species","STEP RUN","STEP RUN","Stephanomeria runcinata","T",3097,"runcinate-leaved rush-pink","forb",""]
["VT_Species","STEP SPP","STEP SPP","Stephanomeria spp.","T",3098,"rush-pink (genus)","forb",""]
["VT_Species","STEP TEN","STEP TEN","Stephanomeria tenuifolia","T",3099,"narrow-leaved rush-pink","forb",""]
["VT_Species","STER ALP","STER ALP","Stereocaulon alpinum","T",3100,"foam lichen","lichen",""]
["VT_Species","STER CON","STER CON","Stereocaulon condensatum","T",3101,"foam lichen","lichen",""]
["VT_Species","STER DAC","STER DAC","Stereocaulon dactylophyllum","T",3102,"finger-scale foam lichen","lichen",""]
["VT_Species","STER GLA","STER GLA","Stereocaulon glareosum","T",3103,"foam lichen","lichen",""]
["VT_Species","STER GRA","STER GRA","Stereocaulon grande","T",3104,"grand foam lichen","lichen",""]
["VT_Species","STER PAS","STER PAS","Stereocaulon paschale","T",3105,"easter lichen","lichen",""]
["VT_Species","STER RIV","STER RIV","Stereocaulon rivulorum","T",3106,"snow foam lichen","lichen",""]
["VT_Species","STER SAX","STER SAX","Stereocaulon saxatile","T",3107,"rock foam lichen","lichen",""]
["VT_Species","STER SPP","STER SPP","Stereocaulon spp.","T",3108,"","lichen",""]
["VT_Species","STER TOM","STER TOM","Stereocaulon tomentosum","T",3109,"wooly foam lichen","lichen",""]
["VT_Species","STNT OCC","STNT OCC","Stenanthium occidentale","T",3110,"western featherbells","forb",""]
["VT_Species","STRA MIC","STRA MIC","Strangospora microhaema","T",3111,"","lichen",""]
["VT_Species","STRA MOR","STRA MOR","Strangospora moriformis","T",3112,"strangospora lichen","lichen",""]
["VT_Species","STRA SPP","STRA SPP","Strangospora spp.","T",3113,"","lichen",""]
["VT_Species","STRE AMP","STRE AMP","Streptopus amplexifolius","T",3114,"clasping-leaf twisted-stalk","forb",""]
["VT_Species","STUC FIL","STUC FIL","Stuckenia filiformis","T",3115,"threadleaved pondweed","forb",""]
["VT_Species","STUC FIL ALP","STUC FIL ALP","Stuckenia filiformis ssp. alpinus","T",3116,"threadleaved pondweed","forb",""]
["VT_Species","STUC FIL OCC","STUC FIL OCC","Stuckenia filiformis ssp. occidentalis","T",3117,"threadleaved pondweed","forb",""]
["VT_Species","STUC PEC","STUC PEC","Stuckenia pectinata","T",3118,"sago pondweed","forb",""]
["VT_Species","STUC SPP","STUC SPP","Stuckenia spp.","T",3119,"pondweed (Stuckenia genus)","forb",""]
["VT_Species","STUC VAG","STUC VAG","Stuckenia vaginata","T",3120,"large-sheathed pondweed","forb",""]
["VT_Species","SUAE CAL","SUAE CAL","Suaeda calceoliformis","T",3121,"western sea-blite","forb",""]
["VT_Species","SUAE NIG","SUAE NIG","Suaeda nigra","T",3122,"bush seepweed","forb",""]
["VT_Species","SUAE SPP","SUAE SPP","Suaeda spp.","T",3123,"sea-blite (genus)","forb",""]
["VT_Species","SUBU AQU","SUBU AQU","Subularia aquatica","T",3124,"American water awlwort","forb",""]
["VT_Species","SUBU AQU AME","SUBU AQU AME","Subularia aquatica ssp. americana","T",3125,"American water awlwort","forb",""]
["VT_Species","SUCK SUC","SUCK SUC","Suckleya suckleyana","T",3126,"poison suckleya","forb",""]
["VT_Species","SYMH ASP","SYMH ASP","Symphytum asperum","T",3127,"prickly comfrey","forb",""]
["VT_Species","SYMH OFF","SYMH OFF","Symphytum officinale","T",3128,"common comfrey","forb",""]
["VT_Species","SYMH SPP","SYMH SPP","Symphytum spp.","T",3129,"comfrey (genus)","forb",""]
["VT_Species","SYMP ALB","SYMP ALB","Symphoricarpos albus","T",3130,"northern snowberry","erect shrub",""]
["VT_Species","SYMP ALB ALB","SYMP ALB ALB","Symphoricarpos albus var. albus","T",3131,"northern snowberry","erect shrub",""]
["VT_Species","SYMP OCC","SYMP OCC","Symphoricarpos occidentalis","T",3132,"western snowberry","erect shrub",""]
["VT_Species","SYMP SPP","SYMP SPP","Symphoricarpos spp.","T",3133,"snowberry (genus)","erect shrub",""]
["VT_Species","SYMY BOR","SYMY BOR","Symphyotrichum boreale","T",3134,"rush aster","forb",""]
["VT_Species","SYMY CIL","SYMY CIL","Symphyotrichum ciliolatum","T",3135,"Lindley’s blue aster","forb",""]
["VT_Species","SYMY CLT","SYMY CLT","Symphyotrichum ciliatum","T",3136,"rayless aster","forb",""]
["VT_Species","SYMY EAT","SYMY EAT","Symphyotrichum eatonii","T",3137,"Eaton’s aster","forb",""]
["VT_Species","SYMY ERI","SYMY ERI","Symphyotrichum ericoides","T",3138,"tufted white prairie aster","forb",""]
["VT_Species","SYMY ERI PAN","SYMY ERI PAN","Symphyotrichum ericoides var. pansum","T",3139,"tufted white prairie aster","forb",""]
["VT_Species","SYMY FAL","SYMY FAL","Symphyotrichum falcatum","T",3140,"creeping white prairie aster","forb",""]
["VT_Species","SYMY FAL COM","SYMY FAL COM","Symphyotrichum falcatum var. commutatum","T",3141,"creeping white prairie aster","forb",""]
["VT_Species","SYMY FAL FAL","SYMY FAL FAL","Symphyotrichum falcatum var. falcatum","T",3142,"white prairie aster","forb",""]
["VT_Species","SYMY LAE","SYMY LAE","Symphyotrichum laeve","T",3143,"smooth  blue aster","forb",""]
["VT_Species","SYMY LAE GEY","SYMY LAE GEY","Symphyotrichum laeve var. geyeri","T",3144,"smooth  blue aster","forb",""]
["VT_Species","SYMY LAN","SYMY LAN","Symphyotrichum lanceolatum","T",3145,"willow aster","forb",""]
["VT_Species","SYMY LAN HES","SYMY LAN HES","Symphyotrichum lanceolatum var. hesperium","T",3146,"western willow aster","forb",""]
["VT_Species","SYMY LAN LAN","SYMY LAN LAN","Symphyotrichum lanceolatum var. lanceolatum","T",3147,"eastern willow aster","forb",""]
["VT_Species","SYMY PUN","SYMY PUN","Symphyotrichum puniceum","T",3148,"purple-stemmed aster","forb",""]
["VT_Species","SYMY PUN PUN","SYMY PUN PUN","Symphyotrichum puniceum var. puniceum","T",3149,"purple-stemmed aster","forb",""]
["VT_Species","SYMY SPP","SYMY SPP","Symphyotrichum spp.","T",3150,"aster (Symphyotrichum genus)","forb",""]
["VT_Species","SYRI JOS","SYRI JOS","Syringa josikaea","T",3151,"Hungarian lilac","erect shrub",""]
["VT_Species","SYRI SPP","SYRI SPP","Syringa spp.","T",3152,"lilac (genus)","erect shrub",""]
["VT_Species","SYRI VUL","SYRI VUL","Syringa vulgaris","T",3153,"common lilac","erect shrub",""]
["VT_Species","TANA BAL","TANA BAL","Tanacetum balsamita","T",3154,"costmary","forb",""]
["VT_Species","TANA HUR","TANA HUR","Tanacetum huronense","T",3155,"Lake Huron tansy","forb",""]
["VT_Species","TANA HUR BIF","TANA HUR BIF","Tanacetum huronense var. bifarium","T",3156,"Lake Huron tansy","forb",""]
["VT_Species","TANA HUR FLO","TANA HUR FLO","Tanacetum huronense var. floccosum","T",3157,"floccose tansy","forb",""]
["VT_Species","TANA SPP","TANA SPP","Tanacetum spp.","T",3158,"tansy (genus)","forb",""]
["VT_Species","TANA VUL","TANA VUL","Tanacetum vulgare","T",3159,"common tansy","forb",""]
["VT_Species","TARA CER","TARA CER","Taraxacum ceratophorum","T",3160,"horned dandelion","forb",""]
["VT_Species","TARA ERY","TARA ERY","Taraxacum erythrospermum","T",3161,"red-seeded dandelion","forb",""]
["VT_Species","TARA OFF","TARA OFF","Taraxacum officinale","T",3162,"common dandelion","forb",""]
["VT_Species","TARA SPP","TARA SPP","Taraxacum spp.","T",3163,"dandelion (genus)","forb",""]
["VT_Species","TAXI DEP","TAXI DEP","Taxiphyllum deplanatum","T",3164,"","bryophyte",""]
["VT_Species","TAYL LIN","TAYL LIN","Tayloria lingulata","T",3165,"","bryophyte",""]
["VT_Species","TEPH PAL","TEPH PAL","Tephroseris palustris","T",3166,"marsh ragwort","forb",""]
["VT_Species","TETR ACA","TETR ACA","Tetraneuris acaulis","T",3167,"stemless rubberweed","forb",""]
["VT_Species","TETR ACA ACA","TETR ACA ACA","Tetraneuris acaulis var. acaulis","T",3168,"stemless rubberweed","forb",""]
["VT_Species","TEUC CAN","TEUC CAN","Teucrium canadense","T",3169,"hairy germander","forb",""]
["VT_Species","TEUC CAN OCC","TEUC CAN OCC","Teucrium canadense var. occidentale","T",3170,"hairy germander","forb",""]
["VT_Species","THAL DAS","THAL DAS","Thalictrum dasycarpum","T",3171,"tall meadow-rue","forb",""]
["VT_Species","THAL OCC","THAL OCC","Thalictrum occidentale","T",3172,"western meadow-rue","forb",""]
["VT_Species","THAL SPA","THAL SPA","Thalictrum sparsiflorum","T",3173,"few-flowered meadow-rue","forb",""]
["VT_Species","THAL SPA RIC","THAL SPA RIC","Thalictrum sparsiflorum var. richardsonii","T",3174,"few-flowered meadow-rue","forb",""]
["VT_Species","THAL SPP","THAL SPP","Thalictrum spp.","T",3175,"meadow-rue (genus)","forb",""]
["VT_Species","THAL VEN","THAL VEN","Thalictrum venulosum","T",3176,"veiny meadow-rue","forb",""]
["VT_Species","THEL SAL","THEL SAL","Thellungiella salsuginea","T",3177,"mouse-ear cress","forb",""]
["VT_Species","THER RHO","THER RHO","Thermopsis rhombifolia","T",3178,"golden bean","forb",""]
["VT_Species","THIN INT","THIN INT","Thinopyrum intermedium","T",3179,"intermediate wheat-grass","graminoid",""]
["VT_Species","THIN PON","THIN PON","Thinopyrum ponticum","T",3180,"tall wheat-grass","graminoid",""]
["VT_Species","THIN SPP","THIN SPP","Thinopyrum spp.","T",3181,"wheat-grass (Thinopyrum genus)","graminoid",""]
["VT_Species","THLA ARV","THLA ARV","Thlaspi arvense","T",3182,"field pennycress","forb",""]
["VT_Species","THLP PAL","THLP PAL","Thelypteris palustris","T",3183,"eastern marsh fern","forb",""]
["VT_Species","THLP PAL PUB","THLP PAL PUB","Thelypteris palustris var. pubescens","T",3184,"eastern marsh fern","forb",""]
["VT_Species","THUI REC","THUI REC","Thuidium recognitum","T",3185,"hook-leaf fern moss","bryophyte",""]
["VT_Species","TILI AME","TILI AME","Tilia americana","T",3186,"American basswood","tree",""]
["VT_Species","TILI AME AME","TILI AME AME","Tilia americana var. americana","T",3187,"American basswood","tree",""]
["VT_Species","TIMM AUS","TIMM AUS","Timmia austriaca","T",3188,"","bryophyte",""]
["VT_Species","TOFI PUS","TOFI PUS","Tofieldia pusilla","T",3189,"small false-asphodel","forb",""]
["VT_Species","TONI SED","TONI SED","Toninia sedifolia","T",3190,"earth-wrinkles","lichen",""]
["VT_Species","TONI SPP","TONI SPP","Toninia spp.","T",3191,"","lichen",""]
["VT_Species","TONI TRI","TONI TRI","Toninia tristis","T",3192,"pitted blister lichen","lichen",""]
["VT_Species","TORR PAL","TORR PAL","Torreyochloa pallida","T",3193,"pale false manna-grass","graminoid",""]
["VT_Species","TORR PAL FER","TORR PAL FER","Torreyochloa pallida var. fernaldii","T",3194,"pale false manna-grass","graminoid",""]
["VT_Species","TORT FRA","TORT FRA","Tortella fragilis","T",3195,"fragile screw moss","bryophyte",""]
["VT_Species","TORT SPP","TORT SPP","Tortella spp.","T",3196,"","bryophyte",""]
["VT_Species","TORT TOR","TORT TOR","Tortella tortuosa","T",3197,"twisted moss","bryophyte",""]
["VT_Species","TOWN EXS","TOWN EXS","Townsendia exscapa","T",3198,"stemless townsendia","forb",""]
["VT_Species","TOWN HOO","TOWN HOO","Townsendia hookeri","T",3199,"Hooker's townsendia","forb",""]
["VT_Species","TOWN PAR","TOWN PAR","Townsendia parryi","T",3200,"Parry’s townsendia","forb",""]
["VT_Species","TOWN SPP","TOWN SPP","Townsendia spp.","T",3201,"townsendia (genus)","forb",""]
["VT_Species","TOXI RYD","TOXI RYD","Toxicodendron rydbergii","T",3202,"poison-ivy","forb",""]
["VT_Species","TRAD OCC","TRAD OCC","Tradescantia occidentalis","T",3203,"western spiderwort","forb",""]
["VT_Species","TRAD OCC OCC","TRAD OCC OCC","Tradescantia occidentalis var. occidentalis","T",3204,"western spiderwort","forb",""]
["VT_Species","TRAG DUB","TRAG DUB","Tragopogon dubius","T",3205,"yellow goat's-beard","forb",""]
["VT_Species","TRAG PRA","TRAG PRA","Tragopogon pratensis","T",3206,"meadow goat’s-beard","forb",""]
["VT_Species","TRAG SPP","TRAG SPP","Tragopogon spp.","T",3207,"goat's-beard (genus)","forb",""]
["VT_Species","TRAN BUR","TRAN BUR","Transberingia bursifolia","T",3208,"slender mouse-eared cress","forb",""]
["VT_Species","TRAN BUR VIR","TRAN BUR VIR","Transberingia bursifolia ssp. virgata","T",3209,"slender mouse-eared cress","forb",""]
["VT_Species","TRAP FLE","TRAP FLE","Trapeliopsis flexuosa","T",3210,"board lichen","lichen",""]
["VT_Species","TRAP GRA","TRAP GRA","Trapeliopsis granulosa","T",3211,"mottled-disk lichen","lichen",""]
["VT_Species","TRAP SPP","TRAP SPP","Trapeliopsis spp.","T",3212,"","lichen",""]
["VT_Species","TREM ATR","TREM ATR","Tremolecia atrata","T",3213,"rusty-rock lichen","lichen",""]
["VT_Species","TRGO CAE","TRGO CAE","Trigonella caerulea","T",3214,"sweet-trefoil","forb",""]
["VT_Species","TRIA FRA","TRIA FRA","Triadenum fraseri","T",3215,"Fraser’s marsh St. John’s-wort","forb",""]
["VT_Species","TRIC ALP","TRIC ALP","Trichophorum alpinum","T",3216,"alpine cottongrass","graminoid",""]
["VT_Species","TRIC CES","TRIC CES","Trichophorum cespitosum","T",3217,"tufted bulrush","graminoid",""]
["VT_Species","TRIC CLI","TRIC CLI","Trichophorum clintonii","T",3218,"Clinton’s bulrush","graminoid",""]
["VT_Species","TRIC PUM","TRIC PUM","Trichophorum pumilum","T",3219,"dwarf bulrush","graminoid",""]
["VT_Species","TRIC PUM ROL","TRIC PUM ROL","Trichophorum pumilum ssp. rollandii","T",3220,"dwarf bulrush","graminoid",""]
["VT_Species","TRIC SPP","TRIC SPP","Trichophorum spp.","T",3221,"bulrush (Trichophorum genus)","graminoid",""]
["VT_Species","TRIE BOR","TRIE BOR","Trientalis borealis","T",3222,"northern star-flower","forb",""]
["VT_Species","TRIE BOR BOR","TRIE BOR BOR","Trientalis borealis ssp. borealis","T",3223,"northern star-flower","forb",""]
["VT_Species","TRIE EUR","TRIE EUR","Trientalis europaea","T",3224,"arctic starflower","forb",""]
["VT_Species","TRIE EUR ARC","TRIE EUR ARC","Trientalis europaea ssp. arctica","T",3225,"arctic starflower","forb",""]
["VT_Species","TRIE SPP","TRIE SPP","Trientalis spp.","T",3226,"starflower (genus)","forb",""]
["VT_Species","TRIF AUR","TRIF AUR","Trifolium aureum","T",3227,"yellow clover","forb",""]
["VT_Species","TRIF HYB","TRIF HYB","Trifolium hybridum","T",3228,"alsike clover","forb",""]
["VT_Species","TRIF PRA","TRIF PRA","Trifolium pratense","T",3229,"red clover","forb",""]
["VT_Species","TRIF REP","TRIF REP","Trifolium repens","T",3230,"white clover","forb",""]
["VT_Species","TRIF REP REP","TRIF REP REP","Trifolium repens var. repens","T",3231,"white clover","forb",""]
["VT_Species","TRIF SPP","TRIF SPP","Trifolium spp.","T",3232,"clover (genus)","forb",""]
["VT_Species","TRIG MAR","TRIG MAR","Triglochin maritimum","T",3233,"seaside arrow-grass","forb",""]
["VT_Species","TRIG PAL","TRIG PAL","Triglochin palustre","T",3234,"marsh arrow-grass","forb",""]
["VT_Species","TRIG SPP","TRIG SPP","Triglochin spp.","T",3235,"arrow-grass (genus)","forb",""]
["VT_Species","TRIL CER","TRIL CER","Trillium cernuum","T",3236,"nodding trillium","forb",""]
["VT_Species","TRIN GLU","TRIN GLU","Triantha glutinosa","T",3237,"sticky false-asphodel","forb",""]
["VT_Species","TRIN GLU GLU","TRIN GLU GLU","Triantha glutinosa ssp. glutinosa","T",3238,"sticky false-asphodel","forb",""]
["VT_Species","TRIP INO","TRIP INO","Tripleurospermum inodorum","T",3239,"scentless chamomile","forb",""]
["VT_Species","TRIS SPI","TRIS SPI","Trisetum spicatum","T",3240,"spike trisetum","graminoid",""]
["VT_Species","TRIS SPP","TRIS SPP","Trisetum spp.","T",3241,"trisetum (genus)","graminoid",""]
["VT_Species","TRIS WOL","TRIS WOL","Trisetum wolfii","T",3242,"awnless trisetum","graminoid",""]
["VT_Species","TRIT AES","TRIT AES","Triticum aestivum","T",3243,"wheat","graminoid",""]
["VT_Species","TRIT SPP","TRIT SPP","Triticum spp.","T",3244,"wheat (genus)","graminoid",""]
["VT_Species","TRIT TUR","TRIT TUR","Triticum turgidum","T",3245,"durum wheat","graminoid",""]
["VT_Species","TRIX MIC","TRIX MIC","Tripterocalyx micranthus","T",3246,"sandpuffs","forb",""]
["VT_Species","TRTU MUC","TRTU MUC","Tortula mucronifolia","T",3247,"","bryophyte",""]
["VT_Species","TRTU RUR","TRTU RUR","Tortula ruralis","T",3248,"hairy screw moss","bryophyte",""]
["VT_Species","TRTU SPP","TRTU SPP","Tortula spp.","T",3249,"","bryophyte",""]
["VT_Species","TTPH PEL","TTPH PEL","Tetraphis pellucida","T",3250,"common four-tooth moss","bryophyte",""]
["VT_Species","TTPL ANG","TTPL ANG","Tetraplodon angustatus","T",3251,"narrow-leaved splachnum","bryophyte",""]
["VT_Species","TTPL MNI","TTPL MNI","Tetraplodon mnioides","T",3252,"brown tapering splachnum","bryophyte",""]
["VT_Species","TTPL SPP","TTPL SPP","Tetraplodon spp.","T",3253,"","bryophyte",""]
["VT_Species","TUCK AME","TUCK AME","Tuckermannopsis americana","T",3254,"fringed wrinkle-lichen","lichen",""]
["VT_Species","TURR GLA","TURR GLA","Turritis glabra","T",3255,"tower mustard","forb",""]
["VT_Species","TYPH ANG","TYPH ANG","Typha angustifolia","T",3256,"narrow-leaved cat-tail","graminoid",""]
["VT_Species","TYPH LAT","TYPH LAT","Typha latifolia","T",3257,"common cat-tail","graminoid",""]
["VT_Species","TYPH SPP","TYPH SPP","Typha spp.","T",3258,"cat-tail (genus)","graminoid",""]
["VT_Species","ULMU AME","ULMU AME","Ulmus americana","T",3259,"American elm","tree","wE"]
["VT_Species","ULMU PUM","ULMU PUM","Ulmus pumila","T",3260,"Siberian elm","erect shrub",""]
["VT_Species","ULMU SPP","ULMU SPP","Ulmus spp.","T",3261,"elm (genus)","erect shrub",""]
["VT_Species","ULOT CRI","ULOT CRI","Ulota crispa","T",3262,"","bryophyte",""]
["VT_Species","ULOT CUR","ULOT CUR","Ulota curvifolia","T",3263,"","bryophyte",""]
["VT_Species","ULOT SPP","ULOT SPP","Ulota spp.","T",3264,"","bryophyte",""]
["VT_Species","UMBI AME","UMBI AME","Umbilicaria americana","T",3265,"frosted rock tripe","lichen",""]
["VT_Species","UMBI DEU","UMBI DEU","Umbilicaria deusta","T",3266,"peppered rock tripe","lichen",""]
["VT_Species","UMBI HYP","UMBI HYP","Umbilicaria hyperborea","T",3267,"blistered rock tripe","lichen",""]
["VT_Species","UMBI MAM","UMBI MAM","Umbilicaria mammulata","T",3268,"smooth rock tripe","lichen",""]
["VT_Species","UMBI MUE","UMBI MUE","Umbilicaria muehlenbergii","T",3269,"plated rock tripe","lichen",""]
["VT_Species","UMBI SPP","UMBI SPP","Umbilicaria spp.","T",3270,"","lichen",""]
["VT_Species","UMBI TOR","UMBI TOR","Umbilicaria torrefacta","T",3271,"punctured rock tripe","lichen",""]
["VT_Species","UMBI VEL","UMBI VEL","Umbilicaria vellea","T",3272,"rock tripe","lichen",""]
["VT_Species","UMBI VIR","UMBI VIR","Umbilicaria virginis","T",3273,"blushing rock tripe","lichen",""]
["VT_Species","UNKN FRB","UNKN FRB","UNKNOWN FORB","T",3274,"unknown forb","forb",""]
["VT_Species","UNKN GRA","UNKN GRA","UNKNOWN GRAMINOID","T",3275,"unknown graminoid","graminoid",""]
["VT_Species","URTI DIO","URTI DIO","Urtica dioica","T",3276,"stinging nettle","forb",""]
["VT_Species","URTI DIO GRA","URTI DIO GRA","Urtica dioica ssp. gracilis","T",3277,"stinging nettle","forb",""]
["VT_Species","URTI SPP","URTI SPP","Urtica spp.","T",3278,"nettle (genus)","forb",""]
["VT_Species","URTI URE","URTI URE","Urtica urens","T",3279,"burning nettle","forb",""]
["VT_Species","USNE ALP","USNE ALP","Usnea alpina","T",3280,"beard lichen","lichen",""]
["VT_Species","USNE CAV","USNE CAV","Usnea cavernosa","T",3281,"pitted beard lichen","lichen",""]
["VT_Species","USNE CER","USNE CER","Usnea ceratina","T",3282,"warty beard lichen","lichen",""]
["VT_Species","USNE FIL","USNE FIL","Usnea filipendula","T",3283,"fishbone beard lichen","lichen",""]
["VT_Species","USNE FUL","USNE FUL","Usnea fulvoreagens","T",3284,"beard lichen","lichen",""]
["VT_Species","USNE GBS","USNE GBS","Usnea glabrescens","T",3285,"beard lichen","lichen",""]
["VT_Species","USNE GBT","USNE GBT","Usnea glabrata","T",3286,"lustrous beard lichen","lichen",""]
["VT_Species","USNE HIR","USNE HIR","Usnea hirta","T",3287,"bristly beard lichen","lichen",""]
["VT_Species","USNE LAP","USNE LAP","Usnea lapponica","T",3288,"powdered beard lichen","lichen",""]
["VT_Species","USNE SBF","USNE SBF","Usnea subfloridana","T",3289,"beard lichen","lichen",""]
["VT_Species","USNE SBS","USNE SBS","Usnea substerilis","T",3290,"beard lichen","lichen",""]
["VT_Species","USNE SBT","USNE SBT","Usnea scabrata","T",3291,"straw beard lichen","lichen",""]
["VT_Species","USNE SCA","USNE SCA","Usnea scabiosa","T",3292,"beard lichen","lichen",""]
["VT_Species","USNE SPP","USNE SPP","Usnea spp.","T",3293,"","lichen",""]
["VT_Species","UTRI COR","UTRI COR","Utricularia cornuta","T",3294,"horned bladderwort","forb",""]
["VT_Species","UTRI INT","UTRI INT","Utricularia intermedia","T",3295,"flat-leaf bladderwort","forb",""]
["VT_Species","UTRI MAC","UTRI MAC","Utricularia macrorhiza","T",3296,"greater bladderwort","forb",""]
["VT_Species","UTRI MIN","UTRI MIN","Utricularia minor","T",3297,"lesser bladderwort","forb",""]
["VT_Species","UTRI SPP","UTRI SPP","Utricularia spp.","T",3298,"bladderwort (genus)","forb",""]
["VT_Species","VACC CES","VACC CES","Vaccinium cespitosum","T",3299,"dwarf bilberry","erect shrub",""]
["VT_Species","VACC CES CES","VACC CES CES","Vaccinium cespitosum var. cespitosum","T",3300,"dwarf bilberry","erect shrub",""]
["VT_Species","VACC MYR","VACC MYR","Vaccinium myrtilloides","T",3301,"velvet-leaf blueberry","erect shrub",""]
["VT_Species","VACC OXY","VACC OXY","Vaccinium oxycoccos","T",3302,"small bog cranberry","prostrate shrub",""]
["VT_Species","VACC SPP","VACC SPP","Vaccinium spp.","T",3303,"blueberry or cranberry (genus)","erect shrub",""]
["VT_Species","VACC ULI","VACC ULI","Vaccinium uliginosum","T",3304,"bog blueberry","erect shrub",""]
["VT_Species","VACC VIT","VACC VIT","Vaccinium vitis-idaea","T",3305,"dry-ground cranberry","prostrate shrub",""]
["VT_Species","VACC VIT MIN","VACC VIT MIN","Vaccinium vitis-idaea ssp. minus","T",3306,"dry-ground cranberry","prostrate shrub",""]
["VT_Species","VACR HIS","VACR HIS","Vaccaria hispanica","T",3307,"cowcockle","forb",""]
["VT_Species","VALE DIO","VALE DIO","Valeriana dioica","T",3308,"northern valerian","forb",""]
["VT_Species","VALE DIO SYL","VALE DIO SYL","Valeriana dioica ssp. sylvatica","T",3309,"northern valerian","forb",""]
["VT_Species","VERB NIG","VERB NIG","Verbascum nigrum","T",3310,"black mullein","forb",""]
["VT_Species","VERB PHL","VERB PHL","Verbascum phlomoides","T",3311,"woolly mullein","forb",""]
["VT_Species","VERB SPP","VERB SPP","Verbascum spp.","T",3312,"mullein (genus)","forb",""]
["VT_Species","VERB THA","VERB THA","Verbascum thapsus","T",3313,"common mullein","forb",""]
["VT_Species","VERN FAS","VERN FAS","Vernonia fasciculata","T",3314,"prairie ironweed","forb",""]
["VT_Species","VERO AME","VERO AME","Veronica americana","T",3315,"American speedwell","forb",""]
["VT_Species","VERO ANA","VERO ANA","Veronica anagallis-aquatica","T",3316,"brook-pimpernel","forb",""]
["VT_Species","VERO AUS","VERO AUS","Veronica austriaca","T",3317,"broad-leaved speedwell","forb",""]
["VT_Species","VERO AUS TEU","VERO AUS TEU","Veronica austriaca ssp. teucrium","T",3318,"broad-leaved speedwell","forb",""]
["VT_Species","VERO LON","VERO LON","Veronica longifolia","T",3319,"long-leaved speedwell","forb",""]
["VT_Species","VERO PER","VERO PER","Veronica peregrina","T",3320,"hairy speedwell","forb",""]
["VT_Species","VERO PER XAL","VERO PER XAL","Veronica peregrina ssp. xalapensis","T",3321,"hairy speedwell","forb",""]
["VT_Species","VERO PRS","VERO PRS","Veronica persica","T",3322,"Persian speedwell","forb",""]
["VT_Species","VERO SCU","VERO SCU","Veronica scutellata","T",3323,"marsh speedwell","forb",""]
["VT_Species","VERO SER","VERO SER","Veronica serpyllifolia","T",3324,"thyme-leaved speedwell","forb",""]
["VT_Species","VERO SER HUM","VERO SER HUM","Veronica serpyllifolia ssp. humifusa","T",3325,"thyme-leaved speedwell","forb",""]
["VT_Species","VERO SPP","VERO SPP","Veronica spp.","T",3326,"speedwell (genus)","forb",""]
["VT_Species","VERR FUS","VERR FUS","Verrucaria fuscella","T",3327,"speck lichen","lichen",""]
["VT_Species","VERR GLA","VERR GLA","Verrucaria glaucovirens","T",3328,"speck lichen","lichen",""]
["VT_Species","VERR LEC","VERR LEC","Verrucaria lecideoides","T",3329,"speck lichen","lichen",""]
["VT_Species","VERR MAR","VERR MAR","Verrucaria margacea","T",3330,"speck lichen","lichen",""]
["VT_Species","VERR MUR","VERR MUR","Verrucaria muralis","T",3331,"speck lichen","lichen",""]
["VT_Species","VERR NIG","VERR NIG","Verrucaria nigrescens","T",3332,"speck lichen","lichen",""]
["VT_Species","VERR RUP","VERR RUP","Verrucaria rupestris","T",3333,"speck lichen","lichen",""]
["VT_Species","VERR SPP","VERR SPP","Verrucaria spp.","T",3334,"","lichen",""]
["VT_Species","VERR VIR","VERR VIR","Verrucaria viridula","T",3335,"speck lichen","lichen",""]
["VT_Species","VIBU EDU","VIBU EDU","Viburnum edule","T",3336,"low bush-cranberry","erect shrub",""]
["VT_Species","VIBU LEN","VIBU LEN","Viburnum lentago","T",3337,"nanny-berry","erect shrub",""]
["VT_Species","VIBU OPU","VIBU OPU","Viburnum opulus","T",3338,"high bush-cranberry","erect shrub",""]
["VT_Species","VIBU OPU AME","VIBU OPU AME","Viburnum opulus var. americanum","T",3339,"high bush-cranberry","erect shrub",""]
["VT_Species","VIBU SPP","VIBU SPP","Viburnum spp.","T",3340,"bush-cranberry (genus)","erect shrub",""]
["VT_Species","VICI AME","VICI AME","Vicia americana","T",3341,"American vetch","forb",""]
["VT_Species","VICI AME AME","VICI AME AME","Vicia americana ssp. americana","T",3342,"American vetch","forb",""]
["VT_Species","VICI AME MIN","VICI AME MIN","Vicia americana ssp. minor","T",3343,"narrow-leaved American vetch","forb",""]
["VT_Species","VICI CRA","VICI CRA","Vicia cracca","T",3344,"tufted vetch","forb",""]
["VT_Species","VICI CRA CRA","VICI CRA CRA","Vicia cracca ssp. cracca","T",3345,"tufted vetch","forb",""]
["VT_Species","VICI SPP","VICI SPP","Vicia spp.","T",3346,"vetch (genus)","forb",""]
["VT_Species","VIOL ADU","VIOL ADU","Viola adunca","T",3347,"early blue violet","forb",""]
["VT_Species","VIOL ADU ADU","VIOL ADU ADU","Viola adunca var. adunca","T",3348,"early blue violet","forb",""]
["VT_Species","VIOL ARV","VIOL ARV","Viola arvensis","T",3349,"European field pansy","forb",""]
["VT_Species","VIOL BIC","VIOL BIC","Viola bicolor","T",3350,"field pansy","forb",""]
["VT_Species","VIOL BLA","VIOL BLA","Viola blanda","T",3351,"large-leaved violet","forb",""]
["VT_Species","VIOL BLA PAL","VIOL BLA PAL","Viola blanda var. palustriformis","T",3352,"large-leaved violet","forb",""]
["VT_Species","VIOL CAN","VIOL CAN","Viola canadensis","T",3353,"western Canada violet","forb",""]
["VT_Species","VIOL CAN RUG","VIOL CAN RUG","Viola canadensis var. rugulosa","T",3354,"western Canada violet","forb",""]
["VT_Species","VIOL EPI","VIOL EPI","Viola epipsila","T",3355,"dwarf marsh violet","forb",""]
["VT_Species","VIOL EPI REP","VIOL EPI REP","Viola epipsila ssp. repens","T",3356,"dwarf marsh violet","forb",""]
["VT_Species","VIOL LAB","VIOL LAB","Viola labradorica","T",3357,"alpine violet","forb",""]
["VT_Species","VIOL MAC","VIOL MAC","Viola macloskeyi","T",3358,"smooth white violet","forb",""]
["VT_Species","VIOL MAC PAL","VIOL MAC PAL","Viola macloskeyi ssp. pallens","T",3359,"smooth white violet","forb",""]
["VT_Species","VIOL NEP","VIOL NEP","Viola nephrophylla","T",3360,"northern bog violet","forb",""]
["VT_Species","VIOL NUT","VIOL NUT","Viola nuttallii","T",3361,"Nuttall's yellow violet","forb",""]
["VT_Species","VIOL PAL","VIOL PAL","Viola palustris","T",3362,"marsh violet","forb",""]
["VT_Species","VIOL PAL BRE","VIOL PAL BRE","Viola palustris var. brevipes","T",3363,"white marsh violet","forb",""]
["VT_Species","VIOL PAL PAL","VIOL PAL PAL","Viola palustris var. palustris","T",3364,"marsh violet","forb",""]
["VT_Species","VIOL PED","VIOL PED","Viola pedatifida","T",3365,"crowfoot violet","forb",""]
["VT_Species","VIOL PUB","VIOL PUB","Viola pubescens","T",3366,"downy yellow violet","forb",""]
["VT_Species","VIOL PUB SCA","VIOL PUB SCA","Viola pubescens var. scabriuscula","T",3367,"downy yellow violet","forb",""]
["VT_Species","VIOL REN","VIOL REN","Viola renifolia","T",3368,"kidney-leaved white violet","forb",""]
["VT_Species","VIOL SEL","VIOL SEL","Viola selkirkii","T",3369,"Selkirk’s violet","forb",""]
["VT_Species","VIOL SEP","VIOL SEP","Viola septentrionalis","T",3370,"northern blue violet","forb",""]
["VT_Species","VIOL SOR","VIOL SOR","Viola sororia","T",3371,"downy blue violet","forb",""]
["VT_Species","VIOL SPP","VIOL SPP","Viola spp.","T",3372,"violet (genus)","forb",""]
["VT_Species","VIOL TRI","VIOL TRI","Viola tricolor","T",3373,"pansy","forb",""]
["VT_Species","VIOL VAL","VIOL VAL","Viola vallicola","T",3374,"yellow prairie violet","forb",""]
["VT_Species","VIOL VAL MAJ","VIOL VAL MAJ","Viola vallicola var. major","T",3375,"yellow prairie violet","forb",""]
["VT_Species","VIOL VAL VAL","VIOL VAL VAL","Viola vallicola var. vallicola","T",3376,"yellow prairie violet","forb",""]
["VT_Species","VITI RIP","VITI RIP","Vitis riparia","T",3377,"riverbank grape","erect shrub",""]
["VT_Species","VLPC CAN","VLPC CAN","Vulpicida canadensis","T",3378,"brown-eyed sunshine lichen","lichen",""]
["VT_Species","VLPC PIN","VLPC PIN","Vulpicida pinastri","T",3379,"powdered sunshine lichen","lichen",""]
["VT_Species","VLPC SPP","VLPC SPP","Vulpicida spp.","T",3380,"","lichen",""]
["VT_Species","VRBE BRA","VRBE BRA","Verbena bracteata","T",3381,"bracted vervain","forb",""]
["VT_Species","VRBE HAS","VRBE HAS","Verbena hastata","T",3382,"blue vervain","forb",""]
["VT_Species","VRBE HAS HAS","VRBE HAS HAS","Verbena hastata var. hastata","T",3383,"blue vervain","forb",""]
["VT_Species","VRBE SPP","VRBE SPP","Verbena spp.","T",3384,"vervain (genus)","forb",""]
["VT_Species","VRBE URT","VRBE URT","Verbena urticifolia","T",3385,"nettle-leaved vervain","forb",""]
["VT_Species","VRBE URT URT","VRBE URT URT","Verbena urticifolia var. urticifolia","T",3386,"nettle-leaved vervain","forb",""]
["VT_Species","VULP OCT","VULP OCT","Vulpia octoflora","T",3387,"six-weeks fescue","graminoid",""]
["VT_Species","WARN EXA","WARN EXA","Warnstorfia exannulata","T",3388,"","bryophyte",""]
["VT_Species","WARN FLU","WARN FLU","Warnstorfia fluitans","T",3389,"","bryophyte",""]
["VT_Species","WARN SPP","WARN SPP","Warnstorfia spp.","T",3390,"","bryophyte",""]
["VT_Species","WEIS CON","WEIS CON","Weissia controversa","T",3391,"","bryophyte",""]
["VT_Species","WOLF COL","WOLF COL","Wolffia columbiana","T",3392,"Columbian wolffia","forb",""]
["VT_Species","WOOD ALP","WOOD ALP","Woodsia alpina","T",3393,"alpine woodsia","forb",""]
["VT_Species","WOOD GLA","WOOD GLA","Woodsia glabella","T",3394,"smooth woodsia","forb",""]
["VT_Species","WOOD ILV","WOOD ILV","Woodsia ilvensis","T",3395,"rusty woodsia","forb",""]
["VT_Species","WOOD INC","WOOD INC","WOODY INCREASERS","T",3396,"woody increasers","erect shrub",""]
["VT_Species","WOOD ORE","WOOD ORE","Woodsia oregana","T",3397,"Oregon woodsia","forb",""]
["VT_Species","WOOD ORE CAT","WOOD ORE CAT","Woodsia oregana ssp. cathcartiana","T",3398,"Oregon woodsia","forb",""]
["VT_Species","WOOD ORE ORE","WOOD ORE ORE","Woodsia oregana ssp. oregana","T",3399,"Oregon woodsia","forb",""]
["VT_Species","WOOD SCO","WOOD SCO","Woodsia scopulina","T",3400,"Rocky Mountain woodsia","forb",""]
["VT_Species","WOOD SCO SCO","WOOD SCO SCO","Woodsia scopulina ssp. scopulina","T",3401,"Rocky Mountain woodsia","forb",""]
["VT_Species","WOOD SPP","WOOD SPP","Woodsia spp.","T",3402,"woodsia (genus)","forb",""]
["VT_Species","XANT GRI","XANT GRI","Xanthisma grindelioides","T",3403,"toothed ironplant","forb",""]
["VT_Species","XANT GRI GRI","XANT GRI GRI","Xanthisma grindelioides var. grindelioides","T",3404,"toothed ironplant","forb",""]
["VT_Species","XANT SPI","XANT SPI","Xanthisma spinulosum","T",3405,"spiny ironplant","forb",""]
["VT_Species","XANT SPI SPI","XANT SPI SPI","Xanthisma spinulosum var. spinulosum","T",3406,"spiny ironplant","forb",""]
["VT_Species","XANT SPP","XANT SPP","Xanthisma spp.","T",3407,"ironplant (genus)","forb",""]
["VT_Species","XATH SPI","XATH SPI","Xanthium spinosum","T",3408,"spiny cocklebur","forb",""]
["VT_Species","XATH SPP","XATH SPP","Xanthium spp.","T",3409,"cocklebur (genus)","forb",""]
["VT_Species","XATH STR","XATH STR","Xanthium strumarium","T",3410,"cocklebur","forb",""]
["VT_Species","XTHA CAN","XTHA CAN","Xanthoria candelaria","T",3411,"shrubby sunburst lichen","lichen",""]
["VT_Species","XTHA ELE","XTHA ELE","Xanthoria elegans","T",3412,"elegant sunburst lichen","lichen",""]
["VT_Species","XTHA FAL","XTHA FAL","Xanthoria fallax","T",3413,"hooded sunburst lichen","lichen",""]
["VT_Species","XTHA HAS","XTHA HAS","Xanthoria hasseana","T",3414,"poplar sunburst lichen","lichen",""]
["VT_Species","XTHA POL","XTHA POL","Xanthoria polycarpa","T",3415,"pin-cushion sunburst lichen","lichen",""]
["VT_Species","XTHA SOR","XTHA SOR","Xanthoria sorediata","T",3416,"sugared sunburst lichen","lichen",""]
["VT_Species","XTHA SPP","XTHA SPP","Xanthoria spp.","T",3417,"","lichen",""]
["VT_Species","XTHP CHL","XTHP CHL","Xanthoparmelia chlorochroa","T",3418,"tumbleweed shield lichen","lichen",""]
["VT_Species","XTHP COL","XTHP COL","Xanthoparmelia coloradoensis","T",3419,"","lichen",""]
["VT_Species","XTHP CON","XTHP CON","Xanthoparmelia conspersa","T",3420,"peppered rock-shield","lichen",""]
["VT_Species","XTHP CUM","XTHP CUM","Xanthoparmelia cumberlandia","T",3421,"Cumberland rock-shield","lichen",""]
["VT_Species","XTHP LIN","XTHP LIN","Xanthoparmelia lineola","T",3422,"tight rock-shield","lichen",""]
["VT_Species","XTHP MEX","XTHP MEX","Xanthoparmelia mexicana","T",3423,"salted rock-shield","lichen",""]
["VT_Species","XTHP NEO","XTHP NEO","Xanthoparmelia neochlorochroa","T",3424,"","lichen",""]
["VT_Species","XTHP NOR","XTHP NOR","Xanthoparmelia norchlorochroa","T",3425,"","lichen",""]
["VT_Species","XTHP PLI","XTHP PLI","Xanthoparmelia plittii","T",3426,"Plitt's rock-shield","lichen",""]
["VT_Species","XTHP SOM","XTHP SOM","Xanthoparmelia somloensis","T",3427,"shingled rock-shield","lichen",""]
["VT_Species","XTHP SPP","XTHP SPP","Xanthoparmelia spp.","T",3428,"","lichen",""]
["VT_Species","XTHP TAS","XTHP TAS","Xanthoparmelia tasmanica","T",3429,"rock-shield lichen","lichen",""]
["VT_Species","XTHP WYO","XTHP WYO","Xanthoparmelia wyomingica","T",3430,"shingled rock-shield","lichen",""]
["VT_Species","XYLO PAR","XYLO PAR","Xylographa parallela","T",3431,"black woodscript","lichen",""]
["VT_Species","YUCC GLA","YUCC GLA","Yucca glauca","T",3432,"smooth soapweed","forb",""]
["VT_Species","ZANN PAL","ZANN PAL","Zannichellia palustris","T",3433,"horned-pondweed","forb",""]
["VT_Species","ZIZA PAL","ZIZA PAL","Zizania palustris","T",3434,"wild-rice","graminoid",""]
["VT_Species","ZIZA PAL INT","ZIZA PAL INT","Zizania palustris var. interior","T",3435,"wild-rice","graminoid",""]
["VT_Species","ZIZA PAL PAL","ZIZA PAL PAL","Zizania palustris var. palustris","T",3436,"wild-rice","graminoid",""]
["VT_Species","ZIZI APT","ZIZI APT","Zizia aptera","T",3437,"heart-leaved alexanders","forb",""]
["VT_Species","ZIZI SPP","ZIZI SPP","Zizia spp.","T",3438,"alexanders (genus)","forb",""]
["VT_Species","ZYGA ELE","ZYGA ELE","Zygadenus elegans","T",3439,"white camas","forb",""]
["VT_Species","ZYGA ELE ELE","ZYGA ELE ELE","Zygadenus elegans ssp. elegans","T",3440,"white camas","forb",""]
["VT_Species","ZYGA SPP","ZYGA SPP","Zygadenus spp.","T",3441,"camas (genus)","forb",""]
["VT_Species","ZYGA VEN","ZYGA VEN","Zygadenus venenosus","T",3442,"grass-leaved death camas","forb",""]
["VT_Species","ZYGA VEN GRA","ZYGA VEN GRA","Zygadenus venenosus var. gramineus","T",3443,"grass-leaved death camas","forb",""]